{"text_format":"1","workbook":"xlsx","n_sheets":26,"sheets":["Saisonstatistiken","Zuweisung (Formeln)","Beginn_Auswertung","21.10.","28.10.","4.11","26.11.","9.12.","16.12.","23.12.","6.1.","13.1","20.1.","27.1.","7.2.","3.3.","11.3.","25.3.","15.4.","22.4.","29.4.","6.5.","9.6.","Ende_Auswertung","28.9.","Zuweisung der Spielernummern"],"not_rendered":{"charts":0,"images":0,"macros":1,"external_links":0,"defined_names":0,"comments":0,"pivot_tables":0},"unopened":[],"bounds":{"document_bytes":16777216,"sheet_cells":100000,"rows_first":2000,"rows_last":500,"rows_between":2000,"halvings":0,"cell_chars":16384,"cell_head_chars":4096},"cells_cut":0,"cells_raw":0,"read":"whole","date_system":"1900"}

{"sheet":"Saisonstatistiken","index":0,"n_rows":80,"n_cols":76,"rows_kept":80,"cut":false,"hidden":false,"merged":[[78,2,78,11],[78,12,78,21],[78,22,78,31],[78,32,78,41],[78,42,78,51],[78,52,78,61],[78,62,78,71],[78,72,78,81],[79,12,79,21],[79,22,79,31],[79,32,79,41],[79,42,79,51],[79,52,79,61],[79,62,79,71],[79,72,79,81],[79,2,79,11],[73,2,73,11],[73,12,73,21],[73,22,73,31],[73,32,73,41],[73,42,73,51],[73,52,73,61],[73,62,73,71],[73,72,73,81],[74,2,74,11],[74,12,74,21],[74,22,74,31],[74,32,74,41],[74,42,74,51],[74,52,74,61],[74,62,74,71],[74,72,74,81],[71,2,71,11],[71,12,71,21],[71,22,71,31],[71,32,71,41],[71,42,71,51],[71,52,71,61],[71,62,71,71],[71,72,71,81],[72,2,72,11],[72,12,72,21],[72,22,72,31],[72,32,72,41],[72,42,72,51],[72,52,72,61],[72,62,72,71],[72,72,72,81],[77,2,77,11],[77,12,77,21],[77,22,77,31],[77,32,77,41],[77,42,77,51],[77,52,77,61],[77,62,77,71],[77,72,77,81],[75,2,75,11],[75,12,75,21],[75,22,75,31],[75,32,75,41],[75,42,75,51],[75,52,75,61],[75,62,75,71],[75,72,75,81],[76,2,76,11],[76,12,76,21],[76,22,76,31],[76,32,76,41],[76,42,76,51],[76,52,76,61],[76,62,76,71],[76,72,76,81],[70,62,70,71],[70,72,70,81],[69,62,69,71],[69,72,69,81],[59,72,59,81],[59,62,59,71],[59,52,59,61],[59,42,59,51],[60,52,60,61],[62,52,62,61],[66,62,66,71],[66,72,66,81],[68,62,68,71],[60,62,60,71],[60,72,60,81],[67,62,67,71],[67,72,67,81],[59,22,59,31],[59,12,59,21],[60,12,60,21],[62,12,62,21],[52,2,52,6],[52,7,52,18],[52,19,52,24],[52,25,52,35],[52,36,52,46],[70,2,70,11],[70,12,70,21],[70,22,70,31],[70,32,70,41],[70,42,70,51],[70,52,70,61],[68,12,68,21],[69,12,69,21],[66,22,66,31],[68,22,68,31],[69,22,69,31],[69,2,69,11],[69,52,69,61],[66,12,66,21],[67,2,67,11],[67,12,67,21],[67,22,67,31],[67,42,67,51],[67,52,67,61],[68,2,68,11],[68,52,68,61],[66,2,66,11],[43,82,52,82],[44,2,44,81],[45,2,45,6],[45,7,45,18],[45,19,45,24],[45,25,45,35],[46,47,46,57],[46,58,46,62],[46,63,46,64],[46,65,46,69],[46,70,46,74],[46,75,46,81],[45,36,45,46],[45,47,45,57],[45,58,45,69],[45,70,45,74],[45,75,45,81],[48,2,48,6],[51,2,51,6],[51,7,51,18],[51,19,51,24],[51,25,51,35],[51,36,51,46],[52,58,52,62],[17,1,26,1],[17,2,17,81],[66,52,66,61],[46,2,46,6],[46,7,46,18],[46,19,46,24],[46,25,46,35],[46,36,46,46],[41,1,41,82],[42,1,42,82],[43,1,52,1],[17,82,26,82],[18,2,18,81],[27,1,27,82],[34,25,34,35],[47,19,47,24],[47,25,47,35],[47,36,47,46],[52,75,52,81],[51,58,51,62],[51,63,51,64],[51,65,51,69],[51,70,51,74],[51,75,51,81],[43,2,43,81],[65,2,65,11],[65,12,65,21],[65,22,65,31],[65,32,65,41],[65,42,65,51],[65,52,65,61],[65,62,65,71],[65,72,65,81],[48,7,48,18],[48,19,48,24],[48,25,48,35],[48,36,48,46],[47,2,47,6],[47,7,47,18],[52,63,52,64],[52,65,52,69],[52,70,52,74],[51,47,51,57],[58,32,58,41],[59,32,59,41],[58,52,58,61],[49,19,49,24],[49,25,49,35],[49,36,49,46],[15,1,15,82],[16,1,16,82],[60,22,60,31],[62,22,62,31],[64,22,64,31],[63,2,63,11],[63,12,63,21],[63,22,63,31],[62,2,62,11],[61,2,61,11],[61,12,61,21],[61,22,61,31],[60,2,60,11],[58,12,58,21],[58,22,58,31],[58,42,58,51],[21,42,21,49],[22,42,22,49],[23,42,23,49],[24,42,24,49],[60,32,60,41],[64,12,64,21],[64,2,64,11],[14,1,14,82],[58,2,58,11],[59,2,59,11],[49,47,49,57],[53,1,53,82],[52,47,52,57],[63,32,63,41],[63,42,63,51],[63,52,63,61],[63,62,63,71],[63,72,63,81],[62,32,62,41],[61,32,61,41],[61,42,61,51],[61,52,61,61],[61,62,61,71],[61,72,61,81],[50,2,50,6],[50,7,50,18],[50,19,50,24],[50,25,50,35],[50,36,50,46],[49,2,49,6],[49,7,49,18],[7,74,7,81],[8,74,8,81],[9,74,9,81],[11,74,11,81],[66,32,66,41],[68,32,68,41],[69,32,69,41],[60,42,60,51],[62,42,62,51],[64,42,64,51],[66,42,66,51],[68,42,68,51],[69,42,69,51],[64,52,64,61],[64,62,64,71],[64,72,64,81],[62,62,62,71],[62,72,62,81],[13,58,13,65],[13,66,13,73],[13,74,13,81],[64,32,64,41],[68,72,68,81],[67,32,67,41],[13,2,13,6],[13,7,13,18],[13,26,13,33],[13,34,13,41],[26,74,26,81],[19,74,19,81],[20,74,20,81],[21,74,21,81],[22,74,22,81],[23,74,23,81],[24,74,24,81],[26,58,26,65],[19,66,19,73],[20,66,20,73],[13,42,13,49],[13,19,13,25],[19,50,19,57],[20,50,20,57],[21,50,21,57],[22,50,22,57],[23,50,23,57],[24,50,24,57],[19,42,19,49],[20,42,20,49],[11,58,11,65],[11,66,11,73],[12,2,12,6],[12,7,12,18],[12,26,12,33],[12,34,12,41],[12,42,12,49],[12,50,12,57],[11,2,11,6],[11,7,11,18],[11,26,11,33],[11,34,11,41],[11,42,11,49],[12,19,12,25],[11,19,11,25],[12,66,12,73],[9,58,9,65],[9,66,9,73],[10,2,10,6],[10,7,10,18],[10,26,10,33],[10,34,10,41],[10,42,10,49],[10,50,10,57],[8,58,8,65],[8,66,8,73],[9,2,9,6],[9,7,9,18],[9,26,9,33],[9,34,9,41],[9,42,9,49],[9,50,9,57],[10,19,10,25],[9,19,9,25],[8,19,8,25],[7,66,7,73],[8,2,8,6],[8,7,8,18],[8,26,8,33],[8,34,8,41],[8,42,8,49],[8,50,8,57],[6,42,6,49],[6,50,6,57],[6,58,6,65],[6,66,6,73],[6,74,6,81],[7,2,7,6],[7,7,7,18],[7,19,7,25],[7,26,7,33],[7,34,7,41],[3,1,3,82],[4,1,13,1],[4,2,4,81],[4,82,13,82],[5,2,5,81],[6,2,6,6],[6,7,6,18],[6,19,6,25],[6,26,6,33],[6,34,6,41],[7,50,7,57],[7,42,7,49],[11,50,11,57],[13,50,13,57],[10,58,10,65],[10,66,10,73],[10,74,10,81],[7,58,7,65],[38,2,38,6],[38,7,38,18],[38,19,38,24],[38,65,38,69],[38,70,38,74],[38,75,38,81],[39,2,39,6],[38,36,38,46],[38,47,38,57],[39,7,39,18],[39,19,39,24],[39,25,39,35],[39,36,39,46],[34,47,34,57],[36,25,36,35],[38,25,38,35],[58,72,58,81],[48,75,48,81],[47,58,47,62],[47,63,47,64],[47,65,47,69],[47,70,47,74],[47,75,47,81],[47,47,47,57],[50,47,50,57],[50,58,50,62],[50,63,50,64],[50,65,50,69],[50,70,50,74],[50,75,50,81],[49,58,49,62],[49,63,49,64],[48,47,48,57],[48,58,48,62],[48,63,48,64],[48,65,48,69],[34,36,34,46],[48,70,48,74],[49,65,49,69],[49,70,49,74],[49,75,49,81],[20,58,20,65],[21,58,21,65],[22,58,22,65],[23,58,23,65],[25,50,25,57],[24,58,24,65],[25,58,25,65],[37,75,37,81],[35,47,35,57],[33,70,33,74],[33,75,33,81],[35,70,35,74],[35,75,35,81],[34,70,34,74],[34,75,34,81],[28,1,28,82],[29,1,29,82],[30,1,39,1],[30,2,30,81],[30,82,39,82],[25,42,25,49],[58,62,58,71],[21,66,21,73],[22,66,22,73],[23,66,23,73],[24,66,24,73],[25,66,25,73],[26,66,26,73],[40,1,40,82],[39,47,39,57],[39,58,39,62],[39,63,39,64],[39,65,39,69],[39,70,39,74],[39,75,39,81],[38,58,38,62],[38,63,38,64],[26,19,26,25],[36,65,36,69],[36,70,36,74],[36,75,36,81],[37,2,37,6],[37,7,37,18],[37,19,37,24],[37,25,37,35],[37,36,37,46],[36,2,36,6],[36,7,36,18],[36,19,36,24],[37,58,37,62],[37,63,37,64],[37,65,37,69],[37,70,37,74],[36,58,36,62],[36,63,36,64],[36,47,36,57],[36,36,36,46],[35,2,35,6],[35,7,35,18],[35,19,35,24],[35,25,35,35],[35,36,35,46],[37,47,37,57],[33,47,33,57],[33,58,33,62],[33,65,33,69],[35,58,35,62],[35,63,35,64],[35,65,35,69],[34,58,34,62],[34,63,34,64],[34,65,34,69],[33,2,33,6],[33,7,33,18],[33,19,33,24],[33,25,33,35],[33,36,33,46],[34,2,34,6],[34,7,34,18],[34,19,34,24],[33,63,33,64],[19,58,19,65],[19,26,19,33],[31,2,31,81],[32,2,32,6],[32,7,32,18],[32,19,32,24],[32,25,32,35],[32,36,32,46],[32,47,32,57],[32,58,32,69],[32,70,32,74],[32,75,32,81],[20,26,20,33],[21,26,21,33],[22,26,22,33],[23,26,23,33],[24,26,24,33],[25,26,25,33],[19,19,19,25],[20,19,20,25],[21,19,21,25],[22,19,22,25],[23,19,23,25],[24,19,24,25],[19,7,19,18],[25,34,25,41],[25,19,25,25],[19,34,19,41],[20,34,20,41],[21,34,21,41],[22,34,22,41],[23,34,23,41],[24,34,24,41],[24,7,24,18],[23,2,23,6],[23,7,23,18],[22,2,22,6],[22,7,22,18],[21,2,21,6],[21,7,21,18],[20,2,20,6],[20,7,20,18],[81,0,81,83],[80,1,80,82],[0,0,0,83],[1,1,1,82],[2,1,2,82],[54,1,54,82],[55,1,55,82],[56,1,79,1],[56,2,56,81],[56,82,79,82],[57,2,57,81],[19,2,19,6],[26,2,26,6],[26,7,26,18],[26,26,26,33],[26,34,26,41],[26,42,26,49],[26,50,26,57],[25,74,25,81],[12,58,12,65],[12,74,12,81],[25,2,25,6],[25,7,25,18],[24,2,24,6]]}
[]
[null,"Saisonstatistiken 2020/2021"]
[]
[]
[null,null,"Tabelle nach Turniersiegen (unsortiert)"]
[]
[null,null,"Rang",null,null,null,null,"Spieler",null,null,null,null,null,null,null,null,null,null,null,"Gesamt",null,null,null,null,null,null,"Erster",null,null,null,null,null,null,null,"Zweiter",null,null,null,null,null,null,null,"Dritter",null,null,null,null,null,null,null,"Vierter",null,null,null,null,null,null,null,"Fünfter",null,null,null,null,null,null,null,"Sechster",null,null,null,null,null,null,null,"Siebter"]
[null,null,{"$f":"RANK(T8,$T$8:$Z$14,0)","v":7},null,null,null,null,"Basti",null,null,null,null,null,null,null,null,null,null,null,{"$f":"AA8+(AI8/3)+(AQ8*0.000001)+(AY8*0.000001)+(BG8*0.000001)+(BO8*0.000001)+(BW8*0.000001)","v":9.9999999999999995E-7},null,null,null,null,null,null,{"$f":"COUNTIFS(M60:M80,\"Basti\")","v":0},null,null,null,null,null,null,null,{"$f":"COUNTIFS(W60:W80,\"Basti\")","v":0},null,null,null,null,null,null,null,{"$f":"COUNTIFS(AG60:AG80,\"Basti\")","v":0},null,null,null,null,null,null,null,{"$f":"COUNTIFS(AQ60:AQ80,\"Basti\")","v":0},null,null,null,null,null,null,null,{"$f":"COUNTIFS(BA60:BA80,\"Basti\")","v":0},null,null,null,null,null,null,null,{"$f":"COUNTIFS(BK60:BK80,\"Basti\")","v":0},null,null,null,null,null,null,null,{"$f":"COUNTIFS(BU60:BU80,\"Basti\")","v":1}]
[null,null,4,null,null,null,null,"Christoph",null,null,null,null,null,null,null,null,null,null,null,3.000013,null,null,null,null,null,null,{"$f":"COUNTIFS(M60:M80,\"Christoph\")","v":1},null,null,null,null,null,null,null,{"$f":"COUNTIFS(W60:W80,\"Christoph\")","v":6},null,null,null,null,null,null,null,{"$f":"COUNTIFS(AG60:AG80,\"Christoph\")","v":4},null,null,null,null,null,null,null,{"$f":"COUNTIFS(AQ60:AQ80,\"Christoph\")","v":5},null,null,null,null,null,null,null,{"$f":"COUNTIFS(BA60:BA80,\"Christoph\")","v":3},null,null,null,null,null,null,null,{"$f":"COUNTIFS(BK60:BK80,\"Christoph\")","v":1},null,null,null,null,null,null,null,{"$f":"COUNTIFS(BU60:BU80,\"Christoph\")","v":0}]
[null,null,6,null,null,null,null,"Jule",null,null,null,null,null,null,null,null,null,null,null,1.2999999999999998E-5,null,null,null,null,null,null,{"$f":"COUNTIFS(M60:M80,\"Jule\")","v":0},null,null,null,null,null,null,null,{"$f":"COUNTIFS(W60:W80,\"Jule\")","v":0},null,null,null,null,null,null,null,{"$f":"COUNTIFS(AG60:AG80,\"Jule\")","v":4},null,null,null,null,null,null,null,{"$f":"COUNTIFS(AQ60:AQ80,\"Jule\")","v":5},null,null,null,null,null,null,null,{"$f":"COUNTIFS(BA60:BA80,\"Jule\")","v":2},null,null,null,null,null,null,null,{"$f":"COUNTIFS(BK60:BK80,\"Jule\")","v":2},null,null,null,null,null,null,null,{"$f":"COUNTIFS(BU60:BU80,\"Jule\")","v":0}]
[null,null,3,null,null,null,null,"Markus",null,null,null,null,null,null,null,null,null,null,null,6.0000080000000002,null,null,null,null,null,null,{"$f":"COUNTIFS(M60:M80,\"Markus\")","v":4},null,null,null,null,null,null,null,{"$f":"COUNTIFS(W60:W80,\"Markus\")","v":6},null,null,null,null,null,null,null,{"$f":"COUNTIFS(AG60:AG80,\"Markus\")","v":5},null,null,null,null,null,null,null,{"$f":"COUNTIFS(AQ60:AQ80,\"Markus\")","v":1},null,null,null,null,null,null,null,{"$f":"COUNTIFS(BA60:BA80,\"Markus\")","v":1},null,null,null,null,null,null,null,{"$f":"COUNTIFS(BK60:BK80,\"Markus\")","v":1},null,null,null,null,null,null,null,{"$f":"COUNTIFS(BU60:BU80,\"Markus\")","v":0}]
[null,null,2,null,null,null,null,"Patrick",null,null,null,null,null,null,null,null,null,null,null,6.0000109999999998,null,null,null,null,null,null,{"$f":"COUNTIFS(M60:M80,\"Patrick\")","v":4},null,null,null,null,null,null,null,{"$f":"COUNTIFS(W60:W80,\"Patrick\")","v":6},null,null,null,null,null,null,null,{"$f":"COUNTIFS(AG60:AG80,\"Patrick\")","v":4},null,null,null,null,null,null,null,{"$f":"COUNTIFS(AQ60:AQ80,\"Patrick\")","v":4},null,null,null,null,null,null,null,{"$f":"COUNTIFS(BA60:BA80,\"Patrick\")","v":3},null,null,null,null,null,null,null,{"$f":"COUNTIFS(BK60:BK80,\"Patrick\")","v":0},null,null,null,null,null,null,null,{"$f":"COUNTIFS(BU60:BU80,\"Patrick\")","v":0}]
[null,null,1,null,null,null,null,"Ratze",null,null,null,null,null,null,null,null,null,null,null,12.333341333333333,null,null,null,null,null,null,{"$f":"COUNTIFS(M60:M80,\"Ratze\")","v":12},null,null,null,null,null,null,null,{"$f":"COUNTIFS(W60:W80,\"Ratze\")","v":1},null,null,null,null,null,null,null,{"$f":"COUNTIFS(AG60:AG80,\"Ratze\")","v":3},null,null,null,null,null,null,null,{"$f":"COUNTIFS(AQ60:AQ80,\"Ratze\")","v":3},null,null,null,null,null,null,null,{"$f":"COUNTIFS(BA60:BA80,\"Ratze\")","v":2},null,null,null,null,null,null,null,{"$f":"COUNTIFS(BK60:BK80,\"Ratze\")","v":0},null,null,null,null,null,null,null,{"$f":"COUNTIFS(BU60:BU80,\"Ratze\")","v":0}]
[null,null,5,null,null,null,null,"Schmiddi",null,null,null,null,null,null,null,null,null,null,null,0.66667966666666667,null,null,null,null,null,null,{"$f":"COUNTIFS(M60:M80,\"Schmiddi\")","v":0},null,null,null,null,null,null,null,{"$f":"COUNTIFS(W60:W80,\"Schmiddi\")","v":2},null,null,null,null,null,null,null,{"$f":"COUNTIFS(AG60:AG80,\"Schmiddi\")","v":1},null,null,null,null,null,null,null,{"$f":"COUNTIFS(AQ60:AQ80,\"Schmiddi\")","v":3},null,null,null,null,null,null,null,{"$f":"COUNTIFS(BA60:BA80,\"Schmiddi\")","v":5},null,null,null,null,null,null,null,{"$f":"COUNTIFS(BK60:BK80,\"Schmiddi\")","v":4},null,null,null,null,null,null,null,{"$f":"COUNTIFS(BU60:BU80,\"Schmiddi\")","v":0}]
[]
[]
[]
[null,null,"Tabelle nach Turniersiegen"]
[]
[null,null,"Rang",null,null,null,null,"Spieler",null,null,null,null,null,null,null,null,null,null,null,"Gesamt",null,null,null,null,null,null,"Erster",null,null,null,null,null,null,null,"Zweiter",null,null,null,null,null,null,null,"Dritter",null,null,null,null,null,null,null,"Vierter",null,null,null,null,null,null,null,"Fünfter",null,null,null,null,null,null,null,"Sechster",null,null,null,null,null,null,null,"Siebter"]
[null,null,{"$f":"INDEX($C$8:$C$14,MATCH(LARGE($T$8:$T$14,ROW(A1)),$T$8:$T$14,0),1)","v":1},null,null,null,null,{"$f":"INDEX($H$8:$H$14,MATCH(LARGE($T$8:$T$14,ROW(A1)),$T$8:$T$14,0),1)","v":"Ratze"},null,null,null,null,null,null,null,null,null,null,null,{"$f":"INDEX($T$8:$T$14,MATCH(LARGE($T$8:$T$14,ROW(A1)),$T$8:$T$14,0),1)","v":12.333341333333333},null,null,null,null,null,null,{"$f":"INDEX($AA$8:$AA$14,MATCH(LARGE($T$8:$T$14,ROW(A1)),$T$8:$T$14,0),1)","v":12},null,null,null,null,null,null,null,{"$f":"INDEX($AI$8:$AI$14,MATCH(LARGE($T$8:$T$14,ROW(A1)),$T$8:$T$14,0),1)","v":1},null,null,null,null,null,null,null,{"$f":"INDEX($AQ$8:$AQ$14,MATCH(LARGE($T$8:$T$14,ROW(A1)),$T$8:$T$14,0),1)","v":3},null,null,null,null,null,null,null,{"$f":"INDEX($AY$8:$AY$14,MATCH(LARGE($T$8:$T$14,ROW(A1)),$T$8:$T$14,0),1)","v":3},null,null,null,null,null,null,null,{"$f":"INDEX($BG$8:$BG$14,MATCH(LARGE($T$8:$T$14,ROW(A1)),$T$8:$T$14,0),1)","v":2},null,null,null,null,null,null,null,{"$f":"INDEX($BO$8:$BO$14,MATCH(LARGE($T$8:$T$14,ROW(A1)),$T$8:$T$14,0),1)","v":0},null,null,null,null,null,null,null,{"$f":"INDEX($BW$8:$BW$14,MATCH(LARGE($T$8:$T$14,ROW(A1)),$T$8:$T$14,0),1)","v":0}]
[null,null,2,null,null,null,null,"Patrick",null,null,null,null,null,null,null,null,null,null,null,6.0000109999999998,null,null,null,null,null,null,4,null,null,null,null,null,null,null,6,null,null,null,null,null,null,null,4,null,null,null,null,null,null,null,4,null,null,null,null,null,null,null,3,null,null,null,null,null,null,null,0,null,null,null,null,null,null,null,0]
[null,null,3,null,null,null,null,"Markus",null,null,null,null,null,null,null,null,null,null,null,6.0000080000000002,null,null,null,null,null,null,4,null,null,null,null,null,null,null,6,null,null,null,null,null,null,null,5,null,null,null,null,null,null,null,1,null,null,null,null,null,null,null,1,null,null,null,null,null,null,null,1,null,null,null,null,null,null,null,0]
[null,null,4,null,null,null,null,"Christoph",null,null,null,null,null,null,null,null,null,null,null,3.000013,null,null,null,null,null,null,1,null,null,null,null,null,null,null,6,null,null,null,null,null,null,null,4,null,null,null,null,null,null,null,5,null,null,null,null,null,null,null,3,null,null,null,null,null,null,null,1,null,null,null,null,null,null,null,0]
[null,null,5,null,null,null,null,"Schmiddi",null,null,null,null,null,null,null,null,null,null,null,0.66667966666666667,null,null,null,null,null,null,0,null,null,null,null,null,null,null,2,null,null,null,null,null,null,null,1,null,null,null,null,null,null,null,3,null,null,null,null,null,null,null,5,null,null,null,null,null,null,null,4,null,null,null,null,null,null,null,0]
[null,null,6,null,null,null,null,"Jule",null,null,null,null,null,null,null,null,null,null,null,1.2999999999999998E-5,null,null,null,null,null,null,0,null,null,null,null,null,null,null,0,null,null,null,null,null,null,null,4,null,null,null,null,null,null,null,5,null,null,null,null,null,null,null,2,null,null,null,null,null,null,null,2,null,null,null,null,null,null,null,0]
[null,null,7,null,null,null,null,"Basti",null,null,null,null,null,null,null,null,null,null,null,9.9999999999999995E-7,null,null,null,null,null,null,0,null,null,null,null,null,null,null,0,null,null,null,null,null,null,null,0,null,null,null,null,null,null,null,0,null,null,null,null,null,null,null,0,null,null,null,null,null,null,null,0,null,null,null,null,null,null,null,1]
[]
[]
[]
[null,null,"Tabelle nach Punkten (unsortiert)"]
[]
[null,null,"Rang",null,null,null,null,{"$f":"\" Spieler\"","v":" Spieler"},null,null,null,null,null,null,null,null,null,null,null,"Spiele",null,null,null,null,null,"Siege",null,null,null,null,null,null,null,null,null,null,"Unentschieden",null,null,null,null,null,null,null,null,null,null,"Niederlagen",null,null,null,null,null,null,null,null,null,null,"Tore",null,null,null,null,null,null,null,null,null,null,null,"+/-",null,null,null,null,"Punkte"]
[null,null,{"$f":"RANK(BX34,$BX$34:$CD$40,0)","v":7},null,null,null,null,"Basti",null,null,null,null,null,null,null,null,null,null,null,{"$f":"SUM(Beginn_Auswertung:Ende_Auswertung!T91)","v":12},null,null,null,null,null,{"$f":"SUM(Beginn_Auswertung:Ende_Auswertung!Z91)","v":0},null,null,null,null,null,null,null,null,null,null,{"$f":"SUM(Beginn_Auswertung:Ende_Auswertung!AK91)","v":0},null,null,null,null,null,null,null,null,null,null,{"$f":"SUM(Beginn_Auswertung:Ende_Auswertung!AV91)","v":12},null,null,null,null,null,null,null,null,null,null,{"$f":"SUM(Beginn_Auswertung:Ende_Auswertung!BG91)","v":6},null,null,null,null,":",null,{"$f":"SUM(Beginn_Auswertung:Ende_Auswertung!BN91)","v":42},null,null,null,null,{"$f":"SUM(Beginn_Auswertung:Ende_Auswertung!BS91)","v":-36},null,null,null,null,{"$f":"SUM(Beginn_Auswertung:Ende_Auswertung!BX91)","v":0}]
[null,null,{"$f":"RANK(BX35,$BX$34:$CD$40,0)","v":4},null,null,null,null,"Christoph",null,null,null,null,null,null,null,null,null,null,null,{"$f":"SUM(Beginn_Auswertung:Ende_Auswertung!T92)","v":162},null,null,null,null,null,{"$f":"SUM(Beginn_Auswertung:Ende_Auswertung!Z92)","v":62},null,null,null,null,null,null,null,null,null,null,{"$f":"SUM(Beginn_Auswertung:Ende_Auswertung!AK92)","v":27},null,null,null,null,null,null,null,null,null,null,{"$f":"SUM(Beginn_Auswertung:Ende_Auswertung!AV92)","v":73},null,null,null,null,null,null,null,null,null,null,{"$f":"SUM(Beginn_Auswertung:Ende_Auswertung!BG92)","v":317},null,null,null,null,":",null,{"$f":"SUM(Beginn_Auswertung:Ende_Auswertung!BN92)","v":348},null,null,null,null,{"$f":"SUM(Beginn_Auswertung:Ende_Auswertung!BS92)","v":-31},null,null,null,null,{"$f":"SUM(Beginn_Auswertung:Ende_Auswertung!BX92)","v":213}]
[null,null,5,null,null,null,null,"Jule",null,null,null,null,null,null,null,null,null,null,null,{"$f":"SUM(Beginn_Auswertung:Ende_Auswertung!T93)","v":122},null,null,null,null,null,{"$f":"SUM(Beginn_Auswertung:Ende_Auswertung!Z93)","v":39},null,null,null,null,null,null,null,null,null,null,{"$f":"SUM(Beginn_Auswertung:Ende_Auswertung!AK93)","v":29},null,null,null,null,null,null,null,null,null,null,{"$f":"SUM(Beginn_Auswertung:Ende_Auswertung!AV93)","v":54},null,null,null,null,null,null,null,null,null,null,{"$f":"SUM(Beginn_Auswertung:Ende_Auswertung!BG93)","v":237},null,null,null,null,":",null,{"$f":"SUM(Beginn_Auswertung:Ende_Auswertung!BN93)","v":275},null,null,null,null,{"$f":"SUM(Beginn_Auswertung:Ende_Auswertung!BS93)","v":-38},null,null,null,null,{"$f":"SUM(Beginn_Auswertung:Ende_Auswertung!BX93)","v":146}]
[null,null,3,null,null,null,null,"Markus",null,null,null,null,null,null,null,null,null,null,null,{"$f":"SUM(Beginn_Auswertung:Ende_Auswertung!T94)","v":146},null,null,null,null,null,{"$f":"SUM(Beginn_Auswertung:Ende_Auswertung!Z94)","v":67},null,null,null,null,null,null,null,null,null,null,{"$f":"SUM(Beginn_Auswertung:Ende_Auswertung!AK94)","v":33},null,null,null,null,null,null,null,null,null,null,{"$f":"SUM(Beginn_Auswertung:Ende_Auswertung!AV94)","v":46},null,null,null,null,null,null,null,null,null,null,{"$f":"SUM(Beginn_Auswertung:Ende_Auswertung!BG94)","v":315},null,null,null,null,":",null,{"$f":"SUM(Beginn_Auswertung:Ende_Auswertung!BN94)","v":279},null,null,null,null,{"$f":"SUM(Beginn_Auswertung:Ende_Auswertung!BS94)","v":36},null,null,null,null,{"$f":"SUM(Beginn_Auswertung:Ende_Auswertung!BX94)","v":234}]
[null,null,2,null,null,null,null,"Patrick",null,null,null,null,null,null,null,null,null,null,null,{"$f":"SUM(Beginn_Auswertung:Ende_Auswertung!T95)","v":168},null,null,null,null,null,{"$f":"SUM(Beginn_Auswertung:Ende_Auswertung!Z95)","v":74},null,null,null,null,null,null,null,null,null,null,{"$f":"SUM(Beginn_Auswertung:Ende_Auswertung!AK95)","v":34},null,null,null,null,null,null,null,null,null,null,{"$f":"SUM(Beginn_Auswertung:Ende_Auswertung!AV95)","v":60},null,null,null,null,null,null,null,null,null,null,{"$f":"SUM(Beginn_Auswertung:Ende_Auswertung!BG95)","v":373},null,null,null,null,":",null,{"$f":"SUM(Beginn_Auswertung:Ende_Auswertung!BN95)","v":294},null,null,null,null,{"$f":"SUM(Beginn_Auswertung:Ende_Auswertung!BS95)","v":79},null,null,null,null,{"$f":"SUM(Beginn_Auswertung:Ende_Auswertung!BX95)","v":256}]
[null,null,1,null,null,null,null,"Ratze",null,null,null,null,null,null,null,null,null,null,null,{"$f":"SUM(Beginn_Auswertung:Ende_Auswertung!T96)","v":168},null,null,null,null,null,{"$f":"SUM(Beginn_Auswertung:Ende_Auswertung!Z96)","v":93},null,null,null,null,null,null,null,null,null,null,{"$f":"SUM(Beginn_Auswertung:Ende_Auswertung!AK96)","v":32},null,null,null,null,null,null,null,null,null,null,{"$f":"SUM(Beginn_Auswertung:Ende_Auswertung!AV96)","v":43},null,null,null,null,null,null,null,null,null,null,{"$f":"SUM(Beginn_Auswertung:Ende_Auswertung!BG96)","v":419},null,null,null,null,":",null,{"$f":"SUM(Beginn_Auswertung:Ende_Auswertung!BN96)","v":271},null,null,null,null,{"$f":"SUM(Beginn_Auswertung:Ende_Auswertung!BS96)","v":148},null,null,null,null,{"$f":"SUM(Beginn_Auswertung:Ende_Auswertung!BX96)","v":311}]
[null,null,6,null,null,null,null,"Schmiddi",null,null,null,null,null,null,null,null,null,null,null,{"$f":"SUM(Beginn_Auswertung:Ende_Auswertung!T97)","v":126},null,null,null,null,null,{"$f":"SUM(Beginn_Auswertung:Ende_Auswertung!Z97)","v":31},null,null,null,null,null,null,null,null,null,null,{"$f":"SUM(Beginn_Auswertung:Ende_Auswertung!AK97)","v":19},null,null,null,null,null,null,null,null,null,null,{"$f":"SUM(Beginn_Auswertung:Ende_Auswertung!AV97)","v":77},null,null,null,null,null,null,null,null,null,null,{"$f":"SUM(Beginn_Auswertung:Ende_Auswertung!BG97)","v":250},null,null,null,null,":",null,{"$f":"SUM(Beginn_Auswertung:Ende_Auswertung!BN97)","v":408},null,null,null,null,{"$f":"SUM(Beginn_Auswertung:Ende_Auswertung!BS97)","v":-158},null,null,null,null,{"$f":"SUM(Beginn_Auswertung:Ende_Auswertung!BX97)","v":109}]
[]
[]
[]
[null,null,"Tabelle nach Punkten"]
[]
[null,null,"Rang",null,null,null,null,{"$f":"\" Spieler\"","v":" Spieler"},null,null,null,null,null,null,null,null,null,null,null,"Spiele",null,null,null,null,null,"Siege",null,null,null,null,null,null,null,null,null,null,"Unentschieden",null,null,null,null,null,null,null,null,null,null,"Niederlagen",null,null,null,null,null,null,null,null,null,null,"Tore",null,null,null,null,null,null,null,null,null,null,null,"+/-",null,null,null,null,"Punkte"]
[null,null,{"$f":"INDEX($C$34:$C$40,MATCH(LARGE($BX$34:$BX$40,ROW(A1)),$BX$34:$BX$40,0),1)","v":1},null,null,null,null,{"$f":"INDEX($H$34:$H$40,MATCH(LARGE($BX$34:$BX$40,ROW(A1)),$BX$34:$BX$40,0),1)","v":"Ratze"},null,null,null,null,null,null,null,null,null,null,null,{"$f":"INDEX($T$34:$T$40,MATCH(LARGE($BX$34:$BX$40,ROW(A1)),$BX$34:$BX$40,0),1)","v":168},null,null,null,null,null,{"$f":"INDEX($Z$34:$Z$40,MATCH(LARGE($BX$34:$BX$40,ROW(A1)),$BX$34:$BX$40,0),1)","v":93},null,null,null,null,null,null,null,null,null,null,{"$f":"INDEX($AK$34:$AK$40,MATCH(LARGE($BX$34:$BX$40,ROW(A1)),$BX$34:$BX$40,0),1)","v":32},null,null,null,null,null,null,null,null,null,null,{"$f":"INDEX($AV$34:$AV$40,MATCH(LARGE($BX$34:$BX$40,ROW(A1)),$BX$34:$BX$40,0),1)","v":43},null,null,null,null,null,null,null,null,null,null,{"$f":"INDEX($BG$34:$BG$40,MATCH(LARGE($BX$34:$BX$40,ROW(A1)),$BX$34:$BX$40,0),1)","v":419},null,null,null,null,":",null,{"$f":"INDEX($BN$34:$BN$40,MATCH(LARGE($BX$34:$BX$40,ROW(A1)),$BX$34:$BX$40,0),1)","v":271},null,null,null,null,{"$f":"INDEX($BS$34:$BS$40,MATCH(LARGE($BX$34:$BX$40,ROW(A1)),$BX$34:$BX$40,0),1)","v":148},null,null,null,null,{"$f":"INDEX($BX$34:$BX$40,MATCH(LARGE($BX$34:$BX$40,ROW(A1)),$BX$34:$BX$40,0),1)","v":311}]
[null,null,2,null,null,null,null,"Patrick",null,null,null,null,null,null,null,null,null,null,null,168,null,null,null,null,null,74,null,null,null,null,null,null,null,null,null,null,34,null,null,null,null,null,null,null,null,null,null,60,null,null,null,null,null,null,null,null,null,null,373,null,null,null,null,":",null,294,null,null,null,null,79,null,null,null,null,256]
[null,null,3,null,null,null,null,"Markus",null,null,null,null,null,null,null,null,null,null,null,146,null,null,null,null,null,67,null,null,null,null,null,null,null,null,null,null,33,null,null,null,null,null,null,null,null,null,null,46,null,null,null,null,null,null,null,null,null,null,315,null,null,null,null,":",null,279,null,null,null,null,36,null,null,null,null,234]
[null,null,4,null,null,null,null,"Christoph",null,null,null,null,null,null,null,null,null,null,null,162,null,null,null,null,null,62,null,null,null,null,null,null,null,null,null,null,27,null,null,null,null,null,null,null,null,null,null,73,null,null,null,null,null,null,null,null,null,null,317,null,null,null,null,":",null,348,null,null,null,null,-31,null,null,null,null,213]
[null,null,5,null,null,null,null,"Jule",null,null,null,null,null,null,null,null,null,null,null,122,null,null,null,null,null,39,null,null,null,null,null,null,null,null,null,null,29,null,null,null,null,null,null,null,null,null,null,54,null,null,null,null,null,null,null,null,null,null,237,null,null,null,null,":",null,275,null,null,null,null,-38,null,null,null,null,146]
[null,null,6,null,null,null,null,"Schmiddi",null,null,null,null,null,null,null,null,null,null,null,126,null,null,null,null,null,31,null,null,null,null,null,null,null,null,null,null,19,null,null,null,null,null,null,null,null,null,null,77,null,null,null,null,null,null,null,null,null,null,250,null,null,null,null,":",null,408,null,null,null,null,-158,null,null,null,null,109]
[null,null,7,null,null,null,null,"Basti",null,null,null,null,null,null,null,null,null,null,null,12,null,null,null,null,null,0,null,null,null,null,null,null,null,null,null,null,0,null,null,null,null,null,null,null,null,null,null,12,null,null,null,null,null,null,null,null,null,null,6,null,null,null,null,":",null,42,null,null,null,null,-36,null,null,null,null,0]
[]
[]
[]
[null,null,"Turnierübersicht"]
[]
[null,null,"Datum",null,null,null,null,null,null,null,null,null,"Erster",null,null,null,null,null,null,null,null,null,"Zweiter",null,null,null,null,null,null,null,null,null,"Dritter",null,null,null,null,null,null,null,null,null,"Vierter",null,null,null,null,null,null,null,null,null,"Fünfter",null,null,null,null,null,null,null,null,null,"Sechster",null,null,null,null,null,null,null,null,null,"Siebter"]
[null,null,"2020-10-21",null,null,null,null,null,null,null,null,null,{"$f":"IF(OR(ISBLANK('21.10.'!F78),ISBLANK('21.10.'!F79),ISBLANK('21.10.'!F80),ISBLANK('21.10.'!F81),ISBLANK('21.10.'!F82),ISBLANK('21.10.'!F83),ISBLANK('21.10.'!F84)),\"Ergebnis offen\",IF('21.10.'!F78=1,'21.10.'!H78,IF('21.10.'!F79=1,'21.10.'!H79,IF('21.10.'!F80=1,'21.10.'!H80,IF('21.10.'!F81=1,'21.10.'!H81,IF('21.10.'!F82=1,'21.10.'!H82,IF('21.10.'!F83=1,'21.10.'!H83,IF('21.10.'!F84=1,'21.10.'!H84,\"---\"))))))))","v":"Patrick"},null,null,null,null,null,null,null,null,null,{"$f":"IF(OR(ISBLANK('21.10.'!F78),ISBLANK('21.10.'!F79),ISBLANK('21.10.'!F80),ISBLANK('21.10.'!F81),ISBLANK('21.10.'!F82),ISBLANK('21.10.'!F83),ISBLANK('21.10.'!F84)),\"Ergebnis offen\",IF('21.10.'!F78=2,'21.10.'!H78,IF('21.10.'!F79=2,'21.10.'!H79,IF('21.10.'!F80=2,'21.10.'!H80,IF('21.10.'!F81=2,'21.10.'!H81,IF('21.10.'!F82=2,'21.10.'!H82,IF('21.10.'!F83=2,'21.10.'!H83,IF('21.10.'!F84=2,'21.10.'!H84,\"---\"))))))))","v":"Markus"},null,null,null,null,null,null,null,null,null,{"$f":"IF(OR(ISBLANK('21.10.'!F78),ISBLANK('21.10.'!F79),ISBLANK('21.10.'!F80),ISBLANK('21.10.'!F81),ISBLANK('21.10.'!F82),ISBLANK('21.10.'!F83),ISBLANK('21.10.'!F84)),\"Ergebnis offen\",IF('21.10.'!F78=3,'21.10.'!H78,IF('21.10.'!F79=3,'21.10.'!H79,IF('21.10.'!F80=3,'21.10.'!H80,IF('21.10.'!F81=3,'21.10.'!H81,IF('21.10.'!F82=3,'21.10.'!H82,IF('21.10.'!F83=3,'21.10.'!H83,IF('21.10.'!F84=3,'21.10.'!H84,\"---\"))))))))","v":"Christoph"},null,null,null,null,null,null,null,null,null,{"$f":"IF(OR(ISBLANK('21.10.'!F78),ISBLANK('21.10.'!F79),ISBLANK('21.10.'!F80),ISBLANK('21.10.'!F81),ISBLANK('21.10.'!F82),ISBLANK('21.10.'!F83),ISBLANK('21.10.'!F84)),\"Ergebnis offen\",IF('21.10.'!F78=4,'21.10.'!H78,IF('21.10.'!F79=4,'21.10.'!H79,IF('21.10.'!F80=4,'21.10.'!H80,IF('21.10.'!F81=4,'21.10.'!H81,IF('21.10.'!F82=4,'21.10.'!H82,IF('21.10.'!F83=4,'21.10.'!H83,IF('21.10.'!F84=4,'21.10.'!H84,\"---\"))))))))","v":"Schmiddi"},null,null,null,null,null,null,null,null,null,{"$f":"IF(OR(ISBLANK('21.10.'!F78),ISBLANK('21.10.'!F79),ISBLANK('21.10.'!F80),ISBLANK('21.10.'!F81),ISBLANK('21.10.'!F82),ISBLANK('21.10.'!F83),ISBLANK('21.10.'!F84)),\"Ergebnis offen\",IF('21.10.'!F78=5,'21.10.'!H78,IF('21.10.'!F79=5,'21.10.'!H79,IF('21.10.'!F80=5,'21.10.'!H80,IF('21.10.'!F81=5,'21.10.'!H81,IF('21.10.'!F82=5,'21.10.'!H82,IF('21.10.'!F83=5,'21.10.'!H83,IF('21.10.'!F84=5,'21.10.'!H84,\"---\"))))))))","v":"Ratze"},null,null,null,null,null,null,null,null,null,{"$f":"IF(OR(ISBLANK('21.10.'!F78),ISBLANK('21.10.'!F79),ISBLANK('21.10.'!F80),ISBLANK('21.10.'!F81),ISBLANK('21.10.'!F82),ISBLANK('21.10.'!F83),ISBLANK('21.10.'!F84)),\"Ergebnis offen\",IF('21.10.'!F78=6,'21.10.'!H78,IF('21.10.'!F79=6,'21.10.'!H79,IF('21.10.'!F80=6,'21.10.'!H80,IF('21.10.'!F81=6,'21.10.'!H81,IF('21.10.'!F82=6,'21.10.'!H82,IF('21.10.'!F83=6,'21.10.'!H83,IF('21.10.'!F84=6,'21.10.'!H84,\"---\"))))))))","v":"Jule"},null,null,null,null,null,null,null,null,null,{"$f":"IF(OR(ISBLANK('21.10.'!F78),ISBLANK('21.10.'!F79),ISBLANK('21.10.'!F80),ISBLANK('21.10.'!F81),ISBLANK('21.10.'!F82),ISBLANK('21.10.'!F83),ISBLANK('21.10.'!F84)),\"Ergebnis offen\",IF('21.10.'!F78=7,'21.10.'!H78,IF('21.10.'!F79=7,'21.10.'!H79,IF('21.10.'!F80=7,'21.10.'!H80,IF('21.10.'!F81=7,'21.10.'!H81,IF('21.10.'!F82=7,'21.10.'!H82,IF('21.10.'!F83=7,'21.10.'!H83,IF('21.10.'!F84=7,'21.10.'!H84,\"---\"))))))))","v":"---"}]
[null,null,"2020-10-28",null,null,null,null,null,null,null,null,null,{"$f":"IF(OR(ISBLANK('28.10.'!F78),ISBLANK('28.10.'!F79),ISBLANK('28.10.'!F80),ISBLANK('28.10.'!F81),ISBLANK('28.10.'!F82),ISBLANK('28.10.'!F83),ISBLANK('28.10.'!F84)),\"Ergebnis offen\",IF('28.10.'!F78=1,'28.10.'!H78,IF('28.10.'!F79=1,'28.10.'!H79,IF('28.10.'!F80=1,'28.10.'!H80,IF('28.10.'!F81=1,'28.10.'!H81,IF('28.10.'!F82=1,'28.10.'!H82,IF('28.10.'!F83=1,'28.10.'!H83,IF('28.10.'!F84=1,'28.10.'!H84,\"---\"))))))))","v":"Ratze"},null,null,null,null,null,null,null,null,null,{"$f":"IF(OR(ISBLANK('28.10.'!F78),ISBLANK('28.10.'!F79),ISBLANK('28.10.'!F80),ISBLANK('28.10.'!F81),ISBLANK('28.10.'!F82),ISBLANK('28.10.'!F83),ISBLANK('28.10.'!F84)),\"Ergebnis offen\",IF('28.10.'!F78=2,'28.10.'!H78,IF('28.10.'!F79=2,'28.10.'!H79,IF('28.10.'!F80=2,'28.10.'!H80,IF('28.10.'!F81=2,'28.10.'!H81,IF('28.10.'!F82=2,'28.10.'!H82,IF('28.10.'!F83=2,'28.10.'!H83,IF('28.10.'!F84=2,'28.10.'!H84,\"---\"))))))))","v":"Schmiddi"},null,null,null,null,null,null,null,null,null,{"$f":"IF(OR(ISBLANK('28.10.'!F78),ISBLANK('28.10.'!F79),ISBLANK('28.10.'!F80),ISBLANK('28.10.'!F81),ISBLANK('28.10.'!F82),ISBLANK('28.10.'!F83),ISBLANK('28.10.'!F84)),\"Ergebnis offen\",IF('28.10.'!F78=3,'28.10.'!H78,IF('28.10.'!F79=3,'28.10.'!H79,IF('28.10.'!F80=3,'28.10.'!H80,IF('28.10.'!F81=3,'28.10.'!H81,IF('28.10.'!F82=3,'28.10.'!H82,IF('28.10.'!F83=3,'28.10.'!H83,IF('28.10.'!F84=3,'28.10.'!H84,\"---\"))))))))","v":"Markus"},null,null,null,null,null,null,null,null,null,{"$f":"IF(OR(ISBLANK('28.10.'!F78),ISBLANK('28.10.'!F79),ISBLANK('28.10.'!F80),ISBLANK('28.10.'!F81),ISBLANK('28.10.'!F82),ISBLANK('28.10.'!F83),ISBLANK('28.10.'!F84)),\"Ergebnis offen\",IF('28.10.'!F78=4,'28.10.'!H78,IF('28.10.'!F79=4,'28.10.'!H79,IF('28.10.'!F80=4,'28.10.'!H80,IF('28.10.'!F81=4,'28.10.'!H81,IF('28.10.'!F82=4,'28.10.'!H82,IF('28.10.'!F83=4,'28.10.'!H83,IF('28.10.'!F84=4,'28.10.'!H84,\"---\"))))))))","v":"Patrick"},null,null,null,null,null,null,null,null,null,{"$f":"IF(OR(ISBLANK('28.10.'!F78),ISBLANK('28.10.'!F79),ISBLANK('28.10.'!F80),ISBLANK('28.10.'!F81),ISBLANK('28.10.'!F82),ISBLANK('28.10.'!F83),ISBLANK('28.10.'!F84)),\"Ergebnis offen\",IF('28.10.'!F78=5,'28.10.'!H78,IF('28.10.'!F79=5,'28.10.'!H79,IF('28.10.'!F80=5,'28.10.'!H80,IF('28.10.'!F81=5,'28.10.'!H81,IF('28.10.'!F82=5,'28.10.'!H82,IF('28.10.'!F83=5,'28.10.'!H83,IF('28.10.'!F84=5,'28.10.'!H84,\"---\"))))))))","v":"---"},null,null,null,null,null,null,null,null,null,{"$f":"IF(OR(ISBLANK('28.10.'!F78),ISBLANK('28.10.'!F79),ISBLANK('28.10.'!F80),ISBLANK('28.10.'!F81),ISBLANK('28.10.'!F82),ISBLANK('28.10.'!F83),ISBLANK('28.10.'!F84)),\"Ergebnis offen\",IF('28.10.'!F78=6,'28.10.'!H78,IF('28.10.'!F79=6,'28.10.'!H79,IF('28.10.'!F80=6,'28.10.'!H80,IF('28.10.'!F81=6,'28.10.'!H81,IF('28.10.'!F82=6,'28.10.'!H82,IF('28.10.'!F83=6,'28.10.'!H83,IF('28.10.'!F84=6,'28.10.'!H84,\"---\"))))))))","v":"---"},null,null,null,null,null,null,null,null,null,{"$f":"IF(OR(ISBLANK('28.10.'!F78),ISBLANK('28.10.'!F79),ISBLANK('28.10.'!F80),ISBLANK('28.10.'!F81),ISBLANK('28.10.'!F82),ISBLANK('28.10.'!F83),ISBLANK('28.10.'!F84)),\"Ergebnis offen\",IF('28.10.'!F78=7,'28.10.'!H78,IF('28.10.'!F79=7,'28.10.'!H79,IF('28.10.'!F80=7,'28.10.'!H80,IF('28.10.'!F81=7,'28.10.'!H81,IF('28.10.'!F82=7,'28.10.'!H82,IF('28.10.'!F83=7,'28.10.'!H83,IF('28.10.'!F84=7,'28.10.'!H84,\"---\"))))))))","v":"---"}]
[null,null,"2020-11-04",null,null,null,null,null,null,null,null,null,{"$f":"IF(OR(ISBLANK('4.11'!F78),ISBLANK('4.11'!F79),ISBLANK('4.11'!F80),ISBLANK('4.11'!F81),ISBLANK('4.11'!F82),ISBLANK('4.11'!F83),ISBLANK('4.11'!F84)),\"Ergebnis offen\",IF('4.11'!F78=1,'4.11'!H78,IF('4.11'!F79=1,'4.11'!H79,IF('4.11'!F80=1,'4.11'!H80,IF('4.11'!F81=1,'4.11'!H81,IF('4.11'!F82=1,'4.11'!H82,IF('4.11'!F83=1,'4.11'!H83,IF('4.11'!F84=1,'4.11'!H84,\"---\"))))))))","v":"Patrick"},null,null,null,null,null,null,null,null,null,{"$f":"IF(OR(ISBLANK('4.11'!F78),ISBLANK('4.11'!F79),ISBLANK('4.11'!F80),ISBLANK('4.11'!F81),ISBLANK('4.11'!F82),ISBLANK('4.11'!F83),ISBLANK('4.11'!F84)),\"Ergebnis offen\",IF('4.11'!F78=2,'4.11'!H78,IF('4.11'!F79=2,'4.11'!H79,IF('4.11'!F80=2,'4.11'!H80,IF('4.11'!F81=2,'4.11'!H81,IF('4.11'!F82=2,'4.11'!H82,IF('4.11'!F83=2,'4.11'!H83,IF('4.11'!F84=2,'4.11'!H84,\"---\"))))))))","v":"Markus"},null,null,null,null,null,null,null,null,null,{"$f":"IF(OR(ISBLANK('4.11'!F78),ISBLANK('4.11'!F79),ISBLANK('4.11'!F80),ISBLANK('4.11'!F81),ISBLANK('4.11'!F82),ISBLANK('4.11'!F83),ISBLANK('4.11'!F84)),\"Ergebnis offen\",IF('4.11'!F78=3,'4.11'!H78,IF('4.11'!F79=3,'4.11'!H79,IF('4.11'!F80=3,'4.11'!H80,IF('4.11'!F81=3,'4.11'!H81,IF('4.11'!F82=3,'4.11'!H82,IF('4.11'!F83=3,'4.11'!H83,IF('4.11'!F84=3,'4.11'!H84,\"---\"))))))))","v":"Ratze"},null,null,null,null,null,null,null,null,null,{"$f":"IF(OR(ISBLANK('4.11'!F78),ISBLANK('4.11'!F79),ISBLANK('4.11'!F80),ISBLANK('4.11'!F81),ISBLANK('4.11'!F82),ISBLANK('4.11'!F83),ISBLANK('4.11'!F84)),\"Ergebnis offen\",IF('4.11'!F78=4,'4.11'!H78,IF('4.11'!F79=4,'4.11'!H79,IF('4.11'!F80=4,'4.11'!H80,IF('4.11'!F81=4,'4.11'!H81,IF('4.11'!F82=4,'4.11'!H82,IF('4.11'!F83=4,'4.11'!H83,IF('4.11'!F84=4,'4.11'!H84,\"---\"))))))))","v":"Christoph"},null,null,null,null,null,null,null,null,null,{"$f":"IF(OR(ISBLANK('4.11'!F78),ISBLANK('4.11'!F79),ISBLANK('4.11'!F80),ISBLANK('4.11'!F81),ISBLANK('4.11'!F82),ISBLANK('4.11'!F83),ISBLANK('4.11'!F84)),\"Ergebnis offen\",IF('4.11'!F78=5,'4.11'!H78,IF('4.11'!F79=5,'4.11'!H79,IF('4.11'!F80=5,'4.11'!H80,IF('4.11'!F81=5,'4.11'!H81,IF('4.11'!F82=5,'4.11'!H82,IF('4.11'!F83=5,'4.11'!H83,IF('4.11'!F84=5,'4.11'!H84,\"---\"))))))))","v":"Schmiddi"},null,null,null,null,null,null,null,null,null,{"$f":"IF(OR(ISBLANK('4.11'!F78),ISBLANK('4.11'!F79),ISBLANK('4.11'!F80),ISBLANK('4.11'!F81),ISBLANK('4.11'!F82),ISBLANK('4.11'!F83),ISBLANK('4.11'!F84)),\"Ergebnis offen\",IF('4.11'!F78=6,'4.11'!H78,IF('4.11'!F79=6,'4.11'!H79,IF('4.11'!F80=6,'4.11'!H80,IF('4.11'!F81=6,'4.11'!H81,IF('4.11'!F82=6,'4.11'!H82,IF('4.11'!F83=6,'4.11'!H83,IF('4.11'!F84=6,'4.11'!H84,\"---\"))))))))","v":"Jule"},null,null,null,null,null,null,null,null,null,{"$f":"IF(OR(ISBLANK('4.11'!F78),ISBLANK('4.11'!F79),ISBLANK('4.11'!F80),ISBLANK('4.11'!F81),ISBLANK('4.11'!F82),ISBLANK('4.11'!F83),ISBLANK('4.11'!F84)),\"Ergebnis offen\",IF('4.11'!F78=7,'4.11'!H78,IF('4.11'!F79=7,'4.11'!H79,IF('4.11'!F80=7,'4.11'!H80,IF('4.11'!F81=7,'4.11'!H81,IF('4.11'!F82=7,'4.11'!H82,IF('4.11'!F83=7,'4.11'!H83,IF('4.11'!F84=7,'4.11'!H84,\"---\"))))))))","v":"---"}]
[null,null,"2020-11-26",null,null,null,null,null,null,null,null,null,{"$f":"IF(OR(ISBLANK('26.11.'!F78),ISBLANK('26.11.'!F79),ISBLANK('26.11.'!F80),ISBLANK('26.11.'!F81),ISBLANK('26.11.'!F82),ISBLANK('26.11.'!F83),ISBLANK('26.11.'!F84)),\"Ergebnis offen\",IF('26.11.'!F78=1,'26.11.'!H78,IF('26.11.'!F79=1,'26.11.'!H79,IF('26.11.'!F80=1,'26.11.'!H80,IF('26.11.'!F81=1,'26.11.'!H81,IF('26.11.'!F82=1,'26.11.'!H82,IF('26.11.'!F83=1,'26.11.'!H83,IF('26.11.'!F84=1,'26.11.'!H84,\"---\"))))))))","v":"Patrick"},null,null,null,null,null,null,null,null,null,{"$f":"IF(OR(ISBLANK('26.11.'!F78),ISBLANK('26.11.'!F79),ISBLANK('26.11.'!F80),ISBLANK('26.11.'!F81),ISBLANK('26.11.'!F82),ISBLANK('26.11.'!F83),ISBLANK('26.11.'!F84)),\"Ergebnis offen\",IF('26.11.'!F78=2,'26.11.'!H78,IF('26.11.'!F79=2,'26.11.'!H79,IF('26.11.'!F80=2,'26.11.'!H80,IF('26.11.'!F81=2,'26.11.'!H81,IF('26.11.'!F82=2,'26.11.'!H82,IF('26.11.'!F83=2,'26.11.'!H83,IF('26.11.'!F84=2,'26.11.'!H84,\"---\"))))))))","v":"Christoph"},null,null,null,null,null,null,null,null,null,{"$f":"IF(OR(ISBLANK('26.11.'!F78),ISBLANK('26.11.'!F79),ISBLANK('26.11.'!F80),ISBLANK('26.11.'!F81),ISBLANK('26.11.'!F82),ISBLANK('26.11.'!F83),ISBLANK('26.11.'!F84)),\"Ergebnis offen\",IF('26.11.'!F78=3,'26.11.'!H78,IF('26.11.'!F79=3,'26.11.'!H79,IF('26.11.'!F80=3,'26.11.'!H80,IF('26.11.'!F81=3,'26.11.'!H81,IF('26.11.'!F82=3,'26.11.'!H82,IF('26.11.'!F83=3,'26.11.'!H83,IF('26.11.'!F84=3,'26.11.'!H84,\"---\"))))))))","v":"Markus"},null,null,null,null,null,null,null,null,null,{"$f":"IF(OR(ISBLANK('26.11.'!F78),ISBLANK('26.11.'!F79),ISBLANK('26.11.'!F80),ISBLANK('26.11.'!F81),ISBLANK('26.11.'!F82),ISBLANK('26.11.'!F83),ISBLANK('26.11.'!F84)),\"Ergebnis offen\",IF('26.11.'!F78=4,'26.11.'!H78,IF('26.11.'!F79=4,'26.11.'!H79,IF('26.11.'!F80=4,'26.11.'!H80,IF('26.11.'!F81=4,'26.11.'!H81,IF('26.11.'!F82=4,'26.11.'!H82,IF('26.11.'!F83=4,'26.11.'!H83,IF('26.11.'!F84=4,'26.11.'!H84,\"---\"))))))))","v":"Ratze"},null,null,null,null,null,null,null,null,null,{"$f":"IF(OR(ISBLANK('26.11.'!F78),ISBLANK('26.11.'!F79),ISBLANK('26.11.'!F80),ISBLANK('26.11.'!F81),ISBLANK('26.11.'!F82),ISBLANK('26.11.'!F83),ISBLANK('26.11.'!F84)),\"Ergebnis offen\",IF('26.11.'!F78=5,'26.11.'!H78,IF('26.11.'!F79=5,'26.11.'!H79,IF('26.11.'!F80=5,'26.11.'!H80,IF('26.11.'!F81=5,'26.11.'!H81,IF('26.11.'!F82=5,'26.11.'!H82,IF('26.11.'!F83=5,'26.11.'!H83,IF('26.11.'!F84=5,'26.11.'!H84,\"---\"))))))))","v":"---"},null,null,null,null,null,null,null,null,null,{"$f":"IF(OR(ISBLANK('26.11.'!F78),ISBLANK('26.11.'!F79),ISBLANK('26.11.'!F80),ISBLANK('26.11.'!F81),ISBLANK('26.11.'!F82),ISBLANK('26.11.'!F83),ISBLANK('26.11.'!F84)),\"Ergebnis offen\",IF('26.11.'!F78=6,'26.11.'!H78,IF('26.11.'!F79=6,'26.11.'!H79,IF('26.11.'!F80=6,'26.11.'!H80,IF('26.11.'!F81=6,'26.11.'!H81,IF('26.11.'!F82=6,'26.11.'!H82,IF('26.11.'!F83=6,'26.11.'!H83,IF('26.11.'!F84=6,'26.11.'!H84,\"---\"))))))))","v":"---"},null,null,null,null,null,null,null,null,null,{"$f":"IF(OR(ISBLANK('26.11.'!F78),ISBLANK('26.11.'!F79),ISBLANK('26.11.'!F80),ISBLANK('26.11.'!F81),ISBLANK('26.11.'!F82),ISBLANK('26.11.'!F83),ISBLANK('26.11.'!F84)),\"Ergebnis offen\",IF('26.11.'!F78=7,'26.11.'!H78,IF('26.11.'!F79=7,'26.11.'!H79,IF('26.11.'!F80=7,'26.11.'!H80,IF('26.11.'!F81=7,'26.11.'!H81,IF('26.11.'!F82=7,'26.11.'!H82,IF('26.11.'!F83=7,'26.11.'!H83,IF('26.11.'!F84=7,'26.11.'!H84,\"---\"))))))))","v":"---"}]
[null,null,"2020-12-09",null,null,null,null,null,null,null,null,null,{"$f":"IF(OR(ISBLANK('9.12.'!F78),ISBLANK('9.12.'!F79),ISBLANK('9.12.'!F80),ISBLANK('9.12.'!F81),ISBLANK('9.12.'!F82),ISBLANK('9.12.'!F83),ISBLANK('9.12.'!F84)),\"Ergebnis offen\",IF('9.12.'!F78=1,'9.12.'!H78,IF('9.12.'!F79=1,'9.12.'!H79,IF('9.12.'!F80=1,'9.12.'!H80,IF('9.12.'!F81=1,'9.12.'!H81,IF('9.12.'!F82=1,'9.12.'!H82,IF('9.12.'!F83=1,'9.12.'!H83,IF('9.12.'!F84=1,'9.12.'!H84,\"---\"))))))))","v":"Christoph"},null,null,null,null,null,null,null,null,null,{"$f":"IF(OR(ISBLANK('9.12.'!F78),ISBLANK('9.12.'!F79),ISBLANK('9.12.'!F80),ISBLANK('9.12.'!F81),ISBLANK('9.12.'!F82),ISBLANK('9.12.'!F83),ISBLANK('9.12.'!F84)),\"Ergebnis offen\",IF('9.12.'!F78=2,'9.12.'!H78,IF('9.12.'!F79=2,'9.12.'!H79,IF('9.12.'!F80=2,'9.12.'!H80,IF('9.12.'!F81=2,'9.12.'!H81,IF('9.12.'!F82=2,'9.12.'!H82,IF('9.12.'!F83=2,'9.12.'!H83,IF('9.12.'!F84=2,'9.12.'!H84,\"---\"))))))))","v":"Schmiddi"},null,null,null,null,null,null,null,null,null,{"$f":"IF(OR(ISBLANK('9.12.'!F78),ISBLANK('9.12.'!F79),ISBLANK('9.12.'!F80),ISBLANK('9.12.'!F81),ISBLANK('9.12.'!F82),ISBLANK('9.12.'!F83),ISBLANK('9.12.'!F84)),\"Ergebnis offen\",IF('9.12.'!F78=3,'9.12.'!H78,IF('9.12.'!F79=3,'9.12.'!H79,IF('9.12.'!F80=3,'9.12.'!H80,IF('9.12.'!F81=3,'9.12.'!H81,IF('9.12.'!F82=3,'9.12.'!H82,IF('9.12.'!F83=3,'9.12.'!H83,IF('9.12.'!F84=3,'9.12.'!H84,\"---\"))))))))","v":"Patrick"},null,null,null,null,null,null,null,null,null,{"$f":"IF(OR(ISBLANK('9.12.'!F78),ISBLANK('9.12.'!F79),ISBLANK('9.12.'!F80),ISBLANK('9.12.'!F81),ISBLANK('9.12.'!F82),ISBLANK('9.12.'!F83),ISBLANK('9.12.'!F84)),\"Ergebnis offen\",IF('9.12.'!F78=4,'9.12.'!H78,IF('9.12.'!F79=4,'9.12.'!H79,IF('9.12.'!F80=4,'9.12.'!H80,IF('9.12.'!F81=4,'9.12.'!H81,IF('9.12.'!F82=4,'9.12.'!H82,IF('9.12.'!F83=4,'9.12.'!H83,IF('9.12.'!F84=4,'9.12.'!H84,\"---\"))))))))","v":"Jule"},null,null,null,null,null,null,null,null,null,{"$f":"IF(OR(ISBLANK('9.12.'!F78),ISBLANK('9.12.'!F79),ISBLANK('9.12.'!F80),ISBLANK('9.12.'!F81),ISBLANK('9.12.'!F82),ISBLANK('9.12.'!F83),ISBLANK('9.12.'!F84)),\"Ergebnis offen\",IF('9.12.'!F78=5,'9.12.'!H78,IF('9.12.'!F79=5,'9.12.'!H79,IF('9.12.'!F80=5,'9.12.'!H80,IF('9.12.'!F81=5,'9.12.'!H81,IF('9.12.'!F82=5,'9.12.'!H82,IF('9.12.'!F83=5,'9.12.'!H83,IF('9.12.'!F84=5,'9.12.'!H84,\"---\"))))))))","v":"Ratze"},null,null,null,null,null,null,null,null,null,{"$f":"IF(OR(ISBLANK('9.12.'!F78),ISBLANK('9.12.'!F79),ISBLANK('9.12.'!F80),ISBLANK('9.12.'!F81),ISBLANK('9.12.'!F82),ISBLANK('9.12.'!F83),ISBLANK('9.12.'!F84)),\"Ergebnis offen\",IF('9.12.'!F78=6,'9.12.'!H78,IF('9.12.'!F79=6,'9.12.'!H79,IF('9.12.'!F80=6,'9.12.'!H80,IF('9.12.'!F81=6,'9.12.'!H81,IF('9.12.'!F82=6,'9.12.'!H82,IF('9.12.'!F83=6,'9.12.'!H83,IF('9.12.'!F84=6,'9.12.'!H84,\"---\"))))))))","v":"---"},null,null,null,null,null,null,null,null,null,{"$f":"IF(OR(ISBLANK('9.12.'!F78),ISBLANK('9.12.'!F79),ISBLANK('9.12.'!F80),ISBLANK('9.12.'!F81),ISBLANK('9.12.'!F82),ISBLANK('9.12.'!F83),ISBLANK('9.12.'!F84)),\"Ergebnis offen\",IF('9.12.'!F78=7,'9.12.'!H78,IF('9.12.'!F79=7,'9.12.'!H79,IF('9.12.'!F80=7,'9.12.'!H80,IF('9.12.'!F81=7,'9.12.'!H81,IF('9.12.'!F82=7,'9.12.'!H82,IF('9.12.'!F83=7,'9.12.'!H83,IF('9.12.'!F84=7,'9.12.'!H84,\"---\"))))))))","v":"---"}]
[null,null,"2020-12-16",null,null,null,null,null,null,null,null,null,{"$f":"IF(OR(ISBLANK('16.12.'!F78),ISBLANK('16.12.'!F79),ISBLANK('16.12.'!F80),ISBLANK('16.12.'!F81),ISBLANK('16.12.'!F82),ISBLANK('16.12.'!F83),ISBLANK('16.12.'!F84)),\"Ergebnis offen\",IF('16.12.'!F78=1,'16.12.'!H78,IF('16.12.'!F79=1,'16.12.'!H79,IF('16.12.'!F80=1,'16.12.'!H80,IF('16.12.'!F81=1,'16.12.'!H81,IF('16.12.'!F82=1,'16.12.'!H82,IF('16.12.'!F83=1,'16.12.'!H83,IF('16.12.'!F84=1,'16.12.'!H84,\"---\"))))))))","v":"Markus"},null,null,null,null,null,null,null,null,null,{"$f":"IF(OR(ISBLANK('16.12.'!F78),ISBLANK('16.12.'!F79),ISBLANK('16.12.'!F80),ISBLANK('16.12.'!F81),ISBLANK('16.12.'!F82),ISBLANK('16.12.'!F83),ISBLANK('16.12.'!F84)),\"Ergebnis offen\",IF('16.12.'!F78=2,'16.12.'!H78,IF('16.12.'!F79=2,'16.12.'!H79,IF('16.12.'!F80=2,'16.12.'!H80,IF('16.12.'!F81=2,'16.12.'!H81,IF('16.12.'!F82=2,'16.12.'!H82,IF('16.12.'!F83=2,'16.12.'!H83,IF('16.12.'!F84=2,'16.12.'!H84,\"---\"))))))))","v":"Patrick"},null,null,null,null,null,null,null,null,null,{"$f":"IF(OR(ISBLANK('16.12.'!F78),ISBLANK('16.12.'!F79),ISBLANK('16.12.'!F80),ISBLANK('16.12.'!F81),ISBLANK('16.12.'!F82),ISBLANK('16.12.'!F83),ISBLANK('16.12.'!F84)),\"Ergebnis offen\",IF('16.12.'!F78=3,'16.12.'!H78,IF('16.12.'!F79=3,'16.12.'!H79,IF('16.12.'!F80=3,'16.12.'!H80,IF('16.12.'!F81=3,'16.12.'!H81,IF('16.12.'!F82=3,'16.12.'!H82,IF('16.12.'!F83=3,'16.12.'!H83,IF('16.12.'!F84=3,'16.12.'!H84,\"---\"))))))))","v":"Christoph"},null,null,null,null,null,null,null,null,null,{"$f":"IF(OR(ISBLANK('16.12.'!F78),ISBLANK('16.12.'!F79),ISBLANK('16.12.'!F80),ISBLANK('16.12.'!F81),ISBLANK('16.12.'!F82),ISBLANK('16.12.'!F83),ISBLANK('16.12.'!F84)),\"Ergebnis offen\",IF('16.12.'!F78=4,'16.12.'!H78,IF('16.12.'!F79=4,'16.12.'!H79,IF('16.12.'!F80=4,'16.12.'!H80,IF('16.12.'!F81=4,'16.12.'!H81,IF('16.12.'!F82=4,'16.12.'!H82,IF('16.12.'!F83=4,'16.12.'!H83,IF('16.12.'!F84=4,'16.12.'!H84,\"---\"))))))))","v":"Ratze"},null,null,null,null,null,null,null,null,null,{"$f":"IF(OR(ISBLANK('16.12.'!F78),ISBLANK('16.12.'!F79),ISBLANK('16.12.'!F80),ISBLANK('16.12.'!F81),ISBLANK('16.12.'!F82),ISBLANK('16.12.'!F83),ISBLANK('16.12.'!F84)),\"Ergebnis offen\",IF('16.12.'!F78=5,'16.12.'!H78,IF('16.12.'!F79=5,'16.12.'!H79,IF('16.12.'!F80=5,'16.12.'!H80,IF('16.12.'!F81=5,'16.12.'!H81,IF('16.12.'!F82=5,'16.12.'!H82,IF('16.12.'!F83=5,'16.12.'!H83,IF('16.12.'!F84=5,'16.12.'!H84,\"---\"))))))))","v":"Schmiddi"},null,null,null,null,null,null,null,null,null,{"$f":"IF(OR(ISBLANK('16.12.'!F78),ISBLANK('16.12.'!F79),ISBLANK('16.12.'!F80),ISBLANK('16.12.'!F81),ISBLANK('16.12.'!F82),ISBLANK('16.12.'!F83),ISBLANK('16.12.'!F84)),\"Ergebnis offen\",IF('16.12.'!F78=6,'16.12.'!H78,IF('16.12.'!F79=6,'16.12.'!H79,IF('16.12.'!F80=6,'16.12.'!H80,IF('16.12.'!F81=6,'16.12.'!H81,IF('16.12.'!F82=6,'16.12.'!H82,IF('16.12.'!F83=6,'16.12.'!H83,IF('16.12.'!F84=6,'16.12.'!H84,\"---\"))))))))","v":"---"},null,null,null,null,null,null,null,null,null,{"$f":"IF(OR(ISBLANK('16.12.'!F78),ISBLANK('16.12.'!F79),ISBLANK('16.12.'!F80),ISBLANK('16.12.'!F81),ISBLANK('16.12.'!F82),ISBLANK('16.12.'!F83),ISBLANK('16.12.'!F84)),\"Ergebnis offen\",IF('16.12.'!F78=7,'16.12.'!H78,IF('16.12.'!F79=7,'16.12.'!H79,IF('16.12.'!F80=7,'16.12.'!H80,IF('16.12.'!F81=7,'16.12.'!H81,IF('16.12.'!F82=7,'16.12.'!H82,IF('16.12.'!F83=7,'16.12.'!H83,IF('16.12.'!F84=7,'16.12.'!H84,\"---\"))))))))","v":"---"}]
[null,null,"2020-12-23",null,null,null,null,null,null,null,null,null,{"$f":"IF(OR(ISBLANK('23.12.'!F78),ISBLANK('23.12.'!F79),ISBLANK('23.12.'!F80),ISBLANK('23.12.'!F81),ISBLANK('23.12.'!F82),ISBLANK('23.12.'!F83),ISBLANK('23.12.'!F84)),\"Ergebnis offen\",IF('23.12.'!F78=1,'23.12.'!H78,IF('23.12.'!F79=1,'23.12.'!H79,IF('23.12.'!F80=1,'23.12.'!H80,IF('23.12.'!F81=1,'23.12.'!H81,IF('23.12.'!F82=1,'23.12.'!H82,IF('23.12.'!F83=1,'23.12.'!H83,IF('23.12.'!F84=1,'23.12.'!H84,\"---\"))))))))","v":"Ratze"},null,null,null,null,null,null,null,null,null,{"$f":"IF(OR(ISBLANK('23.12.'!F78),ISBLANK('23.12.'!F79),ISBLANK('23.12.'!F80),ISBLANK('23.12.'!F81),ISBLANK('23.12.'!F82),ISBLANK('23.12.'!F83),ISBLANK('23.12.'!F84)),\"Ergebnis offen\",IF('23.12.'!F78=2,'23.12.'!H78,IF('23.12.'!F79=2,'23.12.'!H79,IF('23.12.'!F80=2,'23.12.'!H80,IF('23.12.'!F81=2,'23.12.'!H81,IF('23.12.'!F82=2,'23.12.'!H82,IF('23.12.'!F83=2,'23.12.'!H83,IF('23.12.'!F84=2,'23.12.'!H84,\"---\"))))))))","v":"Christoph"},null,null,null,null,null,null,null,null,null,{"$f":"IF(OR(ISBLANK('23.12.'!F78),ISBLANK('23.12.'!F79),ISBLANK('23.12.'!F80),ISBLANK('23.12.'!F81),ISBLANK('23.12.'!F82),ISBLANK('23.12.'!F83),ISBLANK('23.12.'!F84)),\"Ergebnis offen\",IF('23.12.'!F78=3,'23.12.'!H78,IF('23.12.'!F79=3,'23.12.'!H79,IF('23.12.'!F80=3,'23.12.'!H80,IF('23.12.'!F81=3,'23.12.'!H81,IF('23.12.'!F82=3,'23.12.'!H82,IF('23.12.'!F83=3,'23.12.'!H83,IF('23.12.'!F84=3,'23.12.'!H84,\"---\"))))))))","v":"Jule"},null,null,null,null,null,null,null,null,null,{"$f":"IF(OR(ISBLANK('23.12.'!F78),ISBLANK('23.12.'!F79),ISBLANK('23.12.'!F80),ISBLANK('23.12.'!F81),ISBLANK('23.12.'!F82),ISBLANK('23.12.'!F83),ISBLANK('23.12.'!F84)),\"Ergebnis offen\",IF('23.12.'!F78=4,'23.12.'!H78,IF('23.12.'!F79=4,'23.12.'!H79,IF('23.12.'!F80=4,'23.12.'!H80,IF('23.12.'!F81=4,'23.12.'!H81,IF('23.12.'!F82=4,'23.12.'!H82,IF('23.12.'!F83=4,'23.12.'!H83,IF('23.12.'!F84=4,'23.12.'!H84,\"---\"))))))))","v":"Patrick"},null,null,null,null,null,null,null,null,null,{"$f":"IF(OR(ISBLANK('23.12.'!F78),ISBLANK('23.12.'!F79),ISBLANK('23.12.'!F80),ISBLANK('23.12.'!F81),ISBLANK('23.12.'!F82),ISBLANK('23.12.'!F83),ISBLANK('23.12.'!F84)),\"Ergebnis offen\",IF('23.12.'!F78=5,'23.12.'!H78,IF('23.12.'!F79=5,'23.12.'!H79,IF('23.12.'!F80=5,'23.12.'!H80,IF('23.12.'!F81=5,'23.12.'!H81,IF('23.12.'!F82=5,'23.12.'!H82,IF('23.12.'!F83=5,'23.12.'!H83,IF('23.12.'!F84=5,'23.12.'!H84,\"---\"))))))))","v":"Schmiddi"},null,null,null,null,null,null,null,null,null,{"$f":"IF(OR(ISBLANK('23.12.'!F78),ISBLANK('23.12.'!F79),ISBLANK('23.12.'!F80),ISBLANK('23.12.'!F81),ISBLANK('23.12.'!F82),ISBLANK('23.12.'!F83),ISBLANK('23.12.'!F84)),\"Ergebnis offen\",IF('23.12.'!F78=6,'23.12.'!H78,IF('23.12.'!F79=6,'23.12.'!H79,IF('23.12.'!F80=6,'23.12.'!H80,IF('23.12.'!F81=6,'23.12.'!H81,IF('23.12.'!F82=6,'23.12.'!H82,IF('23.12.'!F83=6,'23.12.'!H83,IF('23.12.'!F84=6,'23.12.'!H84,\"---\"))))))))","v":"Markus"},null,null,null,null,null,null,null,null,null,{"$f":"IF(OR(ISBLANK('23.12.'!F78),ISBLANK('23.12.'!F79),ISBLANK('23.12.'!F80),ISBLANK('23.12.'!F81),ISBLANK('23.12.'!F82),ISBLANK('23.12.'!F83),ISBLANK('23.12.'!F84)),\"Ergebnis offen\",IF('23.12.'!F78=7,'23.12.'!H78,IF('23.12.'!F79=7,'23.12.'!H79,IF('23.12.'!F80=7,'23.12.'!H80,IF('23.12.'!F81=7,'23.12.'!H81,IF('23.12.'!F82=7,'23.12.'!H82,IF('23.12.'!F83=7,'23.12.'!H83,IF('23.12.'!F84=7,'23.12.'!H84,\"---\"))))))))","v":"Basti"}]
[null,null,"2021-01-06",null,null,null,null,null,null,null,null,null,{"$f":"IF(OR(ISBLANK('6.1.'!F78),ISBLANK('6.1.'!F79),ISBLANK('6.1.'!F80),ISBLANK('6.1.'!F81),ISBLANK('6.1.'!F82),ISBLANK('6.1.'!F83),ISBLANK('6.1.'!F84)),\"Ergebnis offen\",IF('6.1.'!F78=1,'6.1.'!H78,IF('6.1.'!F79=1,'6.1.'!H79,IF('6.1.'!F80=1,'6.1.'!H80,IF('6.1.'!F81=1,'6.1.'!H81,IF('6.1.'!F82=1,'6.1.'!H82,IF('6.1.'!F83=1,'6.1.'!H83,IF('6.1.'!F84=1,'6.1.'!H84,\"---\"))))))))","v":"Ratze"},null,null,null,null,null,null,null,null,null,{"$f":"IF(OR(ISBLANK('6.1.'!F78),ISBLANK('6.1.'!F79),ISBLANK('6.1.'!F80),ISBLANK('6.1.'!F81),ISBLANK('6.1.'!F82),ISBLANK('6.1.'!F83),ISBLANK('6.1.'!F84)),\"Ergebnis offen\",IF('6.1.'!F78=2,'6.1.'!H78,IF('6.1.'!F79=2,'6.1.'!H79,IF('6.1.'!F80=2,'6.1.'!H80,IF('6.1.'!F81=2,'6.1.'!H81,IF('6.1.'!F82=2,'6.1.'!H82,IF('6.1.'!F83=2,'6.1.'!H83,IF('6.1.'!F84=2,'6.1.'!H84,\"---\"))))))))","v":"Christoph"},null,null,null,null,null,null,null,null,null,{"$f":"IF(OR(ISBLANK('6.1.'!F78),ISBLANK('6.1.'!F79),ISBLANK('6.1.'!F80),ISBLANK('6.1.'!F81),ISBLANK('6.1.'!F82),ISBLANK('6.1.'!F83),ISBLANK('6.1.'!F84)),\"Ergebnis offen\",IF('6.1.'!F78=3,'6.1.'!H78,IF('6.1.'!F79=3,'6.1.'!H79,IF('6.1.'!F80=3,'6.1.'!H80,IF('6.1.'!F81=3,'6.1.'!H81,IF('6.1.'!F82=3,'6.1.'!H82,IF('6.1.'!F83=3,'6.1.'!H83,IF('6.1.'!F84=3,'6.1.'!H84,\"---\"))))))))","v":"Patrick"},null,null,null,null,null,null,null,null,null,{"$f":"IF(OR(ISBLANK('6.1.'!F78),ISBLANK('6.1.'!F79),ISBLANK('6.1.'!F80),ISBLANK('6.1.'!F81),ISBLANK('6.1.'!F82),ISBLANK('6.1.'!F83),ISBLANK('6.1.'!F84)),\"Ergebnis offen\",IF('6.1.'!F78=4,'6.1.'!H78,IF('6.1.'!F79=4,'6.1.'!H79,IF('6.1.'!F80=4,'6.1.'!H80,IF('6.1.'!F81=4,'6.1.'!H81,IF('6.1.'!F82=4,'6.1.'!H82,IF('6.1.'!F83=4,'6.1.'!H83,IF('6.1.'!F84=4,'6.1.'!H84,\"---\"))))))))","v":"Schmiddi"},null,null,null,null,null,null,null,null,null,{"$f":"IF(OR(ISBLANK('6.1.'!F78),ISBLANK('6.1.'!F79),ISBLANK('6.1.'!F80),ISBLANK('6.1.'!F81),ISBLANK('6.1.'!F82),ISBLANK('6.1.'!F83),ISBLANK('6.1.'!F84)),\"Ergebnis offen\",IF('6.1.'!F78=5,'6.1.'!H78,IF('6.1.'!F79=5,'6.1.'!H79,IF('6.1.'!F80=5,'6.1.'!H80,IF('6.1.'!F81=5,'6.1.'!H81,IF('6.1.'!F82=5,'6.1.'!H82,IF('6.1.'!F83=5,'6.1.'!H83,IF('6.1.'!F84=5,'6.1.'!H84,\"---\"))))))))","v":"Markus"},null,null,null,null,null,null,null,null,null,{"$f":"IF(OR(ISBLANK('6.1.'!F78),ISBLANK('6.1.'!F79),ISBLANK('6.1.'!F80),ISBLANK('6.1.'!F81),ISBLANK('6.1.'!F82),ISBLANK('6.1.'!F83),ISBLANK('6.1.'!F84)),\"Ergebnis offen\",IF('6.1.'!F78=6,'6.1.'!H78,IF('6.1.'!F79=6,'6.1.'!H79,IF('6.1.'!F80=6,'6.1.'!H80,IF('6.1.'!F81=6,'6.1.'!H81,IF('6.1.'!F82=6,'6.1.'!H82,IF('6.1.'!F83=6,'6.1.'!H83,IF('6.1.'!F84=6,'6.1.'!H84,\"---\"))))))))","v":"---"},null,null,null,null,null,null,null,null,null,{"$f":"IF(OR(ISBLANK('6.1.'!F78),ISBLANK('6.1.'!F79),ISBLANK('6.1.'!F80),ISBLANK('6.1.'!F81),ISBLANK('6.1.'!F82),ISBLANK('6.1.'!F83),ISBLANK('6.1.'!F84)),\"Ergebnis offen\",IF('6.1.'!F78=7,'6.1.'!H78,IF('6.1.'!F79=7,'6.1.'!H79,IF('6.1.'!F80=7,'6.1.'!H80,IF('6.1.'!F81=7,'6.1.'!H81,IF('6.1.'!F82=7,'6.1.'!H82,IF('6.1.'!F83=7,'6.1.'!H83,IF('6.1.'!F84=7,'6.1.'!H84,\"---\"))))))))","v":"---"}]
[null,null,"2021-01-13",null,null,null,null,null,null,null,null,null,{"$f":"IF(OR(ISBLANK('13.1'!F78),ISBLANK('13.1'!F79),ISBLANK('13.1'!F80),ISBLANK('13.1'!F81),ISBLANK('13.1'!F82),ISBLANK('13.1'!F83),ISBLANK('13.1'!F84)),\"Ergebnis offen\",IF('13.1'!F78=1,'13.1'!H78,IF('13.1'!F79=1,'13.1'!H79,IF('13.1'!F80=1,'13.1'!H80,IF('13.1'!F81=1,'13.1'!H81,IF('13.1'!F82=1,'13.1'!H82,IF('13.1'!F83=1,'13.1'!H83,IF('13.1'!F84=1,'13.1'!H84,\"---\"))))))))","v":"Markus"},null,null,null,null,null,null,null,null,null,{"$f":"IF(OR(ISBLANK('13.1'!F78),ISBLANK('13.1'!F79),ISBLANK('13.1'!F80),ISBLANK('13.1'!F81),ISBLANK('13.1'!F82),ISBLANK('13.1'!F83),ISBLANK('13.1'!F84)),\"Ergebnis offen\",IF('13.1'!F78=2,'13.1'!H78,IF('13.1'!F79=2,'13.1'!H79,IF('13.1'!F80=2,'13.1'!H80,IF('13.1'!F81=2,'13.1'!H81,IF('13.1'!F82=2,'13.1'!H82,IF('13.1'!F83=2,'13.1'!H83,IF('13.1'!F84=2,'13.1'!H84,\"---\"))))))))","v":"Christoph"},null,null,null,null,null,null,null,null,null,{"$f":"IF(OR(ISBLANK('13.1'!F78),ISBLANK('13.1'!F79),ISBLANK('13.1'!F80),ISBLANK('13.1'!F81),ISBLANK('13.1'!F82),ISBLANK('13.1'!F83),ISBLANK('13.1'!F84)),\"Ergebnis offen\",IF('13.1'!F78=3,'13.1'!H78,IF('13.1'!F79=3,'13.1'!H79,IF('13.1'!F80=3,'13.1'!H80,IF('13.1'!F81=3,'13.1'!H81,IF('13.1'!F82=3,'13.1'!H82,IF('13.1'!F83=3,'13.1'!H83,IF('13.1'!F84=3,'13.1'!H84,\"---\"))))))))","v":"Jule"},null,null,null,null,null,null,null,null,null,{"$f":"IF(OR(ISBLANK('13.1'!F78),ISBLANK('13.1'!F79),ISBLANK('13.1'!F80),ISBLANK('13.1'!F81),ISBLANK('13.1'!F82),ISBLANK('13.1'!F83),ISBLANK('13.1'!F84)),\"Ergebnis offen\",IF('13.1'!F78=4,'13.1'!H78,IF('13.1'!F79=4,'13.1'!H79,IF('13.1'!F80=4,'13.1'!H80,IF('13.1'!F81=4,'13.1'!H81,IF('13.1'!F82=4,'13.1'!H82,IF('13.1'!F83=4,'13.1'!H83,IF('13.1'!F84=4,'13.1'!H84,\"---\"))))))))","v":"Ratze"},null,null,null,null,null,null,null,null,null,{"$f":"IF(OR(ISBLANK('13.1'!F78),ISBLANK('13.1'!F79),ISBLANK('13.1'!F80),ISBLANK('13.1'!F81),ISBLANK('13.1'!F82),ISBLANK('13.1'!F83),ISBLANK('13.1'!F84)),\"Ergebnis offen\",IF('13.1'!F78=5,'13.1'!H78,IF('13.1'!F79=5,'13.1'!H79,IF('13.1'!F80=5,'13.1'!H80,IF('13.1'!F81=5,'13.1'!H81,IF('13.1'!F82=5,'13.1'!H82,IF('13.1'!F83=5,'13.1'!H83,IF('13.1'!F84=5,'13.1'!H84,\"---\"))))))))","v":"Patrick"},null,null,null,null,null,null,null,null,null,{"$f":"IF(OR(ISBLANK('13.1'!F78),ISBLANK('13.1'!F79),ISBLANK('13.1'!F80),ISBLANK('13.1'!F81),ISBLANK('13.1'!F82),ISBLANK('13.1'!F83),ISBLANK('13.1'!F84)),\"Ergebnis offen\",IF('13.1'!F78=6,'13.1'!H78,IF('13.1'!F79=6,'13.1'!H79,IF('13.1'!F80=6,'13.1'!H80,IF('13.1'!F81=6,'13.1'!H81,IF('13.1'!F82=6,'13.1'!H82,IF('13.1'!F83=6,'13.1'!H83,IF('13.1'!F84=6,'13.1'!H84,\"---\"))))))))","v":"---"},null,null,null,null,null,null,null,null,null,{"$f":"IF(OR(ISBLANK('13.1'!F78),ISBLANK('13.1'!F79),ISBLANK('13.1'!F80),ISBLANK('13.1'!F81),ISBLANK('13.1'!F82),ISBLANK('13.1'!F83),ISBLANK('13.1'!F84)),\"Ergebnis offen\",IF('13.1'!F78=7,'13.1'!H78,IF('13.1'!F79=7,'13.1'!H79,IF('13.1'!F80=7,'13.1'!H80,IF('13.1'!F81=7,'13.1'!H81,IF('13.1'!F82=7,'13.1'!H82,IF('13.1'!F83=7,'13.1'!H83,IF('13.1'!F84=7,'13.1'!H84,\"---\"))))))))","v":"---"}]
[null,null,"2021-01-20",null,null,null,null,null,null,null,null,null,{"$f":"IF(OR(ISBLANK('20.1.'!F78),ISBLANK('20.1.'!F79),ISBLANK('20.1.'!F80),ISBLANK('20.1.'!F81),ISBLANK('20.1.'!F82),ISBLANK('20.1.'!F83),ISBLANK('20.1.'!F84)),\"Ergebnis offen\",IF('20.1.'!F78=1,'20.1.'!H78,IF('20.1.'!F79=1,'20.1.'!H79,IF('20.1.'!F80=1,'20.1.'!H80,IF('20.1.'!F81=1,'20.1.'!H81,IF('20.1.'!F82=1,'20.1.'!H82,IF('20.1.'!F83=1,'20.1.'!H83,IF('20.1.'!F84=1,'20.1.'!H84,\"---\"))))))))","v":"Markus"},null,null,null,null,null,null,null,null,null,{"$f":"IF(OR(ISBLANK('20.1.'!F78),ISBLANK('20.1.'!F79),ISBLANK('20.1.'!F80),ISBLANK('20.1.'!F81),ISBLANK('20.1.'!F82),ISBLANK('20.1.'!F83),ISBLANK('20.1.'!F84)),\"Ergebnis offen\",IF('20.1.'!F78=2,'20.1.'!H78,IF('20.1.'!F79=2,'20.1.'!H79,IF('20.1.'!F80=2,'20.1.'!H80,IF('20.1.'!F81=2,'20.1.'!H81,IF('20.1.'!F82=2,'20.1.'!H82,IF('20.1.'!F83=2,'20.1.'!H83,IF('20.1.'!F84=2,'20.1.'!H84,\"---\"))))))))","v":"Patrick"},null,null,null,null,null,null,null,null,null,{"$f":"IF(OR(ISBLANK('20.1.'!F78),ISBLANK('20.1.'!F79),ISBLANK('20.1.'!F80),ISBLANK('20.1.'!F81),ISBLANK('20.1.'!F82),ISBLANK('20.1.'!F83),ISBLANK('20.1.'!F84)),\"Ergebnis offen\",IF('20.1.'!F78=3,'20.1.'!H78,IF('20.1.'!F79=3,'20.1.'!H79,IF('20.1.'!F80=3,'20.1.'!H80,IF('20.1.'!F81=3,'20.1.'!H81,IF('20.1.'!F82=3,'20.1.'!H82,IF('20.1.'!F83=3,'20.1.'!H83,IF('20.1.'!F84=3,'20.1.'!H84,\"---\"))))))))","v":"Ratze"},null,null,null,null,null,null,null,null,null,{"$f":"IF(OR(ISBLANK('20.1.'!F78),ISBLANK('20.1.'!F79),ISBLANK('20.1.'!F80),ISBLANK('20.1.'!F81),ISBLANK('20.1.'!F82),ISBLANK('20.1.'!F83),ISBLANK('20.1.'!F84)),\"Ergebnis offen\",IF('20.1.'!F78=4,'20.1.'!H78,IF('20.1.'!F79=4,'20.1.'!H79,IF('20.1.'!F80=4,'20.1.'!H80,IF('20.1.'!F81=4,'20.1.'!H81,IF('20.1.'!F82=4,'20.1.'!H82,IF('20.1.'!F83=4,'20.1.'!H83,IF('20.1.'!F84=4,'20.1.'!H84,\"---\"))))))))","v":"Jule"},null,null,null,null,null,null,null,null,null,{"$f":"IF(OR(ISBLANK('20.1.'!F78),ISBLANK('20.1.'!F79),ISBLANK('20.1.'!F80),ISBLANK('20.1.'!F81),ISBLANK('20.1.'!F82),ISBLANK('20.1.'!F83),ISBLANK('20.1.'!F84)),\"Ergebnis offen\",IF('20.1.'!F78=5,'20.1.'!H78,IF('20.1.'!F79=5,'20.1.'!H79,IF('20.1.'!F80=5,'20.1.'!H80,IF('20.1.'!F81=5,'20.1.'!H81,IF('20.1.'!F82=5,'20.1.'!H82,IF('20.1.'!F83=5,'20.1.'!H83,IF('20.1.'!F84=5,'20.1.'!H84,\"---\"))))))))","v":"Christoph"},null,null,null,null,null,null,null,null,null,{"$f":"IF(OR(ISBLANK('20.1.'!F78),ISBLANK('20.1.'!F79),ISBLANK('20.1.'!F80),ISBLANK('20.1.'!F81),ISBLANK('20.1.'!F82),ISBLANK('20.1.'!F83),ISBLANK('20.1.'!F84)),\"Ergebnis offen\",IF('20.1.'!F78=6,'20.1.'!H78,IF('20.1.'!F79=6,'20.1.'!H79,IF('20.1.'!F80=6,'20.1.'!H80,IF('20.1.'!F81=6,'20.1.'!H81,IF('20.1.'!F82=6,'20.1.'!H82,IF('20.1.'!F83=6,'20.1.'!H83,IF('20.1.'!F84=6,'20.1.'!H84,\"---\"))))))))","v":"Schmiddi"},null,null,null,null,null,null,null,null,null,{"$f":"IF(OR(ISBLANK('20.1.'!F78),ISBLANK('20.1.'!F79),ISBLANK('20.1.'!F80),ISBLANK('20.1.'!F81),ISBLANK('20.1.'!F82),ISBLANK('20.1.'!F83),ISBLANK('20.1.'!F84)),\"Ergebnis offen\",IF('20.1.'!F78=7,'20.1.'!H78,IF('20.1.'!F79=7,'20.1.'!H79,IF('20.1.'!F80=7,'20.1.'!H80,IF('20.1.'!F81=7,'20.1.'!H81,IF('20.1.'!F82=7,'20.1.'!H82,IF('20.1.'!F83=7,'20.1.'!H83,IF('20.1.'!F84=7,'20.1.'!H84,\"---\"))))))))","v":"---"}]
[null,null,"2021-01-27",null,null,null,null,null,null,null,null,null,{"$f":"IF(OR(ISBLANK('27.1.'!F78),ISBLANK('27.1.'!F79),ISBLANK('27.1.'!F80),ISBLANK('27.1.'!F81),ISBLANK('27.1.'!F82),ISBLANK('27.1.'!F83),ISBLANK('27.1.'!F84)),\"Ergebnis offen\",IF('27.1.'!F78=1,'27.1.'!H78,IF('27.1.'!F79=1,'27.1.'!H79,IF('27.1.'!F80=1,'27.1.'!H80,IF('27.1.'!F81=1,'27.1.'!H81,IF('27.1.'!F82=1,'27.1.'!H82,IF('27.1.'!F83=1,'27.1.'!H83,IF('27.1.'!F84=1,'27.1.'!H84,\"---\"))))))))","v":"Ratze"},null,null,null,null,null,null,null,null,null,{"$f":"IF(OR(ISBLANK('27.1.'!F78),ISBLANK('27.1.'!F79),ISBLANK('27.1.'!F80),ISBLANK('27.1.'!F81),ISBLANK('27.1.'!F82),ISBLANK('27.1.'!F83),ISBLANK('27.1.'!F84)),\"Ergebnis offen\",IF('27.1.'!F78=2,'27.1.'!H78,IF('27.1.'!F79=2,'27.1.'!H79,IF('27.1.'!F80=2,'27.1.'!H80,IF('27.1.'!F81=2,'27.1.'!H81,IF('27.1.'!F82=2,'27.1.'!H82,IF('27.1.'!F83=2,'27.1.'!H83,IF('27.1.'!F84=2,'27.1.'!H84,\"---\"))))))))","v":"Markus"},null,null,null,null,null,null,null,null,null,{"$f":"IF(OR(ISBLANK('27.1.'!F78),ISBLANK('27.1.'!F79),ISBLANK('27.1.'!F80),ISBLANK('27.1.'!F81),ISBLANK('27.1.'!F82),ISBLANK('27.1.'!F83),ISBLANK('27.1.'!F84)),\"Ergebnis offen\",IF('27.1.'!F78=3,'27.1.'!H78,IF('27.1.'!F79=3,'27.1.'!H79,IF('27.1.'!F80=3,'27.1.'!H80,IF('27.1.'!F81=3,'27.1.'!H81,IF('27.1.'!F82=3,'27.1.'!H82,IF('27.1.'!F83=3,'27.1.'!H83,IF('27.1.'!F84=3,'27.1.'!H84,\"---\"))))))))","v":"Patrick"},null,null,null,null,null,null,null,null,null,{"$f":"IF(OR(ISBLANK('27.1.'!F78),ISBLANK('27.1.'!F79),ISBLANK('27.1.'!F80),ISBLANK('27.1.'!F81),ISBLANK('27.1.'!F82),ISBLANK('27.1.'!F83),ISBLANK('27.1.'!F84)),\"Ergebnis offen\",IF('27.1.'!F78=4,'27.1.'!H78,IF('27.1.'!F79=4,'27.1.'!H79,IF('27.1.'!F80=4,'27.1.'!H80,IF('27.1.'!F81=4,'27.1.'!H81,IF('27.1.'!F82=4,'27.1.'!H82,IF('27.1.'!F83=4,'27.1.'!H83,IF('27.1.'!F84=4,'27.1.'!H84,\"---\"))))))))","v":"Christoph"},null,null,null,null,null,null,null,null,null,{"$f":"IF(OR(ISBLANK('27.1.'!F78),ISBLANK('27.1.'!F79),ISBLANK('27.1.'!F80),ISBLANK('27.1.'!F81),ISBLANK('27.1.'!F82),ISBLANK('27.1.'!F83),ISBLANK('27.1.'!F84)),\"Ergebnis offen\",IF('27.1.'!F78=5,'27.1.'!H78,IF('27.1.'!F79=5,'27.1.'!H79,IF('27.1.'!F80=5,'27.1.'!H80,IF('27.1.'!F81=5,'27.1.'!H81,IF('27.1.'!F82=5,'27.1.'!H82,IF('27.1.'!F83=5,'27.1.'!H83,IF('27.1.'!F84=5,'27.1.'!H84,\"---\"))))))))","v":"---"},null,null,null,null,null,null,null,null,null,{"$f":"IF(OR(ISBLANK('27.1.'!F78),ISBLANK('27.1.'!F79),ISBLANK('27.1.'!F80),ISBLANK('27.1.'!F81),ISBLANK('27.1.'!F82),ISBLANK('27.1.'!F83),ISBLANK('27.1.'!F84)),\"Ergebnis offen\",IF('27.1.'!F78=6,'27.1.'!H78,IF('27.1.'!F79=6,'27.1.'!H79,IF('27.1.'!F80=6,'27.1.'!H80,IF('27.1.'!F81=6,'27.1.'!H81,IF('27.1.'!F82=6,'27.1.'!H82,IF('27.1.'!F83=6,'27.1.'!H83,IF('27.1.'!F84=6,'27.1.'!H84,\"---\"))))))))","v":"---"},null,null,null,null,null,null,null,null,null,{"$f":"IF(OR(ISBLANK('27.1.'!F78),ISBLANK('27.1.'!F79),ISBLANK('27.1.'!F80),ISBLANK('27.1.'!F81),ISBLANK('27.1.'!F82),ISBLANK('27.1.'!F83),ISBLANK('27.1.'!F84)),\"Ergebnis offen\",IF('27.1.'!F78=7,'27.1.'!H78,IF('27.1.'!F79=7,'27.1.'!H79,IF('27.1.'!F80=7,'27.1.'!H80,IF('27.1.'!F81=7,'27.1.'!H81,IF('27.1.'!F82=7,'27.1.'!H82,IF('27.1.'!F83=7,'27.1.'!H83,IF('27.1.'!F84=7,'27.1.'!H84,\"---\"))))))))","v":"---"}]
[null,null,"2021-02-07",null,null,null,null,null,null,null,null,null,{"$f":"IF(OR(ISBLANK('7.2.'!F78),ISBLANK('7.2.'!F79),ISBLANK('7.2.'!F80),ISBLANK('7.2.'!F81),ISBLANK('7.2.'!F82),ISBLANK('7.2.'!F83),ISBLANK('7.2.'!F84)),\"Ergebnis offen\",IF('7.2.'!F78=1,'7.2.'!H78,IF('7.2.'!F79=1,'7.2.'!H79,IF('7.2.'!F80=1,'7.2.'!H80,IF('7.2.'!F81=1,'7.2.'!H81,IF('7.2.'!F82=1,'7.2.'!H82,IF('7.2.'!F83=1,'7.2.'!H83,IF('7.2.'!F84=1,'7.2.'!H84,\"---\"))))))))","v":"Patrick"},null,null,null,null,null,null,null,null,null,{"$f":"IF(OR(ISBLANK('7.2.'!F78),ISBLANK('7.2.'!F79),ISBLANK('7.2.'!F80),ISBLANK('7.2.'!F81),ISBLANK('7.2.'!F82),ISBLANK('7.2.'!F83),ISBLANK('7.2.'!F84)),\"Ergebnis offen\",IF('7.2.'!F78=2,'7.2.'!H78,IF('7.2.'!F79=2,'7.2.'!H79,IF('7.2.'!F80=2,'7.2.'!H80,IF('7.2.'!F81=2,'7.2.'!H81,IF('7.2.'!F82=2,'7.2.'!H82,IF('7.2.'!F83=2,'7.2.'!H83,IF('7.2.'!F84=2,'7.2.'!H84,\"---\"))))))))","v":"Markus"},null,null,null,null,null,null,null,null,null,{"$f":"IF(OR(ISBLANK('7.2.'!F78),ISBLANK('7.2.'!F79),ISBLANK('7.2.'!F80),ISBLANK('7.2.'!F81),ISBLANK('7.2.'!F82),ISBLANK('7.2.'!F83),ISBLANK('7.2.'!F84)),\"Ergebnis offen\",IF('7.2.'!F78=3,'7.2.'!H78,IF('7.2.'!F79=3,'7.2.'!H79,IF('7.2.'!F80=3,'7.2.'!H80,IF('7.2.'!F81=3,'7.2.'!H81,IF('7.2.'!F82=3,'7.2.'!H82,IF('7.2.'!F83=3,'7.2.'!H83,IF('7.2.'!F84=3,'7.2.'!H84,\"---\"))))))))","v":"Ratze"},null,null,null,null,null,null,null,null,null,{"$f":"IF(OR(ISBLANK('7.2.'!F78),ISBLANK('7.2.'!F79),ISBLANK('7.2.'!F80),ISBLANK('7.2.'!F81),ISBLANK('7.2.'!F82),ISBLANK('7.2.'!F83),ISBLANK('7.2.'!F84)),\"Ergebnis offen\",IF('7.2.'!F78=4,'7.2.'!H78,IF('7.2.'!F79=4,'7.2.'!H79,IF('7.2.'!F80=4,'7.2.'!H80,IF('7.2.'!F81=4,'7.2.'!H81,IF('7.2.'!F82=4,'7.2.'!H82,IF('7.2.'!F83=4,'7.2.'!H83,IF('7.2.'!F84=4,'7.2.'!H84,\"---\"))))))))","v":"Jule"},null,null,null,null,null,null,null,null,null,{"$f":"IF(OR(ISBLANK('7.2.'!F78),ISBLANK('7.2.'!F79),ISBLANK('7.2.'!F80),ISBLANK('7.2.'!F81),ISBLANK('7.2.'!F82),ISBLANK('7.2.'!F83),ISBLANK('7.2.'!F84)),\"Ergebnis offen\",IF('7.2.'!F78=5,'7.2.'!H78,IF('7.2.'!F79=5,'7.2.'!H79,IF('7.2.'!F80=5,'7.2.'!H80,IF('7.2.'!F81=5,'7.2.'!H81,IF('7.2.'!F82=5,'7.2.'!H82,IF('7.2.'!F83=5,'7.2.'!H83,IF('7.2.'!F84=5,'7.2.'!H84,\"---\"))))))))","v":"Christoph"},null,null,null,null,null,null,null,null,null,{"$f":"IF(OR(ISBLANK('7.2.'!F78),ISBLANK('7.2.'!F79),ISBLANK('7.2.'!F80),ISBLANK('7.2.'!F81),ISBLANK('7.2.'!F82),ISBLANK('7.2.'!F83),ISBLANK('7.2.'!F84)),\"Ergebnis offen\",IF('7.2.'!F78=6,'7.2.'!H78,IF('7.2.'!F79=6,'7.2.'!H79,IF('7.2.'!F80=6,'7.2.'!H80,IF('7.2.'!F81=6,'7.2.'!H81,IF('7.2.'!F82=6,'7.2.'!H82,IF('7.2.'!F83=6,'7.2.'!H83,IF('7.2.'!F84=6,'7.2.'!H84,\"---\"))))))))","v":"Schmiddi"},null,null,null,null,null,null,null,null,null,{"$f":"IF(OR(ISBLANK('7.2.'!F78),ISBLANK('7.2.'!F79),ISBLANK('7.2.'!F80),ISBLANK('7.2.'!F81),ISBLANK('7.2.'!F82),ISBLANK('7.2.'!F83),ISBLANK('7.2.'!F84)),\"Ergebnis offen\",IF('7.2.'!F78=7,'7.2.'!H78,IF('7.2.'!F79=7,'7.2.'!H79,IF('7.2.'!F80=7,'7.2.'!H80,IF('7.2.'!F81=7,'7.2.'!H81,IF('7.2.'!F82=7,'7.2.'!H82,IF('7.2.'!F83=7,'7.2.'!H83,IF('7.2.'!F84=7,'7.2.'!H84,\"---\"))))))))","v":"---"}]
[null,null,"2021-03-03",null,null,null,null,null,null,null,null,null,{"$f":"IF(OR(ISBLANK('3.3.'!F78),ISBLANK('3.3.'!F79),ISBLANK('3.3.'!F80),ISBLANK('3.3.'!F81),ISBLANK('3.3.'!F82),ISBLANK('3.3.'!F83),ISBLANK('3.3.'!F84)),\"Ergebnis offen\",IF('3.3.'!F78=1,'3.3.'!H78,IF('3.3.'!F79=1,'3.3.'!H79,IF('3.3.'!F80=1,'3.3.'!H80,IF('3.3.'!F81=1,'3.3.'!H81,IF('3.3.'!F82=1,'3.3.'!H82,IF('3.3.'!F83=1,'3.3.'!H83,IF('3.3.'!F84=1,'3.3.'!H84,\"---\"))))))))","v":"Ratze"},null,null,null,null,null,null,null,null,null,{"$f":"IF(OR(ISBLANK('3.3.'!F78),ISBLANK('3.3.'!F79),ISBLANK('3.3.'!F80),ISBLANK('3.3.'!F81),ISBLANK('3.3.'!F82),ISBLANK('3.3.'!F83),ISBLANK('3.3.'!F84)),\"Ergebnis offen\",IF('3.3.'!F78=2,'3.3.'!H78,IF('3.3.'!F79=2,'3.3.'!H79,IF('3.3.'!F80=2,'3.3.'!H80,IF('3.3.'!F81=2,'3.3.'!H81,IF('3.3.'!F82=2,'3.3.'!H82,IF('3.3.'!F83=2,'3.3.'!H83,IF('3.3.'!F84=2,'3.3.'!H84,\"---\"))))))))","v":"Patrick"},null,null,null,null,null,null,null,null,null,{"$f":"IF(OR(ISBLANK('3.3.'!F78),ISBLANK('3.3.'!F79),ISBLANK('3.3.'!F80),ISBLANK('3.3.'!F81),ISBLANK('3.3.'!F82),ISBLANK('3.3.'!F83),ISBLANK('3.3.'!F84)),\"Ergebnis offen\",IF('3.3.'!F78=3,'3.3.'!H78,IF('3.3.'!F79=3,'3.3.'!H79,IF('3.3.'!F80=3,'3.3.'!H80,IF('3.3.'!F81=3,'3.3.'!H81,IF('3.3.'!F82=3,'3.3.'!H82,IF('3.3.'!F83=3,'3.3.'!H83,IF('3.3.'!F84=3,'3.3.'!H84,\"---\"))))))))","v":"Markus"},null,null,null,null,null,null,null,null,null,{"$f":"IF(OR(ISBLANK('3.3.'!F78),ISBLANK('3.3.'!F79),ISBLANK('3.3.'!F80),ISBLANK('3.3.'!F81),ISBLANK('3.3.'!F82),ISBLANK('3.3.'!F83),ISBLANK('3.3.'!F84)),\"Ergebnis offen\",IF('3.3.'!F78=4,'3.3.'!H78,IF('3.3.'!F79=4,'3.3.'!H79,IF('3.3.'!F80=4,'3.3.'!H80,IF('3.3.'!F81=4,'3.3.'!H81,IF('3.3.'!F82=4,'3.3.'!H82,IF('3.3.'!F83=4,'3.3.'!H83,IF('3.3.'!F84=4,'3.3.'!H84,\"---\"))))))))","v":"Jule"},null,null,null,null,null,null,null,null,null,{"$f":"IF(OR(ISBLANK('3.3.'!F78),ISBLANK('3.3.'!F79),ISBLANK('3.3.'!F80),ISBLANK('3.3.'!F81),ISBLANK('3.3.'!F82),ISBLANK('3.3.'!F83),ISBLANK('3.3.'!F84)),\"Ergebnis offen\",IF('3.3.'!F78=5,'3.3.'!H78,IF('3.3.'!F79=5,'3.3.'!H79,IF('3.3.'!F80=5,'3.3.'!H80,IF('3.3.'!F81=5,'3.3.'!H81,IF('3.3.'!F82=5,'3.3.'!H82,IF('3.3.'!F83=5,'3.3.'!H83,IF('3.3.'!F84=5,'3.3.'!H84,\"---\"))))))))","v":"Schmiddi"},null,null,null,null,null,null,null,null,null,{"$f":"IF(OR(ISBLANK('3.3.'!F78),ISBLANK('3.3.'!F79),ISBLANK('3.3.'!F80),ISBLANK('3.3.'!F81),ISBLANK('3.3.'!F82),ISBLANK('3.3.'!F83),ISBLANK('3.3.'!F84)),\"Ergebnis offen\",IF('3.3.'!F78=6,'3.3.'!H78,IF('3.3.'!F79=6,'3.3.'!H79,IF('3.3.'!F80=6,'3.3.'!H80,IF('3.3.'!F81=6,'3.3.'!H81,IF('3.3.'!F82=6,'3.3.'!H82,IF('3.3.'!F83=6,'3.3.'!H83,IF('3.3.'!F84=6,'3.3.'!H84,\"---\"))))))))","v":"Christoph"},null,null,null,null,null,null,null,null,null,{"$f":"IF(OR(ISBLANK('3.3.'!F78),ISBLANK('3.3.'!F79),ISBLANK('3.3.'!F80),ISBLANK('3.3.'!F81),ISBLANK('3.3.'!F82),ISBLANK('3.3.'!F83),ISBLANK('3.3.'!F84)),\"Ergebnis offen\",IF('3.3.'!F78=7,'3.3.'!H78,IF('3.3.'!F79=7,'3.3.'!H79,IF('3.3.'!F80=7,'3.3.'!H80,IF('3.3.'!F81=7,'3.3.'!H81,IF('3.3.'!F82=7,'3.3.'!H82,IF('3.3.'!F83=7,'3.3.'!H83,IF('3.3.'!F84=7,'3.3.'!H84,\"---\"))))))))","v":"---"}]
[null,null,"2021-03-11",null,null,null,null,null,null,null,null,null,{"$f":"IF(OR(ISBLANK('11.3.'!F78),ISBLANK('11.3.'!F79),ISBLANK('11.3.'!F80),ISBLANK('11.3.'!F81),ISBLANK('11.3.'!F82),ISBLANK('11.3.'!F83),ISBLANK('11.3.'!F84)),\"Ergebnis offen\",IF('11.3.'!F78=1,'11.3.'!H78,IF('11.3.'!F79=1,'11.3.'!H79,IF('11.3.'!F80=1,'11.3.'!H80,IF('11.3.'!F81=1,'11.3.'!H81,IF('11.3.'!F82=1,'11.3.'!H82,IF('11.3.'!F83=1,'11.3.'!H83,IF('11.3.'!F84=1,'11.3.'!H84,\"---\"))))))))","v":"Ratze"},null,null,null,null,null,null,null,null,null,{"$f":"IF(OR(ISBLANK('11.3.'!F78),ISBLANK('11.3.'!F79),ISBLANK('11.3.'!F80),ISBLANK('11.3.'!F81),ISBLANK('11.3.'!F82),ISBLANK('11.3.'!F83),ISBLANK('11.3.'!F84)),\"Ergebnis offen\",IF('11.3.'!F78=2,'11.3.'!H78,IF('11.3.'!F79=2,'11.3.'!H79,IF('11.3.'!F80=2,'11.3.'!H80,IF('11.3.'!F81=2,'11.3.'!H81,IF('11.3.'!F82=2,'11.3.'!H82,IF('11.3.'!F83=2,'11.3.'!H83,IF('11.3.'!F84=2,'11.3.'!H84,\"---\"))))))))","v":"Patrick"},null,null,null,null,null,null,null,null,null,{"$f":"IF(OR(ISBLANK('11.3.'!F78),ISBLANK('11.3.'!F79),ISBLANK('11.3.'!F80),ISBLANK('11.3.'!F81),ISBLANK('11.3.'!F82),ISBLANK('11.3.'!F83),ISBLANK('11.3.'!F84)),\"Ergebnis offen\",IF('11.3.'!F78=3,'11.3.'!H78,IF('11.3.'!F79=3,'11.3.'!H79,IF('11.3.'!F80=3,'11.3.'!H80,IF('11.3.'!F81=3,'11.3.'!H81,IF('11.3.'!F82=3,'11.3.'!H82,IF('11.3.'!F83=3,'11.3.'!H83,IF('11.3.'!F84=3,'11.3.'!H84,\"---\"))))))))","v":"Schmiddi"},null,null,null,null,null,null,null,null,null,{"$f":"IF(OR(ISBLANK('11.3.'!F78),ISBLANK('11.3.'!F79),ISBLANK('11.3.'!F80),ISBLANK('11.3.'!F81),ISBLANK('11.3.'!F82),ISBLANK('11.3.'!F83),ISBLANK('11.3.'!F84)),\"Ergebnis offen\",IF('11.3.'!F78=4,'11.3.'!H78,IF('11.3.'!F79=4,'11.3.'!H79,IF('11.3.'!F80=4,'11.3.'!H80,IF('11.3.'!F81=4,'11.3.'!H81,IF('11.3.'!F82=4,'11.3.'!H82,IF('11.3.'!F83=4,'11.3.'!H83,IF('11.3.'!F84=4,'11.3.'!H84,\"---\"))))))))","v":"Christoph"},null,null,null,null,null,null,null,null,null,{"$f":"IF(OR(ISBLANK('11.3.'!F78),ISBLANK('11.3.'!F79),ISBLANK('11.3.'!F80),ISBLANK('11.3.'!F81),ISBLANK('11.3.'!F82),ISBLANK('11.3.'!F83),ISBLANK('11.3.'!F84)),\"Ergebnis offen\",IF('11.3.'!F78=5,'11.3.'!H78,IF('11.3.'!F79=5,'11.3.'!H79,IF('11.3.'!F80=5,'11.3.'!H80,IF('11.3.'!F81=5,'11.3.'!H81,IF('11.3.'!F82=5,'11.3.'!H82,IF('11.3.'!F83=5,'11.3.'!H83,IF('11.3.'!F84=5,'11.3.'!H84,\"---\"))))))))","v":"Jule"},null,null,null,null,null,null,null,null,null,{"$f":"IF(OR(ISBLANK('11.3.'!F78),ISBLANK('11.3.'!F79),ISBLANK('11.3.'!F80),ISBLANK('11.3.'!F81),ISBLANK('11.3.'!F82),ISBLANK('11.3.'!F83),ISBLANK('11.3.'!F84)),\"Ergebnis offen\",IF('11.3.'!F78=6,'11.3.'!H78,IF('11.3.'!F79=6,'11.3.'!H79,IF('11.3.'!F80=6,'11.3.'!H80,IF('11.3.'!F81=6,'11.3.'!H81,IF('11.3.'!F82=6,'11.3.'!H82,IF('11.3.'!F83=6,'11.3.'!H83,IF('11.3.'!F84=6,'11.3.'!H84,\"---\"))))))))","v":"---"},null,null,null,null,null,null,null,null,null,{"$f":"IF(OR(ISBLANK('11.3.'!F78),ISBLANK('11.3.'!F79),ISBLANK('11.3.'!F80),ISBLANK('11.3.'!F81),ISBLANK('11.3.'!F82),ISBLANK('11.3.'!F83),ISBLANK('11.3.'!F84)),\"Ergebnis offen\",IF('11.3.'!F78=7,'11.3.'!H78,IF('11.3.'!F79=7,'11.3.'!H79,IF('11.3.'!F80=7,'11.3.'!H80,IF('11.3.'!F81=7,'11.3.'!H81,IF('11.3.'!F82=7,'11.3.'!H82,IF('11.3.'!F83=7,'11.3.'!H83,IF('11.3.'!F84=7,'11.3.'!H84,\"---\"))))))))","v":"---"}]
[null,null,"2021-03-25",null,null,null,null,null,null,null,null,null,{"$f":"IF(OR(ISBLANK('25.3.'!F78),ISBLANK('25.3.'!F79),ISBLANK('25.3.'!F80),ISBLANK('25.3.'!F81),ISBLANK('25.3.'!F82),ISBLANK('25.3.'!F83),ISBLANK('25.3.'!F84)),\"Ergebnis offen\",IF('25.3.'!F78=1,'25.3.'!H78,IF('25.3.'!F79=1,'25.3.'!H79,IF('25.3.'!F80=1,'25.3.'!H80,IF('25.3.'!F81=1,'25.3.'!H81,IF('25.3.'!F82=1,'25.3.'!H82,IF('25.3.'!F83=1,'25.3.'!H83,IF('25.3.'!F84=1,'25.3.'!H84,\"---\"))))))))","v":"Ratze"},null,null,null,null,null,null,null,null,null,{"$f":"IF(OR(ISBLANK('25.3.'!F78),ISBLANK('25.3.'!F79),ISBLANK('25.3.'!F80),ISBLANK('25.3.'!F81),ISBLANK('25.3.'!F82),ISBLANK('25.3.'!F83),ISBLANK('25.3.'!F84)),\"Ergebnis offen\",IF('25.3.'!F78=2,'25.3.'!H78,IF('25.3.'!F79=2,'25.3.'!H79,IF('25.3.'!F80=2,'25.3.'!H80,IF('25.3.'!F81=2,'25.3.'!H81,IF('25.3.'!F82=2,'25.3.'!H82,IF('25.3.'!F83=2,'25.3.'!H83,IF('25.3.'!F84=2,'25.3.'!H84,\"---\"))))))))","v":"Patrick"},null,null,null,null,null,null,null,null,null,{"$f":"IF(OR(ISBLANK('25.3.'!F78),ISBLANK('25.3.'!F79),ISBLANK('25.3.'!F80),ISBLANK('25.3.'!F81),ISBLANK('25.3.'!F82),ISBLANK('25.3.'!F83),ISBLANK('25.3.'!F84)),\"Ergebnis offen\",IF('25.3.'!F78=3,'25.3.'!H78,IF('25.3.'!F79=3,'25.3.'!H79,IF('25.3.'!F80=3,'25.3.'!H80,IF('25.3.'!F81=3,'25.3.'!H81,IF('25.3.'!F82=3,'25.3.'!H82,IF('25.3.'!F83=3,'25.3.'!H83,IF('25.3.'!F84=3,'25.3.'!H84,\"---\"))))))))","v":"Markus"},null,null,null,null,null,null,null,null,null,{"$f":"IF(OR(ISBLANK('25.3.'!F78),ISBLANK('25.3.'!F79),ISBLANK('25.3.'!F80),ISBLANK('25.3.'!F81),ISBLANK('25.3.'!F82),ISBLANK('25.3.'!F83),ISBLANK('25.3.'!F84)),\"Ergebnis offen\",IF('25.3.'!F78=4,'25.3.'!H78,IF('25.3.'!F79=4,'25.3.'!H79,IF('25.3.'!F80=4,'25.3.'!H80,IF('25.3.'!F81=4,'25.3.'!H81,IF('25.3.'!F82=4,'25.3.'!H82,IF('25.3.'!F83=4,'25.3.'!H83,IF('25.3.'!F84=4,'25.3.'!H84,\"---\"))))))))","v":"Christoph"},null,null,null,null,null,null,null,null,null,{"$f":"IF(OR(ISBLANK('25.3.'!F78),ISBLANK('25.3.'!F79),ISBLANK('25.3.'!F80),ISBLANK('25.3.'!F81),ISBLANK('25.3.'!F82),ISBLANK('25.3.'!F83),ISBLANK('25.3.'!F84)),\"Ergebnis offen\",IF('25.3.'!F78=5,'25.3.'!H78,IF('25.3.'!F79=5,'25.3.'!H79,IF('25.3.'!F80=5,'25.3.'!H80,IF('25.3.'!F81=5,'25.3.'!H81,IF('25.3.'!F82=5,'25.3.'!H82,IF('25.3.'!F83=5,'25.3.'!H83,IF('25.3.'!F84=5,'25.3.'!H84,\"---\"))))))))","v":"Jule"},null,null,null,null,null,null,null,null,null,{"$f":"IF(OR(ISBLANK('25.3.'!F78),ISBLANK('25.3.'!F79),ISBLANK('25.3.'!F80),ISBLANK('25.3.'!F81),ISBLANK('25.3.'!F82),ISBLANK('25.3.'!F83),ISBLANK('25.3.'!F84)),\"Ergebnis offen\",IF('25.3.'!F78=6,'25.3.'!H78,IF('25.3.'!F79=6,'25.3.'!H79,IF('25.3.'!F80=6,'25.3.'!H80,IF('25.3.'!F81=6,'25.3.'!H81,IF('25.3.'!F82=6,'25.3.'!H82,IF('25.3.'!F83=6,'25.3.'!H83,IF('25.3.'!F84=6,'25.3.'!H84,\"---\"))))))))","v":"---"},null,null,null,null,null,null,null,null,null,{"$f":"IF(OR(ISBLANK('25.3.'!F78),ISBLANK('25.3.'!F79),ISBLANK('25.3.'!F80),ISBLANK('25.3.'!F81),ISBLANK('25.3.'!F82),ISBLANK('25.3.'!F83),ISBLANK('25.3.'!F84)),\"Ergebnis offen\",IF('25.3.'!F78=7,'25.3.'!H78,IF('25.3.'!F79=7,'25.3.'!H79,IF('25.3.'!F80=7,'25.3.'!H80,IF('25.3.'!F81=7,'25.3.'!H81,IF('25.3.'!F82=7,'25.3.'!H82,IF('25.3.'!F83=7,'25.3.'!H83,IF('25.3.'!F84=7,'25.3.'!H84,\"---\"))))))))","v":"---"}]
[null,null,"2021-04-15",null,null,null,null,null,null,null,null,null,{"$f":"IF(OR(ISBLANK('15.4.'!F78),ISBLANK('15.4.'!F79),ISBLANK('15.4.'!F80),ISBLANK('15.4.'!F81),ISBLANK('15.4.'!F82),ISBLANK('15.4.'!F83),ISBLANK('15.4.'!F84)),\"Ergebnis offen\",IF('15.4.'!F78=1,'15.4.'!H78,IF('15.4.'!F79=1,'15.4.'!H79,IF('15.4.'!F80=1,'15.4.'!H80,IF('15.4.'!F81=1,'15.4.'!H81,IF('15.4.'!F82=1,'15.4.'!H82,IF('15.4.'!F83=1,'15.4.'!H83,IF('15.4.'!F84=1,'15.4.'!H84,\"---\"))))))))","v":"Ratze"},null,null,null,null,null,null,null,null,null,{"$f":"IF(OR(ISBLANK('15.4.'!F78),ISBLANK('15.4.'!F79),ISBLANK('15.4.'!F80),ISBLANK('15.4.'!F81),ISBLANK('15.4.'!F82),ISBLANK('15.4.'!F83),ISBLANK('15.4.'!F84)),\"Ergebnis offen\",IF('15.4.'!F78=2,'15.4.'!H78,IF('15.4.'!F79=2,'15.4.'!H79,IF('15.4.'!F80=2,'15.4.'!H80,IF('15.4.'!F81=2,'15.4.'!H81,IF('15.4.'!F82=2,'15.4.'!H82,IF('15.4.'!F83=2,'15.4.'!H83,IF('15.4.'!F84=2,'15.4.'!H84,\"---\"))))))))","v":"Markus"},null,null,null,null,null,null,null,null,null,{"$f":"IF(OR(ISBLANK('15.4.'!F78),ISBLANK('15.4.'!F79),ISBLANK('15.4.'!F80),ISBLANK('15.4.'!F81),ISBLANK('15.4.'!F82),ISBLANK('15.4.'!F83),ISBLANK('15.4.'!F84)),\"Ergebnis offen\",IF('15.4.'!F78=3,'15.4.'!H78,IF('15.4.'!F79=3,'15.4.'!H79,IF('15.4.'!F80=3,'15.4.'!H80,IF('15.4.'!F81=3,'15.4.'!H81,IF('15.4.'!F82=3,'15.4.'!H82,IF('15.4.'!F83=3,'15.4.'!H83,IF('15.4.'!F84=3,'15.4.'!H84,\"---\"))))))))","v":"Jule"},null,null,null,null,null,null,null,null,null,{"$f":"IF(OR(ISBLANK('15.4.'!F78),ISBLANK('15.4.'!F79),ISBLANK('15.4.'!F80),ISBLANK('15.4.'!F81),ISBLANK('15.4.'!F82),ISBLANK('15.4.'!F83),ISBLANK('15.4.'!F84)),\"Ergebnis offen\",IF('15.4.'!F78=4,'15.4.'!H78,IF('15.4.'!F79=4,'15.4.'!H79,IF('15.4.'!F80=4,'15.4.'!H80,IF('15.4.'!F81=4,'15.4.'!H81,IF('15.4.'!F82=4,'15.4.'!H82,IF('15.4.'!F83=4,'15.4.'!H83,IF('15.4.'!F84=4,'15.4.'!H84,\"---\"))))))))","v":"Patrick"},null,null,null,null,null,null,null,null,null,{"$f":"IF(OR(ISBLANK('15.4.'!F78),ISBLANK('15.4.'!F79),ISBLANK('15.4.'!F80),ISBLANK('15.4.'!F81),ISBLANK('15.4.'!F82),ISBLANK('15.4.'!F83),ISBLANK('15.4.'!F84)),\"Ergebnis offen\",IF('15.4.'!F78=5,'15.4.'!H78,IF('15.4.'!F79=5,'15.4.'!H79,IF('15.4.'!F80=5,'15.4.'!H80,IF('15.4.'!F81=5,'15.4.'!H81,IF('15.4.'!F82=5,'15.4.'!H82,IF('15.4.'!F83=5,'15.4.'!H83,IF('15.4.'!F84=5,'15.4.'!H84,\"---\"))))))))","v":"Christoph"},null,null,null,null,null,null,null,null,null,{"$f":"IF(OR(ISBLANK('15.4.'!F78),ISBLANK('15.4.'!F79),ISBLANK('15.4.'!F80),ISBLANK('15.4.'!F81),ISBLANK('15.4.'!F82),ISBLANK('15.4.'!F83),ISBLANK('15.4.'!F84)),\"Ergebnis offen\",IF('15.4.'!F78=6,'15.4.'!H78,IF('15.4.'!F79=6,'15.4.'!H79,IF('15.4.'!F80=6,'15.4.'!H80,IF('15.4.'!F81=6,'15.4.'!H81,IF('15.4.'!F82=6,'15.4.'!H82,IF('15.4.'!F83=6,'15.4.'!H83,IF('15.4.'!F84=6,'15.4.'!H84,\"---\"))))))))","v":"Schmiddi"},null,null,null,null,null,null,null,null,null,{"$f":"IF(OR(ISBLANK('15.4.'!F78),ISBLANK('15.4.'!F79),ISBLANK('15.4.'!F80),ISBLANK('15.4.'!F81),ISBLANK('15.4.'!F82),ISBLANK('15.4.'!F83),ISBLANK('15.4.'!F84)),\"Ergebnis offen\",IF('15.4.'!F78=7,'15.4.'!H78,IF('15.4.'!F79=7,'15.4.'!H79,IF('15.4.'!F80=7,'15.4.'!H80,IF('15.4.'!F81=7,'15.4.'!H81,IF('15.4.'!F82=7,'15.4.'!H82,IF('15.4.'!F83=7,'15.4.'!H83,IF('15.4.'!F84=7,'15.4.'!H84,\"---\"))))))))","v":"---"}]
[null,null,"2021-04-22",null,null,null,null,null,null,null,null,null,{"$f":"IF(OR(ISBLANK('22.4.'!F78),ISBLANK('22.4.'!F79),ISBLANK('22.4.'!F80),ISBLANK('22.4.'!F81),ISBLANK('22.4.'!F82),ISBLANK('22.4.'!F83),ISBLANK('22.4.'!F84)),\"Ergebnis offen\",IF('22.4.'!F78=1,'22.4.'!H78,IF('22.4.'!F79=1,'22.4.'!H79,IF('22.4.'!F80=1,'22.4.'!H80,IF('22.4.'!F81=1,'22.4.'!H81,IF('22.4.'!F82=1,'22.4.'!H82,IF('22.4.'!F83=1,'22.4.'!H83,IF('22.4.'!F84=1,'22.4.'!H84,\"---\"))))))))","v":"Ratze"},null,null,null,null,null,null,null,null,null,{"$f":"IF(OR(ISBLANK('22.4.'!F78),ISBLANK('22.4.'!F79),ISBLANK('22.4.'!F80),ISBLANK('22.4.'!F81),ISBLANK('22.4.'!F82),ISBLANK('22.4.'!F83),ISBLANK('22.4.'!F84)),\"Ergebnis offen\",IF('22.4.'!F78=2,'22.4.'!H78,IF('22.4.'!F79=2,'22.4.'!H79,IF('22.4.'!F80=2,'22.4.'!H80,IF('22.4.'!F81=2,'22.4.'!H81,IF('22.4.'!F82=2,'22.4.'!H82,IF('22.4.'!F83=2,'22.4.'!H83,IF('22.4.'!F84=2,'22.4.'!H84,\"---\"))))))))","v":"Christoph"},null,null,null,null,null,null,null,null,null,{"$f":"IF(OR(ISBLANK('22.4.'!F78),ISBLANK('22.4.'!F79),ISBLANK('22.4.'!F80),ISBLANK('22.4.'!F81),ISBLANK('22.4.'!F82),ISBLANK('22.4.'!F83),ISBLANK('22.4.'!F84)),\"Ergebnis offen\",IF('22.4.'!F78=3,'22.4.'!H78,IF('22.4.'!F79=3,'22.4.'!H79,IF('22.4.'!F80=3,'22.4.'!H80,IF('22.4.'!F81=3,'22.4.'!H81,IF('22.4.'!F82=3,'22.4.'!H82,IF('22.4.'!F83=3,'22.4.'!H83,IF('22.4.'!F84=3,'22.4.'!H84,\"---\"))))))))","v":"Markus"},null,null,null,null,null,null,null,null,null,{"$f":"IF(OR(ISBLANK('22.4.'!F78),ISBLANK('22.4.'!F79),ISBLANK('22.4.'!F80),ISBLANK('22.4.'!F81),ISBLANK('22.4.'!F82),ISBLANK('22.4.'!F83),ISBLANK('22.4.'!F84)),\"Ergebnis offen\",IF('22.4.'!F78=4,'22.4.'!H78,IF('22.4.'!F79=4,'22.4.'!H79,IF('22.4.'!F80=4,'22.4.'!H80,IF('22.4.'!F81=4,'22.4.'!H81,IF('22.4.'!F82=4,'22.4.'!H82,IF('22.4.'!F83=4,'22.4.'!H83,IF('22.4.'!F84=4,'22.4.'!H84,\"---\"))))))))","v":"Jule"},null,null,null,null,null,null,null,null,null,{"$f":"IF(OR(ISBLANK('22.4.'!F78),ISBLANK('22.4.'!F79),ISBLANK('22.4.'!F80),ISBLANK('22.4.'!F81),ISBLANK('22.4.'!F82),ISBLANK('22.4.'!F83),ISBLANK('22.4.'!F84)),\"Ergebnis offen\",IF('22.4.'!F78=5,'22.4.'!H78,IF('22.4.'!F79=5,'22.4.'!H79,IF('22.4.'!F80=5,'22.4.'!H80,IF('22.4.'!F81=5,'22.4.'!H81,IF('22.4.'!F82=5,'22.4.'!H82,IF('22.4.'!F83=5,'22.4.'!H83,IF('22.4.'!F84=5,'22.4.'!H84,\"---\"))))))))","v":"Patrick"},null,null,null,null,null,null,null,null,null,{"$f":"IF(OR(ISBLANK('22.4.'!F78),ISBLANK('22.4.'!F79),ISBLANK('22.4.'!F80),ISBLANK('22.4.'!F81),ISBLANK('22.4.'!F82),ISBLANK('22.4.'!F83),ISBLANK('22.4.'!F84)),\"Ergebnis offen\",IF('22.4.'!F78=6,'22.4.'!H78,IF('22.4.'!F79=6,'22.4.'!H79,IF('22.4.'!F80=6,'22.4.'!H80,IF('22.4.'!F81=6,'22.4.'!H81,IF('22.4.'!F82=6,'22.4.'!H82,IF('22.4.'!F83=6,'22.4.'!H83,IF('22.4.'!F84=6,'22.4.'!H84,\"---\"))))))))","v":"---"},null,null,null,null,null,null,null,null,null,{"$f":"IF(OR(ISBLANK('22.4.'!F78),ISBLANK('22.4.'!F79),ISBLANK('22.4.'!F80),ISBLANK('22.4.'!F81),ISBLANK('22.4.'!F82),ISBLANK('22.4.'!F83),ISBLANK('22.4.'!F84)),\"Ergebnis offen\",IF('22.4.'!F78=7,'22.4.'!H78,IF('22.4.'!F79=7,'22.4.'!H79,IF('22.4.'!F80=7,'22.4.'!H80,IF('22.4.'!F81=7,'22.4.'!H81,IF('22.4.'!F82=7,'22.4.'!H82,IF('22.4.'!F83=7,'22.4.'!H83,IF('22.4.'!F84=7,'22.4.'!H84,\"---\"))))))))","v":"---"}]
[null,null,"2021-04-29",null,null,null,null,null,null,null,null,null,{"$f":"IF(OR(ISBLANK('29.4.'!F78),ISBLANK('29.4.'!F79),ISBLANK('29.4.'!F80),ISBLANK('29.4.'!F81),ISBLANK('29.4.'!F82),ISBLANK('29.4.'!F83),ISBLANK('29.4.'!F84)),\"Ergebnis offen\",IF('29.4.'!F78=1,'29.4.'!H78,IF('29.4.'!F79=1,'29.4.'!H79,IF('29.4.'!F80=1,'29.4.'!H80,IF('29.4.'!F81=1,'29.4.'!H81,IF('29.4.'!F82=1,'29.4.'!H82,IF('29.4.'!F83=1,'29.4.'!H83,IF('29.4.'!F84=1,'29.4.'!H84,\"---\"))))))))","v":"Markus"},null,null,null,null,null,null,null,null,null,{"$f":"IF(OR(ISBLANK('29.4.'!F78),ISBLANK('29.4.'!F79),ISBLANK('29.4.'!F80),ISBLANK('29.4.'!F81),ISBLANK('29.4.'!F82),ISBLANK('29.4.'!F83),ISBLANK('29.4.'!F84)),\"Ergebnis offen\",IF('29.4.'!F78=2,'29.4.'!H78,IF('29.4.'!F79=2,'29.4.'!H79,IF('29.4.'!F80=2,'29.4.'!H80,IF('29.4.'!F81=2,'29.4.'!H81,IF('29.4.'!F82=2,'29.4.'!H82,IF('29.4.'!F83=2,'29.4.'!H83,IF('29.4.'!F84=2,'29.4.'!H84,\"---\"))))))))","v":"Ratze"},null,null,null,null,null,null,null,null,null,{"$f":"IF(OR(ISBLANK('29.4.'!F78),ISBLANK('29.4.'!F79),ISBLANK('29.4.'!F80),ISBLANK('29.4.'!F81),ISBLANK('29.4.'!F82),ISBLANK('29.4.'!F83),ISBLANK('29.4.'!F84)),\"Ergebnis offen\",IF('29.4.'!F78=3,'29.4.'!H78,IF('29.4.'!F79=3,'29.4.'!H79,IF('29.4.'!F80=3,'29.4.'!H80,IF('29.4.'!F81=3,'29.4.'!H81,IF('29.4.'!F82=3,'29.4.'!H82,IF('29.4.'!F83=3,'29.4.'!H83,IF('29.4.'!F84=3,'29.4.'!H84,\"---\"))))))))","v":"Christoph"},null,null,null,null,null,null,null,null,null,{"$f":"IF(OR(ISBLANK('29.4.'!F78),ISBLANK('29.4.'!F79),ISBLANK('29.4.'!F80),ISBLANK('29.4.'!F81),ISBLANK('29.4.'!F82),ISBLANK('29.4.'!F83),ISBLANK('29.4.'!F84)),\"Ergebnis offen\",IF('29.4.'!F78=4,'29.4.'!H78,IF('29.4.'!F79=4,'29.4.'!H79,IF('29.4.'!F80=4,'29.4.'!H80,IF('29.4.'!F81=4,'29.4.'!H81,IF('29.4.'!F82=4,'29.4.'!H82,IF('29.4.'!F83=4,'29.4.'!H83,IF('29.4.'!F84=4,'29.4.'!H84,\"---\"))))))))","v":"Patrick"},null,null,null,null,null,null,null,null,null,{"$f":"IF(OR(ISBLANK('29.4.'!F78),ISBLANK('29.4.'!F79),ISBLANK('29.4.'!F80),ISBLANK('29.4.'!F81),ISBLANK('29.4.'!F82),ISBLANK('29.4.'!F83),ISBLANK('29.4.'!F84)),\"Ergebnis offen\",IF('29.4.'!F78=5,'29.4.'!H78,IF('29.4.'!F79=5,'29.4.'!H79,IF('29.4.'!F80=5,'29.4.'!H80,IF('29.4.'!F81=5,'29.4.'!H81,IF('29.4.'!F82=5,'29.4.'!H82,IF('29.4.'!F83=5,'29.4.'!H83,IF('29.4.'!F84=5,'29.4.'!H84,\"---\"))))))))","v":"---"},null,null,null,null,null,null,null,null,null,{"$f":"IF(OR(ISBLANK('29.4.'!F78),ISBLANK('29.4.'!F79),ISBLANK('29.4.'!F80),ISBLANK('29.4.'!F81),ISBLANK('29.4.'!F82),ISBLANK('29.4.'!F83),ISBLANK('29.4.'!F84)),\"Ergebnis offen\",IF('29.4.'!F78=6,'29.4.'!H78,IF('29.4.'!F79=6,'29.4.'!H79,IF('29.4.'!F80=6,'29.4.'!H80,IF('29.4.'!F81=6,'29.4.'!H81,IF('29.4.'!F82=6,'29.4.'!H82,IF('29.4.'!F83=6,'29.4.'!H83,IF('29.4.'!F84=6,'29.4.'!H84,\"---\"))))))))","v":"---"},null,null,null,null,null,null,null,null,null,{"$f":"IF(OR(ISBLANK('29.4.'!F78),ISBLANK('29.4.'!F79),ISBLANK('29.4.'!F80),ISBLANK('29.4.'!F81),ISBLANK('29.4.'!F82),ISBLANK('29.4.'!F83),ISBLANK('29.4.'!F84)),\"Ergebnis offen\",IF('29.4.'!F78=7,'29.4.'!H78,IF('29.4.'!F79=7,'29.4.'!H79,IF('29.4.'!F80=7,'29.4.'!H80,IF('29.4.'!F81=7,'29.4.'!H81,IF('29.4.'!F82=7,'29.4.'!H82,IF('29.4.'!F83=7,'29.4.'!H83,IF('29.4.'!F84=7,'29.4.'!H84,\"---\"))))))))","v":"---"}]
[null,null,"2021-05-06",null,null,null,null,null,null,null,null,null,{"$f":"IF(OR(ISBLANK('6.5.'!F78),ISBLANK('6.5.'!F79),ISBLANK('6.5.'!F80),ISBLANK('6.5.'!F81),ISBLANK('6.5.'!F82),ISBLANK('6.5.'!F83),ISBLANK('6.5.'!F84)),\"Ergebnis offen\",IF('6.5.'!F78=1,'6.5.'!H78,IF('6.5.'!F79=1,'6.5.'!H79,IF('6.5.'!F80=1,'6.5.'!H80,IF('6.5.'!F81=1,'6.5.'!H81,IF('6.5.'!F82=1,'6.5.'!H82,IF('6.5.'!F83=1,'6.5.'!H83,IF('6.5.'!F84=1,'6.5.'!H84,\"---\"))))))))","v":"Ratze"},null,null,null,null,null,null,null,null,null,{"$f":"IF(OR(ISBLANK('6.5.'!F78),ISBLANK('6.5.'!F79),ISBLANK('6.5.'!F80),ISBLANK('6.5.'!F81),ISBLANK('6.5.'!F82),ISBLANK('6.5.'!F83),ISBLANK('6.5.'!F84)),\"Ergebnis offen\",IF('6.5.'!F78=2,'6.5.'!H78,IF('6.5.'!F79=2,'6.5.'!H79,IF('6.5.'!F80=2,'6.5.'!H80,IF('6.5.'!F81=2,'6.5.'!H81,IF('6.5.'!F82=2,'6.5.'!H82,IF('6.5.'!F83=2,'6.5.'!H83,IF('6.5.'!F84=2,'6.5.'!H84,\"---\"))))))))","v":"Christoph"},null,null,null,null,null,null,null,null,null,{"$f":"IF(OR(ISBLANK('6.5.'!F78),ISBLANK('6.5.'!F79),ISBLANK('6.5.'!F80),ISBLANK('6.5.'!F81),ISBLANK('6.5.'!F82),ISBLANK('6.5.'!F83),ISBLANK('6.5.'!F84)),\"Ergebnis offen\",IF('6.5.'!F78=3,'6.5.'!H78,IF('6.5.'!F79=3,'6.5.'!H79,IF('6.5.'!F80=3,'6.5.'!H80,IF('6.5.'!F81=3,'6.5.'!H81,IF('6.5.'!F82=3,'6.5.'!H82,IF('6.5.'!F83=3,'6.5.'!H83,IF('6.5.'!F84=3,'6.5.'!H84,\"---\"))))))))","v":"Jule"},null,null,null,null,null,null,null,null,null,{"$f":"IF(OR(ISBLANK('6.5.'!F78),ISBLANK('6.5.'!F79),ISBLANK('6.5.'!F80),ISBLANK('6.5.'!F81),ISBLANK('6.5.'!F82),ISBLANK('6.5.'!F83),ISBLANK('6.5.'!F84)),\"Ergebnis offen\",IF('6.5.'!F78=4,'6.5.'!H78,IF('6.5.'!F79=4,'6.5.'!H79,IF('6.5.'!F80=4,'6.5.'!H80,IF('6.5.'!F81=4,'6.5.'!H81,IF('6.5.'!F82=4,'6.5.'!H82,IF('6.5.'!F83=4,'6.5.'!H83,IF('6.5.'!F84=4,'6.5.'!H84,\"---\"))))))))","v":"Markus"},null,null,null,null,null,null,null,null,null,{"$f":"IF(OR(ISBLANK('6.5.'!F78),ISBLANK('6.5.'!F79),ISBLANK('6.5.'!F80),ISBLANK('6.5.'!F81),ISBLANK('6.5.'!F82),ISBLANK('6.5.'!F83),ISBLANK('6.5.'!F84)),\"Ergebnis offen\",IF('6.5.'!F78=5,'6.5.'!H78,IF('6.5.'!F79=5,'6.5.'!H79,IF('6.5.'!F80=5,'6.5.'!H80,IF('6.5.'!F81=5,'6.5.'!H81,IF('6.5.'!F82=5,'6.5.'!H82,IF('6.5.'!F83=5,'6.5.'!H83,IF('6.5.'!F84=5,'6.5.'!H84,\"---\"))))))))","v":"Patrick"},null,null,null,null,null,null,null,null,null,{"$f":"IF(OR(ISBLANK('6.5.'!F78),ISBLANK('6.5.'!F79),ISBLANK('6.5.'!F80),ISBLANK('6.5.'!F81),ISBLANK('6.5.'!F82),ISBLANK('6.5.'!F83),ISBLANK('6.5.'!F84)),\"Ergebnis offen\",IF('6.5.'!F78=6,'6.5.'!H78,IF('6.5.'!F79=6,'6.5.'!H79,IF('6.5.'!F80=6,'6.5.'!H80,IF('6.5.'!F81=6,'6.5.'!H81,IF('6.5.'!F82=6,'6.5.'!H82,IF('6.5.'!F83=6,'6.5.'!H83,IF('6.5.'!F84=6,'6.5.'!H84,\"---\"))))))))","v":"Schmiddi"},null,null,null,null,null,null,null,null,null,{"$f":"IF(OR(ISBLANK('6.5.'!F78),ISBLANK('6.5.'!F79),ISBLANK('6.5.'!F80),ISBLANK('6.5.'!F81),ISBLANK('6.5.'!F82),ISBLANK('6.5.'!F83),ISBLANK('6.5.'!F84)),\"Ergebnis offen\",IF('6.5.'!F78=7,'6.5.'!H78,IF('6.5.'!F79=7,'6.5.'!H79,IF('6.5.'!F80=7,'6.5.'!H80,IF('6.5.'!F81=7,'6.5.'!H81,IF('6.5.'!F82=7,'6.5.'!H82,IF('6.5.'!F83=7,'6.5.'!H83,IF('6.5.'!F84=7,'6.5.'!H84,\"---\"))))))))","v":"---"}]
[null,null,"2021-06-09",null,null,null,null,null,null,null,null,null,{"$f":"IF(OR(ISBLANK('9.6.'!F78),ISBLANK('9.6.'!F79),ISBLANK('9.6.'!F80),ISBLANK('9.6.'!F81),ISBLANK('9.6.'!F82),ISBLANK('9.6.'!F83),ISBLANK('9.6.'!F84)),\"Ergebnis offen\",IF('9.6.'!F78=1,'9.6.'!H78,IF('9.6.'!F79=1,'9.6.'!H79,IF('9.6.'!F80=1,'9.6.'!H80,IF('9.6.'!F81=1,'9.6.'!H81,IF('9.6.'!F82=1,'9.6.'!H82,IF('9.6.'!F83=1,'9.6.'!H83,IF('9.6.'!F84=1,'9.6.'!H84,\"---\"))))))))","v":"Ratze"},null,null,null,null,null,null,null,null,null,{"$f":"IF(OR(ISBLANK('9.6.'!F78),ISBLANK('9.6.'!F79),ISBLANK('9.6.'!F80),ISBLANK('9.6.'!F81),ISBLANK('9.6.'!F82),ISBLANK('9.6.'!F83),ISBLANK('9.6.'!F84)),\"Ergebnis offen\",IF('9.6.'!F78=2,'9.6.'!H78,IF('9.6.'!F79=2,'9.6.'!H79,IF('9.6.'!F80=2,'9.6.'!H80,IF('9.6.'!F81=2,'9.6.'!H81,IF('9.6.'!F82=2,'9.6.'!H82,IF('9.6.'!F83=2,'9.6.'!H83,IF('9.6.'!F84=2,'9.6.'!H84,\"---\"))))))))","v":"Patrick"},null,null,null,null,null,null,null,null,null,{"$f":"IF(OR(ISBLANK('9.6.'!F78),ISBLANK('9.6.'!F79),ISBLANK('9.6.'!F80),ISBLANK('9.6.'!F81),ISBLANK('9.6.'!F82),ISBLANK('9.6.'!F83),ISBLANK('9.6.'!F84)),\"Ergebnis offen\",IF('9.6.'!F78=3,'9.6.'!H78,IF('9.6.'!F79=3,'9.6.'!H79,IF('9.6.'!F80=3,'9.6.'!H80,IF('9.6.'!F81=3,'9.6.'!H81,IF('9.6.'!F82=3,'9.6.'!H82,IF('9.6.'!F83=3,'9.6.'!H83,IF('9.6.'!F84=3,'9.6.'!H84,\"---\"))))))))","v":"Christoph"},null,null,null,null,null,null,null,null,null,{"$f":"IF(OR(ISBLANK('9.6.'!F78),ISBLANK('9.6.'!F79),ISBLANK('9.6.'!F80),ISBLANK('9.6.'!F81),ISBLANK('9.6.'!F82),ISBLANK('9.6.'!F83),ISBLANK('9.6.'!F84)),\"Ergebnis offen\",IF('9.6.'!F78=4,'9.6.'!H78,IF('9.6.'!F79=4,'9.6.'!H79,IF('9.6.'!F80=4,'9.6.'!H80,IF('9.6.'!F81=4,'9.6.'!H81,IF('9.6.'!F82=4,'9.6.'!H82,IF('9.6.'!F83=4,'9.6.'!H83,IF('9.6.'!F84=4,'9.6.'!H84,\"---\"))))))))","v":"Schmiddi"},null,null,null,null,null,null,null,null,null,{"$f":"IF(OR(ISBLANK('9.6.'!F78),ISBLANK('9.6.'!F79),ISBLANK('9.6.'!F80),ISBLANK('9.6.'!F81),ISBLANK('9.6.'!F82),ISBLANK('9.6.'!F83),ISBLANK('9.6.'!F84)),\"Ergebnis offen\",IF('9.6.'!F78=5,'9.6.'!H78,IF('9.6.'!F79=5,'9.6.'!H79,IF('9.6.'!F80=5,'9.6.'!H80,IF('9.6.'!F81=5,'9.6.'!H81,IF('9.6.'!F82=5,'9.6.'!H82,IF('9.6.'!F83=5,'9.6.'!H83,IF('9.6.'!F84=5,'9.6.'!H84,\"---\"))))))))","v":"---"},null,null,null,null,null,null,null,null,null,{"$f":"IF(OR(ISBLANK('9.6.'!F78),ISBLANK('9.6.'!F79),ISBLANK('9.6.'!F80),ISBLANK('9.6.'!F81),ISBLANK('9.6.'!F82),ISBLANK('9.6.'!F83),ISBLANK('9.6.'!F84)),\"Ergebnis offen\",IF('9.6.'!F78=6,'9.6.'!H78,IF('9.6.'!F79=6,'9.6.'!H79,IF('9.6.'!F80=6,'9.6.'!H80,IF('9.6.'!F81=6,'9.6.'!H81,IF('9.6.'!F82=6,'9.6.'!H82,IF('9.6.'!F83=6,'9.6.'!H83,IF('9.6.'!F84=6,'9.6.'!H84,\"---\"))))))))","v":"---"},null,null,null,null,null,null,null,null,null,{"$f":"IF(OR(ISBLANK('9.6.'!F78),ISBLANK('9.6.'!F79),ISBLANK('9.6.'!F80),ISBLANK('9.6.'!F81),ISBLANK('9.6.'!F82),ISBLANK('9.6.'!F83),ISBLANK('9.6.'!F84)),\"Ergebnis offen\",IF('9.6.'!F78=7,'9.6.'!H78,IF('9.6.'!F79=7,'9.6.'!H79,IF('9.6.'!F80=7,'9.6.'!H80,IF('9.6.'!F81=7,'9.6.'!H81,IF('9.6.'!F82=7,'9.6.'!H82,IF('9.6.'!F83=7,'9.6.'!H83,IF('9.6.'!F84=7,'9.6.'!H84,\"---\"))))))))","v":"---"}]
[null,null,"2021-09-28",null,null,null,null,null,null,null,null,null,{"$f":"IF(OR(ISBLANK('28.9.'!F78),ISBLANK('28.9.'!F79),ISBLANK('28.9.'!F80),ISBLANK('28.9.'!F81),ISBLANK('28.9.'!F82),ISBLANK('28.9.'!F83),ISBLANK('28.9.'!F84)),\"Ergebnis offen\",IF('28.9.'!F78=1,'28.9.'!H78,IF('28.9.'!F79=1,'28.9.'!H79,IF('28.9.'!F80=1,'28.9.'!H80,IF('28.9.'!F81=1,'28.9.'!H81,IF('28.9.'!F82=1,'28.9.'!H82,IF('28.9.'!F83=1,'28.9.'!H83,IF('28.9.'!F84=1,'28.9.'!H84,\"---\"))))))))","v":"Ratze"},null,null,null,null,null,null,null,null,null,{"$f":"IF(OR(ISBLANK('28.9.'!F78),ISBLANK('28.9.'!F79),ISBLANK('28.9.'!F80),ISBLANK('28.9.'!F81),ISBLANK('28.9.'!F82),ISBLANK('28.9.'!F83),ISBLANK('28.9.'!F84)),\"Ergebnis offen\",IF('28.9.'!F78=2,'28.9.'!H78,IF('28.9.'!F79=2,'28.9.'!H79,IF('28.9.'!F80=2,'28.9.'!H80,IF('28.9.'!F81=2,'28.9.'!H81,IF('28.9.'!F82=2,'28.9.'!H82,IF('28.9.'!F83=2,'28.9.'!H83,IF('28.9.'!F84=2,'28.9.'!H84,\"---\"))))))))","v":"Markus"},null,null,null,null,null,null,null,null,null,{"$f":"IF(OR(ISBLANK('28.9.'!F78),ISBLANK('28.9.'!F79),ISBLANK('28.9.'!F80),ISBLANK('28.9.'!F81),ISBLANK('28.9.'!F82),ISBLANK('28.9.'!F83),ISBLANK('28.9.'!F84)),\"Ergebnis offen\",IF('28.9.'!F78=3,'28.9.'!H78,IF('28.9.'!F79=3,'28.9.'!H79,IF('28.9.'!F80=3,'28.9.'!H80,IF('28.9.'!F81=3,'28.9.'!H81,IF('28.9.'!F82=3,'28.9.'!H82,IF('28.9.'!F83=3,'28.9.'!H83,IF('28.9.'!F84=3,'28.9.'!H84,\"---\"))))))))","v":"Patrick"},null,null,null,null,null,null,null,null,null,{"$f":"IF(OR(ISBLANK('28.9.'!F78),ISBLANK('28.9.'!F79),ISBLANK('28.9.'!F80),ISBLANK('28.9.'!F81),ISBLANK('28.9.'!F82),ISBLANK('28.9.'!F83),ISBLANK('28.9.'!F84)),\"Ergebnis offen\",IF('28.9.'!F78=4,'28.9.'!H78,IF('28.9.'!F79=4,'28.9.'!H79,IF('28.9.'!F80=4,'28.9.'!H80,IF('28.9.'!F81=4,'28.9.'!H81,IF('28.9.'!F82=4,'28.9.'!H82,IF('28.9.'!F83=4,'28.9.'!H83,IF('28.9.'!F84=4,'28.9.'!H84,\"---\"))))))))","v":"Christoph"},null,null,null,null,null,null,null,null,null,{"$f":"IF(OR(ISBLANK('28.9.'!F78),ISBLANK('28.9.'!F79),ISBLANK('28.9.'!F80),ISBLANK('28.9.'!F81),ISBLANK('28.9.'!F82),ISBLANK('28.9.'!F83),ISBLANK('28.9.'!F84)),\"Ergebnis offen\",IF('28.9.'!F78=5,'28.9.'!H78,IF('28.9.'!F79=5,'28.9.'!H79,IF('28.9.'!F80=5,'28.9.'!H80,IF('28.9.'!F81=5,'28.9.'!H81,IF('28.9.'!F82=5,'28.9.'!H82,IF('28.9.'!F83=5,'28.9.'!H83,IF('28.9.'!F84=5,'28.9.'!H84,\"---\"))))))))","v":"Schmiddi"},null,null,null,null,null,null,null,null,null,{"$f":"IF(OR(ISBLANK('28.9.'!F78),ISBLANK('28.9.'!F79),ISBLANK('28.9.'!F80),ISBLANK('28.9.'!F81),ISBLANK('28.9.'!F82),ISBLANK('28.9.'!F83),ISBLANK('28.9.'!F84)),\"Ergebnis offen\",IF('28.9.'!F78=6,'28.9.'!H78,IF('28.9.'!F79=6,'28.9.'!H79,IF('28.9.'!F80=6,'28.9.'!H80,IF('28.9.'!F81=6,'28.9.'!H81,IF('28.9.'!F82=6,'28.9.'!H82,IF('28.9.'!F83=6,'28.9.'!H83,IF('28.9.'!F84=6,'28.9.'!H84,\"---\"))))))))","v":"---"},null,null,null,null,null,null,null,null,null,{"$f":"IF(OR(ISBLANK('28.9.'!F78),ISBLANK('28.9.'!F79),ISBLANK('28.9.'!F80),ISBLANK('28.9.'!F81),ISBLANK('28.9.'!F82),ISBLANK('28.9.'!F83),ISBLANK('28.9.'!F84)),\"Ergebnis offen\",IF('28.9.'!F78=7,'28.9.'!H78,IF('28.9.'!F79=7,'28.9.'!H79,IF('28.9.'!F80=7,'28.9.'!H80,IF('28.9.'!F81=7,'28.9.'!H81,IF('28.9.'!F82=7,'28.9.'!H82,IF('28.9.'!F83=7,'28.9.'!H83,IF('28.9.'!F84=7,'28.9.'!H84,\"---\"))))))))","v":"---"}]

{"sheet":"Zuweisung (Formeln)","index":1,"n_rows":26,"n_cols":7,"rows_kept":26,"cut":false,"hidden":true,"merged":[]}
[null,"Spielername","Spielernummer","Zuordnung",null,"Hilfsspalte Spielername","Hilfsspalte Spielernummer"]
[null,{"$f":"'Zuweisung der Spielernummern'!M7","v":"Spielername"},"Spieler 1",{"$f":"INDEX($C$2:$C$8,MATCH(LARGE($G$2:$G$8,ROW(A1)),$G$2:$G$8,0),1)","v":"Spieler 2"},null,{"$f":"RAND()","v":0.80694540266226022},0.7496381275123134]
[null,{"$f":"'Zuweisung der Spielernummern'!W7","v":"Spielername"},"Spieler 2",{"$f":"INDEX($C$2:$C$8,MATCH(LARGE($G$2:$G$8,ROW(A2)),$G$2:$G$8,0),1)","v":"Spieler 1"},null,0.5696496334125386,0.80701426492005734]
[null,{"$f":"'Zuweisung der Spielernummern'!AG7","v":"Spielername"},"Spieler 3","Spieler 4",null,0.44089774647109636,0.38139971951246765]
[null,{"$f":"'Zuweisung der Spielernummern'!AQ7","v":"Spielername"},"Spieler 4","Spieler 7",null,0.47690590816337031,0.65921449592647163]
[null,{"$f":"'Zuweisung der Spielernummern'!BA7","v":"Spielername"},"Spieler 5","Spieler 3",null,0.49987505398366849,2.0187673228229785E-2]
[null,{"$f":"'Zuweisung der Spielernummern'!BK7","v":"Spielername"},"Spieler 6","Spieler 6",null,6.4305055099156183E-2,0.25960244919101072]
[null,{"$f":"'Zuweisung der Spielernummern'!BU7","v":"Spielername"},"Spieler 7","Spieler 5",null,0.33173941993736744,0.44037213462794667]
[]
[null,{"$f":"'Zuweisung der Spielernummern'!Q14","v":"Spielername"},"Spieler 1",{"$f":"INDEX($C$10:$C$15,MATCH(LARGE($G$10:$G$15,ROW(A1)),$G$10:$G$15,0),1)","v":"Spieler 6"},null,0.27431572711503505,0.42983805135483899]
[null,{"$f":"'Zuweisung der Spielernummern'!AB14","v":"Spielername"},"Spieler 2",{"$f":"INDEX($C$10:$C$15,MATCH(LARGE($G$10:$G$15,ROW(A2)),$G$10:$G$15,0),1)","v":"Spieler 1"},null,0.11523527173545411,0.28771159594093887]
[null,{"$f":"'Zuweisung der Spielernummern'!AM14","v":"Spielername"},"Spieler 3","Spieler 5",null,0.15675942150444466,0.26005377369073768]
[null,{"$f":"'Zuweisung der Spielernummern'!AX14","v":"Spielername"},"Spieler 4","Spieler 2",null,0.29456512876466845,6.1535847582619541E-2]
[null,{"$f":"'Zuweisung der Spielernummern'!BI14","v":"Spielername"},"Spieler 5","Spieler 3",null,0.61338763587810008,0.30358037331083065]
[null,{"$f":"'Zuweisung der Spielernummern'!BT14","v":"Spielername"},"Spieler 6","Spieler 4",null,1.7299928302762502E-2,0.83177476624700319]
[]
[null,{"$f":"'Zuweisung der Spielernummern'!M21","v":"Spielername"},"Spieler 1",{"$f":"INDEX($C$17:$C$21,MATCH(LARGE($G$17:$G$21,ROW(A1)),$G$17:$G$21,0),1)","v":"Spieler 2"},null,0.66439877460393426,0.23267039425835168]
[null,{"$f":"'Zuweisung der Spielernummern'!AA21","v":"Spielername"},"Spieler 2",{"$f":"INDEX($C$17:$C$21,MATCH(LARGE($G$17:$G$21,ROW(A2)),$G$17:$G$21,0),1)","v":"Spieler 4"},null,{"$f":"RAND()","v":0.35618622712854908},0.86568060380393796]
[null,{"$f":"'Zuweisung der Spielernummern'!AO21","v":"Spielername"},"Spieler 3","Spieler 1",null,0.48605001803772485,0.11264253015338865]
[null,{"$f":"'Zuweisung der Spielernummern'!BC21","v":"Spielername"},"Spieler 4","Spieler 3",null,0.66866841244585362,0.39313871478481643]
[null,{"$f":"'Zuweisung der Spielernummern'!BQ21","v":"Spielername"},"Spieler 5","Spieler 5",null,0.18814852768896417,2.9818029654385736E-2]
[]
[null,{"$f":"'Zuweisung der Spielernummern'!O28","v":"Spielername"},"Spieler 1",{"$f":"INDEX($C$23:$C$26,MATCH(LARGE($G$23:$G$26,ROW(A1)),$G$23:$G$26,0),1)","v":"Spieler 1"},null,{"$f":"RAND()","v":0.35593322934584681},0.68501703078617782]
[null,{"$f":"'Zuweisung der Spielernummern'!AF28","v":"Spielername"},"Spieler 2",{"$f":"INDEX($C$23:$C$26,MATCH(LARGE($G$23:$G$26,ROW(A2)),$G$23:$G$26,0),1)","v":"Spieler 4"},null,0.31468731881085987,0.2788033736853307]
[null,{"$f":"'Zuweisung der Spielernummern'!AW28","v":"Spielername"},"Spieler 3",{"$f":"INDEX($C$23:$C$26,MATCH(LARGE($G$23:$G$26,ROW(A3)),$G$23:$G$26,0),1)","v":"Spieler 3"},null,0.74681860312705295,0.28871717809949671]
[null,{"$f":"'Zuweisung der Spielernummern'!BN28","v":"Spielername"},"Spieler 4",{"$f":"INDEX($C$23:$C$26,MATCH(LARGE($G$23:$G$26,ROW(A4)),$G$23:$G$26,0),1)","v":"Spieler 2"},null,5.0059744723452204E-2,0.44270789356670714]

{"sheet":"Beginn_Auswertung","index":2,"n_rows":0,"n_cols":0,"rows_kept":0,"cut":false,"hidden":true,"merged":[]}

{"sheet":"21.10.","index":3,"n_rows":97,"n_cols":88,"rows_kept":97,"cut":false,"hidden":false,"merged":[[82,2,82,4],[77,5,77,6],[78,5,78,6],[79,5,79,6],[80,5,80,6],[81,5,81,6],[82,5,82,6],[83,2,83,4],[83,5,83,6],[6,16,6,26],[6,27,6,37],[6,38,6,48],[6,49,6,59],[6,60,6,70],[6,71,6,81],[0,0,0,83],[1,1,1,82],[1,83,84,83],[2,1,2,82],[3,1,3,82],[4,1,7,1],[4,2,4,81],[4,82,7,82],[5,2,5,81],[6,2,6,15],[13,12,13,16],[13,18,13,22],[13,24,13,33],[13,35,13,67],[13,69,13,81],[14,2,14,81],[7,71,7,81],[8,1,8,82],[9,1,9,82],[10,1,10,82],[11,1,45,1],[11,2,11,81],[11,82,45,82],[12,2,12,81],[13,2,13,5],[13,7,13,10],[7,2,7,15],[7,16,7,26],[7,27,7,37],[7,38,7,48],[7,49,7,59],[7,60,7,70],[15,53,15,67],[15,68,29,68],[15,69,15,73],[15,74,15,76],[15,77,15,81],[16,7,16,10],[16,12,16,16],[16,18,16,22],[16,24,16,33],[16,35,16,49],[15,18,15,22],[15,23,29,23],[15,24,15,33],[15,34,29,34],[15,35,15,49],[15,50,15,52],[16,50,16,52],[15,7,15,10],[15,11,29,11],[15,12,15,16],[15,17,29,17],[18,7,18,10],[18,12,18,16],[18,18,18,22],[18,24,18,33],[18,35,18,49],[18,50,18,52],[20,7,20,10],[20,12,20,16],[20,18,20,22],[20,24,20,33],[20,35,20,49],[20,50,20,52],[22,7,22,10],[16,53,16,67],[16,69,16,73],[16,74,16,76],[16,77,16,81],[17,7,17,10],[17,12,17,16],[17,18,17,22],[17,24,17,33],[17,35,17,49],[17,50,17,52],[17,53,17,67],[17,69,17,73],[17,74,17,76],[17,77,17,81],[18,53,18,67],[18,69,18,73],[18,74,18,76],[18,77,18,81],[19,7,19,10],[19,12,19,16],[19,18,19,22],[19,24,19,33],[19,35,19,49],[19,50,19,52],[19,53,19,67],[19,69,19,73],[19,74,19,76],[19,77,19,81],[20,53,20,67],[20,69,20,73],[20,74,20,76],[20,77,20,81],[21,7,21,10],[21,12,21,16],[21,18,21,22],[21,24,21,33],[21,35,21,49],[21,50,21,52],[21,53,21,67],[21,69,21,73],[21,74,21,76],[21,77,21,81],[22,12,22,16],[22,18,22,22],[22,24,22,33],[22,35,22,49],[22,50,22,52],[22,53,22,67],[22,69,22,73],[22,74,22,76],[22,77,22,81],[23,77,23,81],[24,7,24,10],[24,12,24,16],[24,18,24,22],[24,24,24,33],[24,35,24,49],[24,50,24,52],[24,53,24,67],[24,69,24,73],[24,74,24,76],[24,77,24,81],[23,7,23,10],[23,12,23,16],[23,18,23,22],[23,24,23,33],[23,35,23,49],[23,50,23,52],[23,53,23,67],[23,69,23,73],[23,74,23,76],[25,77,25,81],[26,7,26,10],[26,12,26,16],[26,18,26,22],[26,24,26,33],[26,35,26,49],[26,50,26,52],[26,53,26,67],[26,69,26,73],[26,74,26,76],[26,77,26,81],[25,7,25,10],[25,12,25,16],[25,18,25,22],[25,24,25,33],[25,35,25,49],[25,50,25,52],[25,53,25,67],[25,69,25,73],[25,74,25,76],[27,77,27,81],[28,7,28,10],[28,12,28,16],[28,18,28,22],[28,24,28,33],[28,35,28,49],[28,50,28,52],[28,53,28,67],[28,69,28,73],[28,74,28,76],[28,77,28,81],[27,7,27,10],[27,12,27,16],[27,18,27,22],[27,24,27,33],[27,35,27,49],[27,50,27,52],[27,53,27,67],[27,69,27,73],[27,74,27,76],[29,7,29,10],[29,12,29,16],[29,18,29,22],[29,24,29,33],[29,35,29,49],[29,50,29,52],[29,53,29,67],[29,69,29,73],[29,74,29,76],[29,77,29,81],[30,2,30,81],[31,2,45,5],[31,6,45,6],[31,7,31,10],[31,11,45,11],[31,12,31,16],[15,2,29,5],[15,6,29,6],[31,69,31,73],[31,74,31,76],[31,77,31,81],[32,53,32,67],[32,69,32,73],[32,74,32,76],[32,77,32,81],[31,17,45,17],[31,18,31,22],[31,23,45,23],[31,24,31,33],[31,34,45,34],[31,35,31,49],[32,7,32,10],[32,12,32,16],[32,18,32,22],[32,24,32,33],[32,35,32,49],[32,50,32,52],[31,50,31,52],[31,53,31,67],[31,68,45,68],[33,53,33,67],[33,69,33,73],[33,74,33,76],[33,77,33,81],[34,7,34,10],[34,12,34,16],[34,18,34,22],[34,24,34,33],[34,35,34,49],[34,50,34,52],[33,7,33,10],[33,12,33,16],[33,18,33,22],[33,24,33,33],[33,35,33,49],[33,50,33,52],[34,53,34,67],[34,69,34,73],[34,74,34,76],[34,77,34,81],[35,77,35,81],[36,7,36,10],[36,12,36,16],[36,18,36,22],[36,24,36,33],[36,35,36,49],[36,50,36,52],[36,53,36,67],[36,69,36,73],[36,74,36,76],[36,77,36,81],[35,7,35,10],[35,12,35,16],[35,18,35,22],[35,24,35,33],[35,35,35,49],[35,50,35,52],[35,53,35,67],[35,69,35,73],[35,74,35,76],[37,77,37,81],[38,7,38,10],[38,12,38,16],[38,18,38,22],[38,24,38,33],[38,35,38,49],[38,50,38,52],[38,53,38,67],[38,69,38,73],[38,74,38,76],[38,77,38,81],[37,7,37,10],[37,12,37,16],[37,18,37,22],[37,24,37,33],[37,35,37,49],[37,50,37,52],[37,53,37,67],[37,69,37,73],[37,74,37,76],[39,77,39,81],[40,7,40,10],[40,12,40,16],[40,18,40,22],[40,24,40,33],[40,35,40,49],[40,50,40,52],[40,53,40,67],[40,69,40,73],[40,74,40,76],[40,77,40,81],[39,7,39,10],[39,12,39,16],[39,18,39,22],[39,24,39,33],[39,35,39,49],[39,50,39,52],[39,53,39,67],[39,69,39,73],[39,74,39,76],[41,77,41,81],[42,7,42,10],[42,12,42,16],[42,18,42,22],[42,24,42,33],[42,35,42,49],[42,50,42,52],[42,53,42,67],[42,69,42,73],[42,74,42,76],[42,77,42,81],[41,7,41,10],[41,12,41,16],[41,18,41,22],[41,24,41,33],[41,35,41,49],[41,50,41,52],[41,53,41,67],[41,69,41,73],[41,74,41,76],[43,77,43,81],[44,7,44,10],[44,12,44,16],[44,18,44,22],[44,24,44,33],[44,35,44,49],[44,50,44,52],[45,53,45,67],[45,69,45,73],[45,74,45,76],[45,77,45,81],[43,7,43,10],[43,12,43,16],[43,18,43,22],[43,24,43,33],[43,35,43,49],[43,50,43,52],[43,53,43,67],[43,69,43,73],[43,74,43,76],[46,1,46,82],[44,53,44,67],[44,69,44,73],[44,74,44,76],[44,77,44,81],[45,7,45,10],[45,12,45,16],[45,18,45,22],[45,24,45,33],[45,35,45,49],[45,50,45,52],[59,1,59,82],[60,1,60,82],[61,1,69,1],[61,2,61,81],[61,82,69,82],[62,2,62,81],[63,2,63,6],[63,7,63,18],[63,19,63,24],[63,79,63,81],[64,2,64,6],[64,7,64,18],[64,19,64,24],[64,25,64,35],[64,36,64,46],[64,47,64,57],[64,58,64,62],[64,63,64,64],[64,65,64,69],[63,25,63,35],[63,36,63,46],[63,47,63,57],[63,58,63,69],[63,70,63,74],[63,75,63,78],[64,70,64,74],[64,75,64,78],[64,79,64,81],[65,2,65,6],[65,7,65,18],[65,19,65,24],[65,25,65,35],[65,36,65,46],[65,47,65,57],[65,58,65,62],[65,63,65,64],[65,65,65,69],[65,70,65,74],[65,75,65,78],[65,79,65,81],[66,2,66,6],[66,7,66,18],[66,19,66,24],[66,25,66,35],[66,36,66,46],[66,79,66,81],[67,2,67,6],[67,7,67,18],[67,19,67,24],[67,25,67,35],[67,36,67,46],[67,47,67,57],[67,58,67,62],[67,63,67,64],[67,65,67,69],[66,47,66,57],[66,58,66,62],[66,63,66,64],[66,65,66,69],[66,70,66,74],[66,75,66,78],[67,70,67,74],[67,75,67,78],[67,79,67,81],[68,70,68,74],[68,75,68,78],[68,79,68,81],[69,2,69,6],[69,7,69,18],[69,19,69,24],[69,25,69,35],[69,36,69,46],[69,79,69,81],[69,47,69,57],[69,58,69,62],[69,63,69,64],[69,65,69,69],[69,70,69,74],[69,75,69,78],[68,2,68,6],[68,7,68,18],[68,19,68,24],[68,25,68,35],[68,36,68,46],[68,47,68,57],[68,58,68,62],[68,63,68,64],[68,65,68,69],[71,1,71,82],[72,1,72,82],[73,1,73,82],[74,1,82,1],[74,2,74,81],[74,82,82,82],[75,2,75,81],[76,2,76,6],[76,7,76,18],[76,75,76,81],[77,7,77,18],[77,19,77,24],[77,25,77,35],[77,36,77,46],[77,47,77,57],[77,58,77,62],[77,63,77,64],[77,65,77,69],[76,19,76,24],[76,25,76,35],[76,36,76,46],[76,47,76,57],[76,58,76,69],[77,75,77,81],[78,75,78,81],[77,2,77,4],[78,2,78,4],[81,7,81,18],[81,19,81,24],[81,25,81,35],[81,36,81,46],[81,47,81,57],[81,58,81,62],[79,75,79,81],[81,75,81,81],[80,65,80,69],[80,70,80,74],[80,75,80,81],[78,7,78,18],[78,19,78,24],[78,25,78,35],[78,36,78,46],[78,47,78,57],[78,58,78,62],[78,63,78,64],[78,65,78,69],[78,70,78,74],[76,70,76,74],[77,70,77,74],[79,63,79,64],[79,65,79,69],[79,70,79,74],[81,63,81,64],[81,65,81,69],[81,70,81,74],[79,2,79,4],[80,2,80,4],[81,2,81,4],[80,7,80,18],[80,19,80,24],[80,25,80,35],[80,36,80,46],[80,47,80,57],[79,7,79,18],[79,19,79,24],[79,25,79,35],[79,36,79,46],[79,47,79,57],[79,58,79,62],[80,58,80,62],[80,63,80,64],[98,0,98,83],[82,58,82,62],[82,63,82,64],[82,65,82,69],[82,70,82,74],[82,75,82,81],[84,1,84,82],[82,7,82,18],[82,19,82,24],[82,25,82,35],[82,36,82,46],[82,47,82,57],[85,1,85,82],[86,1,86,82],[87,1,96,1],[87,2,87,81],[87,82,96,82],[88,2,88,81],[89,2,89,6],[89,7,89,18],[89,19,89,24],[89,25,89,35],[89,36,89,46],[89,47,89,57],[89,58,89,69],[89,70,89,74],[89,75,89,81],[90,2,90,6],[90,7,90,18],[90,19,90,24],[90,25,90,35],[90,36,90,46],[90,47,90,57],[90,58,90,62],[90,63,90,64],[90,65,90,69],[90,70,90,74],[90,75,90,81],[91,70,91,74],[91,75,91,81],[92,2,92,6],[92,7,92,18],[92,19,92,24],[92,25,92,35],[92,36,92,46],[92,47,92,57],[92,58,92,62],[92,63,92,64],[92,65,92,69],[92,70,92,74],[92,75,92,81],[91,2,91,6],[91,7,91,18],[91,19,91,24],[91,25,91,35],[91,36,91,46],[91,47,91,57],[91,58,91,62],[91,63,91,64],[91,65,91,69],[93,70,93,74],[93,75,93,81],[94,2,94,6],[94,7,94,18],[94,19,94,24],[94,25,94,35],[94,36,94,46],[94,47,94,57],[94,58,94,62],[94,63,94,64],[94,65,94,69],[94,70,94,74],[94,75,94,81],[93,2,93,6],[93,7,93,18],[93,19,93,24],[93,25,93,35],[93,36,93,46],[93,47,93,57],[93,58,93,62],[93,63,93,64],[93,65,93,69],[96,65,96,69],[96,70,96,74],[96,75,96,81],[95,2,95,6],[95,7,95,18],[95,19,95,24],[95,25,95,35],[95,36,95,46],[95,47,95,57],[95,58,95,62],[95,63,95,64],[95,65,95,69],[83,75,83,81],[97,1,97,82],[70,2,70,6],[70,7,70,18],[70,19,70,24],[70,25,70,35],[70,36,70,46],[70,47,70,57],[70,58,70,62],[70,63,70,64],[70,65,70,69],[70,70,70,74],[70,75,70,78],[70,79,70,81],[95,70,95,74],[95,75,95,81],[96,2,96,6],[96,7,96,18],[96,19,96,24],[96,25,96,35],[96,36,96,46],[96,47,96,57],[96,58,96,62],[96,63,96,64],[83,7,83,18],[83,19,83,24],[83,25,83,35],[83,36,83,46],[83,47,83,57],[83,58,83,62],[83,63,83,64],[83,65,83,69],[83,70,83,74]]}
[]
[null,{"$f":"\"Turnier am \" & MID(CELL(\"dateiname\",A1),SEARCH(\"]\",CELL(\"dateiname\",A1))+1,31)","v":"Turnier am 21.10."}]
[]
[]
[null,null,"Spielerliste"]
[]
[null,null,{"$f":"\" Spieler\"","v":" Spieler"},null,null,null,null,null,null,null,null,null,null,null,null,null,"Spieler 1",null,null,null,null,null,null,null,null,null,null,"Spieler 2",null,null,null,null,null,null,null,null,null,null,"Spieler 3",null,null,null,null,null,null,null,null,null,null,"Spieler 4",null,null,null,null,null,null,null,null,null,null,"Spieler 5",null,null,null,null,null,null,null,null,null,null,"Spieler 6"]
[null,null,{"$f":"\" Name\"","v":" Name"},null,null,null,null,null,null,null,null,null,null,null,null,null,"Christoph",null,null,null,null,null,null,null,null,null,null,"Ratze",null,null,null,null,null,null,null,null,null,null,"Schmiddi",null,null,null,null,null,null,null,null,null,null,"Patrick",null,null,null,null,null,null,null,null,null,null,"Jule",null,null,null,null,null,null,null,null,null,null,"Markus"]
[]
[]
[]
[null,null,"Spielplan"]
[]
[null,null,"00:12:00",null,null,null,null,"Spiel",null,null,null,null,"Datum",null,null,null,null,null,"Uhrzeit",null,null,null,null,null,"Austragungsort",null,null,null,null,null,null,null,null,null,null,"Paarung",null,null,null,null,null,null,null,null,null,null,null,null,null,null,null,null,null,null,null,null,null,null,null,null,null,null,null,null,null,null,null,null,null,"Ergebnis",null,null,null,null,null,null,null,null,null,null,null,null,null,null,"Spiele","SiegHeim","Unentschieden","SiegGast"]
[]
[null,null,"Hinrunde",null,null,null,null,1,null,null,null,null,{"$f":"MID(CELL(\"dateiname\",A1),SEARCH(\"]\",CELL(\"dateiname\",A1))+1,31)","v":"21.10."},null,null,null,null,null,"21:00:00",null,null,null,null,null,"Fernseher",null,null,null,null,null,null,null,null,null,null,{"$f":"$Q$8","v":"Christoph"},null,null,null,null,null,null,null,null,null,null,null,null,null,null,":",null,null,{"$f":"$AB$8","v":"Ratze"},null,null,null,null,null,null,null,null,null,null,null,null,null,null,null,2,null,null,null,null,":",null,null,0,null,null,null,null,null,null,{"$f":"IF(AND(ISNUMBER(BR16),ISNUMBER(BZ16)),1,0)","v":1},{"$f":"IF(OR(ISBLANK(BR16),ISBLANK(BZ16)),0,IF(BR16>BZ16,1,0))","v":1},{"$f":"IF(OR(ISBLANK(BR16),ISBLANK(BZ16)),0,IF(BR16=BZ16,1,0))","v":0},{"$f":"IF(OR(ISBLANK(BR16),ISBLANK(BZ16)),0,IF(BR16<BZ16,1,0))","v":0}]
[null,null,null,null,null,null,null,{"$f":"H16+1","v":2},null,null,null,null,{"$f":"$M$16","v":"21.10."},null,null,null,null,null,{"$f":"S16","v":"21:00:00"},null,null,null,null,null,{"$f":"$Y$16","v":"Fernseher"},null,null,null,null,null,null,null,null,null,null,{"$f":"$AM$8","v":"Schmiddi"},null,null,null,null,null,null,null,null,null,null,null,null,null,null,":",null,null,{"$f":"$AX$8","v":"Patrick"},null,null,null,null,null,null,null,null,null,null,null,null,null,null,null,2,null,null,null,null,":",null,null,6,null,null,null,null,null,null,{"$f":"IF(AND(ISNUMBER(BR17),ISNUMBER(BZ17)),1,0)","v":1},{"$f":"IF(OR(ISBLANK(BR17),ISBLANK(BZ17)),0,IF(BR17>BZ17,1,0))","v":0},{"$f":"IF(OR(ISBLANK(BR17),ISBLANK(BZ17)),0,IF(BR17=BZ17,1,0))","v":0},{"$f":"IF(OR(ISBLANK(BR17),ISBLANK(BZ17)),0,IF(BR17<BZ17,1,0))","v":1}]
[null,null,null,null,null,null,null,{"$f":"H17+1","v":3},null,null,null,null,{"$f":"$M$16","v":"21.10."},null,null,null,null,null,{"$f":"S16","v":"21:00:00"},null,null,null,null,null,{"$f":"$Y$16","v":"Fernseher"},null,null,null,null,null,null,null,null,null,null,{"$f":"$BI$8","v":"Jule"},null,null,null,null,null,null,null,null,null,null,null,null,null,null,":",null,null,{"$f":"$BT$8","v":"Markus"},null,null,null,null,null,null,null,null,null,null,null,null,null,null,null,4,null,null,null,null,":",null,null,2,null,null,null,null,null,null,1,1,0,0]
[null,null,null,null,null,null,null,{"$f":"H18+1","v":4},null,null,null,null,"21.10.",null,null,null,null,null,{"$f":"S16+$C$14","v":"21:12:00"},null,null,null,null,null,"Fernseher",null,null,null,null,null,null,null,null,null,null,{"$f":"$Q$8","v":"Christoph"},null,null,null,null,null,null,null,null,null,null,null,null,null,null,":",null,null,{"$f":"$AM$8","v":"Schmiddi"},null,null,null,null,null,null,null,null,null,null,null,null,null,null,null,1,null,null,null,null,":",null,null,2,null,null,null,null,null,null,1,0,0,1]
[null,null,null,null,null,null,null,5,null,null,null,null,"21.10.",null,null,null,null,null,{"$f":"S17+$C$14","v":"21:12:00"},null,null,null,null,null,"Fernseher",null,null,null,null,null,null,null,null,null,null,{"$f":"$AB$8","v":"Ratze"},null,null,null,null,null,null,null,null,null,null,null,null,null,null,":",null,null,{"$f":"$BI$8","v":"Jule"},null,null,null,null,null,null,null,null,null,null,null,null,null,null,null,1,null,null,null,null,":",null,null,1,null,null,null,null,null,null,1,0,1,0]
[null,null,null,null,null,null,null,6,null,null,null,null,"21.10.",null,null,null,null,null,{"$f":"S18+$C$14","v":"21:12:00"},null,null,null,null,null,"Fernseher",null,null,null,null,null,null,null,null,null,null,{"$f":"$AX$8","v":"Patrick"},null,null,null,null,null,null,null,null,null,null,null,null,null,null,":",null,null,{"$f":"$BT$8","v":"Markus"},null,null,null,null,null,null,null,null,null,null,null,null,null,null,null,2,null,null,null,null,":",null,null,1,null,null,null,null,null,null,1,1,0,0]
[null,null,null,null,null,null,null,{"$f":"H21+1","v":7},null,null,null,null,"21.10.",null,null,null,null,null,{"$f":"S19+$C$14","v":"21:24:00"},null,null,null,null,null,"Fernseher",null,null,null,null,null,null,null,null,null,null,{"$f":"$BI$8","v":"Jule"},null,null,null,null,null,null,null,null,null,null,null,null,null,null,":",null,null,{"$f":"$Q$8","v":"Christoph"},null,null,null,null,null,null,null,null,null,null,null,null,null,null,null,2,null,null,null,null,":",null,null,3,null,null,null,null,null,null,1,0,0,1]
[null,null,null,null,null,null,null,8,null,null,null,null,"21.10.",null,null,null,null,null,{"$f":"S20+$C$14","v":"21:24:00"},null,null,null,null,null,"Fernseher",null,null,null,null,null,null,null,null,null,null,{"$f":"$AB$8","v":"Ratze"},null,null,null,null,null,null,null,null,null,null,null,null,null,null,":",null,null,{"$f":"$AX$8","v":"Patrick"},null,null,null,null,null,null,null,null,null,null,null,null,null,null,null,1,null,null,null,null,":",null,null,3,null,null,null,null,null,null,1,0,0,1]
[null,null,null,null,null,null,null,9,null,null,null,null,"21.10.",null,null,null,null,null,"21:24:00",null,null,null,null,null,"Fernseher",null,null,null,null,null,null,null,null,null,null,{"$f":"$BT$8","v":"Markus"},null,null,null,null,null,null,null,null,null,null,null,null,null,null,":",null,null,{"$f":"$AM$8","v":"Schmiddi"},null,null,null,null,null,null,null,null,null,null,null,null,null,null,null,1,null,null,null,null,":",null,null,3,null,null,null,null,null,null,1,0,0,1]
[null,null,null,null,null,null,null,{"$f":"H24+1","v":10},null,null,null,null,"21.10.",null,null,null,null,null,{"$f":"S22+$C$14","v":"21:36:00"},null,null,null,null,null,"Fernseher",null,null,null,null,null,null,null,null,null,null,{"$f":"$Q$8","v":"Christoph"},null,null,null,null,null,null,null,null,null,null,null,null,null,null,":",null,null,{"$f":"$AX$8","v":"Patrick"},null,null,null,null,null,null,null,null,null,null,null,null,null,null,null,0,null,null,null,null,":",null,null,4,null,null,null,null,null,null,1,0,0,1]
[null,null,null,null,null,null,null,11,null,null,null,null,"21.10.",null,null,null,null,null,"21:36:00",null,null,null,null,null,"Fernseher",null,null,null,null,null,null,null,null,null,null,{"$f":"$BT$8","v":"Markus"},null,null,null,null,null,null,null,null,null,null,null,null,null,null,":",null,null,{"$f":"$AB$8","v":"Ratze"},null,null,null,null,null,null,null,null,null,null,null,null,null,null,null,1,null,null,null,null,":",null,null,0,null,null,null,null,null,null,1,1,0,0]
[null,null,null,null,null,null,null,{"$f":"H26+1","v":12},null,null,null,null,"21.10.",null,null,null,null,null,{"$f":"S24+$C$14","v":"21:36:00"},null,null,null,null,null,"Fernseher",null,null,null,null,null,null,null,null,null,null,{"$f":"$AM$8","v":"Schmiddi"},null,null,null,null,null,null,null,null,null,null,null,null,null,null,":",null,null,{"$f":"$BI$8","v":"Jule"},null,null,null,null,null,null,null,null,null,null,null,null,null,null,null,2,null,null,null,null,":",null,null,1,null,null,null,null,null,null,1,1,0,0]
[null,null,null,null,null,null,null,13,null,null,null,null,"21.10.",null,null,null,null,null,"21:48:00",null,null,null,null,null,"Fernseher",null,null,null,null,null,null,null,null,null,null,{"$f":"$BT$8","v":"Markus"},null,null,null,null,null,null,null,null,null,null,null,null,null,null,":",null,null,{"$f":"$Q$8","v":"Christoph"},null,null,null,null,null,null,null,null,null,null,null,null,null,null,null,5,null,null,null,null,":",null,null,0,null,null,null,null,null,null,1,1,0,0]
[null,null,null,null,null,null,null,{"$f":"H28+1","v":14},null,null,null,null,"21.10.",null,null,null,null,null,{"$f":"S26+$C$14","v":"21:48:00"},null,null,null,null,null,"Fernseher",null,null,null,null,null,null,null,null,null,null,{"$f":"$AB$8","v":"Ratze"},null,null,null,null,null,null,null,null,null,null,null,null,null,null,":",null,null,{"$f":"$AM$8","v":"Schmiddi"},null,null,null,null,null,null,null,null,null,null,null,null,null,null,null,1,null,null,null,null,":",null,null,1,null,null,null,null,null,null,1,0,1,0]
[null,null,null,null,null,null,null,15,null,null,null,null,"21.10.",null,null,null,null,null,{"$f":"S27+$C$14","v":"21:48:00"},null,null,null,null,null,"Fernseher",null,null,null,null,null,null,null,null,null,null,{"$f":"$AX$8","v":"Patrick"},null,null,null,null,null,null,null,null,null,null,null,null,null,null,":",null,null,{"$f":"$BI$8","v":"Jule"},null,null,null,null,null,null,null,null,null,null,null,null,null,null,null,2,null,null,null,null,":",null,null,2,null,null,null,null,null,null,1,0,1,0]
[]
[null,null,"Rückrunde",null,null,null,null,{"$f":"H30+1","v":16},null,null,null,null,{"$f":"$M$16","v":"21.10."},null,null,null,null,null,{"$f":"S30+$C$14","v":"22:00:00"},null,null,null,null,null,{"$f":"$Y$16","v":"Fernseher"},null,null,null,null,null,null,null,null,null,null,{"$f":"$AB$8","v":"Ratze"},null,null,null,null,null,null,null,null,null,null,null,null,null,null,":",null,null,{"$f":"$Q$8","v":"Christoph"},null,null,null,null,null,null,null,null,null,null,null,null,null,null,null,2,null,null,null,null,":",null,null,1,null,null,null,null,null,null,{"$f":"IF(AND(ISNUMBER(BR32),ISNUMBER(BZ32)),1,0)","v":1},{"$f":"IF(OR(ISBLANK(BR32),ISBLANK(BZ32)),0,IF(BR32>BZ32,1,0))","v":1},{"$f":"IF(OR(ISBLANK(BR32),ISBLANK(BZ32)),0,IF(BR32=BZ32,1,0))","v":0},{"$f":"IF(OR(ISBLANK(BR32),ISBLANK(BZ32)),0,IF(BR32<BZ32,1,0))","v":0}]
[null,null,null,null,null,null,null,{"$f":"H32+1","v":17},null,null,null,null,"21.10.",null,null,null,null,null,{"$f":"S30+$C$14","v":"22:00:00"},null,null,null,null,null,"Fernseher",null,null,null,null,null,null,null,null,null,null,{"$f":"$AX$8","v":"Patrick"},null,null,null,null,null,null,null,null,null,null,null,null,null,null,":",null,null,{"$f":"$AM$8","v":"Schmiddi"},null,null,null,null,null,null,null,null,null,null,null,null,null,null,null,3,null,null,null,null,":",null,null,3,null,null,null,null,null,null,1,0,1,0]
[null,null,null,null,null,null,null,{"$f":"H33+1","v":18},null,null,null,null,"21.10.",null,null,null,null,null,{"$f":"S30+$C$14","v":"22:00:00"},null,null,null,null,null,"Fernseher",null,null,null,null,null,null,null,null,null,null,{"$f":"$BT$8","v":"Markus"},null,null,null,null,null,null,null,null,null,null,null,null,null,null,":",null,null,{"$f":"$BI$8","v":"Jule"},null,null,null,null,null,null,null,null,null,null,null,null,null,null,null,3,null,null,null,null,":",null,null,2,null,null,null,null,null,null,1,1,0,0]
[null,null,null,null,null,null,null,{"$f":"H34+1","v":19},null,null,null,null,"21.10.",null,null,null,null,null,{"$f":"S32+$C$14","v":"22:12:00"},null,null,null,null,null,"Fernseher",null,null,null,null,null,null,null,null,null,null,{"$f":"$AM$8","v":"Schmiddi"},null,null,null,null,null,null,null,null,null,null,null,null,null,null,":",null,null,{"$f":"$Q$8","v":"Christoph"},null,null,null,null,null,null,null,null,null,null,null,null,null,null,null,0,null,null,null,null,":",null,null,5,null,null,null,null,null,null,1,0,0,1]
[null,null,null,null,null,null,null,20,null,null,null,null,"21.10.",null,null,null,null,null,{"$f":"S33+$C$14","v":"22:12:00"},null,null,null,null,null,"Fernseher",null,null,null,null,null,null,null,null,null,null,{"$f":"$BI$8","v":"Jule"},null,null,null,null,null,null,null,null,null,null,null,null,null,null,":",null,null,{"$f":"$AB$8","v":"Ratze"},null,null,null,null,null,null,null,null,null,null,null,null,null,null,null,2,null,null,null,null,":",null,null,2,null,null,null,null,null,null,1,0,1,0]
[null,null,null,null,null,null,null,21,null,null,null,null,"21.10.",null,null,null,null,null,{"$f":"S34+$C$14","v":"22:12:00"},null,null,null,null,null,"Fernseher",null,null,null,null,null,null,null,null,null,null,{"$f":"$BT$8","v":"Markus"},null,null,null,null,null,null,null,null,null,null,null,null,null,null,":",null,null,{"$f":"$AX$8","v":"Patrick"},null,null,null,null,null,null,null,null,null,null,null,null,null,null,null,2,null,null,null,null,":",null,null,1,null,null,null,null,null,null,1,1,0,0]
[null,null,null,null,null,null,null,{"$f":"H37+1","v":22},null,null,null,null,"21.10.",null,null,null,null,null,{"$f":"S35+$C$14","v":"22:24:00"},null,null,null,null,null,"Fernseher",null,null,null,null,null,null,null,null,null,null,{"$f":"$Q$8","v":"Christoph"},null,null,null,null,null,null,null,null,null,null,null,null,null,null,":",null,null,{"$f":"$BI$8","v":"Jule"},null,null,null,null,null,null,null,null,null,null,null,null,null,null,null,3,null,null,null,null,":",null,null,0,null,null,null,null,null,null,1,1,0,0]
[null,null,null,null,null,null,null,23,null,null,null,null,"21.10.",null,null,null,null,null,{"$f":"S36+$C$14","v":"22:24:00"},null,null,null,null,null,"Fernseher",null,null,null,null,null,null,null,null,null,null,{"$f":"$AX$8","v":"Patrick"},null,null,null,null,null,null,null,null,null,null,null,null,null,null,":",null,null,{"$f":"$AB$8","v":"Ratze"},null,null,null,null,null,null,null,null,null,null,null,null,null,null,null,2,null,null,null,null,":",null,null,1,null,null,null,null,null,null,1,1,0,0]
[null,null,null,null,null,null,null,24,null,null,null,null,"21.10.",null,null,null,null,null,"22:24:00",null,null,null,null,null,"Fernseher",null,null,null,null,null,null,null,null,null,null,{"$f":"$AM$8","v":"Schmiddi"},null,null,null,null,null,null,null,null,null,null,null,null,null,null,":",null,null,{"$f":"$BT$8","v":"Markus"},null,null,null,null,null,null,null,null,null,null,null,null,null,null,null,1,null,null,null,null,":",null,null,1,null,null,null,null,null,null,1,0,1,0]
[null,null,null,null,null,null,null,{"$f":"H40+1","v":25},null,null,null,null,"21.10.",null,null,null,null,null,{"$f":"S38+$C$14","v":"22:36:00"},null,null,null,null,null,"Fernseher",null,null,null,null,null,null,null,null,null,null,{"$f":"$AX$8","v":"Patrick"},null,null,null,null,null,null,null,null,null,null,null,null,null,null,":",null,null,{"$f":"$Q$8","v":"Christoph"},null,null,null,null,null,null,null,null,null,null,null,null,null,null,null,3,null,null,null,null,":",null,null,1,null,null,null,null,null,null,1,1,0,0]
[null,null,null,null,null,null,null,26,null,null,null,null,"21.10.",null,null,null,null,null,"22:36:00",null,null,null,null,null,"Fernseher",null,null,null,null,null,null,null,null,null,null,{"$f":"$AB$8","v":"Ratze"},null,null,null,null,null,null,null,null,null,null,null,null,null,null,":",null,null,{"$f":"$BT$8","v":"Markus"},null,null,null,null,null,null,null,null,null,null,null,null,null,null,null,2,null,null,null,null,":",null,null,3,null,null,null,null,null,null,1,0,0,1]
[null,null,null,null,null,null,null,{"$f":"H42+1","v":27},null,null,null,null,"21.10.",null,null,null,null,null,{"$f":"S40+$C$14","v":"22:36:00"},null,null,null,null,null,"Fernseher",null,null,null,null,null,null,null,null,null,null,{"$f":"$BI$8","v":"Jule"},null,null,null,null,null,null,null,null,null,null,null,null,null,null,":",null,null,{"$f":"$AM$8","v":"Schmiddi"},null,null,null,null,null,null,null,null,null,null,null,null,null,null,null,3,null,null,null,null,":",null,null,0,null,null,null,null,null,null,1,1,0,0]
[null,null,null,null,null,null,null,28,null,null,null,null,"21.10.",null,null,null,null,null,"22:48:00",null,null,null,null,null,"Fernseher",null,null,null,null,null,null,null,null,null,null,{"$f":"$Q$8","v":"Christoph"},null,null,null,null,null,null,null,null,null,null,null,null,null,null,":",null,null,{"$f":"$BT$8","v":"Markus"},null,null,null,null,null,null,null,null,null,null,null,null,null,null,null,1,null,null,null,null,":",null,null,2,null,null,null,null,null,null,1,0,0,1]
[null,null,null,null,null,null,null,{"$f":"H44+1","v":29},null,null,null,null,"21.10.",null,null,null,null,null,{"$f":"S42+$C$14","v":"22:48:00"},null,null,null,null,null,"Fernseher",null,null,null,null,null,null,null,null,null,null,{"$f":"$AM$8","v":"Schmiddi"},null,null,null,null,null,null,null,null,null,null,null,null,null,null,":",null,null,{"$f":"$AB$8","v":"Ratze"},null,null,null,null,null,null,null,null,null,null,null,null,null,null,null,1,null,null,null,null,":",null,null,4,null,null,null,null,null,null,1,0,0,1]
[null,null,null,null,null,null,null,30,null,null,null,null,"21.10.",null,null,null,null,null,{"$f":"S43+$C$14","v":"22:48:00"},null,null,null,null,null,"Fernseher",null,null,null,null,null,null,null,null,null,null,{"$f":"$BI$8","v":"Jule"},null,null,null,null,null,null,null,null,null,null,null,null,null,null,":",null,null,{"$f":"$AX$8","v":"Patrick"},null,null,null,null,null,null,null,null,null,null,null,null,null,null,null,0,null,null,null,null,":",null,null,4,null,null,null,null,null,null,1,0,0,1]
[]
[]
[]
[]
[]
[]
[]
[]
[]
[]
[]
[]
[]
[]
[]
[null,null,"Tabelle (unsortiert)"]
[]
[null,null,"Rang",null,null,null,null,"Spieler",null,null,null,null,null,null,null,null,null,null,null,"Spiele",null,null,null,null,null,"Siege",null,null,null,null,null,null,null,null,null,null,"Unentschieden",null,null,null,null,null,null,null,null,null,null,"Niederlagen",null,null,null,null,null,null,null,null,null,null,"Tore",null,null,null,null,null,null,null,null,null,null,null,"+/-",null,null,null,null,"Punkte",null,null,null,"HS"]
[null,null,{"$f":"IF(T65=0,0,RANK(BX65,$BX$65:$CA$70,0))","v":3},null,null,null,null,{"$f":"$Q$8","v":"Christoph"},null,null,null,null,null,null,null,null,null,null,null,{"$f":"CG16+CG19+CG22+CG25+CG28+CG32+CG35+CG38+CG41+CG44","v":10},null,null,null,null,null,{"$f":"CH16+CH19+CJ22+CH25+CJ28+CJ32+CJ35+CH38+CJ41+CH44","v":4},null,null,null,null,null,null,null,null,null,null,{"$f":"CI16+CI19+CI22+CI25+CI28+CI32+CI35+CI38+CI41+CI44","v":0},null,null,null,null,null,null,null,null,null,null,{"$f":"CJ16+CJ19+CH22+CJ25+CH28+CH32+CH35+CJ38+CH41+CJ44","v":6},null,null,null,null,null,null,null,null,null,null,{"$f":"BR16+BR19+BZ22+BR25+BZ28+BZ32+BZ35+BR38+BZ41+BR44","v":17},null,null,null,null,":",null,{"$f":"BZ16+BZ19+BR22+BZ25+BR28+BR32+BR35+BZ38+BR41+BZ44","v":20},null,null,null,null,{"$f":"BG65-BN65","v":-3},null,null,null,null,{"$f":"(Z65*3)+AK65","v":12},null,null,null,{"$f":"BX65+ROW()/1000","v":12.065}]
[null,null,5,null,null,null,null,{"$f":"$AB$8","v":"Ratze"},null,null,null,null,null,null,null,null,null,null,null,{"$f":"CG16+CG20+CG23+CG26+CG29+CG32+CG36+CG39+CG42+CG45","v":10},null,null,null,null,null,{"$f":"CJ16+CH20+CH23+CJ26+CH29+CH32+CJ36+CJ39+CH42+CJ45","v":2},null,null,null,null,null,null,null,null,null,null,{"$f":"CI16+CI20+CI23+CI26+CI29+CI32+CI36+CI39+CI42+CI45","v":3},null,null,null,null,null,null,null,null,null,null,{"$f":"CH16+CJ20+CJ23+CH26+CJ29+CJ32+CH36+CH39+CJ42+CH45","v":5},null,null,null,null,null,null,null,null,null,null,{"$f":"BZ16+BR20+BR23+BZ26+BR29+BR32+BZ36+BZ39+BR42+BZ45","v":14},null,null,null,null,":",null,{"$f":"BR16+BZ20+BZ23+BR26+BZ29+BZ32+BR36+BR39+BZ42+BR45","v":17},null,null,null,null,-3,null,null,null,null,9,null,null,null,9.0660000000000007]
[null,null,3,null,null,null,null,{"$f":"$AM$8","v":"Schmiddi"},null,null,null,null,null,null,null,null,null,null,null,{"$f":"CG17+CG19+CG24+CG27+CG29+CG33+CG35+CG40+CG43+CG45","v":10},null,null,null,null,null,{"$f":"CH17+CJ19+CJ24+CH27+CJ29+CJ33+CH35+CH40+CJ43+CH45","v":3},null,null,null,null,null,null,null,null,null,null,{"$f":"CI17+CI19+CI24+CI27+CI29+CI33+CI35+CI40+CI43+CI45","v":3},null,null,null,null,null,null,null,null,null,null,{"$f":"CJ17+CH19+CH24+CJ27+CH29+CH33+CJ35+CJ40+CH43+CJ45","v":4},null,null,null,null,null,null,null,null,null,null,{"$f":"BR17+BZ19+BZ24+BR27+BZ29+BZ33+BR35+BR40+BZ43+BR45","v":15},null,null,null,null,":",null,{"$f":"BZ17+BR19+BR24+BZ27+BR29+BR33+BZ35+BZ40+BR43+BZ45","v":26},null,null,null,null,-11,null,null,null,null,12,null,null,null,12.067]
[null,null,1,null,null,null,null,{"$f":"$AX$8","v":"Patrick"},null,null,null,null,null,null,null,null,null,null,null,{"$f":"CG17+CG21+CG23+CG25+CG30+CG33+CG37+CG39+CG41+CG46","v":10},null,null,null,null,null,{"$f":"CJ17+CH21+CJ23+CJ25+CH30+CH33+CJ37+CH39+CH41+CJ46","v":7},null,null,null,null,null,null,null,null,null,null,{"$f":"CI17+CI21+CI23+CI25+CI30+CI33+CI37+CI39+CI41+CI46","v":2},null,null,null,null,null,null,null,null,null,null,{"$f":"CH17+CJ21+CH23+CH25+CJ30+CJ33+CH37+CJ39+CJ41+CH46","v":1},null,null,null,null,null,null,null,null,null,null,{"$f":"BZ17+BR21+BZ23+BZ25+BR30+BR33+BZ37+BR39+BR41+BZ46","v":30},null,null,null,null,":",null,{"$f":"BR17+BZ21+BR23+BR25+BZ30+BZ33+BR37+BZ39+BZ41+BR46","v":13},null,null,null,null,17,null,null,null,null,23,null,null,null,23.068000000000001]
[null,null,5,null,null,null,null,{"$f":"$BI$8","v":"Jule"},null,null,null,null,null,null,null,null,null,null,null,{"$f":"CG18+CG20+CG22+CG27+CG30+CG34+CG36+CG38+CG43+CG46","v":10},null,null,null,null,null,{"$f":"CH18+CJ20+CH22+CJ27+CJ30+CJ34+CH36+CJ38+CH43+CH46","v":2},null,null,null,null,null,null,null,null,null,null,{"$f":"CI18+CI20+CI22+CI27+CI30+CI34+CI36+CI38+CI43+CI46","v":3},null,null,null,null,null,null,null,null,null,null,{"$f":"CJ18+CH20+CJ22+CH27+CH30+CH34+CJ36+CH38+CJ43+CJ46","v":5},null,null,null,null,null,null,null,null,null,null,{"$f":"BR18+BZ20+BR22+BZ27+BZ30+BZ34+BR36+BZ38+BR43+BR46","v":17},null,null,null,null,":",null,{"$f":"BZ18+BR20+BZ22+BR27+BR30+BR34+BZ36+BR38+BZ43+BZ46","v":22},null,null,null,null,-5,null,null,null,null,9,null,null,null,9.0690000000000008]
[null,null,2,null,null,null,null,{"$f":"BT8","v":"Markus"},null,null,null,null,null,null,null,null,null,null,null,{"$f":"CG18+CG21+CG24+CG26+CG28+CG34+CG37+CG40+CG42+CG44","v":10},null,null,null,null,null,{"$f":"CJ18+CJ21+CH24+CH26+CH28+CH34+CH37+CJ40+CJ42+CJ44","v":6},null,null,null,null,null,null,null,null,null,null,{"$f":"CI18+CI21+CI24+CI26+CI28+CI34+CI37+CI40+CI42+CI44","v":1},null,null,null,null,null,null,null,null,null,null,{"$f":"CH18+CH21+CJ24+CJ26+CJ28+CJ34+CJ37+CH40+CH42+CH44","v":3},null,null,null,null,null,null,null,null,null,null,{"$f":"BZ18+BZ21+BR24+BR26+BR28+BR34+BR37+BZ40+BZ42+BZ44","v":21},null,null,null,null,":",null,{"$f":"BR18+BR21+BZ24+BZ26+BZ28+BZ34+BZ37+BR40+BR42+BR44","v":16},null,null,null,null,5,null,null,null,null,19,null,null,null,19.07]
[null,null,null,null,null,null,null,"Spieler 7",null,null,null,null,null,null,null,null,null,null,null,0,null,null,null,null,null,0,null,null,null,null,null,null,null,null,null,null,0,null,null,null,null,null,null,null,null,null,null,0,null,null,null,null,null,null,null,null,null,null,0,null,null,null,null,":",null,0,null,null,null,null,0,null,null,null,null,0,null,null,null,0]
[]
[]
[]
[null,null,"Tabelle"]
[]
[null,null,"Rang",null,null,null,null,"Spieler",null,null,null,null,null,null,null,null,null,null,null,"Spiele",null,null,null,null,null,"Siege",null,null,null,null,null,null,null,null,null,null,"Unentschieden",null,null,null,null,null,null,null,null,null,null,"Niederlagen",null,null,null,null,null,null,null,null,null,null,"Tore",null,null,null,null,null,null,null,null,null,null,null,"+/-",null,null,null,null,"Punkte"]
[null,null,{"$f":"INDEX($C$65:$C$70,MATCH(LARGE($CB$65:$CB$70,ROW(A1)),$CB$65:$CB$70,0),1)","v":1},null,null,1,null,{"$f":"INDEX($H$65:$H$70,MATCH(LARGE($CB$65:$CB$70,ROW(A1)),$CB$65:$CB$70,0),1)","v":"Patrick"},null,null,null,null,null,null,null,null,null,null,null,{"$f":"INDEX($T$65:$T$70,MATCH(LARGE($CB$65:$CB$70,ROW(A1)),$CB$65:$CB$70,0),1)","v":10},null,null,null,null,null,{"$f":"INDEX($Z$65:$Z$70,MATCH(LARGE($CB$65:$CB$70,ROW(A1)),$CB$65:$CB$70,0),1)","v":7},null,null,null,null,null,null,null,null,null,null,{"$f":"INDEX($AK$65:$AK$70,MATCH(LARGE($CB$65:$CB$70,ROW(A1)),$CB$65:$CB$70,0),1)","v":2},null,null,null,null,null,null,null,null,null,null,{"$f":"INDEX($AV$65:$AV$70,MATCH(LARGE($CB$65:$CB$70,ROW(A1)),$CB$65:$CB$70,0),1)","v":1},null,null,null,null,null,null,null,null,null,null,{"$f":"INDEX($BG$65:$BG$70,MATCH(LARGE($CB$65:$CB$70,ROW(A1)),$CB$65:$CB$70,0),1)","v":30},null,null,null,null,":",null,{"$f":"INDEX($BN$65:$BN$70,MATCH(LARGE($CB$65:$CB$70,ROW(A1)),$CB$65:$CB$70,0),1)","v":13},null,null,null,null,{"$f":"INDEX($BS$65:$BS$70,MATCH(LARGE($CB$65:$CB$70,ROW(A1)),$CB$65:$CB$70,0),1)","v":17},null,null,null,null,{"$f":"INDEX($BX$65:$BX$70,MATCH(LARGE($CB$65:$CB$70,ROW(A1)),$CB$65:$CB$70,0),1)","v":23}]
[null,null,{"$f":"INDEX($C$65:$C$70,MATCH(LARGE($CB$65:$CB$70,ROW(A2)),$CB$65:$CB$70,0),1)","v":2},null,null,2,null,"Markus",null,null,null,null,null,null,null,null,null,null,null,10,null,null,null,null,null,6,null,null,null,null,null,null,null,null,null,null,1,null,null,null,null,null,null,null,null,null,null,3,null,null,null,null,null,null,null,null,null,null,21,null,null,null,null,":",null,16,null,null,null,null,5,null,null,null,null,19]
[null,null,3,null,null,4,null,"Schmiddi",null,null,null,null,null,null,null,null,null,null,null,10,null,null,null,null,null,3,null,null,null,null,null,null,null,null,null,null,3,null,null,null,null,null,null,null,null,null,null,4,null,null,null,null,null,null,null,null,null,null,15,null,null,null,null,":",null,26,null,null,null,null,-11,null,null,null,null,12]
[null,null,3,null,null,3,null,"Christoph",null,null,null,null,null,null,null,null,null,null,null,10,null,null,null,null,null,4,null,null,null,null,null,null,null,null,null,null,0,null,null,null,null,null,null,null,null,null,null,6,null,null,null,null,null,null,null,null,null,null,17,null,null,null,null,":",null,20,null,null,null,null,-3,null,null,null,null,12]
[null,null,5,null,null,6,null,"Jule",null,null,null,null,null,null,null,null,null,null,null,10,null,null,null,null,null,2,null,null,null,null,null,null,null,null,null,null,3,null,null,null,null,null,null,null,null,null,null,5,null,null,null,null,null,null,null,null,null,null,17,null,null,null,null,":",null,22,null,null,null,null,-5,null,null,null,null,9]
[null,null,5,null,null,5,null,"Ratze",null,null,null,null,null,null,null,null,null,null,null,10,null,null,null,null,null,2,null,null,null,null,null,null,null,null,null,null,3,null,null,null,null,null,null,null,null,null,null,5,null,null,null,null,null,null,null,null,null,null,14,null,null,null,null,":",null,17,null,null,null,null,-3,null,null,null,null,9]
[null,null,"---",null,null,"---",null,"Spieler 7",null,null,null,null,null,null,null,null,null,null,null,0,null,null,null,null,null,0,null,null,null,null,null,null,null,null,null,null,0,null,null,null,null,null,null,null,null,null,null,0,null,null,null,null,null,null,null,null,null,null,0,null,null,null,null,":",null,0,null,null,null,null,0,null,null,null,null,0]
[]
[]
[]
[null,null,"Tabelle (nach Alphabet)"]
[]
[null,null,"Rang",null,null,null,null,"Spieler",null,null,null,null,null,null,null,null,null,null,null,"Spiele",null,null,null,null,null,"Siege",null,null,null,null,null,null,null,null,null,null,"Unentschieden",null,null,null,null,null,null,null,null,null,null,"Niederlagen",null,null,null,null,null,null,null,null,null,null,"Tore",null,null,null,null,null,null,null,null,null,null,null,"+/-",null,null,null,null,"Punkte"]
[null,null,{"$f":"IF($H$78=\"Basti\",$F$78,IF($H$79=\"Basti\",$F$79,IF($H$80=\"Basti\",$F$80,IF($H$81=\"Basti\",$F$81,IF($H$82=\"Basti\",$F$82,IF($H$83=\"Basti\",$F$83,IF($H$84=\"Basti\",$F$84,0)))))))","v":0},null,null,null,null,"Basti",null,null,null,null,null,null,null,null,null,null,null,{"$f":"IF($H$78=\"Basti\",$T$78,IF($H$79=\"Basti\",$T$79,IF($H$80=\"Basti\",$T$80,IF($H$81=\"Basti\",$T$81,IF($H$82=\"Basti\",$T$82,IF($H$83=\"Basti\",$T$83,IF($H$84=\"Basti\",$T$84,0)))))))","v":0},null,null,null,null,null,{"$f":"IF($H$78=\"Basti\",$Z$78,IF($H$79=\"Basti\",$Z$79,IF($H$80=\"Basti\",$Z$80,IF($H$81=\"Basti\",$Z$81,IF($H$82=\"Basti\",$Z$82,IF($H$83=\"Basti\",$Z$83,IF($H$84=\"Basti\",$Z$84,0)))))))","v":0},null,null,null,null,null,null,null,null,null,null,{"$f":"IF($H$78=\"Basti\",$AK$78,IF($H$79=\"Basti\",$AK$79,IF($H$80=\"Basti\",$AK$80,IF($H$81=\"Basti\",$AK$81,IF($H$82=\"Basti\",$AK$82,IF($H$83=\"Basti\",$AK$83,IF($H$84=\"Basti\",$AK$84,0)))))))","v":0},null,null,null,null,null,null,null,null,null,null,{"$f":"IF($H$78=\"Basti\",$AV$78,IF($H$79=\"Basti\",$AV$79,IF($H$80=\"Basti\",$AV$80,IF($H$81=\"Basti\",$AV$81,IF($H$82=\"Basti\",$AV$82,IF($H$83=\"Basti\",$AV$83,IF($H$84=\"Basti\",$AV$84,0)))))))","v":0},null,null,null,null,null,null,null,null,null,null,{"$f":"IF($H$78=\"Basti\",$BG$78,IF($H$79=\"Basti\",$BG$79,IF($H$80=\"Basti\",$BG$80,IF($H$81=\"Basti\",$BG$81,IF($H$82=\"Basti\",$BG$82,IF($H$83=\"Basti\",$BG$83,IF($H$84=\"Basti\",$BG$84,0)))))))","v":0},null,null,null,null,":",null,{"$f":"IF($H$78=\"Basti\",$BN$78,IF($H$79=\"Basti\",$BN$79,IF($H$80=\"Basti\",$BN$80,IF($H$81=\"Basti\",$BN$81,IF($H$82=\"Basti\",$BN$82,IF($H$83=\"Basti\",$BN$83,IF($H$84=\"Basti\",$BN$84,0)))))))","v":0},null,null,null,null,{"$f":"IF($H$78=\"Basti\",$BS$78,IF($H$79=\"Basti\",$BS$79,IF($H$80=\"Basti\",$BS$80,IF($H$81=\"Basti\",$BS$81,IF($H$82=\"Basti\",$BS$82,IF($H$83=\"Basti\",$BS$83,IF($H$84=\"Basti\",$BS$84,0)))))))","v":0},null,null,null,null,{"$f":"IF($H$78=\"Basti\",$BX$78,IF($H$79=\"Basti\",$BX$79,IF($H$80=\"Basti\",$BX$80,IF($H$81=\"Basti\",$BX$81,IF($H$82=\"Basti\",$BX$82,IF($H$83=\"Basti\",$BX$83,IF($H$84=\"Basti\",$BX$84,0)))))))","v":0}]
[null,null,{"$f":"IF($H$78=\"Christoph\",$F$78,IF($H$79=\"Christoph\",$F$79,IF($H$80=\"Christoph\",$F$80,IF($H$81=\"Christoph\",$F$81,IF($H$82=\"Christoph\",$F$82,IF($H$83=\"Christoph\",$F$83,IF($H$84=\"Christoph\",$F$84,0)))))))","v":3},null,null,null,null,"Christoph",null,null,null,null,null,null,null,null,null,null,null,{"$f":"IF($H$78=\"Christoph\",$T$78,IF($H$79=\"Christoph\",$T$79,IF($H$80=\"Christoph\",$T$80,IF($H$81=\"Christoph\",$T$81,IF($H$82=\"Christoph\",$T$82,IF($H$83=\"Christoph\",$T$83,IF($H$84=\"Christoph\",$T$84,0)))))))","v":10},null,null,null,null,null,{"$f":"IF($H$78=\"Christoph\",$Z$78,IF($H$79=\"Christoph\",$Z$79,IF($H$80=\"Christoph\",$Z$80,IF($H$81=\"Christoph\",$Z$81,IF($H$82=\"Christoph\",$Z$82,IF($H$83=\"Christoph\",$Z$83,IF($H$84=\"Christoph\",$Z$84,0)))))))","v":4},null,null,null,null,null,null,null,null,null,null,{"$f":"IF($H$78=\"Christoph\",$AK$78,IF($H$79=\"Christoph\",$AK$79,IF($H$80=\"Christoph\",$AK$80,IF($H$81=\"Christoph\",$AK$81,IF($H$82=\"Christoph\",$AK$82,IF($H$83=\"Christoph\",$AK$83,IF($H$84=\"Christoph\",$AK$84,0)))))))","v":0},null,null,null,null,null,null,null,null,null,null,{"$f":"IF($H$78=\"Christoph\",$AV$78,IF($H$79=\"Christoph\",$AV$79,IF($H$80=\"Christoph\",$AV$80,IF($H$81=\"Christoph\",$AV$81,IF($H$82=\"Christoph\",$AV$82,IF($H$83=\"Christoph\",$AV$83,IF($H$84=\"Christoph\",$AV$84,0)))))))","v":6},null,null,null,null,null,null,null,null,null,null,{"$f":"IF($H$78=\"Christoph\",$BG$78,IF($H$79=\"Christoph\",$BG$79,IF($H$80=\"Christoph\",$BG$80,IF($H$81=\"Christoph\",$BG$81,IF($H$82=\"Christoph\",$BG$82,IF($H$83=\"Christoph\",$BG$83,IF($H$84=\"Christoph\",$BG$84,0)))))))","v":17},null,null,null,null,":",null,{"$f":"IF($H$78=\"Christoph\",$BN$78,IF($H$79=\"Christoph\",$BN$79,IF($H$80=\"Christoph\",$BN$80,IF($H$81=\"Christoph\",$BN$81,IF($H$82=\"Christoph\",$BN$82,IF($H$83=\"Christoph\",$BN$83,IF($H$84=\"Christoph\",$BN$84,0)))))))","v":20},null,null,null,null,{"$f":"IF($H$78=\"Christoph\",$BS$78,IF($H$79=\"Christoph\",$BS$79,IF($H$80=\"Christoph\",$BS$80,IF($H$81=\"Christoph\",$BS$81,IF($H$82=\"Christoph\",$BS$82,IF($H$83=\"Christoph\",$BS$83,IF($H$84=\"Christoph\",$BS$84,0)))))))","v":-3},null,null,null,null,{"$f":"IF($H$78=\"Christoph\",$BX$78,IF($H$79=\"Christoph\",$BX$79,IF($H$80=\"Christoph\",$BX$80,IF($H$81=\"Christoph\",$BX$81,IF($H$82=\"Christoph\",$BX$82,IF($H$83=\"Christoph\",$BX$83,IF($H$84=\"Christoph\",$BX$84,0)))))))","v":12}]
[null,null,{"$f":"IF($H$78=\"Jule\",$F$78,IF($H$79=\"Jule\",$F$79,IF($H$80=\"Jule\",$F$80,IF($H$81=\"Jule\",$F$81,IF($H$82=\"Jule\",$F$82,IF($H$83=\"Jule\",$F$83,IF($H$84=\"Jule\",$F$84,0)))))))","v":6},null,null,null,null,"Jule",null,null,null,null,null,null,null,null,null,null,null,{"$f":"IF($H$78=\"Jule\",$T$78,IF($H$79=\"Jule\",$T$79,IF($H$80=\"Jule\",$T$80,IF($H$81=\"Jule\",$T$81,IF($H$82=\"Jule\",$T$82,IF($H$83=\"Jule\",$T$83,IF($H$84=\"Jule\",$T$84,0)))))))","v":10},null,null,null,null,null,{"$f":"IF($H$78=\"Jule\",$Z$78,IF($H$79=\"Jule\",$Z$79,IF($H$80=\"Jule\",$Z$80,IF($H$81=\"Jule\",$Z$81,IF($H$82=\"Jule\",$Z$82,IF($H$83=\"Jule\",$Z$83,IF($H$84=\"Jule\",$Z$84,0)))))))","v":2},null,null,null,null,null,null,null,null,null,null,{"$f":"IF($H$78=\"Jule\",$AK$78,IF($H$79=\"Jule\",$AK$79,IF($H$80=\"Jule\",$AK$80,IF($H$81=\"Jule\",$AK$81,IF($H$82=\"Jule\",$AK$82,IF($H$83=\"Jule\",$AK$83,IF($H$84=\"Jule\",$AK$84,0)))))))","v":3},null,null,null,null,null,null,null,null,null,null,{"$f":"IF($H$78=\"Jule\",$AV$78,IF($H$79=\"Jule\",$AV$79,IF($H$80=\"Jule\",$AV$80,IF($H$81=\"Jule\",$AV$81,IF($H$82=\"Jule\",$AV$82,IF($H$83=\"Jule\",$AV$83,IF($H$84=\"Jule\",$AV$84,0)))))))","v":5},null,null,null,null,null,null,null,null,null,null,{"$f":"IF($H$78=\"Jule\",$BG$78,IF($H$79=\"Jule\",$BG$79,IF($H$80=\"Jule\",$BG$80,IF($H$81=\"Jule\",$BG$81,IF($H$82=\"Jule\",$BG$82,IF($H$83=\"Jule\",$BG$83,IF($H$84=\"Jule\",$BG$84,0)))))))","v":17},null,null,null,null,":",null,{"$f":"IF($H$78=\"Jule\",$BN$78,IF($H$79=\"Jule\",$BN$79,IF($H$80=\"Jule\",$BN$80,IF($H$81=\"Jule\",$BN$81,IF($H$82=\"Jule\",$BN$82,IF($H$83=\"Jule\",$BN$83,IF($H$84=\"Jule\",$BN$84,0)))))))","v":22},null,null,null,null,{"$f":"IF($H$78=\"Jule\",$BS$78,IF($H$79=\"Jule\",$BS$79,IF($H$80=\"Jule\",$BS$80,IF($H$81=\"Jule\",$BS$81,IF($H$82=\"Jule\",$BS$82,IF($H$83=\"Jule\",$BS$83,IF($H$84=\"Jule\",$BS$84,0)))))))","v":-5},null,null,null,null,{"$f":"IF($H$78=\"Jule\",$BX$78,IF($H$79=\"Jule\",$BX$79,IF($H$80=\"Jule\",$BX$80,IF($H$81=\"Jule\",$BX$81,IF($H$82=\"Jule\",$BX$82,IF($H$83=\"Jule\",$BX$83,IF($H$84=\"Jule\",$BX$84,0)))))))","v":9}]
[null,null,{"$f":"IF($H$78=\"Markus\",$F$78,IF($H$79=\"Markus\",$F$79,IF($H$80=\"Markus\",$F$80,IF($H$81=\"Markus\",$F$81,IF($H$82=\"Markus\",$F$82,IF($H$83=\"Markus\",$F$83,IF($H$84=\"Markus\",$F$84,0)))))))","v":2},null,null,null,null,"Markus",null,null,null,null,null,null,null,null,null,null,null,{"$f":"IF($H$78=\"Markus\",$T$78,IF($H$79=\"Markus\",$T$79,IF($H$80=\"Markus\",$T$80,IF($H$81=\"Markus\",$T$81,IF($H$82=\"Markus\",$T$82,IF($H$83=\"Markus\",$T$83,IF($H$84=\"Markus\",$T$84,0)))))))","v":10},null,null,null,null,null,{"$f":"IF($H$78=\"Markus\",$Z$78,IF($H$79=\"Markus\",$Z$79,IF($H$80=\"Markus\",$Z$80,IF($H$81=\"Markus\",$Z$81,IF($H$82=\"Markus\",$Z$82,IF($H$83=\"Markus\",$Z$83,IF($H$84=\"Markus\",$Z$84,0)))))))","v":6},null,null,null,null,null,null,null,null,null,null,{"$f":"IF($H$78=\"Markus\",$AK$78,IF($H$79=\"Markus\",$AK$79,IF($H$80=\"Markus\",$AK$80,IF($H$81=\"Markus\",$AK$81,IF($H$82=\"Markus\",$AK$82,IF($H$83=\"Markus\",$AK$83,IF($H$84=\"Markus\",$AK$84,0)))))))","v":1},null,null,null,null,null,null,null,null,null,null,{"$f":"IF($H$78=\"Markus\",$AV$78,IF($H$79=\"Markus\",$AV$79,IF($H$80=\"Markus\",$AV$80,IF($H$81=\"Markus\",$AV$81,IF($H$82=\"Markus\",$AV$82,IF($H$83=\"Markus\",$AV$83,IF($H$84=\"Markus\",$AV$84,0)))))))","v":3},null,null,null,null,null,null,null,null,null,null,{"$f":"IF($H$78=\"Markus\",$BG$78,IF($H$79=\"Markus\",$BG$79,IF($H$80=\"Markus\",$BG$80,IF($H$81=\"Markus\",$BG$81,IF($H$82=\"Markus\",$BG$82,IF($H$83=\"Markus\",$BG$83,IF($H$84=\"Markus\",$BG$84,0)))))))","v":21},null,null,null,null,":",null,{"$f":"IF($H$78=\"Markus\",$BN$78,IF($H$79=\"Markus\",$BN$79,IF($H$80=\"Markus\",$BN$80,IF($H$81=\"Markus\",$BN$81,IF($H$82=\"Markus\",$BN$82,IF($H$83=\"Markus\",$BN$83,IF($H$84=\"Markus\",$BN$84,0)))))))","v":16},null,null,null,null,{"$f":"IF($H$78=\"Markus\",$BS$78,IF($H$79=\"Markus\",$BS$79,IF($H$80=\"Markus\",$BS$80,IF($H$81=\"Markus\",$BS$81,IF($H$82=\"Markus\",$BS$82,IF($H$83=\"Markus\",$BS$83,IF($H$84=\"Markus\",$BS$84,0)))))))","v":5},null,null,null,null,{"$f":"IF($H$78=\"Markus\",$BX$78,IF($H$79=\"Markus\",$BX$79,IF($H$80=\"Markus\",$BX$80,IF($H$81=\"Markus\",$BX$81,IF($H$82=\"Markus\",$BX$82,IF($H$83=\"Markus\",$BX$83,IF($H$84=\"Markus\",$BX$84,0)))))))","v":19}]
[null,null,{"$f":"IF($H$78=\"Patrick\",$F$78,IF($H$79=\"Patrick\",$F$79,IF($H$80=\"Patrick\",$F$80,IF($H$81=\"Patrick\",$F$81,IF($H$82=\"Patrick\",$F$82,IF($H$83=\"Patrick\",$F$83,IF($H$84=\"Patrick\",$F$84,0)))))))","v":1},null,null,null,null,"Patrick",null,null,null,null,null,null,null,null,null,null,null,{"$f":"IF($H$78=\"Patrick\",$T$78,IF($H$79=\"Patrick\",$T$79,IF($H$80=\"Patrick\",$T$80,IF($H$81=\"Patrick\",$T$81,IF($H$82=\"Patrick\",$T$82,IF($H$83=\"Patrick\",$T$83,IF($H$84=\"Patrick\",$T$84,0)))))))","v":10},null,null,null,null,null,{"$f":"IF($H$78=\"Patrick\",$Z$78,IF($H$79=\"Patrick\",$Z$79,IF($H$80=\"Patrick\",$Z$80,IF($H$81=\"Patrick\",$Z$81,IF($H$82=\"Patrick\",$Z$82,IF($H$83=\"Patrick\",$Z$83,IF($H$84=\"Patrick\",$Z$84,0)))))))","v":7},null,null,null,null,null,null,null,null,null,null,{"$f":"IF($H$78=\"Patrick\",$AK$78,IF($H$79=\"Patrick\",$AK$79,IF($H$80=\"Patrick\",$AK$80,IF($H$81=\"Patrick\",$AK$81,IF($H$82=\"Patrick\",$AK$82,IF($H$83=\"Patrick\",$AK$83,IF($H$84=\"Patrick\",$AK$84,0)))))))","v":2},null,null,null,null,null,null,null,null,null,null,{"$f":"IF($H$78=\"Patrick\",$AV$78,IF($H$79=\"Patrick\",$AV$79,IF($H$80=\"Patrick\",$AV$80,IF($H$81=\"Patrick\",$AV$81,IF($H$82=\"Patrick\",$AV$82,IF($H$83=\"Patrick\",$AV$83,IF($H$84=\"Patrick\",$AV$84,0)))))))","v":1},null,null,null,null,null,null,null,null,null,null,{"$f":"IF($H$78=\"Patrick\",$BG$78,IF($H$79=\"Patrick\",$BG$79,IF($H$80=\"Patrick\",$BG$80,IF($H$81=\"Patrick\",$BG$81,IF($H$82=\"Patrick\",$BG$82,IF($H$83=\"Patrick\",$BG$83,IF($H$84=\"Patrick\",$BG$84,0)))))))","v":30},null,null,null,null,":",null,{"$f":"IF($H$78=\"Patrick\",$BN$78,IF($H$79=\"Patrick\",$BN$79,IF($H$80=\"Patrick\",$BN$80,IF($H$81=\"Patrick\",$BN$81,IF($H$82=\"Patrick\",$BN$82,IF($H$83=\"Patrick\",$BN$83,IF($H$84=\"Patrick\",$BN$84,0)))))))","v":13},null,null,null,null,{"$f":"IF($H$78=\"Patrick\",$BS$78,IF($H$79=\"Patrick\",$BS$79,IF($H$80=\"Patrick\",$BS$80,IF($H$81=\"Patrick\",$BS$81,IF($H$82=\"Patrick\",$BS$82,IF($H$83=\"Patrick\",$BS$83,IF($H$84=\"Patrick\",$BS$84,0)))))))","v":17},null,null,null,null,{"$f":"IF($H$78=\"Patrick\",$BX$78,IF($H$79=\"Patrick\",$BX$79,IF($H$80=\"Patrick\",$BX$80,IF($H$81=\"Patrick\",$BX$81,IF($H$82=\"Patrick\",$BX$82,IF($H$83=\"Patrick\",$BX$83,IF($H$84=\"Patrick\",$BX$84,0)))))))","v":23}]
[null,null,{"$f":"IF($H$78=\"Ratze\",$F$78,IF($H$79=\"Ratze\",$F$79,IF($H$80=\"Ratze\",$F$80,IF($H$81=\"Ratze\",$F$81,IF($H$82=\"Ratze\",$F$82,IF($H$83=\"Ratze\",$F$83,IF($H$84=\"Ratze\",$F$84,0)))))))","v":5},null,null,null,null,"Ratze",null,null,null,null,null,null,null,null,null,null,null,{"$f":"IF($H$78=\"Ratze\",$T$78,IF($H$79=\"Ratze\",$T$79,IF($H$80=\"Ratze\",$T$80,IF($H$81=\"Ratze\",$T$81,IF($H$82=\"Ratze\",$T$82,IF($H$83=\"Ratze\",$T$83,IF($H$84=\"Ratze\",$T$84,0)))))))","v":10},null,null,null,null,null,{"$f":"IF($H$78=\"Ratze\",$Z$78,IF($H$79=\"Ratze\",$Z$79,IF($H$80=\"Ratze\",$Z$80,IF($H$81=\"Ratze\",$Z$81,IF($H$82=\"Ratze\",$Z$82,IF($H$83=\"Ratze\",$Z$83,IF($H$84=\"Ratze\",$Z$84,0)))))))","v":2},null,null,null,null,null,null,null,null,null,null,{"$f":"IF($H$78=\"Ratze\",$AK$78,IF($H$79=\"Ratze\",$AK$79,IF($H$80=\"Ratze\",$AK$80,IF($H$81=\"Ratze\",$AK$81,IF($H$82=\"Ratze\",$AK$82,IF($H$83=\"Ratze\",$AK$83,IF($H$84=\"Ratze\",$AK$84,0)))))))","v":3},null,null,null,null,null,null,null,null,null,null,{"$f":"IF($H$78=\"Ratze\",$AV$78,IF($H$79=\"Ratze\",$AV$79,IF($H$80=\"Ratze\",$AV$80,IF($H$81=\"Ratze\",$AV$81,IF($H$82=\"Ratze\",$AV$82,IF($H$83=\"Ratze\",$AV$83,IF($H$84=\"Ratze\",$AV$84,0)))))))","v":5},null,null,null,null,null,null,null,null,null,null,{"$f":"IF($H$78=\"Ratze\",$BG$78,IF($H$79=\"Ratze\",$BG$79,IF($H$80=\"Ratze\",$BG$80,IF($H$81=\"Ratze\",$BG$81,IF($H$82=\"Ratze\",$BG$82,IF($H$83=\"Ratze\",$BG$83,IF($H$84=\"Ratze\",$BG$84,0)))))))","v":14},null,null,null,null,":",null,{"$f":"IF($H$78=\"Ratze\",$BN$78,IF($H$79=\"Ratze\",$BN$79,IF($H$80=\"Ratze\",$BN$80,IF($H$81=\"Ratze\",$BN$81,IF($H$82=\"Ratze\",$BN$82,IF($H$83=\"Ratze\",$BN$83,IF($H$84=\"Ratze\",$BN$84,0)))))))","v":17},null,null,null,null,{"$f":"IF($H$78=\"Ratze\",$BS$78,IF($H$79=\"Ratze\",$BS$79,IF($H$80=\"Ratze\",$BS$80,IF($H$81=\"Ratze\",$BS$81,IF($H$82=\"Ratze\",$BS$82,IF($H$83=\"Ratze\",$BS$83,IF($H$84=\"Ratze\",$BS$84,0)))))))","v":-3},null,null,null,null,{"$f":"IF($H$78=\"Ratze\",$BX$78,IF($H$79=\"Ratze\",$BX$79,IF($H$80=\"Ratze\",$BX$80,IF($H$81=\"Ratze\",$BX$81,IF($H$82=\"Ratze\",$BX$82,IF($H$83=\"Ratze\",$BX$83,IF($H$84=\"Ratze\",$BX$84,0)))))))","v":9}]
[null,null,{"$f":"IF($H$78=\"Schmiddi\",$F$78,IF($H$79=\"Schmiddi\",$F$79,IF($H$80=\"Schmiddi\",$F$80,IF($H$81=\"Schmiddi\",$F$81,IF($H$82=\"Schmiddi\",$F$82,IF($H$83=\"Schmiddi\",$F$83,IF($H$84=\"Schmiddi\",$F$84,0)))))))","v":4},null,null,null,null,"Schmiddi",null,null,null,null,null,null,null,null,null,null,null,{"$f":"IF($H$78=\"Schmiddi\",$T$78,IF($H$79=\"Schmiddi\",$T$79,IF($H$80=\"Schmiddi\",$T$80,IF($H$81=\"Schmiddi\",$T$81,IF($H$82=\"Schmiddi\",$T$82,IF($H$83=\"Schmiddi\",$T$83,IF($H$84=\"Schmiddi\",$T$84,0)))))))","v":10},null,null,null,null,null,{"$f":"IF($H$78=\"Schmiddi\",$Z$78,IF($H$79=\"Schmiddi\",$Z$79,IF($H$80=\"Schmiddi\",$Z$80,IF($H$81=\"Schmiddi\",$Z$81,IF($H$82=\"Schmiddi\",$Z$82,IF($H$83=\"Schmiddi\",$Z$83,IF($H$84=\"Schmiddi\",$Z$84,0)))))))","v":3},null,null,null,null,null,null,null,null,null,null,{"$f":"IF($H$78=\"Schmiddi\",$AK$78,IF($H$79=\"Schmiddi\",$AK$79,IF($H$80=\"Schmiddi\",$AK$80,IF($H$81=\"Schmiddi\",$AK$81,IF($H$82=\"Schmiddi\",$AK$82,IF($H$83=\"Schmiddi\",$AK$83,IF($H$84=\"Schmiddi\",$AK$84,0)))))))","v":3},null,null,null,null,null,null,null,null,null,null,{"$f":"IF($H$78=\"Schmiddi\",$AV$78,IF($H$79=\"Schmiddi\",$AV$79,IF($H$80=\"Schmiddi\",$AV$80,IF($H$81=\"Schmiddi\",$AV$81,IF($H$82=\"Schmiddi\",$AV$82,IF($H$83=\"Schmiddi\",$AV$83,IF($H$84=\"Schmiddi\",$AV$84,0)))))))","v":4},null,null,null,null,null,null,null,null,null,null,{"$f":"IF($H$78=\"Schmiddi\",$BG$78,IF($H$79=\"Schmiddi\",$BG$79,IF($H$80=\"Schmiddi\",$BG$80,IF($H$81=\"Schmiddi\",$BG$81,IF($H$82=\"Schmiddi\",$BG$82,IF($H$83=\"Schmiddi\",$BG$83,IF($H$84=\"Schmiddi\",$BG$84,0)))))))","v":15},null,null,null,null,":",null,{"$f":"IF($H$78=\"Schmiddi\",$BN$78,IF($H$79=\"Schmiddi\",$BN$79,IF($H$80=\"Schmiddi\",$BN$80,IF($H$81=\"Schmiddi\",$BN$81,IF($H$82=\"Schmiddi\",$BN$82,IF($H$83=\"Schmiddi\",$BN$83,IF($H$84=\"Schmiddi\",$BN$84,0)))))))","v":26},null,null,null,null,{"$f":"IF($H$78=\"Schmiddi\",$BS$78,IF($H$79=\"Schmiddi\",$BS$79,IF($H$80=\"Schmiddi\",$BS$80,IF($H$81=\"Schmiddi\",$BS$81,IF($H$82=\"Schmiddi\",$BS$82,IF($H$83=\"Schmiddi\",$BS$83,IF($H$84=\"Schmiddi\",$BS$84,0)))))))","v":-11},null,null,null,null,{"$f":"IF($H$78=\"Schmiddi\",$BX$78,IF($H$79=\"Schmiddi\",$BX$79,IF($H$80=\"Schmiddi\",$BX$80,IF($H$81=\"Schmiddi\",$BX$81,IF($H$82=\"Schmiddi\",$BX$82,IF($H$83=\"Schmiddi\",$BX$83,IF($H$84=\"Schmiddi\",$BX$84,0)))))))","v":12}]

{"sheet":"28.10.","index":4,"n_rows":97,"n_cols":88,"rows_kept":97,"cut":false,"hidden":false,"merged":[[98,0,98,83],[96,58,96,62],[96,63,96,64],[96,65,96,69],[96,70,96,74],[96,75,96,81],[97,1,97,82],[96,2,96,6],[96,7,96,18],[96,19,96,24],[96,25,96,35],[96,36,96,46],[96,47,96,57],[95,47,95,57],[95,58,95,62],[95,63,95,64],[95,65,95,69],[95,70,95,74],[95,75,95,81],[94,58,94,62],[94,63,94,64],[94,65,94,69],[94,70,94,74],[94,75,94,81],[94,47,94,57],[95,2,95,6],[95,7,95,18],[95,19,95,24],[95,25,95,35],[95,36,95,46],[94,2,94,6],[94,7,94,18],[94,19,94,24],[94,25,94,35],[94,36,94,46],[93,47,93,57],[93,58,93,62],[93,63,93,64],[93,65,93,69],[93,70,93,74],[93,75,93,81],[92,58,92,62],[92,63,92,64],[92,65,92,69],[92,70,92,74],[92,75,92,81],[92,47,92,57],[93,2,93,6],[93,7,93,18],[93,19,93,24],[93,25,93,35],[93,36,93,46],[92,2,92,6],[92,7,92,18],[92,19,92,24],[92,25,92,35],[92,36,92,46],[90,25,90,35],[90,36,90,46],[91,47,91,57],[91,58,91,62],[91,63,91,64],[91,65,91,69],[91,70,91,74],[91,75,91,81],[90,58,90,62],[90,63,90,64],[90,65,90,69],[90,70,90,74],[90,75,90,81],[90,47,90,57],[89,25,89,35],[89,36,89,46],[89,47,89,57],[89,58,89,69],[89,70,89,74],[89,75,89,81],[84,1,84,82],[85,1,85,82],[86,1,86,82],[87,1,96,1],[87,2,87,81],[87,82,96,82],[88,2,88,81],[89,2,89,6],[89,7,89,18],[89,19,89,24],[91,2,91,6],[91,7,91,18],[91,19,91,24],[91,25,91,35],[91,36,91,46],[90,2,90,6],[90,7,90,18],[90,19,90,24],[83,47,83,57],[83,58,83,62],[83,63,83,64],[83,65,83,69],[83,70,83,74],[83,75,83,81],[82,58,82,62],[82,63,82,64],[82,65,82,69],[82,70,82,74],[82,75,82,81],[82,47,82,57],[83,7,83,18],[83,19,83,24],[83,25,83,35],[83,36,83,46],[82,7,82,18],[82,19,82,24],[82,25,82,35],[82,36,82,46],[82,2,82,4],[82,5,82,6],[83,2,83,4],[83,5,83,6],[76,70,76,74],[77,70,77,74],[78,5,78,6],[77,5,77,6],[78,2,78,4],[77,2,77,4],[80,5,80,6],[79,5,79,6],[80,2,80,4],[79,2,79,4],[79,7,79,18],[79,19,79,24],[79,25,79,35],[79,36,79,46],[79,47,79,57],[79,63,79,64],[79,65,79,69],[79,70,79,74],[80,7,80,18],[80,19,80,24],[80,25,80,35],[80,36,80,46],[80,47,80,57],[79,58,79,62],[78,75,78,81],[81,7,81,18],[81,19,81,24],[81,25,81,35],[81,36,81,46],[81,47,81,57],[81,58,81,62],[81,2,81,4],[81,5,81,6],[79,75,79,81],[81,63,81,64],[81,65,81,69],[81,70,81,74],[81,75,81,81],[80,58,80,62],[80,63,80,64],[80,65,80,69],[80,70,80,74],[80,75,80,81],[78,7,78,18],[78,19,78,24],[78,25,78,35],[78,36,78,46],[78,47,78,57],[78,58,78,62],[78,63,78,64],[78,65,78,69],[78,70,78,74],[71,1,71,82],[72,1,72,82],[73,1,73,82],[74,1,80,1],[74,2,74,81],[74,82,80,82],[75,2,75,81],[76,2,76,6],[76,7,76,18],[76,75,76,81],[77,7,77,18],[77,19,77,24],[77,25,77,35],[77,36,77,46],[77,47,77,57],[77,58,77,62],[77,63,77,64],[77,65,77,69],[76,19,76,24],[76,25,76,35],[76,36,76,46],[76,47,76,57],[76,58,76,69],[77,75,77,81],[69,70,69,74],[69,75,69,78],[69,79,69,81],[70,2,70,6],[70,7,70,18],[70,19,70,24],[70,25,70,35],[70,36,70,46],[70,79,70,81],[70,47,70,57],[70,58,70,62],[70,63,70,64],[70,65,70,69],[70,70,70,74],[70,75,70,78],[69,2,69,6],[69,7,69,18],[69,19,69,24],[69,25,69,35],[69,36,69,46],[69,47,69,57],[69,58,69,62],[69,63,69,64],[69,65,69,69],[67,2,67,6],[67,7,67,18],[67,19,67,24],[67,25,67,35],[67,36,67,46],[67,79,67,81],[68,2,68,6],[68,7,68,18],[68,19,68,24],[68,25,68,35],[68,36,68,46],[68,47,68,57],[68,58,68,62],[68,63,68,64],[68,65,68,69],[67,47,67,57],[67,58,67,62],[67,63,67,64],[67,65,67,69],[67,70,67,74],[67,75,67,78],[68,70,68,74],[68,75,68,78],[68,79,68,81],[64,70,64,74],[64,75,64,78],[65,70,65,74],[65,75,65,78],[65,79,65,81],[66,2,66,6],[66,7,66,18],[66,19,66,24],[66,25,66,35],[66,36,66,46],[66,47,66,57],[66,58,66,62],[66,63,66,64],[66,65,66,69],[66,70,66,74],[66,75,66,78],[66,79,66,81],[65,25,65,35],[65,36,65,46],[65,47,65,57],[65,58,65,62],[65,63,65,64],[65,65,65,69],[64,47,64,57],[64,58,64,62],[64,63,64,64],[64,65,64,69],[60,1,60,82],[61,1,67,1],[61,2,61,81],[61,82,67,82],[62,2,62,81],[63,2,63,6],[63,7,63,18],[63,19,63,24],[63,25,63,35],[63,36,63,46],[63,47,63,57],[63,58,63,69],[63,70,63,74],[63,75,63,78],[63,79,63,81],[64,2,64,6],[64,7,64,18],[64,19,64,24],[64,25,64,35],[64,36,64,46],[64,79,64,81],[65,2,65,6],[65,7,65,18],[65,19,65,24],[27,77,27,81],[28,1,28,82],[59,1,59,82],[26,53,26,67],[26,69,26,73],[26,74,26,76],[26,77,26,81],[27,7,27,10],[27,12,27,16],[27,18,27,22],[27,24,27,33],[27,35,27,49],[27,50,27,52],[26,7,26,10],[26,12,26,16],[26,18,26,22],[26,24,26,33],[26,35,26,49],[26,50,26,52],[27,53,27,67],[27,69,27,73],[27,74,27,76],[23,50,23,52],[22,50,22,52],[22,53,22,67],[22,68,27,68],[24,53,24,67],[24,69,24,73],[24,74,24,76],[24,77,24,81],[25,53,25,67],[25,69,25,73],[25,74,25,76],[25,77,25,81],[25,7,25,10],[25,12,25,16],[25,18,25,22],[25,24,25,33],[25,35,25,49],[25,50,25,52],[24,7,24,10],[24,12,24,16],[24,18,24,22],[24,24,24,33],[24,35,24,49],[24,50,24,52],[21,2,21,81],[22,2,27,5],[22,6,27,6],[22,7,22,10],[22,11,27,11],[22,12,22,16],[22,69,22,73],[22,74,22,76],[22,77,22,81],[23,53,23,67],[23,69,23,73],[23,74,23,76],[23,77,23,81],[22,17,27,17],[22,18,22,22],[22,23,27,23],[22,24,22,33],[22,34,27,34],[22,35,22,49],[23,7,23,10],[23,12,23,16],[23,18,23,22],[23,24,23,33],[23,35,23,49],[20,7,20,10],[20,12,20,16],[20,18,20,22],[20,24,20,33],[20,35,20,49],[20,50,20,52],[20,53,20,67],[20,69,20,73],[20,74,20,76],[15,23,20,23],[15,24,15,33],[15,34,20,34],[15,35,15,49],[16,7,16,10],[16,12,16,16],[16,18,16,22],[16,24,16,33],[16,35,16,49],[18,7,18,10],[18,12,18,16],[18,18,18,22],[18,24,18,33],[18,35,18,49],[18,50,18,52],[17,7,17,10],[17,12,17,16],[17,18,17,22],[17,24,17,33],[17,35,17,49],[17,50,17,52],[15,12,15,16],[15,69,15,73],[15,74,15,76],[15,77,15,81],[16,53,16,67],[16,50,16,52],[15,50,15,52],[15,53,15,67],[15,68,20,68],[17,53,17,67],[17,69,17,73],[17,74,17,76],[17,77,17,81],[18,53,18,67],[18,69,18,73],[18,74,18,76],[18,77,18,81],[19,50,19,52],[19,53,19,67],[19,69,19,73],[19,74,19,76],[19,77,19,81],[20,77,20,81],[0,0,0,83],[1,1,1,82],[1,83,97,83],[2,1,2,82],[3,1,3,82],[4,1,7,1],[4,2,4,81],[4,82,7,82],[5,2,5,81],[6,2,6,13],[6,14,6,30],[6,31,6,47],[6,48,6,64],[6,65,6,81],[7,2,7,13],[7,14,7,30],[7,31,7,47],[7,48,7,64],[7,65,7,81],[19,7,19,10],[19,12,19,16],[19,18,19,22],[19,24,19,33],[19,35,19,49],[8,1,8,82],[9,1,9,82],[10,1,10,82],[11,1,27,1],[11,2,11,81],[16,69,16,73],[16,74,16,76],[16,77,16,81],[15,17,20,17],[15,18,15,22],[11,82,27,82],[12,2,12,81],[13,2,13,5],[13,7,13,10],[13,12,13,16],[13,18,13,22],[13,24,13,33],[13,35,13,67],[13,69,13,81],[14,2,14,81],[15,2,20,5],[15,6,20,6],[15,7,15,10],[15,11,20,11]]}
[]
[null,{"$f":"\"Turnier am \" & MID(CELL(\"dateiname\",A1),SEARCH(\"]\",CELL(\"dateiname\",A1))+1,31)","v":"Turnier am 28.10."}]
[]
[]
[null,null,"Spielerliste"]
[]
[null,null,{"$f":"\" Spieler\"","v":" Spieler"},null,null,null,null,null,null,null,null,null,null,null,"Spieler 1",null,null,null,null,null,null,null,null,null,null,null,null,null,null,null,null,"Spieler 2",null,null,null,null,null,null,null,null,null,null,null,null,null,null,null,null,"Spieler 3",null,null,null,null,null,null,null,null,null,null,null,null,null,null,null,null,"Spieler 4"]
[null,null,{"$f":"\" Name\"","v":" Name"},null,null,null,null,null,null,null,null,null,null,null,"Ratze",null,null,null,null,null,null,null,null,null,null,null,null,null,null,null,null,"Schmiddi",null,null,null,null,null,null,null,null,null,null,null,null,null,null,null,null,"Patrick",null,null,null,null,null,null,null,null,null,null,null,null,null,null,null,null,"Markus"]
[]
[]
[]
[null,null,"Spielplan"]
[]
[null,null,"00:12:00",null,null,null,null,"Spiel",null,null,null,null,"Datum",null,null,null,null,null,"Uhrzeit",null,null,null,null,null,"Austragungsort",null,null,null,null,null,null,null,null,null,null,"Paarung",null,null,null,null,null,null,null,null,null,null,null,null,null,null,null,null,null,null,null,null,null,null,null,null,null,null,null,null,null,null,null,null,null,"Ergebnis",null,null,null,null,null,null,null,null,null,null,null,null,null,null,"Spiele","SiegHeim","Unentschieden","SiegGast"]
[]
[null,null,"Hinrunde",null,null,null,null,1,null,null,null,null,{"$f":"MID(CELL(\"dateiname\",A1),SEARCH(\"]\",CELL(\"dateiname\",A1))+1,31)","v":"28.10."},null,null,null,null,null,"21:00:00",null,null,null,null,null,"Fernseher",null,null,null,null,null,null,null,null,null,null,{"$f":"$O$8","v":"Ratze"},null,null,null,null,null,null,null,null,null,null,null,null,null,null,":",null,null,{"$f":"$AF$8","v":"Schmiddi"},null,null,null,null,null,null,null,null,null,null,null,null,null,null,null,4,null,null,null,null,":",null,null,1,null,null,null,null,null,null,{"$f":"IF(AND(ISNUMBER(BR16),ISNUMBER(BZ16)),1,0)","v":1},{"$f":"IF(OR(ISBLANK(BR16),ISBLANK(BZ16)),0,IF(BR16>BZ16,1,0))","v":1},{"$f":"IF(OR(ISBLANK(BR16),ISBLANK(BZ16)),0,IF(BR16=BZ16,1,0))","v":0},{"$f":"IF(OR(ISBLANK(BR16),ISBLANK(BZ16)),0,IF(BR16<BZ16,1,0))","v":0}]
[null,null,null,null,null,null,null,{"$f":"H16+1","v":2},null,null,null,null,{"$f":"$M$16","v":"28.10."},null,null,null,null,null,{"$f":"S16","v":"21:00:00"},null,null,null,null,null,"Fernseher",null,null,null,null,null,null,null,null,null,null,{"$f":"$AW$8","v":"Patrick"},null,null,null,null,null,null,null,null,null,null,null,null,null,null,":",null,null,{"$f":"$BN$8","v":"Markus"},null,null,null,null,null,null,null,null,null,null,null,null,null,null,null,1,null,null,null,null,":",null,null,2,null,null,null,null,null,null,{"$f":"IF(AND(ISNUMBER(BR17),ISNUMBER(BZ17)),1,0)","v":1},{"$f":"IF(OR(ISBLANK(BR17),ISBLANK(BZ17)),0,IF(BR17>BZ17,1,0))","v":0},{"$f":"IF(OR(ISBLANK(BR17),ISBLANK(BZ17)),0,IF(BR17=BZ17,1,0))","v":0},{"$f":"IF(OR(ISBLANK(BR17),ISBLANK(BZ17)),0,IF(BR17<BZ17,1,0))","v":1}]
[null,null,null,null,null,null,null,{"$f":"H17+1","v":3},null,null,null,null,{"$f":"$M$16","v":"28.10."},null,null,null,null,null,{"$f":"S16+$C$14","v":"21:12:00"},null,null,null,null,null,{"$f":"$Y$16","v":"Fernseher"},null,null,null,null,null,null,null,null,null,null,{"$f":"$O$8","v":"Ratze"},null,null,null,null,null,null,null,null,null,null,null,null,null,null,":",null,null,{"$f":"$AW$8","v":"Patrick"},null,null,null,null,null,null,null,null,null,null,null,null,null,null,null,1,null,null,null,null,":",null,null,1,null,null,null,null,null,null,1,0,1,0]
[null,null,null,null,null,null,null,{"$f":"H18+1","v":4},null,null,null,null,"28.10.",null,null,null,null,null,{"$f":"S17+$C$14","v":"21:12:00"},null,null,null,null,null,{"$f":"$Y$17","v":"Fernseher"},null,null,null,null,null,null,null,null,null,null,{"$f":"$AF$8","v":"Schmiddi"},null,null,null,null,null,null,null,null,null,null,null,null,null,null,":",null,null,{"$f":"$BN$8","v":"Markus"},null,null,null,null,null,null,null,null,null,null,null,null,null,null,null,4,null,null,null,null,":",null,null,3,null,null,null,null,null,null,1,1,0,0]
[null,null,null,null,null,null,null,{"$f":"H19+1","v":5},null,null,null,null,"28.10.",null,null,null,null,null,{"$f":"S18+$C$14","v":"21:24:00"},null,null,null,null,null,{"$f":"$Y$16","v":"Fernseher"},null,null,null,null,null,null,null,null,null,null,{"$f":"$BN$8","v":"Markus"},null,null,null,null,null,null,null,null,null,null,null,null,null,null,":",null,null,{"$f":"$O$8","v":"Ratze"},null,null,null,null,null,null,null,null,null,null,null,null,null,null,null,1,null,null,null,null,":",null,null,2,null,null,null,null,null,null,1,0,0,1]
[null,null,null,null,null,null,null,{"$f":"H20+1","v":6},null,null,null,null,"28.10.",null,null,null,null,null,{"$f":"S19+$C$14","v":"21:24:00"},null,null,null,null,null,{"$f":"$Y$17","v":"Fernseher"},null,null,null,null,null,null,null,null,null,null,{"$f":"$AF$8","v":"Schmiddi"},null,null,null,null,null,null,null,null,null,null,null,null,null,null,":",null,null,{"$f":"$AW$8","v":"Patrick"},null,null,null,null,null,null,null,null,null,null,null,null,null,null,null,3,null,null,null,null,":",null,null,5,null,null,null,null,null,null,1,0,0,1]
[]
[null,null,"Rückrunde",null,null,null,null,{"$f":"H21+1","v":7},null,null,null,null,{"$f":"$M$16","v":"28.10."},null,null,null,null,null,{"$f":"S20+$C$14","v":"21:36:00"},null,null,null,null,null,{"$f":"$Y$17","v":"Fernseher"},null,null,null,null,null,null,null,null,null,null,{"$f":"$AF$8","v":"Schmiddi"},null,null,null,null,null,null,null,null,null,null,null,null,null,null,":",null,null,{"$f":"$O$8","v":"Ratze"},null,null,null,null,null,null,null,null,null,null,null,null,null,null,null,2,null,null,null,null,":",null,null,1,null,null,null,null,null,null,{"$f":"IF(AND(ISNUMBER(BR23),ISNUMBER(BZ23)),1,0)","v":1},{"$f":"IF(OR(ISBLANK(BR23),ISBLANK(BZ23)),0,IF(BR23>BZ23,1,0))","v":1},{"$f":"IF(OR(ISBLANK(BR23),ISBLANK(BZ23)),0,IF(BR23=BZ23,1,0))","v":0},{"$f":"IF(OR(ISBLANK(BR23),ISBLANK(BZ23)),0,IF(BR23<BZ23,1,0))","v":0}]
[null,null,null,null,null,null,null,{"$f":"H23+1","v":8},null,null,null,null,"28.10.",null,null,null,null,null,{"$f":"S21+$C$14","v":"21:36:00"},null,null,null,null,null,{"$f":"$Y$16","v":"Fernseher"},null,null,null,null,null,null,null,null,null,null,{"$f":"$BN$8","v":"Markus"},null,null,null,null,null,null,null,null,null,null,null,null,null,null,":",null,null,{"$f":"$AW$8","v":"Patrick"},null,null,null,null,null,null,null,null,null,null,null,null,null,null,null,2,null,null,null,null,":",null,null,1,null,null,null,null,null,null,1,1,0,0]
[null,null,null,null,null,null,null,{"$f":"H24+1","v":9},null,null,null,null,"28.10.",null,null,null,null,null,{"$f":"S23+$C$14","v":"21:48:00"},null,null,null,null,null,{"$f":"$Y$17","v":"Fernseher"},null,null,null,null,null,null,null,null,null,null,{"$f":"$AW$8","v":"Patrick"},null,null,null,null,null,null,null,null,null,null,null,null,null,null,":",null,null,{"$f":"$O$8","v":"Ratze"},null,null,null,null,null,null,null,null,null,null,null,null,null,null,null,0,null,null,null,null,":",null,null,1,null,null,null,null,null,null,1,0,0,1]
[null,null,null,null,null,null,null,{"$f":"H25+1","v":10},null,null,null,null,"28.10.",null,null,null,null,null,{"$f":"S24+$C$14","v":"21:48:00"},null,null,null,null,null,{"$f":"$Y$16","v":"Fernseher"},null,null,null,null,null,null,null,null,null,null,{"$f":"$BN$8","v":"Markus"},null,null,null,null,null,null,null,null,null,null,null,null,null,null,":",null,null,{"$f":"$AF$8","v":"Schmiddi"},null,null,null,null,null,null,null,null,null,null,null,null,null,null,null,2,null,null,null,null,":",null,null,3,null,null,null,null,null,null,1,0,0,1]
[null,null,null,null,null,null,null,{"$f":"H26+1","v":11},null,null,null,null,"28.10.",null,null,null,null,null,{"$f":"S25+$C$14","v":"22:00:00"},null,null,null,null,null,{"$f":"$Y$17","v":"Fernseher"},null,null,null,null,null,null,null,null,null,null,{"$f":"$O$8","v":"Ratze"},null,null,null,null,null,null,null,null,null,null,null,null,null,null,":",null,null,{"$f":"$BN$8","v":"Markus"},null,null,null,null,null,null,null,null,null,null,null,null,null,null,null,1,null,null,null,null,":",null,null,1,null,null,null,null,null,null,1,0,1,0]
[null,null,null,null,null,null,null,{"$f":"H27+1","v":12},null,null,null,null,"28.10.",null,null,null,null,null,{"$f":"S26+$C$14","v":"22:00:00"},null,null,null,null,null,{"$f":"$Y$16","v":"Fernseher"},null,null,null,null,null,null,null,null,null,null,{"$f":"$AW$8","v":"Patrick"},null,null,null,null,null,null,null,null,null,null,null,null,null,null,":",null,null,{"$f":"$AF$8","v":"Schmiddi"},null,null,null,null,null,null,null,null,null,null,null,null,null,null,null,3,null,null,null,null,":",null,null,3,null,null,null,null,null,null,1,0,1,0]
[]
[]
[]
[]
[]
[]
[]
[]
[]
[]
[]
[]
[]
[]
[]
[]
[]
[]
[]
[]
[]
[]
[]
[]
[]
[]
[]
[]
[]
[]
[]
[]
[]
[null,null,"Tabelle (unsortiert)"]
[]
[null,null,"Rang",null,null,null,null,"Spieler",null,null,null,null,null,null,null,null,null,null,null,"Spiele",null,null,null,null,null,"Siege",null,null,null,null,null,null,null,null,null,null,"Unentschieden",null,null,null,null,null,null,null,null,null,null,"Niederlagen",null,null,null,null,null,null,null,null,null,null,"Tore",null,null,null,null,null,null,null,null,null,null,null,"+/-",null,null,null,null,"Punkte",null,null,null,"HS"]
[null,null,{"$f":"IF(T65=0,0,RANK(BX65,$BX$65:$CA$68,0))","v":1},null,null,null,null,{"$f":"$O$8","v":"Ratze"},null,null,null,null,null,null,null,null,null,null,null,{"$f":"CG16+CG18+CG20+CG23+CG25+CG27","v":6},null,null,null,null,null,{"$f":"CH16+CH18+CJ20+CJ23+CJ25+CH27","v":3},null,null,null,null,null,null,null,null,null,null,{"$f":"CI16+CI18+CI20+CI23+CI25+CI27","v":2},null,null,null,null,null,null,null,null,null,null,{"$f":"CJ16+CJ18+CH20+CH23+CH25+CJ27","v":1},null,null,null,null,null,null,null,null,null,null,{"$f":"BR16+BR18+BZ20+BZ23+BZ25+BR27","v":10},null,null,null,null,":",null,{"$f":"BZ16+BZ18+BR20+BR23+BR25+BZ27","v":6},null,null,null,null,{"$f":"BG65-BN65","v":4},null,null,null,null,{"$f":"(Z65*3)+AK65","v":11},null,null,null,{"$f":"BX65+ROW()/1000","v":11.065}]
[null,null,{"$f":"IF(T66=0,0,RANK(BX66,$BX$65:$CA$68,0))","v":2},null,null,null,null,{"$f":"$AF$8","v":"Schmiddi"},null,null,null,null,null,null,null,null,null,null,null,{"$f":"CG16+CG19+CG21+CG23+CG26+CG28","v":6},null,null,null,null,null,{"$f":"CJ16+CH19+CH21+CH23+CJ26+CJ28","v":3},null,null,null,null,null,null,null,null,null,null,{"$f":"CI16+CI19+CI21+CI23+CI26+CI28","v":1},null,null,null,null,null,null,null,null,null,null,{"$f":"CH16+CJ19+CJ21+CJ23+CH26+CH28","v":2},null,null,null,null,null,null,null,null,null,null,{"$f":"BZ16+BR19+BR21+BR23+BZ26+BZ28","v":16},null,null,null,null,":",null,{"$f":"BR16+BZ19+BZ21+BZ23+BR26+BR28","v":18},null,null,null,null,{"$f":"BG66-BN66","v":-2},null,null,null,null,{"$f":"(Z66*3)+AK66","v":10},null,null,null,{"$f":"BX66+ROW()/1000","v":10.066000000000001}]
[null,null,{"$f":"IF(T67=0,0,RANK(BX67,$BX$65:$CA$68,0))","v":4},null,null,null,null,{"$f":"$AW$8","v":"Patrick"},null,null,null,null,null,null,null,null,null,null,null,{"$f":"CG17+CG18+CG21+CG24+CG25+CG28","v":6},null,null,null,null,null,{"$f":"CH17+CJ18+CJ21+CJ24+CH25+CH28","v":1},null,null,null,null,null,null,null,null,null,null,{"$f":"CI17+CI18+CI21+CI24+CI25+CI28","v":2},null,null,null,null,null,null,null,null,null,null,{"$f":"CJ17+CH18+CH21+CH24+CJ25+CJ28","v":3},null,null,null,null,null,null,null,null,null,null,{"$f":"BR17+BZ18+BZ21+BZ24+BR25+BR28","v":11},null,null,null,null,":",null,{"$f":"BZ17+BR18+BR21+BR24+BZ25+BZ28","v":12},null,null,null,null,{"$f":"BG67-BN67","v":-1},null,null,null,null,{"$f":"(Z67*3)+AK67","v":5},null,null,null,{"$f":"BX67+ROW()/1000","v":5.0670000000000002}]
[null,null,{"$f":"IF(T68=0,0,RANK(BX68,$BX$65:$CA$68,0))","v":3},null,null,null,null,{"$f":"$BN$8","v":"Markus"},null,null,null,null,null,null,null,null,null,null,null,{"$f":"CG17+CG19+CG20+CG24+CG26+CG27","v":6},null,null,null,null,null,{"$f":"CJ17+CJ19+CH20+CH24+CH26+CJ27","v":2},null,null,null,null,null,null,null,null,null,null,{"$f":"CI17+CI19+CI20+CI24+CI26+CI27","v":1},null,null,null,null,null,null,null,null,null,null,{"$f":"CH17+CH19+CJ20+CJ24+CJ26+CH27","v":3},null,null,null,null,null,null,null,null,null,null,{"$f":"BZ17+BZ19+BR20+BR24+BR26+BZ27","v":11},null,null,null,null,":",null,{"$f":"BR17+BR19+BZ20+BZ24+BZ26+BR27","v":12},null,null,null,null,{"$f":"BG68-BN68","v":-1},null,null,null,null,{"$f":"(Z68*3)+AK68","v":7},null,null,null,{"$f":"BX68+ROW()/1000","v":7.0679999999999996}]
[null,null,null,null,null,null,null,"Spieler 5",null,null,null,null,null,null,null,null,null,null,null,0,null,null,null,null,null,0,null,null,null,null,null,null,null,null,null,null,0,null,null,null,null,null,null,null,null,null,null,0,null,null,null,null,null,null,null,null,null,null,0,null,null,null,null,":",null,0,null,null,null,null,0,null,null,null,null,0,null,null,null,0]
[null,null,null,null,null,null,null,"Spieler 6",null,null,null,null,null,null,null,null,null,null,null,0,null,null,null,null,null,0,null,null,null,null,null,null,null,null,null,null,0,null,null,null,null,null,null,null,null,null,null,0,null,null,null,null,null,null,null,null,null,null,0,null,null,null,null,":",null,0,null,null,null,null,0,null,null,null,null,0,null,null,null,0]
[null,null,null,null,null,null,null,"Spieler 7",null,null,null,null,null,null,null,null,null,null,null,0,null,null,null,null,null,0,null,null,null,null,null,null,null,null,null,null,0,null,null,null,null,null,null,null,null,null,null,0,null,null,null,null,null,null,null,null,null,null,0,null,null,null,null,":",null,0,null,null,null,null,0,null,null,null,null,0,null,null,null,0]
[]
[]
[]
[null,null,"Tabelle"]
[]
[null,null,"Rang",null,null,null,null,"Spieler",null,null,null,null,null,null,null,null,null,null,null,"Spiele",null,null,null,null,null,"Siege",null,null,null,null,null,null,null,null,null,null,"Unentschieden",null,null,null,null,null,null,null,null,null,null,"Niederlagen",null,null,null,null,null,null,null,null,null,null,"Tore",null,null,null,null,null,null,null,null,null,null,null,"+/-",null,null,null,null,"Punkte"]
[null,null,{"$f":"INDEX($C$65:$C$68,MATCH(LARGE($CB$65:$CB$68,ROW(A1)),$CB$65:$CB$68,0),1)","v":1},null,null,1,null,{"$f":"INDEX($H$65:$H$68,MATCH(LARGE($CB$65:$CB$68,ROW(A1)),$CB$65:$CB$68,0),1)","v":"Ratze"},null,null,null,null,null,null,null,null,null,null,null,{"$f":"INDEX($T$65:$T$68,MATCH(LARGE($CB$65:$CB$68,ROW(A1)),$CB$65:$CB$68,0),1)","v":6},null,null,null,null,null,{"$f":"INDEX($Z$65:$Z$68,MATCH(LARGE($CB$65:$CB$68,ROW(A1)),$CB$65:$CB$68,0),1)","v":3},null,null,null,null,null,null,null,null,null,null,{"$f":"INDEX($AK$65:$AK$68,MATCH(LARGE($CB$65:$CB$68,ROW(A1)),$CB$65:$CB$68,0),1)","v":2},null,null,null,null,null,null,null,null,null,null,{"$f":"INDEX($AV$65:$AV$68,MATCH(LARGE($CB$65:$CB$68,ROW(A1)),$CB$65:$CB$68,0),1)","v":1},null,null,null,null,null,null,null,null,null,null,{"$f":"INDEX($BG$65:$BG$68,MATCH(LARGE($CB$65:$CB$68,ROW(A1)),$CB$65:$CB$68,0),1)","v":10},null,null,null,null,":",null,{"$f":"INDEX($BN$65:$BN$68,MATCH(LARGE($CB$65:$CB$68,ROW(A1)),$CB$65:$CB$68,0),1)","v":6},null,null,null,null,{"$f":"INDEX($BS$65:$BS$68,MATCH(LARGE($CB$65:$CB$68,ROW(A1)),$CB$65:$CB$68,0),1)","v":4},null,null,null,null,{"$f":"INDEX($BX$65:$BX$68,MATCH(LARGE($CB$65:$CB$68,ROW(A1)),$CB$65:$CB$68,0),1)","v":11}]
[null,null,{"$f":"INDEX($C$65:$C$68,MATCH(LARGE($CB$65:$CB$68,ROW(A2)),$CB$65:$CB$68,0),1)","v":2},null,null,2,null,{"$f":"INDEX($H$65:$H$68,MATCH(LARGE($CB$65:$CB$68,ROW(A2)),$CB$65:$CB$68,0),1)","v":"Schmiddi"},null,null,null,null,null,null,null,null,null,null,null,{"$f":"INDEX($T$65:$T$68,MATCH(LARGE($CB$65:$CB$68,ROW(A2)),$CB$65:$CB$68,0),1)","v":6},null,null,null,null,null,{"$f":"INDEX($Z$65:$Z$68,MATCH(LARGE($CB$65:$CB$68,ROW(A2)),$CB$65:$CB$68,0),1)","v":3},null,null,null,null,null,null,null,null,null,null,{"$f":"INDEX($AK$65:$AK$68,MATCH(LARGE($CB$65:$CB$68,ROW(A2)),$CB$65:$CB$68,0),1)","v":1},null,null,null,null,null,null,null,null,null,null,{"$f":"INDEX($AV$65:$AV$68,MATCH(LARGE($CB$65:$CB$68,ROW(A2)),$CB$65:$CB$68,0),1)","v":2},null,null,null,null,null,null,null,null,null,null,{"$f":"INDEX($BG$65:$BG$68,MATCH(LARGE($CB$65:$CB$68,ROW(A2)),$CB$65:$CB$68,0),1)","v":16},null,null,null,null,":",null,{"$f":"INDEX($BN$65:$BN$68,MATCH(LARGE($CB$65:$CB$68,ROW(A2)),$CB$65:$CB$68,0),1)","v":18},null,null,null,null,{"$f":"INDEX($BS$65:$BS$68,MATCH(LARGE($CB$65:$CB$68,ROW(A2)),$CB$65:$CB$68,0),1)","v":-2},null,null,null,null,{"$f":"INDEX($BX$65:$BX$68,MATCH(LARGE($CB$65:$CB$68,ROW(A2)),$CB$65:$CB$68,0),1)","v":10}]
[null,null,{"$f":"INDEX($C$65:$C$68,MATCH(LARGE($CB$65:$CB$68,ROW(A3)),$CB$65:$CB$68,0),1)","v":3},null,null,3,null,{"$f":"INDEX($H$65:$H$68,MATCH(LARGE($CB$65:$CB$68,ROW(A3)),$CB$65:$CB$68,0),1)","v":"Markus"},null,null,null,null,null,null,null,null,null,null,null,{"$f":"INDEX($T$65:$T$68,MATCH(LARGE($CB$65:$CB$68,ROW(A3)),$CB$65:$CB$68,0),1)","v":6},null,null,null,null,null,{"$f":"INDEX($Z$65:$Z$68,MATCH(LARGE($CB$65:$CB$68,ROW(A3)),$CB$65:$CB$68,0),1)","v":2},null,null,null,null,null,null,null,null,null,null,{"$f":"INDEX($AK$65:$AK$68,MATCH(LARGE($CB$65:$CB$68,ROW(A3)),$CB$65:$CB$68,0),1)","v":1},null,null,null,null,null,null,null,null,null,null,{"$f":"INDEX($AV$65:$AV$68,MATCH(LARGE($CB$65:$CB$68,ROW(A3)),$CB$65:$CB$68,0),1)","v":3},null,null,null,null,null,null,null,null,null,null,{"$f":"INDEX($BG$65:$BG$68,MATCH(LARGE($CB$65:$CB$68,ROW(A3)),$CB$65:$CB$68,0),1)","v":11},null,null,null,null,":",null,{"$f":"INDEX($BN$65:$BN$68,MATCH(LARGE($CB$65:$CB$68,ROW(A3)),$CB$65:$CB$68,0),1)","v":12},null,null,null,null,{"$f":"INDEX($BS$65:$BS$68,MATCH(LARGE($CB$65:$CB$68,ROW(A3)),$CB$65:$CB$68,0),1)","v":-1},null,null,null,null,{"$f":"INDEX($BX$65:$BX$68,MATCH(LARGE($CB$65:$CB$68,ROW(A3)),$CB$65:$CB$68,0),1)","v":7}]
[null,null,{"$f":"INDEX($C$65:$C$68,MATCH(LARGE($CB$65:$CB$68,ROW(A4)),$CB$65:$CB$68,0),1)","v":4},null,null,4,null,{"$f":"INDEX($H$65:$H$68,MATCH(LARGE($CB$65:$CB$68,ROW(A4)),$CB$65:$CB$68,0),1)","v":"Patrick"},null,null,null,null,null,null,null,null,null,null,null,{"$f":"INDEX($T$65:$T$68,MATCH(LARGE($CB$65:$CB$68,ROW(A4)),$CB$65:$CB$68,0),1)","v":6},null,null,null,null,null,{"$f":"INDEX($Z$65:$Z$68,MATCH(LARGE($CB$65:$CB$68,ROW(A4)),$CB$65:$CB$68,0),1)","v":1},null,null,null,null,null,null,null,null,null,null,{"$f":"INDEX($AK$65:$AK$68,MATCH(LARGE($CB$65:$CB$68,ROW(A4)),$CB$65:$CB$68,0),1)","v":2},null,null,null,null,null,null,null,null,null,null,{"$f":"INDEX($AV$65:$AV$68,MATCH(LARGE($CB$65:$CB$68,ROW(A4)),$CB$65:$CB$68,0),1)","v":3},null,null,null,null,null,null,null,null,null,null,{"$f":"INDEX($BG$65:$BG$68,MATCH(LARGE($CB$65:$CB$68,ROW(A4)),$CB$65:$CB$68,0),1)","v":11},null,null,null,null,":",null,{"$f":"INDEX($BN$65:$BN$68,MATCH(LARGE($CB$65:$CB$68,ROW(A4)),$CB$65:$CB$68,0),1)","v":12},null,null,null,null,{"$f":"INDEX($BS$65:$BS$68,MATCH(LARGE($CB$65:$CB$68,ROW(A4)),$CB$65:$CB$68,0),1)","v":-1},null,null,null,null,{"$f":"INDEX($BX$65:$BX$68,MATCH(LARGE($CB$65:$CB$68,ROW(A4)),$CB$65:$CB$68,0),1)","v":5}]
[null,null,"---",null,null,"---",null,"Spieler 5",null,null,null,null,null,null,null,null,null,null,null,0,null,null,null,null,null,0,null,null,null,null,null,null,null,null,null,null,0,null,null,null,null,null,null,null,null,null,null,0,null,null,null,null,null,null,null,null,null,null,0,null,null,null,null,":",null,0,null,null,null,null,0,null,null,null,null,0]
[null,null,"---",null,null,"---",null,"Spieler 6",null,null,null,null,null,null,null,null,null,null,null,0,null,null,null,null,null,0,null,null,null,null,null,null,null,null,null,null,0,null,null,null,null,null,null,null,null,null,null,0,null,null,null,null,null,null,null,null,null,null,0,null,null,null,null,":",null,0,null,null,null,null,0,null,null,null,null,0]
[null,null,"---",null,null,"---",null,"Spieler 7",null,null,null,null,null,null,null,null,null,null,null,0,null,null,null,null,null,0,null,null,null,null,null,null,null,null,null,null,0,null,null,null,null,null,null,null,null,null,null,0,null,null,null,null,null,null,null,null,null,null,0,null,null,null,null,":",null,0,null,null,null,null,0,null,null,null,null,0]
[]
[]
[]
[null,null,"Tabelle (nach Alphabet)"]
[]
[null,null,"Rang",null,null,null,null,"Spieler",null,null,null,null,null,null,null,null,null,null,null,"Spiele",null,null,null,null,null,"Siege",null,null,null,null,null,null,null,null,null,null,"Unentschieden",null,null,null,null,null,null,null,null,null,null,"Niederlagen",null,null,null,null,null,null,null,null,null,null,"Tore",null,null,null,null,null,null,null,null,null,null,null,"+/-",null,null,null,null,"Punkte"]
[null,null,{"$f":"IF($H$78=\"Basti\",$F$78,IF($H$79=\"Basti\",$F$79,IF($H$80=\"Basti\",$F$80,IF($H$81=\"Basti\",$F$81,IF($H$82=\"Basti\",$F$82,IF($H$83=\"Basti\",$F$83,IF($H$84=\"Basti\",$F$84,0)))))))","v":0},null,null,null,null,"Basti",null,null,null,null,null,null,null,null,null,null,null,{"$f":"IF($H$78=\"Basti\",$T$78,IF($H$79=\"Basti\",$T$79,IF($H$80=\"Basti\",$T$80,IF($H$81=\"Basti\",$T$81,IF($H$82=\"Basti\",$T$82,IF($H$83=\"Basti\",$T$83,IF($H$84=\"Basti\",$T$84,0)))))))","v":0},null,null,null,null,null,{"$f":"IF($H$78=\"Basti\",$Z$78,IF($H$79=\"Basti\",$Z$79,IF($H$80=\"Basti\",$Z$80,IF($H$81=\"Basti\",$Z$81,IF($H$82=\"Basti\",$Z$82,IF($H$83=\"Basti\",$Z$83,IF($H$84=\"Basti\",$Z$84,0)))))))","v":0},null,null,null,null,null,null,null,null,null,null,{"$f":"IF($H$78=\"Basti\",$AK$78,IF($H$79=\"Basti\",$AK$79,IF($H$80=\"Basti\",$AK$80,IF($H$81=\"Basti\",$AK$81,IF($H$82=\"Basti\",$AK$82,IF($H$83=\"Basti\",$AK$83,IF($H$84=\"Basti\",$AK$84,0)))))))","v":0},null,null,null,null,null,null,null,null,null,null,{"$f":"IF($H$78=\"Basti\",$AV$78,IF($H$79=\"Basti\",$AV$79,IF($H$80=\"Basti\",$AV$80,IF($H$81=\"Basti\",$AV$81,IF($H$82=\"Basti\",$AV$82,IF($H$83=\"Basti\",$AV$83,IF($H$84=\"Basti\",$AV$84,0)))))))","v":0},null,null,null,null,null,null,null,null,null,null,{"$f":"IF($H$78=\"Basti\",$BG$78,IF($H$79=\"Basti\",$BG$79,IF($H$80=\"Basti\",$BG$80,IF($H$81=\"Basti\",$BG$81,IF($H$82=\"Basti\",$BG$82,IF($H$83=\"Basti\",$BG$83,IF($H$84=\"Basti\",$BG$84,0)))))))","v":0},null,null,null,null,":",null,{"$f":"IF($H$78=\"Basti\",$BN$78,IF($H$79=\"Basti\",$BN$79,IF($H$80=\"Basti\",$BN$80,IF($H$81=\"Basti\",$BN$81,IF($H$82=\"Basti\",$BN$82,IF($H$83=\"Basti\",$BN$83,IF($H$84=\"Basti\",$BN$84,0)))))))","v":0},null,null,null,null,{"$f":"IF($H$78=\"Basti\",$BS$78,IF($H$79=\"Basti\",$BS$79,IF($H$80=\"Basti\",$BS$80,IF($H$81=\"Basti\",$BS$81,IF($H$82=\"Basti\",$BS$82,IF($H$83=\"Basti\",$BS$83,IF($H$84=\"Basti\",$BS$84,0)))))))","v":0},null,null,null,null,{"$f":"IF($H$78=\"Basti\",$BX$78,IF($H$79=\"Basti\",$BX$79,IF($H$80=\"Basti\",$BX$80,IF($H$81=\"Basti\",$BX$81,IF($H$82=\"Basti\",$BX$82,IF($H$83=\"Basti\",$BX$83,IF($H$84=\"Basti\",$BX$84,0)))))))","v":0}]
[null,null,{"$f":"IF($H$78=\"Christoph\",$F$78,IF($H$79=\"Christoph\",$F$79,IF($H$80=\"Christoph\",$F$80,IF($H$81=\"Christoph\",$F$81,IF($H$82=\"Christoph\",$F$82,IF($H$83=\"Christoph\",$F$83,IF($H$84=\"Christoph\",$F$84,0)))))))","v":0},null,null,null,null,"Christoph",null,null,null,null,null,null,null,null,null,null,null,{"$f":"IF($H$78=\"Christoph\",$T$78,IF($H$79=\"Christoph\",$T$79,IF($H$80=\"Christoph\",$T$80,IF($H$81=\"Christoph\",$T$81,IF($H$82=\"Christoph\",$T$82,IF($H$83=\"Christoph\",$T$83,IF($H$84=\"Christoph\",$T$84,0)))))))","v":0},null,null,null,null,null,{"$f":"IF($H$78=\"Christoph\",$Z$78,IF($H$79=\"Christoph\",$Z$79,IF($H$80=\"Christoph\",$Z$80,IF($H$81=\"Christoph\",$Z$81,IF($H$82=\"Christoph\",$Z$82,IF($H$83=\"Christoph\",$Z$83,IF($H$84=\"Christoph\",$Z$84,0)))))))","v":0},null,null,null,null,null,null,null,null,null,null,{"$f":"IF($H$78=\"Christoph\",$AK$78,IF($H$79=\"Christoph\",$AK$79,IF($H$80=\"Christoph\",$AK$80,IF($H$81=\"Christoph\",$AK$81,IF($H$82=\"Christoph\",$AK$82,IF($H$83=\"Christoph\",$AK$83,IF($H$84=\"Christoph\",$AK$84,0)))))))","v":0},null,null,null,null,null,null,null,null,null,null,{"$f":"IF($H$78=\"Christoph\",$AV$78,IF($H$79=\"Christoph\",$AV$79,IF($H$80=\"Christoph\",$AV$80,IF($H$81=\"Christoph\",$AV$81,IF($H$82=\"Christoph\",$AV$82,IF($H$83=\"Christoph\",$AV$83,IF($H$84=\"Christoph\",$AV$84,0)))))))","v":0},null,null,null,null,null,null,null,null,null,null,{"$f":"IF($H$78=\"Christoph\",$BG$78,IF($H$79=\"Christoph\",$BG$79,IF($H$80=\"Christoph\",$BG$80,IF($H$81=\"Christoph\",$BG$81,IF($H$82=\"Christoph\",$BG$82,IF($H$83=\"Christoph\",$BG$83,IF($H$84=\"Christoph\",$BG$84,0)))))))","v":0},null,null,null,null,":",null,{"$f":"IF($H$78=\"Christoph\",$BN$78,IF($H$79=\"Christoph\",$BN$79,IF($H$80=\"Christoph\",$BN$80,IF($H$81=\"Christoph\",$BN$81,IF($H$82=\"Christoph\",$BN$82,IF($H$83=\"Christoph\",$BN$83,IF($H$84=\"Christoph\",$BN$84,0)))))))","v":0},null,null,null,null,{"$f":"IF($H$78=\"Christoph\",$BS$78,IF($H$79=\"Christoph\",$BS$79,IF($H$80=\"Christoph\",$BS$80,IF($H$81=\"Christoph\",$BS$81,IF($H$82=\"Christoph\",$BS$82,IF($H$83=\"Christoph\",$BS$83,IF($H$84=\"Christoph\",$BS$84,0)))))))","v":0},null,null,null,null,{"$f":"IF($H$78=\"Christoph\",$BX$78,IF($H$79=\"Christoph\",$BX$79,IF($H$80=\"Christoph\",$BX$80,IF($H$81=\"Christoph\",$BX$81,IF($H$82=\"Christoph\",$BX$82,IF($H$83=\"Christoph\",$BX$83,IF($H$84=\"Christoph\",$BX$84,0)))))))","v":0}]
[null,null,{"$f":"IF($H$78=\"Jule\",$F$78,IF($H$79=\"Jule\",$F$79,IF($H$80=\"Jule\",$F$80,IF($H$81=\"Jule\",$F$81,IF($H$82=\"Jule\",$F$82,IF($H$83=\"Jule\",$F$83,IF($H$84=\"Jule\",$F$84,0)))))))","v":0},null,null,null,null,"Jule",null,null,null,null,null,null,null,null,null,null,null,{"$f":"IF($H$78=\"Jule\",$T$78,IF($H$79=\"Jule\",$T$79,IF($H$80=\"Jule\",$T$80,IF($H$81=\"Jule\",$T$81,IF($H$82=\"Jule\",$T$82,IF($H$83=\"Jule\",$T$83,IF($H$84=\"Jule\",$T$84,0)))))))","v":0},null,null,null,null,null,{"$f":"IF($H$78=\"Jule\",$Z$78,IF($H$79=\"Jule\",$Z$79,IF($H$80=\"Jule\",$Z$80,IF($H$81=\"Jule\",$Z$81,IF($H$82=\"Jule\",$Z$82,IF($H$83=\"Jule\",$Z$83,IF($H$84=\"Jule\",$Z$84,0)))))))","v":0},null,null,null,null,null,null,null,null,null,null,{"$f":"IF($H$78=\"Jule\",$AK$78,IF($H$79=\"Jule\",$AK$79,IF($H$80=\"Jule\",$AK$80,IF($H$81=\"Jule\",$AK$81,IF($H$82=\"Jule\",$AK$82,IF($H$83=\"Jule\",$AK$83,IF($H$84=\"Jule\",$AK$84,0)))))))","v":0},null,null,null,null,null,null,null,null,null,null,{"$f":"IF($H$78=\"Jule\",$AV$78,IF($H$79=\"Jule\",$AV$79,IF($H$80=\"Jule\",$AV$80,IF($H$81=\"Jule\",$AV$81,IF($H$82=\"Jule\",$AV$82,IF($H$83=\"Jule\",$AV$83,IF($H$84=\"Jule\",$AV$84,0)))))))","v":0},null,null,null,null,null,null,null,null,null,null,{"$f":"IF($H$78=\"Jule\",$BG$78,IF($H$79=\"Jule\",$BG$79,IF($H$80=\"Jule\",$BG$80,IF($H$81=\"Jule\",$BG$81,IF($H$82=\"Jule\",$BG$82,IF($H$83=\"Jule\",$BG$83,IF($H$84=\"Jule\",$BG$84,0)))))))","v":0},null,null,null,null,":",null,{"$f":"IF($H$78=\"Jule\",$BN$78,IF($H$79=\"Jule\",$BN$79,IF($H$80=\"Jule\",$BN$80,IF($H$81=\"Jule\",$BN$81,IF($H$82=\"Jule\",$BN$82,IF($H$83=\"Jule\",$BN$83,IF($H$84=\"Jule\",$BN$84,0)))))))","v":0},null,null,null,null,{"$f":"IF($H$78=\"Jule\",$BS$78,IF($H$79=\"Jule\",$BS$79,IF($H$80=\"Jule\",$BS$80,IF($H$81=\"Jule\",$BS$81,IF($H$82=\"Jule\",$BS$82,IF($H$83=\"Jule\",$BS$83,IF($H$84=\"Jule\",$BS$84,0)))))))","v":0},null,null,null,null,{"$f":"IF($H$78=\"Jule\",$BX$78,IF($H$79=\"Jule\",$BX$79,IF($H$80=\"Jule\",$BX$80,IF($H$81=\"Jule\",$BX$81,IF($H$82=\"Jule\",$BX$82,IF($H$83=\"Jule\",$BX$83,IF($H$84=\"Jule\",$BX$84,0)))))))","v":0}]
[null,null,{"$f":"IF($H$78=\"Markus\",$F$78,IF($H$79=\"Markus\",$F$79,IF($H$80=\"Markus\",$F$80,IF($H$81=\"Markus\",$F$81,IF($H$82=\"Markus\",$F$82,IF($H$83=\"Markus\",$F$83,IF($H$84=\"Markus\",$F$84,0)))))))","v":3},null,null,null,null,"Markus",null,null,null,null,null,null,null,null,null,null,null,{"$f":"IF($H$78=\"Markus\",$T$78,IF($H$79=\"Markus\",$T$79,IF($H$80=\"Markus\",$T$80,IF($H$81=\"Markus\",$T$81,IF($H$82=\"Markus\",$T$82,IF($H$83=\"Markus\",$T$83,IF($H$84=\"Markus\",$T$84,0)))))))","v":6},null,null,null,null,null,{"$f":"IF($H$78=\"Markus\",$Z$78,IF($H$79=\"Markus\",$Z$79,IF($H$80=\"Markus\",$Z$80,IF($H$81=\"Markus\",$Z$81,IF($H$82=\"Markus\",$Z$82,IF($H$83=\"Markus\",$Z$83,IF($H$84=\"Markus\",$Z$84,0)))))))","v":2},null,null,null,null,null,null,null,null,null,null,{"$f":"IF($H$78=\"Markus\",$AK$78,IF($H$79=\"Markus\",$AK$79,IF($H$80=\"Markus\",$AK$80,IF($H$81=\"Markus\",$AK$81,IF($H$82=\"Markus\",$AK$82,IF($H$83=\"Markus\",$AK$83,IF($H$84=\"Markus\",$AK$84,0)))))))","v":1},null,null,null,null,null,null,null,null,null,null,{"$f":"IF($H$78=\"Markus\",$AV$78,IF($H$79=\"Markus\",$AV$79,IF($H$80=\"Markus\",$AV$80,IF($H$81=\"Markus\",$AV$81,IF($H$82=\"Markus\",$AV$82,IF($H$83=\"Markus\",$AV$83,IF($H$84=\"Markus\",$AV$84,0)))))))","v":3},null,null,null,null,null,null,null,null,null,null,{"$f":"IF($H$78=\"Markus\",$BG$78,IF($H$79=\"Markus\",$BG$79,IF($H$80=\"Markus\",$BG$80,IF($H$81=\"Markus\",$BG$81,IF($H$82=\"Markus\",$BG$82,IF($H$83=\"Markus\",$BG$83,IF($H$84=\"Markus\",$BG$84,0)))))))","v":11},null,null,null,null,":",null,{"$f":"IF($H$78=\"Markus\",$BN$78,IF($H$79=\"Markus\",$BN$79,IF($H$80=\"Markus\",$BN$80,IF($H$81=\"Markus\",$BN$81,IF($H$82=\"Markus\",$BN$82,IF($H$83=\"Markus\",$BN$83,IF($H$84=\"Markus\",$BN$84,0)))))))","v":12},null,null,null,null,{"$f":"IF($H$78=\"Markus\",$BS$78,IF($H$79=\"Markus\",$BS$79,IF($H$80=\"Markus\",$BS$80,IF($H$81=\"Markus\",$BS$81,IF($H$82=\"Markus\",$BS$82,IF($H$83=\"Markus\",$BS$83,IF($H$84=\"Markus\",$BS$84,0)))))))","v":-1},null,null,null,null,{"$f":"IF($H$78=\"Markus\",$BX$78,IF($H$79=\"Markus\",$BX$79,IF($H$80=\"Markus\",$BX$80,IF($H$81=\"Markus\",$BX$81,IF($H$82=\"Markus\",$BX$82,IF($H$83=\"Markus\",$BX$83,IF($H$84=\"Markus\",$BX$84,0)))))))","v":7}]
[null,null,{"$f":"IF($H$78=\"Patrick\",$F$78,IF($H$79=\"Patrick\",$F$79,IF($H$80=\"Patrick\",$F$80,IF($H$81=\"Patrick\",$F$81,IF($H$82=\"Patrick\",$F$82,IF($H$83=\"Patrick\",$F$83,IF($H$84=\"Patrick\",$F$84,0)))))))","v":4},null,null,null,null,"Patrick",null,null,null,null,null,null,null,null,null,null,null,{"$f":"IF($H$78=\"Patrick\",$T$78,IF($H$79=\"Patrick\",$T$79,IF($H$80=\"Patrick\",$T$80,IF($H$81=\"Patrick\",$T$81,IF($H$82=\"Patrick\",$T$82,IF($H$83=\"Patrick\",$T$83,IF($H$84=\"Patrick\",$T$84,0)))))))","v":6},null,null,null,null,null,{"$f":"IF($H$78=\"Patrick\",$Z$78,IF($H$79=\"Patrick\",$Z$79,IF($H$80=\"Patrick\",$Z$80,IF($H$81=\"Patrick\",$Z$81,IF($H$82=\"Patrick\",$Z$82,IF($H$83=\"Patrick\",$Z$83,IF($H$84=\"Patrick\",$Z$84,0)))))))","v":1},null,null,null,null,null,null,null,null,null,null,{"$f":"IF($H$78=\"Patrick\",$AK$78,IF($H$79=\"Patrick\",$AK$79,IF($H$80=\"Patrick\",$AK$80,IF($H$81=\"Patrick\",$AK$81,IF($H$82=\"Patrick\",$AK$82,IF($H$83=\"Patrick\",$AK$83,IF($H$84=\"Patrick\",$AK$84,0)))))))","v":2},null,null,null,null,null,null,null,null,null,null,{"$f":"IF($H$78=\"Patrick\",$AV$78,IF($H$79=\"Patrick\",$AV$79,IF($H$80=\"Patrick\",$AV$80,IF($H$81=\"Patrick\",$AV$81,IF($H$82=\"Patrick\",$AV$82,IF($H$83=\"Patrick\",$AV$83,IF($H$84=\"Patrick\",$AV$84,0)))))))","v":3},null,null,null,null,null,null,null,null,null,null,{"$f":"IF($H$78=\"Patrick\",$BG$78,IF($H$79=\"Patrick\",$BG$79,IF($H$80=\"Patrick\",$BG$80,IF($H$81=\"Patrick\",$BG$81,IF($H$82=\"Patrick\",$BG$82,IF($H$83=\"Patrick\",$BG$83,IF($H$84=\"Patrick\",$BG$84,0)))))))","v":11},null,null,null,null,":",null,{"$f":"IF($H$78=\"Patrick\",$BN$78,IF($H$79=\"Patrick\",$BN$79,IF($H$80=\"Patrick\",$BN$80,IF($H$81=\"Patrick\",$BN$81,IF($H$82=\"Patrick\",$BN$82,IF($H$83=\"Patrick\",$BN$83,IF($H$84=\"Patrick\",$BN$84,0)))))))","v":12},null,null,null,null,{"$f":"IF($H$78=\"Patrick\",$BS$78,IF($H$79=\"Patrick\",$BS$79,IF($H$80=\"Patrick\",$BS$80,IF($H$81=\"Patrick\",$BS$81,IF($H$82=\"Patrick\",$BS$82,IF($H$83=\"Patrick\",$BS$83,IF($H$84=\"Patrick\",$BS$84,0)))))))","v":-1},null,null,null,null,{"$f":"IF($H$78=\"Patrick\",$BX$78,IF($H$79=\"Patrick\",$BX$79,IF($H$80=\"Patrick\",$BX$80,IF($H$81=\"Patrick\",$BX$81,IF($H$82=\"Patrick\",$BX$82,IF($H$83=\"Patrick\",$BX$83,IF($H$84=\"Patrick\",$BX$84,0)))))))","v":5}]
[null,null,{"$f":"IF($H$78=\"Ratze\",$F$78,IF($H$79=\"Ratze\",$F$79,IF($H$80=\"Ratze\",$F$80,IF($H$81=\"Ratze\",$F$81,IF($H$82=\"Ratze\",$F$82,IF($H$83=\"Ratze\",$F$83,IF($H$84=\"Ratze\",$F$84,0)))))))","v":1},null,null,null,null,"Ratze",null,null,null,null,null,null,null,null,null,null,null,{"$f":"IF($H$78=\"Ratze\",$T$78,IF($H$79=\"Ratze\",$T$79,IF($H$80=\"Ratze\",$T$80,IF($H$81=\"Ratze\",$T$81,IF($H$82=\"Ratze\",$T$82,IF($H$83=\"Ratze\",$T$83,IF($H$84=\"Ratze\",$T$84,0)))))))","v":6},null,null,null,null,null,{"$f":"IF($H$78=\"Ratze\",$Z$78,IF($H$79=\"Ratze\",$Z$79,IF($H$80=\"Ratze\",$Z$80,IF($H$81=\"Ratze\",$Z$81,IF($H$82=\"Ratze\",$Z$82,IF($H$83=\"Ratze\",$Z$83,IF($H$84=\"Ratze\",$Z$84,0)))))))","v":3},null,null,null,null,null,null,null,null,null,null,{"$f":"IF($H$78=\"Ratze\",$AK$78,IF($H$79=\"Ratze\",$AK$79,IF($H$80=\"Ratze\",$AK$80,IF($H$81=\"Ratze\",$AK$81,IF($H$82=\"Ratze\",$AK$82,IF($H$83=\"Ratze\",$AK$83,IF($H$84=\"Ratze\",$AK$84,0)))))))","v":2},null,null,null,null,null,null,null,null,null,null,{"$f":"IF($H$78=\"Ratze\",$AV$78,IF($H$79=\"Ratze\",$AV$79,IF($H$80=\"Ratze\",$AV$80,IF($H$81=\"Ratze\",$AV$81,IF($H$82=\"Ratze\",$AV$82,IF($H$83=\"Ratze\",$AV$83,IF($H$84=\"Ratze\",$AV$84,0)))))))","v":1},null,null,null,null,null,null,null,null,null,null,{"$f":"IF($H$78=\"Ratze\",$BG$78,IF($H$79=\"Ratze\",$BG$79,IF($H$80=\"Ratze\",$BG$80,IF($H$81=\"Ratze\",$BG$81,IF($H$82=\"Ratze\",$BG$82,IF($H$83=\"Ratze\",$BG$83,IF($H$84=\"Ratze\",$BG$84,0)))))))","v":10},null,null,null,null,":",null,{"$f":"IF($H$78=\"Ratze\",$BN$78,IF($H$79=\"Ratze\",$BN$79,IF($H$80=\"Ratze\",$BN$80,IF($H$81=\"Ratze\",$BN$81,IF($H$82=\"Ratze\",$BN$82,IF($H$83=\"Ratze\",$BN$83,IF($H$84=\"Ratze\",$BN$84,0)))))))","v":6},null,null,null,null,{"$f":"IF($H$78=\"Ratze\",$BS$78,IF($H$79=\"Ratze\",$BS$79,IF($H$80=\"Ratze\",$BS$80,IF($H$81=\"Ratze\",$BS$81,IF($H$82=\"Ratze\",$BS$82,IF($H$83=\"Ratze\",$BS$83,IF($H$84=\"Ratze\",$BS$84,0)))))))","v":4},null,null,null,null,{"$f":"IF($H$78=\"Ratze\",$BX$78,IF($H$79=\"Ratze\",$BX$79,IF($H$80=\"Ratze\",$BX$80,IF($H$81=\"Ratze\",$BX$81,IF($H$82=\"Ratze\",$BX$82,IF($H$83=\"Ratze\",$BX$83,IF($H$84=\"Ratze\",$BX$84,0)))))))","v":11}]
[null,null,{"$f":"IF($H$78=\"Schmiddi\",$F$78,IF($H$79=\"Schmiddi\",$F$79,IF($H$80=\"Schmiddi\",$F$80,IF($H$81=\"Schmiddi\",$F$81,IF($H$82=\"Schmiddi\",$F$82,IF($H$83=\"Schmiddi\",$F$83,IF($H$84=\"Schmiddi\",$F$84,0)))))))","v":2},null,null,null,null,"Schmiddi",null,null,null,null,null,null,null,null,null,null,null,{"$f":"IF($H$78=\"Schmiddi\",$T$78,IF($H$79=\"Schmiddi\",$T$79,IF($H$80=\"Schmiddi\",$T$80,IF($H$81=\"Schmiddi\",$T$81,IF($H$82=\"Schmiddi\",$T$82,IF($H$83=\"Schmiddi\",$T$83,IF($H$84=\"Schmiddi\",$T$84,0)))))))","v":6},null,null,null,null,null,{"$f":"IF($H$78=\"Schmiddi\",$Z$78,IF($H$79=\"Schmiddi\",$Z$79,IF($H$80=\"Schmiddi\",$Z$80,IF($H$81=\"Schmiddi\",$Z$81,IF($H$82=\"Schmiddi\",$Z$82,IF($H$83=\"Schmiddi\",$Z$83,IF($H$84=\"Schmiddi\",$Z$84,0)))))))","v":3},null,null,null,null,null,null,null,null,null,null,{"$f":"IF($H$78=\"Schmiddi\",$AK$78,IF($H$79=\"Schmiddi\",$AK$79,IF($H$80=\"Schmiddi\",$AK$80,IF($H$81=\"Schmiddi\",$AK$81,IF($H$82=\"Schmiddi\",$AK$82,IF($H$83=\"Schmiddi\",$AK$83,IF($H$84=\"Schmiddi\",$AK$84,0)))))))","v":1},null,null,null,null,null,null,null,null,null,null,{"$f":"IF($H$78=\"Schmiddi\",$AV$78,IF($H$79=\"Schmiddi\",$AV$79,IF($H$80=\"Schmiddi\",$AV$80,IF($H$81=\"Schmiddi\",$AV$81,IF($H$82=\"Schmiddi\",$AV$82,IF($H$83=\"Schmiddi\",$AV$83,IF($H$84=\"Schmiddi\",$AV$84,0)))))))","v":2},null,null,null,null,null,null,null,null,null,null,{"$f":"IF($H$78=\"Schmiddi\",$BG$78,IF($H$79=\"Schmiddi\",$BG$79,IF($H$80=\"Schmiddi\",$BG$80,IF($H$81=\"Schmiddi\",$BG$81,IF($H$82=\"Schmiddi\",$BG$82,IF($H$83=\"Schmiddi\",$BG$83,IF($H$84=\"Schmiddi\",$BG$84,0)))))))","v":16},null,null,null,null,":",null,{"$f":"IF($H$78=\"Schmiddi\",$BN$78,IF($H$79=\"Schmiddi\",$BN$79,IF($H$80=\"Schmiddi\",$BN$80,IF($H$81=\"Schmiddi\",$BN$81,IF($H$82=\"Schmiddi\",$BN$82,IF($H$83=\"Schmiddi\",$BN$83,IF($H$84=\"Schmiddi\",$BN$84,0)))))))","v":18},null,null,null,null,{"$f":"IF($H$78=\"Schmiddi\",$BS$78,IF($H$79=\"Schmiddi\",$BS$79,IF($H$80=\"Schmiddi\",$BS$80,IF($H$81=\"Schmiddi\",$BS$81,IF($H$82=\"Schmiddi\",$BS$82,IF($H$83=\"Schmiddi\",$BS$83,IF($H$84=\"Schmiddi\",$BS$84,0)))))))","v":-2},null,null,null,null,{"$f":"IF($H$78=\"Schmiddi\",$BX$78,IF($H$79=\"Schmiddi\",$BX$79,IF($H$80=\"Schmiddi\",$BX$80,IF($H$81=\"Schmiddi\",$BX$81,IF($H$82=\"Schmiddi\",$BX$82,IF($H$83=\"Schmiddi\",$BX$83,IF($H$84=\"Schmiddi\",$BX$84,0)))))))","v":10}]

{"sheet":"4.11","index":5,"n_rows":97,"n_cols":88,"rows_kept":97,"cut":false,"hidden":false,"merged":[[6,16,6,26],[6,27,6,37],[6,38,6,48],[6,49,6,59],[6,60,6,70],[6,71,6,81],[0,0,0,83],[1,1,1,82],[1,83,84,83],[2,1,2,82],[3,1,3,82],[4,1,7,1],[4,2,4,81],[4,82,7,82],[5,2,5,81],[6,2,6,15],[13,12,13,16],[13,18,13,22],[13,24,13,33],[13,35,13,67],[13,69,13,81],[14,2,14,81],[7,71,7,81],[8,1,8,82],[9,1,9,82],[10,1,10,82],[11,1,45,1],[11,2,11,81],[11,82,45,82],[12,2,12,81],[13,2,13,5],[13,7,13,10],[7,2,7,15],[7,16,7,26],[7,27,7,37],[7,38,7,48],[7,49,7,59],[7,60,7,70],[15,53,15,67],[15,68,29,68],[15,69,15,73],[15,74,15,76],[15,77,15,81],[16,7,16,10],[16,12,16,16],[16,18,16,22],[16,24,16,33],[16,35,16,49],[15,18,15,22],[15,23,29,23],[15,24,15,33],[15,34,29,34],[15,35,15,49],[15,50,15,52],[16,50,16,52],[15,7,15,10],[15,11,29,11],[15,12,15,16],[15,17,29,17],[18,7,18,10],[18,12,18,16],[18,18,18,22],[18,24,18,33],[18,35,18,49],[18,50,18,52],[20,7,20,10],[20,12,20,16],[20,18,20,22],[20,24,20,33],[20,35,20,49],[20,50,20,52],[22,7,22,10],[16,53,16,67],[16,69,16,73],[16,74,16,76],[16,77,16,81],[17,7,17,10],[17,12,17,16],[17,18,17,22],[17,24,17,33],[17,35,17,49],[17,50,17,52],[17,53,17,67],[17,69,17,73],[17,74,17,76],[17,77,17,81],[18,53,18,67],[18,69,18,73],[18,74,18,76],[18,77,18,81],[19,7,19,10],[19,12,19,16],[19,18,19,22],[19,24,19,33],[19,35,19,49],[19,50,19,52],[19,53,19,67],[19,69,19,73],[19,74,19,76],[19,77,19,81],[20,53,20,67],[20,69,20,73],[20,74,20,76],[20,77,20,81],[21,7,21,10],[21,12,21,16],[21,18,21,22],[21,24,21,33],[21,35,21,49],[21,50,21,52],[21,53,21,67],[21,69,21,73],[21,74,21,76],[21,77,21,81],[22,12,22,16],[22,18,22,22],[22,24,22,33],[22,35,22,49],[22,50,22,52],[22,53,22,67],[22,69,22,73],[22,74,22,76],[22,77,22,81],[23,77,23,81],[24,7,24,10],[24,12,24,16],[24,18,24,22],[24,24,24,33],[24,35,24,49],[24,50,24,52],[24,53,24,67],[24,69,24,73],[24,74,24,76],[24,77,24,81],[23,7,23,10],[23,12,23,16],[23,18,23,22],[23,24,23,33],[23,35,23,49],[23,50,23,52],[23,53,23,67],[23,69,23,73],[23,74,23,76],[25,77,25,81],[26,7,26,10],[26,12,26,16],[26,18,26,22],[26,24,26,33],[26,35,26,49],[26,50,26,52],[26,53,26,67],[26,69,26,73],[26,74,26,76],[26,77,26,81],[25,7,25,10],[25,12,25,16],[25,18,25,22],[25,24,25,33],[25,35,25,49],[25,50,25,52],[25,53,25,67],[25,69,25,73],[25,74,25,76],[27,77,27,81],[28,7,28,10],[28,12,28,16],[28,18,28,22],[28,24,28,33],[28,35,28,49],[28,50,28,52],[28,53,28,67],[28,69,28,73],[28,74,28,76],[28,77,28,81],[27,7,27,10],[27,12,27,16],[27,18,27,22],[27,24,27,33],[27,35,27,49],[27,50,27,52],[27,53,27,67],[27,69,27,73],[27,74,27,76],[29,7,29,10],[29,12,29,16],[29,18,29,22],[29,24,29,33],[29,35,29,49],[29,50,29,52],[29,53,29,67],[29,69,29,73],[29,74,29,76],[29,77,29,81],[30,2,30,81],[31,2,45,5],[31,6,45,6],[31,7,31,10],[31,11,45,11],[31,12,31,16],[15,2,29,5],[15,6,29,6],[31,69,31,73],[31,74,31,76],[31,77,31,81],[32,53,32,67],[32,69,32,73],[32,74,32,76],[32,77,32,81],[31,17,45,17],[31,18,31,22],[31,23,45,23],[31,24,31,33],[31,34,45,34],[31,35,31,49],[32,7,32,10],[32,12,32,16],[32,18,32,22],[32,24,32,33],[32,35,32,49],[32,50,32,52],[31,50,31,52],[31,53,31,67],[31,68,45,68],[33,53,33,67],[33,69,33,73],[43,69,43,73],[33,74,33,76],[33,77,33,81],[34,7,34,10],[34,12,34,16],[34,18,34,22],[34,24,34,33],[34,35,34,49],[34,50,34,52],[33,7,33,10],[33,12,33,16],[33,18,33,22],[33,24,33,33],[33,35,33,49],[33,50,33,52],[34,53,34,67],[34,69,34,73],[34,74,34,76],[34,77,34,81],[35,77,35,81],[36,7,36,10],[36,12,36,16],[36,18,36,22],[36,24,36,33],[36,35,36,49],[36,50,36,52],[36,53,36,67],[36,69,36,73],[36,74,36,76],[36,77,36,81],[35,7,35,10],[35,12,35,16],[35,18,35,22],[35,24,35,33],[35,35,35,49],[35,50,35,52],[35,53,35,67],[35,69,35,73],[35,74,35,76],[37,77,37,81],[38,7,38,10],[38,12,38,16],[38,18,38,22],[38,24,38,33],[38,35,38,49],[38,50,38,52],[38,53,38,67],[38,69,38,73],[38,74,38,76],[38,77,38,81],[37,7,37,10],[37,12,37,16],[37,18,37,22],[37,24,37,33],[37,35,37,49],[37,50,37,52],[37,53,37,67],[37,69,37,73],[37,74,37,76],[39,77,39,81],[40,7,40,10],[40,12,40,16],[40,18,40,22],[40,24,40,33],[40,35,40,49],[40,50,40,52],[40,53,40,67],[40,69,40,73],[40,74,40,76],[40,77,40,81],[39,7,39,10],[39,12,39,16],[39,18,39,22],[39,24,39,33],[39,35,39,49],[39,50,39,52],[39,53,39,67],[39,69,39,73],[39,74,39,76],[43,74,43,76],[41,77,41,81],[42,7,42,10],[42,12,42,16],[42,18,42,22],[42,24,42,33],[42,35,42,49],[42,50,42,52],[42,53,42,67],[42,69,42,73],[42,74,42,76],[42,77,42,81],[41,7,41,10],[41,12,41,16],[41,18,41,22],[41,24,41,33],[41,35,41,49],[41,50,41,52],[41,53,41,67],[41,69,41,73],[41,74,41,76],[60,1,60,82],[61,1,69,1],[61,2,61,81],[61,82,69,82],[62,2,62,81],[63,2,63,6],[43,77,43,81],[44,7,44,10],[44,12,44,16],[44,18,44,22],[44,24,44,33],[44,35,44,49],[44,50,44,52],[45,53,45,67],[45,69,45,73],[45,74,45,76],[45,77,45,81],[43,7,43,10],[43,12,43,16],[43,18,43,22],[43,24,43,33],[43,35,43,49],[43,50,43,52],[43,53,43,67],[46,1,46,82],[59,1,59,82],[44,53,44,67],[44,69,44,73],[44,74,44,76],[44,77,44,81],[45,7,45,10],[45,12,45,16],[45,18,45,22],[45,24,45,33],[45,35,45,49],[45,50,45,52],[63,7,63,18],[63,19,63,24],[63,25,63,35],[63,36,63,46],[63,47,63,57],[63,58,63,69],[63,70,63,74],[63,75,63,78],[63,79,63,81],[64,2,64,6],[64,7,64,18],[64,19,64,24],[64,25,64,35],[64,36,64,46],[64,79,64,81],[64,70,64,74],[64,75,64,78],[65,70,65,74],[65,75,65,78],[65,79,65,81],[64,47,64,57],[65,2,65,6],[65,7,65,18],[65,19,65,24],[64,58,64,62],[64,63,64,64],[64,65,64,69],[66,2,66,6],[66,7,66,18],[66,19,66,24],[66,25,66,35],[66,36,66,46],[66,47,66,57],[66,58,66,62],[66,63,66,64],[66,65,66,69],[66,70,66,74],[66,75,66,78],[66,79,66,81],[65,25,65,35],[65,36,65,46],[65,47,65,57],[65,58,65,62],[65,63,65,64],[65,65,65,69],[67,2,67,6],[67,7,67,18],[67,19,67,24],[67,25,67,35],[67,36,67,46],[67,79,67,81],[68,2,68,6],[68,7,68,18],[68,19,68,24],[68,25,68,35],[68,36,68,46],[68,47,68,57],[68,58,68,62],[68,63,68,64],[68,65,68,69],[67,47,67,57],[67,58,67,62],[67,63,67,64],[67,65,67,69],[67,70,67,74],[67,75,67,78],[68,70,68,74],[68,75,68,78],[68,79,68,81],[69,70,69,74],[69,75,69,78],[69,79,69,81],[70,2,70,6],[70,7,70,18],[70,19,70,24],[70,25,70,35],[70,36,70,46],[70,79,70,81],[70,47,70,57],[70,58,70,62],[70,63,70,64],[70,65,70,69],[70,70,70,74],[70,75,70,78],[69,2,69,6],[69,7,69,18],[69,19,69,24],[69,25,69,35],[69,36,69,46],[69,47,69,57],[69,58,69,62],[69,63,69,64],[69,65,69,69],[71,1,71,82],[72,1,72,82],[73,1,73,82],[74,1,82,1],[74,2,74,81],[74,82,82,82],[75,2,75,81],[76,2,76,6],[76,7,76,18],[76,75,76,81],[77,2,77,4],[77,5,77,6],[77,7,77,18],[77,19,77,24],[77,25,77,35],[77,36,77,46],[77,47,77,57],[77,58,77,62],[77,63,77,64],[76,19,76,24],[76,25,76,35],[76,36,76,46],[76,47,76,57],[76,58,76,69],[76,70,76,74],[77,65,77,69],[77,70,77,74],[77,75,77,81],[78,2,78,4],[78,5,78,6],[78,7,78,18],[78,19,78,24],[78,25,78,35],[78,36,78,46],[78,47,78,57],[78,58,78,62],[78,63,78,64],[78,65,78,69],[78,70,78,74],[78,75,78,81],[79,2,79,4],[79,5,79,6],[79,7,79,18],[79,19,79,24],[79,25,79,35],[79,75,79,81],[80,2,80,4],[80,5,80,6],[80,7,80,18],[80,19,80,24],[80,25,80,35],[80,36,80,46],[80,47,80,57],[80,58,80,62],[80,63,80,64],[79,36,79,46],[79,47,79,57],[79,58,79,62],[79,63,79,64],[79,65,79,69],[79,70,79,74],[80,65,80,69],[80,70,80,74],[80,75,80,81],[81,65,81,69],[81,70,81,74],[81,75,81,81],[82,2,82,4],[82,5,82,6],[82,7,82,18],[82,19,82,24],[82,25,82,35],[83,65,83,69],[83,70,83,74],[83,75,83,81],[81,2,81,4],[81,5,81,6],[81,7,81,18],[81,19,81,24],[81,25,81,35],[81,36,81,46],[81,47,81,57],[81,58,81,62],[81,63,81,64],[84,1,84,82],[85,1,85,82],[86,1,86,82],[82,75,82,81],[83,2,83,4],[83,5,83,6],[83,7,83,18],[83,19,83,24],[83,25,83,35],[83,36,83,46],[83,47,83,57],[83,58,83,62],[83,63,83,64],[82,36,82,46],[82,47,82,57],[82,58,82,62],[82,63,82,64],[82,65,82,69],[82,70,82,74],[87,1,96,1],[87,2,87,81],[87,82,96,82],[88,2,88,81],[89,2,89,6],[89,7,89,18],[89,19,89,24],[89,25,89,35],[89,36,89,46],[89,47,89,57],[89,58,89,69],[89,70,89,74],[89,75,89,81],[90,2,90,6],[90,7,90,18],[90,19,90,24],[90,25,90,35],[90,36,90,46],[90,47,90,57],[90,58,90,62],[92,2,92,6],[92,7,92,18],[92,19,92,24],[92,25,92,35],[92,36,92,46],[90,63,90,64],[90,65,90,69],[90,70,90,74],[90,75,90,81],[91,2,91,6],[91,7,91,18],[91,19,91,24],[91,25,91,35],[91,36,91,46],[91,47,91,57],[92,47,92,57],[92,58,92,62],[92,63,92,64],[92,65,92,69],[92,70,92,74],[92,75,92,81],[91,58,91,62],[91,63,91,64],[91,65,91,69],[91,70,91,74],[91,75,91,81],[94,2,94,6],[94,7,94,18],[94,19,94,24],[94,25,94,35],[94,36,94,46],[93,2,93,6],[93,7,93,18],[93,19,93,24],[93,25,93,35],[93,36,93,46],[94,47,94,57],[94,58,94,62],[94,63,94,64],[94,65,94,69],[94,70,94,74],[94,75,94,81],[93,58,93,62],[93,63,93,64],[93,65,93,69],[93,70,93,74],[93,75,93,81],[93,47,93,57],[97,1,97,82],[98,0,98,83],[96,47,96,57],[96,58,96,62],[96,63,96,64],[96,65,96,69],[96,70,96,74],[96,75,96,81],[95,58,95,62],[95,63,95,64],[95,65,95,69],[95,70,95,74],[95,75,95,81],[96,2,96,6],[96,7,96,18],[96,19,96,24],[96,25,96,35],[96,36,96,46],[95,2,95,6],[95,7,95,18],[95,19,95,24],[95,25,95,35],[95,36,95,46],[95,47,95,57]]}
[]
[null,{"$f":"\"Turnier am \" & MID(CELL(\"dateiname\",A1),SEARCH(\"]\",CELL(\"dateiname\",A1))+1,31)","v":"Turnier am 4.11"}]
[]
[]
[null,null,"Spielerliste"]
[]
[null,null,{"$f":"\" Spieler\"","v":" Spieler"},null,null,null,null,null,null,null,null,null,null,null,null,null,"Spieler 1",null,null,null,null,null,null,null,null,null,null,"Spieler 2",null,null,null,null,null,null,null,null,null,null,"Spieler 3",null,null,null,null,null,null,null,null,null,null,"Spieler 4",null,null,null,null,null,null,null,null,null,null,"Spieler 5",null,null,null,null,null,null,null,null,null,null,"Spieler 6"]
[null,null,{"$f":"\" Name\"","v":" Name"},null,null,null,null,null,null,null,null,null,null,null,null,null,"Jule",null,null,null,null,null,null,null,null,null,null,"Patrick",null,null,null,null,null,null,null,null,null,null,"Markus",null,null,null,null,null,null,null,null,null,null,"Christoph",null,null,null,null,null,null,null,null,null,null,"Ratze",null,null,null,null,null,null,null,null,null,null,"Schmiddi"]
[]
[]
[]
[null,null,"Spielplan"]
[]
[null,null,"00:12:00",null,null,null,null,"Spiel",null,null,null,null,"Datum",null,null,null,null,null,"Uhrzeit",null,null,null,null,null,"Austragungsort",null,null,null,null,null,null,null,null,null,null,"Paarung",null,null,null,null,null,null,null,null,null,null,null,null,null,null,null,null,null,null,null,null,null,null,null,null,null,null,null,null,null,null,null,null,null,"Ergebnis",null,null,null,null,null,null,null,null,null,null,null,null,null,null,"Spiele","SiegHeim","Unentschieden","SiegGast"]
[]
[null,null,"Hinrunde",null,null,null,null,1,null,null,null,null,{"$f":"MID(CELL(\"dateiname\",A1),SEARCH(\"]\",CELL(\"dateiname\",A1))+1,31)","v":"4.11"},null,null,null,null,null,"21:00:00",null,null,null,null,null,"Fernseher",null,null,null,null,null,null,null,null,null,null,{"$f":"$Q$8","v":"Jule"},null,null,null,null,null,null,null,null,null,null,null,null,null,null,":",null,null,{"$f":"$AB$8","v":"Patrick"},null,null,null,null,null,null,null,null,null,null,null,null,null,null,null,0,null,null,null,null,":",null,null,3,null,null,null,null,null,null,{"$f":"IF(AND(ISNUMBER(BR16),ISNUMBER(BZ16)),1,0)","v":1},{"$f":"IF(OR(ISBLANK(BR16),ISBLANK(BZ16)),0,IF(BR16>BZ16,1,0))","v":0},{"$f":"IF(OR(ISBLANK(BR16),ISBLANK(BZ16)),0,IF(BR16=BZ16,1,0))","v":0},{"$f":"IF(OR(ISBLANK(BR16),ISBLANK(BZ16)),0,IF(BR16<BZ16,1,0))","v":1}]
[null,null,null,null,null,null,null,{"$f":"H16+1","v":2},null,null,null,null,{"$f":"$M$16","v":"4.11"},null,null,null,null,null,{"$f":"S16","v":"21:00:00"},null,null,null,null,null,{"$f":"$Y$16","v":"Fernseher"},null,null,null,null,null,null,null,null,null,null,{"$f":"$AM$8","v":"Markus"},null,null,null,null,null,null,null,null,null,null,null,null,null,null,":",null,null,{"$f":"$AX$8","v":"Christoph"},null,null,null,null,null,null,null,null,null,null,null,null,null,null,null,3,null,null,null,null,":",null,null,2,null,null,null,null,null,null,{"$f":"IF(AND(ISNUMBER(BR17),ISNUMBER(BZ17)),1,0)","v":1},{"$f":"IF(OR(ISBLANK(BR17),ISBLANK(BZ17)),0,IF(BR17>BZ17,1,0))","v":1},{"$f":"IF(OR(ISBLANK(BR17),ISBLANK(BZ17)),0,IF(BR17=BZ17,1,0))","v":0},{"$f":"IF(OR(ISBLANK(BR17),ISBLANK(BZ17)),0,IF(BR17<BZ17,1,0))","v":0}]
[null,null,null,null,null,null,null,{"$f":"H17+1","v":3},null,null,null,null,{"$f":"$M$16","v":"4.11"},null,null,null,null,null,{"$f":"S16","v":"21:00:00"},null,null,null,null,null,{"$f":"$Y$16","v":"Fernseher"},null,null,null,null,null,null,null,null,null,null,{"$f":"$BI$8","v":"Ratze"},null,null,null,null,null,null,null,null,null,null,null,null,null,null,":",null,null,{"$f":"$BT$8","v":"Schmiddi"},null,null,null,null,null,null,null,null,null,null,null,null,null,null,null,4,null,null,null,null,":",null,null,0,null,null,null,null,null,null,1,1,0,0]
[null,null,null,null,null,null,null,{"$f":"H18+1","v":4},null,null,null,null,"4.11",null,null,null,null,null,{"$f":"S16+$C$14","v":"21:12:00"},null,null,null,null,null,"Fernseher",null,null,null,null,null,null,null,null,null,null,{"$f":"$Q$8","v":"Jule"},null,null,null,null,null,null,null,null,null,null,null,null,null,null,":",null,null,{"$f":"$AM$8","v":"Markus"},null,null,null,null,null,null,null,null,null,null,null,null,null,null,null,1,null,null,null,null,":",null,null,2,null,null,null,null,null,null,1,0,0,1]
[null,null,null,null,null,null,null,5,null,null,null,null,"4.11",null,null,null,null,null,{"$f":"S17+$C$14","v":"21:12:00"},null,null,null,null,null,"Fernseher",null,null,null,null,null,null,null,null,null,null,{"$f":"$AB$8","v":"Patrick"},null,null,null,null,null,null,null,null,null,null,null,null,null,null,":",null,null,{"$f":"$BI$8","v":"Ratze"},null,null,null,null,null,null,null,null,null,null,null,null,null,null,null,1,null,null,null,null,":",null,null,1,null,null,null,null,null,null,1,0,1,0]
[null,null,null,null,null,null,null,6,null,null,null,null,"4.11",null,null,null,null,null,{"$f":"S18+$C$14","v":"21:12:00"},null,null,null,null,null,"Fernseher",null,null,null,null,null,null,null,null,null,null,{"$f":"$AX$8","v":"Christoph"},null,null,null,null,null,null,null,null,null,null,null,null,null,null,":",null,null,{"$f":"$BT$8","v":"Schmiddi"},null,null,null,null,null,null,null,null,null,null,null,null,null,null,null,5,null,null,null,null,":",null,null,1,null,null,null,null,null,null,1,1,0,0]
[null,null,null,null,null,null,null,{"$f":"H21+1","v":7},null,null,null,null,"4.11",null,null,null,null,null,{"$f":"S19+$C$14","v":"21:24:00"},null,null,null,null,null,"Fernseher",null,null,null,null,null,null,null,null,null,null,{"$f":"$BI$8","v":"Ratze"},null,null,null,null,null,null,null,null,null,null,null,null,null,null,":",null,null,{"$f":"$Q$8","v":"Jule"},null,null,null,null,null,null,null,null,null,null,null,null,null,null,null,2,null,null,null,null,":",null,null,0,null,null,null,null,null,null,1,1,0,0]
[null,null,null,null,null,null,null,8,null,null,null,null,"4.11",null,null,null,null,null,{"$f":"S20+$C$14","v":"21:24:00"},null,null,null,null,null,"Fernseher",null,null,null,null,null,null,null,null,null,null,{"$f":"$AB$8","v":"Patrick"},null,null,null,null,null,null,null,null,null,null,null,null,null,null,":",null,null,{"$f":"$AX$8","v":"Christoph"},null,null,null,null,null,null,null,null,null,null,null,null,null,null,null,2,null,null,null,null,":",null,null,1,null,null,null,null,null,null,1,1,0,0]
[null,null,null,null,null,null,null,9,null,null,null,null,"4.11",null,null,null,null,null,"21:24:00",null,null,null,null,null,"Fernseher",null,null,null,null,null,null,null,null,null,null,{"$f":"$BT$8","v":"Schmiddi"},null,null,null,null,null,null,null,null,null,null,null,null,null,null,":",null,null,{"$f":"$AM$8","v":"Markus"},null,null,null,null,null,null,null,null,null,null,null,null,null,null,null,3,null,null,null,null,":",null,null,4,null,null,null,null,null,null,1,0,0,1]
[null,null,null,null,null,null,null,{"$f":"H24+1","v":10},null,null,null,null,"4.11",null,null,null,null,null,{"$f":"S22+$C$14","v":"21:36:00"},null,null,null,null,null,"Fernseher",null,null,null,null,null,null,null,null,null,null,{"$f":"$Q$8","v":"Jule"},null,null,null,null,null,null,null,null,null,null,null,null,null,null,":",null,null,{"$f":"$AX$8","v":"Christoph"},null,null,null,null,null,null,null,null,null,null,null,null,null,null,null,0,null,null,null,null,":",null,null,4,null,null,null,null,null,null,1,0,0,1]
[null,null,null,null,null,null,null,11,null,null,null,null,"4.11",null,null,null,null,null,"21:36:00",null,null,null,null,null,"Fernseher",null,null,null,null,null,null,null,null,null,null,{"$f":"$BT$8","v":"Schmiddi"},null,null,null,null,null,null,null,null,null,null,null,null,null,null,":",null,null,{"$f":"$AB$8","v":"Patrick"},null,null,null,null,null,null,null,null,null,null,null,null,null,null,null,2,null,null,null,null,":",null,null,5,null,null,null,null,null,null,1,0,0,1]
[null,null,null,null,null,null,null,{"$f":"H26+1","v":12},null,null,null,null,"4.11",null,null,null,null,null,{"$f":"S24+$C$14","v":"21:36:00"},null,null,null,null,null,"Fernseher",null,null,null,null,null,null,null,null,null,null,{"$f":"$AM$8","v":"Markus"},null,null,null,null,null,null,null,null,null,null,null,null,null,null,":",null,null,{"$f":"$BI$8","v":"Ratze"},null,null,null,null,null,null,null,null,null,null,null,null,null,null,null,2,null,null,null,null,":",null,null,2,null,null,null,null,null,null,1,0,1,0]
[null,null,null,null,null,null,null,13,null,null,null,null,"4.11",null,null,null,null,null,"21:48:00",null,null,null,null,null,"Fernseher",null,null,null,null,null,null,null,null,null,null,{"$f":"$BT$8","v":"Schmiddi"},null,null,null,null,null,null,null,null,null,null,null,null,null,null,":",null,null,{"$f":"$Q$8","v":"Jule"},null,null,null,null,null,null,null,null,null,null,null,null,null,null,null,1,null,null,null,null,":",null,null,3,null,null,null,null,null,null,1,0,0,1]
[null,null,null,null,null,null,null,{"$f":"H28+1","v":14},null,null,null,null,"4.11",null,null,null,null,null,{"$f":"S26+$C$14","v":"21:48:00"},null,null,null,null,null,"Fernseher",null,null,null,null,null,null,null,null,null,null,{"$f":"$AB$8","v":"Patrick"},null,null,null,null,null,null,null,null,null,null,null,null,null,null,":",null,null,{"$f":"$AM$8","v":"Markus"},null,null,null,null,null,null,null,null,null,null,null,null,null,null,null,3,null,null,null,null,":",null,null,1,null,null,null,null,null,null,1,1,0,0]
[null,null,null,null,null,null,null,15,null,null,null,null,"4.11",null,null,null,null,null,{"$f":"S27+$C$14","v":"21:48:00"},null,null,null,null,null,"Fernseher",null,null,null,null,null,null,null,null,null,null,{"$f":"$AX$8","v":"Christoph"},null,null,null,null,null,null,null,null,null,null,null,null,null,null,":",null,null,{"$f":"$BI$8","v":"Ratze"},null,null,null,null,null,null,null,null,null,null,null,null,null,null,null,3,null,null,null,null,":",null,null,1,null,null,null,null,null,null,1,1,0,0]
[]
[null,null,"Rückrunde",null,null,null,null,{"$f":"H30+1","v":16},null,null,null,null,{"$f":"$M$16","v":"4.11"},null,null,null,null,null,{"$f":"S30+$C$14","v":"22:00:00"},null,null,null,null,null,{"$f":"$Y$16","v":"Fernseher"},null,null,null,null,null,null,null,null,null,null,{"$f":"$AB$8","v":"Patrick"},null,null,null,null,null,null,null,null,null,null,null,null,null,null,":",null,null,{"$f":"$Q$8","v":"Jule"},null,null,null,null,null,null,null,null,null,null,null,null,null,null,null,5,null,null,null,null,":",null,null,0,null,null,null,null,null,null,{"$f":"IF(AND(ISNUMBER(BR32),ISNUMBER(BZ32)),1,0)","v":1},{"$f":"IF(OR(ISBLANK(BR32),ISBLANK(BZ32)),0,IF(BR32>BZ32,1,0))","v":1},{"$f":"IF(OR(ISBLANK(BR32),ISBLANK(BZ32)),0,IF(BR32=BZ32,1,0))","v":0},{"$f":"IF(OR(ISBLANK(BR32),ISBLANK(BZ32)),0,IF(BR32<BZ32,1,0))","v":0}]
[null,null,null,null,null,null,null,{"$f":"H32+1","v":17},null,null,null,null,"4.11",null,null,null,null,null,{"$f":"S30+$C$14","v":"22:00:00"},null,null,null,null,null,"Fernseher",null,null,null,null,null,null,null,null,null,null,{"$f":"$AX$8","v":"Christoph"},null,null,null,null,null,null,null,null,null,null,null,null,null,null,":",null,null,{"$f":"$AM$8","v":"Markus"},null,null,null,null,null,null,null,null,null,null,null,null,null,null,null,1,null,null,null,null,":",null,null,2,null,null,null,null,null,null,1,0,0,1]
[null,null,null,null,null,null,null,{"$f":"H33+1","v":18},null,null,null,null,"4.11",null,null,null,null,null,{"$f":"S30+$C$14","v":"22:00:00"},null,null,null,null,null,"Fernseher",null,null,null,null,null,null,null,null,null,null,{"$f":"$BT$8","v":"Schmiddi"},null,null,null,null,null,null,null,null,null,null,null,null,null,null,":",null,null,{"$f":"$BI$8","v":"Ratze"},null,null,null,null,null,null,null,null,null,null,null,null,null,null,null,2,null,null,null,null,":",null,null,4,null,null,null,null,null,null,1,0,0,1]
[null,null,null,null,null,null,null,{"$f":"H34+1","v":19},null,null,null,null,"4.11",null,null,null,null,null,{"$f":"S32+$C$14","v":"22:12:00"},null,null,null,null,null,"Fernseher",null,null,null,null,null,null,null,null,null,null,{"$f":"$AM$8","v":"Markus"},null,null,null,null,null,null,null,null,null,null,null,null,null,null,":",null,null,{"$f":"$Q$8","v":"Jule"},null,null,null,null,null,null,null,null,null,null,null,null,null,null,null,2,null,null,null,null,":",null,null,1,null,null,null,null,null,null,1,1,0,0]
[null,null,null,null,null,null,null,20,null,null,null,null,"4.11",null,null,null,null,null,{"$f":"S33+$C$14","v":"22:12:00"},null,null,null,null,null,"Fernseher",null,null,null,null,null,null,null,null,null,null,{"$f":"$BI$8","v":"Ratze"},null,null,null,null,null,null,null,null,null,null,null,null,null,null,":",null,null,{"$f":"$AB$8","v":"Patrick"},null,null,null,null,null,null,null,null,null,null,null,null,null,null,null,1,null,null,null,null,":",null,null,0,null,null,null,null,null,null,1,1,0,0]
[null,null,null,null,null,null,null,21,null,null,null,null,"4.11",null,null,null,null,null,{"$f":"S34+$C$14","v":"22:12:00"},null,null,null,null,null,"Fernseher",null,null,null,null,null,null,null,null,null,null,{"$f":"$BT$8","v":"Schmiddi"},null,null,null,null,null,null,null,null,null,null,null,null,null,null,":",null,null,{"$f":"$AX$8","v":"Christoph"},null,null,null,null,null,null,null,null,null,null,null,null,null,null,null,3,null,null,null,null,":",null,null,4,null,null,null,null,null,null,1,0,0,1]
[null,null,null,null,null,null,null,{"$f":"H37+1","v":22},null,null,null,null,"4.11",null,null,null,null,null,{"$f":"S35+$C$14","v":"22:24:00"},null,null,null,null,null,"Fernseher",null,null,null,null,null,null,null,null,null,null,{"$f":"$Q$8","v":"Jule"},null,null,null,null,null,null,null,null,null,null,null,null,null,null,":",null,null,{"$f":"$BI$8","v":"Ratze"},null,null,null,null,null,null,null,null,null,null,null,null,null,null,null,0,null,null,null,null,":",null,null,4,null,null,null,null,null,null,1,0,0,1]
[null,null,null,null,null,null,null,23,null,null,null,null,"4.11",null,null,null,null,null,{"$f":"S36+$C$14","v":"22:24:00"},null,null,null,null,null,"Fernseher",null,null,null,null,null,null,null,null,null,null,{"$f":"$AX$8","v":"Christoph"},null,null,null,null,null,null,null,null,null,null,null,null,null,null,":",null,null,{"$f":"$AB$8","v":"Patrick"},null,null,null,null,null,null,null,null,null,null,null,null,null,null,null,0,null,null,null,null,":",null,null,3,null,null,null,null,null,null,1,0,0,1]
[null,null,null,null,null,null,null,24,null,null,null,null,"4.11",null,null,null,null,null,"22:24:00",null,null,null,null,null,"Fernseher",null,null,null,null,null,null,null,null,null,null,{"$f":"$AM$8","v":"Markus"},null,null,null,null,null,null,null,null,null,null,null,null,null,null,":",null,null,{"$f":"$BT$8","v":"Schmiddi"},null,null,null,null,null,null,null,null,null,null,null,null,null,null,null,2,null,null,null,null,":",null,null,2,null,null,null,null,null,null,1,0,1,0]
[null,null,null,null,null,null,null,{"$f":"H40+1","v":25},null,null,null,null,"4.11",null,null,null,null,null,{"$f":"S38+$C$14","v":"22:36:00"},null,null,null,null,null,"Fernseher",null,null,null,null,null,null,null,null,null,null,{"$f":"$AX$8","v":"Christoph"},null,null,null,null,null,null,null,null,null,null,null,null,null,null,":",null,null,{"$f":"$Q$8","v":"Jule"},null,null,null,null,null,null,null,null,null,null,null,null,null,null,null,4,null,null,null,null,":",null,null,2,null,null,null,null,null,null,1,1,0,0]
[null,null,null,null,null,null,null,26,null,null,null,null,"4.11",null,null,null,null,null,"22:36:00",null,null,null,null,null,"Fernseher",null,null,null,null,null,null,null,null,null,null,{"$f":"$AB$8","v":"Patrick"},null,null,null,null,null,null,null,null,null,null,null,null,null,null,":",null,null,{"$f":"$BT$8","v":"Schmiddi"},null,null,null,null,null,null,null,null,null,null,null,null,null,null,null,3,null,null,null,null,":",null,null,2,null,null,null,null,null,null,1,1,0,0]
[null,null,null,null,null,null,null,{"$f":"H42+1","v":27},null,null,null,null,"4.11",null,null,null,null,null,{"$f":"S40+$C$14","v":"22:36:00"},null,null,null,null,null,"Fernseher",null,null,null,null,null,null,null,null,null,null,{"$f":"$BI$8","v":"Ratze"},null,null,null,null,null,null,null,null,null,null,null,null,null,null,":",null,null,{"$f":"$AM$8","v":"Markus"},null,null,null,null,null,null,null,null,null,null,null,null,null,null,null,0,null,null,null,null,":",null,null,4,null,null,null,null,null,null,1,0,0,1]
[null,null,null,null,null,null,null,28,null,null,null,null,"4.11",null,null,null,null,null,"22:48:00",null,null,null,null,null,"Fernseher",null,null,null,null,null,null,null,null,null,null,{"$f":"$Q$8","v":"Jule"},null,null,null,null,null,null,null,null,null,null,null,null,null,null,":",null,null,{"$f":"$BT$8","v":"Schmiddi"},null,null,null,null,null,null,null,null,null,null,null,null,null,null,null,3,null,null,null,null,":",null,null,4,null,null,null,null,null,null,1,0,0,1]
[null,null,null,null,null,null,null,{"$f":"H44+1","v":29},null,null,null,null,"4.11",null,null,null,null,null,{"$f":"S42+$C$14","v":"22:48:00"},null,null,null,null,null,"Fernseher",null,null,null,null,null,null,null,null,null,null,{"$f":"$AM$8","v":"Markus"},null,null,null,null,null,null,null,null,null,null,null,null,null,null,":",null,null,{"$f":"$AB$8","v":"Patrick"},null,null,null,null,null,null,null,null,null,null,null,null,null,null,null,1,null,null,null,null,":",null,null,1,null,null,null,null,null,null,1,0,1,0]
[null,null,null,null,null,null,null,30,null,null,null,null,"4.11",null,null,null,null,null,{"$f":"S43+$C$14","v":"22:48:00"},null,null,null,null,null,"Fernseher",null,null,null,null,null,null,null,null,null,null,{"$f":"$BI$8","v":"Ratze"},null,null,null,null,null,null,null,null,null,null,null,null,null,null,":",null,null,{"$f":"$AX$8","v":"Christoph"},null,null,null,null,null,null,null,null,null,null,null,null,null,null,null,5,null,null,null,null,":",null,null,1,null,null,null,null,null,null,1,1,0,0]
[]
[]
[]
[]
[]
[]
[]
[]
[]
[]
[]
[]
[]
[]
[]
[null,null,"Tabelle (unsortiert)"]
[]
[null,null,"Rang",null,null,null,null,"Spieler",null,null,null,null,null,null,null,null,null,null,null,"Spiele",null,null,null,null,null,"Siege",null,null,null,null,null,null,null,null,null,null,"Unentschieden",null,null,null,null,null,null,null,null,null,null,"Niederlagen",null,null,null,null,null,null,null,null,null,null,"Tore",null,null,null,null,null,null,null,null,null,null,null,"+/-",null,null,null,null,"Punkte",null,null,null,"HS"]
[null,null,{"$f":"IF(T65=0,0,RANK(BX65,$BX$65:$CA$70,0))","v":6},null,null,null,null,{"$f":"$Q$8","v":"Jule"},null,null,null,null,null,null,null,null,null,null,null,{"$f":"CG16+CG19+CG22+CG25+CG28+CG32+CG35+CG38+CG41+CG44","v":10},null,null,null,null,null,{"$f":"CH16+CH19+CJ22+CH25+CJ28+CJ32+CJ35+CH38+CJ41+CH44","v":1},null,null,null,null,null,null,null,null,null,null,{"$f":"CI16+CI19+CI22+CI25+CI28+CI32+CI35+CI38+CI41+CI44","v":0},null,null,null,null,null,null,null,null,null,null,{"$f":"CJ16+CJ19+CH22+CJ25+CH28+CH32+CH35+CJ38+CH41+CJ44","v":9},null,null,null,null,null,null,null,null,null,null,{"$f":"BR16+BR19+BZ22+BR25+BZ28+BZ32+BZ35+BR38+BZ41+BR44","v":10},null,null,null,null,":",null,{"$f":"BZ16+BZ19+BR22+BZ25+BR28+BR32+BR35+BZ38+BR41+BZ44","v":31},null,null,null,null,{"$f":"BG65-BN65","v":-21},null,null,null,null,{"$f":"(Z65*3)+AK65","v":3},null,null,null,{"$f":"BX65+ROW()/1000","v":3.0649999999999999}]
[null,null,1,null,null,null,null,{"$f":"$AB$8","v":"Patrick"},null,null,null,null,null,null,null,null,null,null,null,{"$f":"CG16+CG20+CG23+CG26+CG29+CG32+CG36+CG39+CG42+CG45","v":10},null,null,null,null,null,{"$f":"CJ16+CH20+CH23+CJ26+CH29+CH32+CJ36+CJ39+CH42+CJ45","v":7},null,null,null,null,null,null,null,null,null,null,{"$f":"CI16+CI20+CI23+CI26+CI29+CI32+CI36+CI39+CI42+CI45","v":2},null,null,null,null,null,null,null,null,null,null,{"$f":"CH16+CJ20+CJ23+CH26+CJ29+CJ32+CH36+CH39+CJ42+CH45","v":1},null,null,null,null,null,null,null,null,null,null,{"$f":"BZ16+BR20+BR23+BZ26+BR29+BR32+BZ36+BZ39+BR42+BZ45","v":26},null,null,null,null,":",null,{"$f":"BR16+BZ20+BZ23+BR26+BZ29+BZ32+BR36+BR39+BZ42+BR45","v":9},null,null,null,null,17,null,null,null,null,23,null,null,null,23.065999999999999]
[null,null,2,null,null,null,null,{"$f":"$AM$8","v":"Markus"},null,null,null,null,null,null,null,null,null,null,null,{"$f":"CG17+CG19+CG24+CG27+CG29+CG33+CG35+CG40+CG43+CG45","v":10},null,null,null,null,null,{"$f":"CH17+CJ19+CJ24+CH27+CJ29+CJ33+CH35+CH40+CJ43+CH45","v":6},null,null,null,null,null,null,null,null,null,null,{"$f":"CI17+CI19+CI24+CI27+CI29+CI33+CI35+CI40+CI43+CI45","v":3},null,null,null,null,null,null,null,null,null,null,{"$f":"CJ17+CH19+CH24+CJ27+CH29+CH33+CJ35+CJ40+CH43+CJ45","v":1},null,null,null,null,null,null,null,null,null,null,{"$f":"BR17+BZ19+BZ24+BR27+BZ29+BZ33+BR35+BR40+BZ43+BR45","v":23},null,null,null,null,":",null,{"$f":"BZ17+BR19+BR24+BZ27+BR29+BR33+BZ35+BZ40+BR43+BZ45","v":16},null,null,null,null,7,null,null,null,null,21,null,null,null,21.067]
[null,null,4,null,null,null,null,{"$f":"$AX$8","v":"Christoph"},null,null,null,null,null,null,null,null,null,null,null,{"$f":"CG17+CG21+CG23+CG25+CG30+CG33+CG37+CG39+CG41+CG46","v":10},null,null,null,null,null,{"$f":"CJ17+CH21+CJ23+CJ25+CH30+CH33+CJ37+CH39+CH41+CJ46","v":5},null,null,null,null,null,null,null,null,null,null,{"$f":"CI17+CI21+CI23+CI25+CI30+CI33+CI37+CI39+CI41+CI46","v":0},null,null,null,null,null,null,null,null,null,null,{"$f":"CH17+CJ21+CH23+CH25+CJ30+CJ33+CH37+CJ39+CJ41+CH46","v":5},null,null,null,null,null,null,null,null,null,null,{"$f":"BZ17+BR21+BZ23+BZ25+BR30+BR33+BZ37+BR39+BR41+BZ46","v":25},null,null,null,null,":",null,{"$f":"BR17+BZ21+BR23+BR25+BZ30+BZ33+BR37+BZ39+BZ41+BR46","v":22},null,null,null,null,3,null,null,null,null,15,null,null,null,15.068]
[null,null,3,null,null,null,null,{"$f":"$BI$8","v":"Ratze"},null,null,null,null,null,null,null,null,null,null,null,{"$f":"CG18+CG20+CG22+CG27+CG30+CG34+CG36+CG38+CG43+CG46","v":10},null,null,null,null,null,{"$f":"CH18+CJ20+CH22+CJ27+CJ30+CJ34+CH36+CJ38+CH43+CH46","v":6},null,null,null,null,null,null,null,null,null,null,{"$f":"CI18+CI20+CI22+CI27+CI30+CI34+CI36+CI38+CI43+CI46","v":2},null,null,null,null,null,null,null,null,null,null,{"$f":"CJ18+CH20+CJ22+CH27+CH30+CH34+CJ36+CH38+CJ43+CJ46","v":2},null,null,null,null,null,null,null,null,null,null,{"$f":"BR18+BZ20+BR22+BZ27+BZ30+BZ34+BR36+BZ38+BR43+BR46","v":24},null,null,null,null,":",null,{"$f":"BZ18+BR20+BZ22+BR27+BR30+BR34+BZ36+BR38+BZ43+BZ46","v":13},null,null,null,null,11,null,null,null,null,20,null,null,null,20.068999999999999]
[null,null,5,null,null,null,null,{"$f":"BT8","v":"Schmiddi"},null,null,null,null,null,null,null,null,null,null,null,{"$f":"CG18+CG21+CG24+CG26+CG28+CG34+CG37+CG40+CG42+CG44","v":10},null,null,null,null,null,{"$f":"CJ18+CJ21+CH24+CH26+CH28+CH34+CH37+CJ40+CJ42+CJ44","v":1},null,null,null,null,null,null,null,null,null,null,{"$f":"CI18+CI21+CI24+CI26+CI28+CI34+CI37+CI40+CI42+CI44","v":1},null,null,null,null,null,null,null,null,null,null,{"$f":"CH18+CH21+CJ24+CJ26+CJ28+CJ34+CJ37+CH40+CH42+CH44","v":8},null,null,null,null,null,null,null,null,null,null,{"$f":"BZ18+BZ21+BR24+BR26+BR28+BR34+BR37+BZ40+BZ42+BZ44","v":20},null,null,null,null,":",null,{"$f":"BR18+BR21+BZ24+BZ26+BZ28+BZ34+BZ37+BR40+BR42+BR44","v":37},null,null,null,null,-17,null,null,null,null,4,null,null,null,4.07]
[null,null,null,null,null,null,null,"Spieler 7",null,null,null,null,null,null,null,null,null,null,null,0,null,null,null,null,null,0,null,null,null,null,null,null,null,null,null,null,0,null,null,null,null,null,null,null,null,null,null,0,null,null,null,null,null,null,null,null,null,null,0,null,null,null,null,":",null,0,null,null,null,null,0,null,null,null,null,0,null,null,null,0]
[]
[]
[]
[null,null,"Tabelle"]
[]
[null,null,"Rang",null,null,null,null,"Spieler",null,null,null,null,null,null,null,null,null,null,null,"Spiele",null,null,null,null,null,"Siege",null,null,null,null,null,null,null,null,null,null,"Unentschieden",null,null,null,null,null,null,null,null,null,null,"Niederlagen",null,null,null,null,null,null,null,null,null,null,"Tore",null,null,null,null,null,null,null,null,null,null,null,"+/-",null,null,null,null,"Punkte"]
[null,null,{"$f":"INDEX($C$65:$C$70,MATCH(LARGE($CB$65:$CB$70,ROW(A1)),$CB$65:$CB$70,0),1)","v":1},null,null,1,null,{"$f":"INDEX($H$65:$H$70,MATCH(LARGE($CB$65:$CB$70,ROW(A1)),$CB$65:$CB$70,0),1)","v":"Patrick"},null,null,null,null,null,null,null,null,null,null,null,{"$f":"INDEX($T$65:$T$70,MATCH(LARGE($CB$65:$CB$70,ROW(A1)),$CB$65:$CB$70,0),1)","v":10},null,null,null,null,null,{"$f":"INDEX($Z$65:$Z$70,MATCH(LARGE($CB$65:$CB$70,ROW(A1)),$CB$65:$CB$70,0),1)","v":7},null,null,null,null,null,null,null,null,null,null,{"$f":"INDEX($AK$65:$AK$70,MATCH(LARGE($CB$65:$CB$70,ROW(A1)),$CB$65:$CB$70,0),1)","v":2},null,null,null,null,null,null,null,null,null,null,{"$f":"INDEX($AV$65:$AV$70,MATCH(LARGE($CB$65:$CB$70,ROW(A1)),$CB$65:$CB$70,0),1)","v":1},null,null,null,null,null,null,null,null,null,null,{"$f":"INDEX($BG$65:$BG$70,MATCH(LARGE($CB$65:$CB$70,ROW(A1)),$CB$65:$CB$70,0),1)","v":26},null,null,null,null,":",null,{"$f":"INDEX($BN$65:$BN$70,MATCH(LARGE($CB$65:$CB$70,ROW(A1)),$CB$65:$CB$70,0),1)","v":9},null,null,null,null,{"$f":"INDEX($BS$65:$BS$70,MATCH(LARGE($CB$65:$CB$70,ROW(A1)),$CB$65:$CB$70,0),1)","v":17},null,null,null,null,{"$f":"INDEX($BX$65:$BX$70,MATCH(LARGE($CB$65:$CB$70,ROW(A1)),$CB$65:$CB$70,0),1)","v":23}]
[null,null,2,null,null,2,null,"Markus",null,null,null,null,null,null,null,null,null,null,null,10,null,null,null,null,null,6,null,null,null,null,null,null,null,null,null,null,3,null,null,null,null,null,null,null,null,null,null,1,null,null,null,null,null,null,null,null,null,null,23,null,null,null,null,":",null,16,null,null,null,null,7,null,null,null,null,21]
[null,null,3,null,null,3,null,"Ratze",null,null,null,null,null,null,null,null,null,null,null,10,null,null,null,null,null,6,null,null,null,null,null,null,null,null,null,null,2,null,null,null,null,null,null,null,null,null,null,2,null,null,null,null,null,null,null,null,null,null,24,null,null,null,null,":",null,13,null,null,null,null,11,null,null,null,null,20]
[null,null,4,null,null,4,null,"Christoph",null,null,null,null,null,null,null,null,null,null,null,10,null,null,null,null,null,5,null,null,null,null,null,null,null,null,null,null,0,null,null,null,null,null,null,null,null,null,null,5,null,null,null,null,null,null,null,null,null,null,25,null,null,null,null,":",null,22,null,null,null,null,3,null,null,null,null,15]
[null,null,5,null,null,5,null,"Schmiddi",null,null,null,null,null,null,null,null,null,null,null,10,null,null,null,null,null,1,null,null,null,null,null,null,null,null,null,null,1,null,null,null,null,null,null,null,null,null,null,8,null,null,null,null,null,null,null,null,null,null,20,null,null,null,null,":",null,37,null,null,null,null,-17,null,null,null,null,4]
[null,null,6,null,null,6,null,"Jule",null,null,null,null,null,null,null,null,null,null,null,10,null,null,null,null,null,1,null,null,null,null,null,null,null,null,null,null,0,null,null,null,null,null,null,null,null,null,null,9,null,null,null,null,null,null,null,null,null,null,10,null,null,null,null,":",null,31,null,null,null,null,-21,null,null,null,null,3]
[null,null,"---",null,null,"---",null,"Spieler 7",null,null,null,null,null,null,null,null,null,null,null,0,null,null,null,null,null,0,null,null,null,null,null,null,null,null,null,null,0,null,null,null,null,null,null,null,null,null,null,0,null,null,null,null,null,null,null,null,null,null,0,null,null,null,null,":",null,0,null,null,null,null,0,null,null,null,null,0]
[]
[]
[]
[null,null,"Tabelle (nach Alphabet)"]
[]
[null,null,"Rang",null,null,null,null,"Spieler",null,null,null,null,null,null,null,null,null,null,null,"Spiele",null,null,null,null,null,"Siege",null,null,null,null,null,null,null,null,null,null,"Unentschieden",null,null,null,null,null,null,null,null,null,null,"Niederlagen",null,null,null,null,null,null,null,null,null,null,"Tore",null,null,null,null,null,null,null,null,null,null,null,"+/-",null,null,null,null,"Punkte"]
[null,null,{"$f":"IF($H$78=\"Basti\",$F$78,IF($H$79=\"Basti\",$F$79,IF($H$80=\"Basti\",$F$80,IF($H$81=\"Basti\",$F$81,IF($H$82=\"Basti\",$F$82,IF($H$83=\"Basti\",$F$83,IF($H$84=\"Basti\",$F$84,0)))))))","v":0},null,null,null,null,"Basti",null,null,null,null,null,null,null,null,null,null,null,{"$f":"IF($H$78=\"Basti\",$T$78,IF($H$79=\"Basti\",$T$79,IF($H$80=\"Basti\",$T$80,IF($H$81=\"Basti\",$T$81,IF($H$82=\"Basti\",$T$82,IF($H$83=\"Basti\",$T$83,IF($H$84=\"Basti\",$T$84,0)))))))","v":0},null,null,null,null,null,{"$f":"IF($H$78=\"Basti\",$Z$78,IF($H$79=\"Basti\",$Z$79,IF($H$80=\"Basti\",$Z$80,IF($H$81=\"Basti\",$Z$81,IF($H$82=\"Basti\",$Z$82,IF($H$83=\"Basti\",$Z$83,IF($H$84=\"Basti\",$Z$84,0)))))))","v":0},null,null,null,null,null,null,null,null,null,null,{"$f":"IF($H$78=\"Basti\",$AK$78,IF($H$79=\"Basti\",$AK$79,IF($H$80=\"Basti\",$AK$80,IF($H$81=\"Basti\",$AK$81,IF($H$82=\"Basti\",$AK$82,IF($H$83=\"Basti\",$AK$83,IF($H$84=\"Basti\",$AK$84,0)))))))","v":0},null,null,null,null,null,null,null,null,null,null,{"$f":"IF($H$78=\"Basti\",$AV$78,IF($H$79=\"Basti\",$AV$79,IF($H$80=\"Basti\",$AV$80,IF($H$81=\"Basti\",$AV$81,IF($H$82=\"Basti\",$AV$82,IF($H$83=\"Basti\",$AV$83,IF($H$84=\"Basti\",$AV$84,0)))))))","v":0},null,null,null,null,null,null,null,null,null,null,{"$f":"IF($H$78=\"Basti\",$BG$78,IF($H$79=\"Basti\",$BG$79,IF($H$80=\"Basti\",$BG$80,IF($H$81=\"Basti\",$BG$81,IF($H$82=\"Basti\",$BG$82,IF($H$83=\"Basti\",$BG$83,IF($H$84=\"Basti\",$BG$84,0)))))))","v":0},null,null,null,null,":",null,{"$f":"IF($H$78=\"Basti\",$BN$78,IF($H$79=\"Basti\",$BN$79,IF($H$80=\"Basti\",$BN$80,IF($H$81=\"Basti\",$BN$81,IF($H$82=\"Basti\",$BN$82,IF($H$83=\"Basti\",$BN$83,IF($H$84=\"Basti\",$BN$84,0)))))))","v":0},null,null,null,null,{"$f":"IF($H$78=\"Basti\",$BS$78,IF($H$79=\"Basti\",$BS$79,IF($H$80=\"Basti\",$BS$80,IF($H$81=\"Basti\",$BS$81,IF($H$82=\"Basti\",$BS$82,IF($H$83=\"Basti\",$BS$83,IF($H$84=\"Basti\",$BS$84,0)))))))","v":0},null,null,null,null,{"$f":"IF($H$78=\"Basti\",$BX$78,IF($H$79=\"Basti\",$BX$79,IF($H$80=\"Basti\",$BX$80,IF($H$81=\"Basti\",$BX$81,IF($H$82=\"Basti\",$BX$82,IF($H$83=\"Basti\",$BX$83,IF($H$84=\"Basti\",$BX$84,0)))))))","v":0}]
[null,null,{"$f":"IF($H$78=\"Christoph\",$F$78,IF($H$79=\"Christoph\",$F$79,IF($H$80=\"Christoph\",$F$80,IF($H$81=\"Christoph\",$F$81,IF($H$82=\"Christoph\",$F$82,IF($H$83=\"Christoph\",$F$83,IF($H$84=\"Christoph\",$F$84,0)))))))","v":4},null,null,null,null,"Christoph",null,null,null,null,null,null,null,null,null,null,null,{"$f":"IF($H$78=\"Christoph\",$T$78,IF($H$79=\"Christoph\",$T$79,IF($H$80=\"Christoph\",$T$80,IF($H$81=\"Christoph\",$T$81,IF($H$82=\"Christoph\",$T$82,IF($H$83=\"Christoph\",$T$83,IF($H$84=\"Christoph\",$T$84,0)))))))","v":10},null,null,null,null,null,{"$f":"IF($H$78=\"Christoph\",$Z$78,IF($H$79=\"Christoph\",$Z$79,IF($H$80=\"Christoph\",$Z$80,IF($H$81=\"Christoph\",$Z$81,IF($H$82=\"Christoph\",$Z$82,IF($H$83=\"Christoph\",$Z$83,IF($H$84=\"Christoph\",$Z$84,0)))))))","v":5},null,null,null,null,null,null,null,null,null,null,{"$f":"IF($H$78=\"Christoph\",$AK$78,IF($H$79=\"Christoph\",$AK$79,IF($H$80=\"Christoph\",$AK$80,IF($H$81=\"Christoph\",$AK$81,IF($H$82=\"Christoph\",$AK$82,IF($H$83=\"Christoph\",$AK$83,IF($H$84=\"Christoph\",$AK$84,0)))))))","v":0},null,null,null,null,null,null,null,null,null,null,{"$f":"IF($H$78=\"Christoph\",$AV$78,IF($H$79=\"Christoph\",$AV$79,IF($H$80=\"Christoph\",$AV$80,IF($H$81=\"Christoph\",$AV$81,IF($H$82=\"Christoph\",$AV$82,IF($H$83=\"Christoph\",$AV$83,IF($H$84=\"Christoph\",$AV$84,0)))))))","v":5},null,null,null,null,null,null,null,null,null,null,{"$f":"IF($H$78=\"Christoph\",$BG$78,IF($H$79=\"Christoph\",$BG$79,IF($H$80=\"Christoph\",$BG$80,IF($H$81=\"Christoph\",$BG$81,IF($H$82=\"Christoph\",$BG$82,IF($H$83=\"Christoph\",$BG$83,IF($H$84=\"Christoph\",$BG$84,0)))))))","v":25},null,null,null,null,":",null,{"$f":"IF($H$78=\"Christoph\",$BN$78,IF($H$79=\"Christoph\",$BN$79,IF($H$80=\"Christoph\",$BN$80,IF($H$81=\"Christoph\",$BN$81,IF($H$82=\"Christoph\",$BN$82,IF($H$83=\"Christoph\",$BN$83,IF($H$84=\"Christoph\",$BN$84,0)))))))","v":22},null,null,null,null,{"$f":"IF($H$78=\"Christoph\",$BS$78,IF($H$79=\"Christoph\",$BS$79,IF($H$80=\"Christoph\",$BS$80,IF($H$81=\"Christoph\",$BS$81,IF($H$82=\"Christoph\",$BS$82,IF($H$83=\"Christoph\",$BS$83,IF($H$84=\"Christoph\",$BS$84,0)))))))","v":3},null,null,null,null,{"$f":"IF($H$78=\"Christoph\",$BX$78,IF($H$79=\"Christoph\",$BX$79,IF($H$80=\"Christoph\",$BX$80,IF($H$81=\"Christoph\",$BX$81,IF($H$82=\"Christoph\",$BX$82,IF($H$83=\"Christoph\",$BX$83,IF($H$84=\"Christoph\",$BX$84,0)))))))","v":15}]
[null,null,{"$f":"IF($H$78=\"Jule\",$F$78,IF($H$79=\"Jule\",$F$79,IF($H$80=\"Jule\",$F$80,IF($H$81=\"Jule\",$F$81,IF($H$82=\"Jule\",$F$82,IF($H$83=\"Jule\",$F$83,IF($H$84=\"Jule\",$F$84,0)))))))","v":6},null,null,null,null,"Jule",null,null,null,null,null,null,null,null,null,null,null,{"$f":"IF($H$78=\"Jule\",$T$78,IF($H$79=\"Jule\",$T$79,IF($H$80=\"Jule\",$T$80,IF($H$81=\"Jule\",$T$81,IF($H$82=\"Jule\",$T$82,IF($H$83=\"Jule\",$T$83,IF($H$84=\"Jule\",$T$84,0)))))))","v":10},null,null,null,null,null,{"$f":"IF($H$78=\"Jule\",$Z$78,IF($H$79=\"Jule\",$Z$79,IF($H$80=\"Jule\",$Z$80,IF($H$81=\"Jule\",$Z$81,IF($H$82=\"Jule\",$Z$82,IF($H$83=\"Jule\",$Z$83,IF($H$84=\"Jule\",$Z$84,0)))))))","v":1},null,null,null,null,null,null,null,null,null,null,{"$f":"IF($H$78=\"Jule\",$AK$78,IF($H$79=\"Jule\",$AK$79,IF($H$80=\"Jule\",$AK$80,IF($H$81=\"Jule\",$AK$81,IF($H$82=\"Jule\",$AK$82,IF($H$83=\"Jule\",$AK$83,IF($H$84=\"Jule\",$AK$84,0)))))))","v":0},null,null,null,null,null,null,null,null,null,null,{"$f":"IF($H$78=\"Jule\",$AV$78,IF($H$79=\"Jule\",$AV$79,IF($H$80=\"Jule\",$AV$80,IF($H$81=\"Jule\",$AV$81,IF($H$82=\"Jule\",$AV$82,IF($H$83=\"Jule\",$AV$83,IF($H$84=\"Jule\",$AV$84,0)))))))","v":9},null,null,null,null,null,null,null,null,null,null,{"$f":"IF($H$78=\"Jule\",$BG$78,IF($H$79=\"Jule\",$BG$79,IF($H$80=\"Jule\",$BG$80,IF($H$81=\"Jule\",$BG$81,IF($H$82=\"Jule\",$BG$82,IF($H$83=\"Jule\",$BG$83,IF($H$84=\"Jule\",$BG$84,0)))))))","v":10},null,null,null,null,":",null,{"$f":"IF($H$78=\"Jule\",$BN$78,IF($H$79=\"Jule\",$BN$79,IF($H$80=\"Jule\",$BN$80,IF($H$81=\"Jule\",$BN$81,IF($H$82=\"Jule\",$BN$82,IF($H$83=\"Jule\",$BN$83,IF($H$84=\"Jule\",$BN$84,0)))))))","v":31},null,null,null,null,{"$f":"IF($H$78=\"Jule\",$BS$78,IF($H$79=\"Jule\",$BS$79,IF($H$80=\"Jule\",$BS$80,IF($H$81=\"Jule\",$BS$81,IF($H$82=\"Jule\",$BS$82,IF($H$83=\"Jule\",$BS$83,IF($H$84=\"Jule\",$BS$84,0)))))))","v":-21},null,null,null,null,{"$f":"IF($H$78=\"Jule\",$BX$78,IF($H$79=\"Jule\",$BX$79,IF($H$80=\"Jule\",$BX$80,IF($H$81=\"Jule\",$BX$81,IF($H$82=\"Jule\",$BX$82,IF($H$83=\"Jule\",$BX$83,IF($H$84=\"Jule\",$BX$84,0)))))))","v":3}]
[null,null,{"$f":"IF($H$78=\"Markus\",$F$78,IF($H$79=\"Markus\",$F$79,IF($H$80=\"Markus\",$F$80,IF($H$81=\"Markus\",$F$81,IF($H$82=\"Markus\",$F$82,IF($H$83=\"Markus\",$F$83,IF($H$84=\"Markus\",$F$84,0)))))))","v":2},null,null,null,null,"Markus",null,null,null,null,null,null,null,null,null,null,null,{"$f":"IF($H$78=\"Markus\",$T$78,IF($H$79=\"Markus\",$T$79,IF($H$80=\"Markus\",$T$80,IF($H$81=\"Markus\",$T$81,IF($H$82=\"Markus\",$T$82,IF($H$83=\"Markus\",$T$83,IF($H$84=\"Markus\",$T$84,0)))))))","v":10},null,null,null,null,null,{"$f":"IF($H$78=\"Markus\",$Z$78,IF($H$79=\"Markus\",$Z$79,IF($H$80=\"Markus\",$Z$80,IF($H$81=\"Markus\",$Z$81,IF($H$82=\"Markus\",$Z$82,IF($H$83=\"Markus\",$Z$83,IF($H$84=\"Markus\",$Z$84,0)))))))","v":6},null,null,null,null,null,null,null,null,null,null,{"$f":"IF($H$78=\"Markus\",$AK$78,IF($H$79=\"Markus\",$AK$79,IF($H$80=\"Markus\",$AK$80,IF($H$81=\"Markus\",$AK$81,IF($H$82=\"Markus\",$AK$82,IF($H$83=\"Markus\",$AK$83,IF($H$84=\"Markus\",$AK$84,0)))))))","v":3},null,null,null,null,null,null,null,null,null,null,{"$f":"IF($H$78=\"Markus\",$AV$78,IF($H$79=\"Markus\",$AV$79,IF($H$80=\"Markus\",$AV$80,IF($H$81=\"Markus\",$AV$81,IF($H$82=\"Markus\",$AV$82,IF($H$83=\"Markus\",$AV$83,IF($H$84=\"Markus\",$AV$84,0)))))))","v":1},null,null,null,null,null,null,null,null,null,null,{"$f":"IF($H$78=\"Markus\",$BG$78,IF($H$79=\"Markus\",$BG$79,IF($H$80=\"Markus\",$BG$80,IF($H$81=\"Markus\",$BG$81,IF($H$82=\"Markus\",$BG$82,IF($H$83=\"Markus\",$BG$83,IF($H$84=\"Markus\",$BG$84,0)))))))","v":23},null,null,null,null,":",null,{"$f":"IF($H$78=\"Markus\",$BN$78,IF($H$79=\"Markus\",$BN$79,IF($H$80=\"Markus\",$BN$80,IF($H$81=\"Markus\",$BN$81,IF($H$82=\"Markus\",$BN$82,IF($H$83=\"Markus\",$BN$83,IF($H$84=\"Markus\",$BN$84,0)))))))","v":16},null,null,null,null,{"$f":"IF($H$78=\"Markus\",$BS$78,IF($H$79=\"Markus\",$BS$79,IF($H$80=\"Markus\",$BS$80,IF($H$81=\"Markus\",$BS$81,IF($H$82=\"Markus\",$BS$82,IF($H$83=\"Markus\",$BS$83,IF($H$84=\"Markus\",$BS$84,0)))))))","v":7},null,null,null,null,{"$f":"IF($H$78=\"Markus\",$BX$78,IF($H$79=\"Markus\",$BX$79,IF($H$80=\"Markus\",$BX$80,IF($H$81=\"Markus\",$BX$81,IF($H$82=\"Markus\",$BX$82,IF($H$83=\"Markus\",$BX$83,IF($H$84=\"Markus\",$BX$84,0)))))))","v":21}]
[null,null,{"$f":"IF($H$78=\"Patrick\",$F$78,IF($H$79=\"Patrick\",$F$79,IF($H$80=\"Patrick\",$F$80,IF($H$81=\"Patrick\",$F$81,IF($H$82=\"Patrick\",$F$82,IF($H$83=\"Patrick\",$F$83,IF($H$84=\"Patrick\",$F$84,0)))))))","v":1},null,null,null,null,"Patrick",null,null,null,null,null,null,null,null,null,null,null,{"$f":"IF($H$78=\"Patrick\",$T$78,IF($H$79=\"Patrick\",$T$79,IF($H$80=\"Patrick\",$T$80,IF($H$81=\"Patrick\",$T$81,IF($H$82=\"Patrick\",$T$82,IF($H$83=\"Patrick\",$T$83,IF($H$84=\"Patrick\",$T$84,0)))))))","v":10},null,null,null,null,null,{"$f":"IF($H$78=\"Patrick\",$Z$78,IF($H$79=\"Patrick\",$Z$79,IF($H$80=\"Patrick\",$Z$80,IF($H$81=\"Patrick\",$Z$81,IF($H$82=\"Patrick\",$Z$82,IF($H$83=\"Patrick\",$Z$83,IF($H$84=\"Patrick\",$Z$84,0)))))))","v":7},null,null,null,null,null,null,null,null,null,null,{"$f":"IF($H$78=\"Patrick\",$AK$78,IF($H$79=\"Patrick\",$AK$79,IF($H$80=\"Patrick\",$AK$80,IF($H$81=\"Patrick\",$AK$81,IF($H$82=\"Patrick\",$AK$82,IF($H$83=\"Patrick\",$AK$83,IF($H$84=\"Patrick\",$AK$84,0)))))))","v":2},null,null,null,null,null,null,null,null,null,null,{"$f":"IF($H$78=\"Patrick\",$AV$78,IF($H$79=\"Patrick\",$AV$79,IF($H$80=\"Patrick\",$AV$80,IF($H$81=\"Patrick\",$AV$81,IF($H$82=\"Patrick\",$AV$82,IF($H$83=\"Patrick\",$AV$83,IF($H$84=\"Patrick\",$AV$84,0)))))))","v":1},null,null,null,null,null,null,null,null,null,null,{"$f":"IF($H$78=\"Patrick\",$BG$78,IF($H$79=\"Patrick\",$BG$79,IF($H$80=\"Patrick\",$BG$80,IF($H$81=\"Patrick\",$BG$81,IF($H$82=\"Patrick\",$BG$82,IF($H$83=\"Patrick\",$BG$83,IF($H$84=\"Patrick\",$BG$84,0)))))))","v":26},null,null,null,null,":",null,{"$f":"IF($H$78=\"Patrick\",$BN$78,IF($H$79=\"Patrick\",$BN$79,IF($H$80=\"Patrick\",$BN$80,IF($H$81=\"Patrick\",$BN$81,IF($H$82=\"Patrick\",$BN$82,IF($H$83=\"Patrick\",$BN$83,IF($H$84=\"Patrick\",$BN$84,0)))))))","v":9},null,null,null,null,{"$f":"IF($H$78=\"Patrick\",$BS$78,IF($H$79=\"Patrick\",$BS$79,IF($H$80=\"Patrick\",$BS$80,IF($H$81=\"Patrick\",$BS$81,IF($H$82=\"Patrick\",$BS$82,IF($H$83=\"Patrick\",$BS$83,IF($H$84=\"Patrick\",$BS$84,0)))))))","v":17},null,null,null,null,{"$f":"IF($H$78=\"Patrick\",$BX$78,IF($H$79=\"Patrick\",$BX$79,IF($H$80=\"Patrick\",$BX$80,IF($H$81=\"Patrick\",$BX$81,IF($H$82=\"Patrick\",$BX$82,IF($H$83=\"Patrick\",$BX$83,IF($H$84=\"Patrick\",$BX$84,0)))))))","v":23}]
[null,null,{"$f":"IF($H$78=\"Ratze\",$F$78,IF($H$79=\"Ratze\",$F$79,IF($H$80=\"Ratze\",$F$80,IF($H$81=\"Ratze\",$F$81,IF($H$82=\"Ratze\",$F$82,IF($H$83=\"Ratze\",$F$83,IF($H$84=\"Ratze\",$F$84,0)))))))","v":3},null,null,null,null,"Ratze",null,null,null,null,null,null,null,null,null,null,null,{"$f":"IF($H$78=\"Ratze\",$T$78,IF($H$79=\"Ratze\",$T$79,IF($H$80=\"Ratze\",$T$80,IF($H$81=\"Ratze\",$T$81,IF($H$82=\"Ratze\",$T$82,IF($H$83=\"Ratze\",$T$83,IF($H$84=\"Ratze\",$T$84,0)))))))","v":10},null,null,null,null,null,{"$f":"IF($H$78=\"Ratze\",$Z$78,IF($H$79=\"Ratze\",$Z$79,IF($H$80=\"Ratze\",$Z$80,IF($H$81=\"Ratze\",$Z$81,IF($H$82=\"Ratze\",$Z$82,IF($H$83=\"Ratze\",$Z$83,IF($H$84=\"Ratze\",$Z$84,0)))))))","v":6},null,null,null,null,null,null,null,null,null,null,{"$f":"IF($H$78=\"Ratze\",$AK$78,IF($H$79=\"Ratze\",$AK$79,IF($H$80=\"Ratze\",$AK$80,IF($H$81=\"Ratze\",$AK$81,IF($H$82=\"Ratze\",$AK$82,IF($H$83=\"Ratze\",$AK$83,IF($H$84=\"Ratze\",$AK$84,0)))))))","v":2},null,null,null,null,null,null,null,null,null,null,{"$f":"IF($H$78=\"Ratze\",$AV$78,IF($H$79=\"Ratze\",$AV$79,IF($H$80=\"Ratze\",$AV$80,IF($H$81=\"Ratze\",$AV$81,IF($H$82=\"Ratze\",$AV$82,IF($H$83=\"Ratze\",$AV$83,IF($H$84=\"Ratze\",$AV$84,0)))))))","v":2},null,null,null,null,null,null,null,null,null,null,{"$f":"IF($H$78=\"Ratze\",$BG$78,IF($H$79=\"Ratze\",$BG$79,IF($H$80=\"Ratze\",$BG$80,IF($H$81=\"Ratze\",$BG$81,IF($H$82=\"Ratze\",$BG$82,IF($H$83=\"Ratze\",$BG$83,IF($H$84=\"Ratze\",$BG$84,0)))))))","v":24},null,null,null,null,":",null,{"$f":"IF($H$78=\"Ratze\",$BN$78,IF($H$79=\"Ratze\",$BN$79,IF($H$80=\"Ratze\",$BN$80,IF($H$81=\"Ratze\",$BN$81,IF($H$82=\"Ratze\",$BN$82,IF($H$83=\"Ratze\",$BN$83,IF($H$84=\"Ratze\",$BN$84,0)))))))","v":13},null,null,null,null,{"$f":"IF($H$78=\"Ratze\",$BS$78,IF($H$79=\"Ratze\",$BS$79,IF($H$80=\"Ratze\",$BS$80,IF($H$81=\"Ratze\",$BS$81,IF($H$82=\"Ratze\",$BS$82,IF($H$83=\"Ratze\",$BS$83,IF($H$84=\"Ratze\",$BS$84,0)))))))","v":11},null,null,null,null,{"$f":"IF($H$78=\"Ratze\",$BX$78,IF($H$79=\"Ratze\",$BX$79,IF($H$80=\"Ratze\",$BX$80,IF($H$81=\"Ratze\",$BX$81,IF($H$82=\"Ratze\",$BX$82,IF($H$83=\"Ratze\",$BX$83,IF($H$84=\"Ratze\",$BX$84,0)))))))","v":20}]
[null,null,{"$f":"IF($H$78=\"Schmiddi\",$F$78,IF($H$79=\"Schmiddi\",$F$79,IF($H$80=\"Schmiddi\",$F$80,IF($H$81=\"Schmiddi\",$F$81,IF($H$82=\"Schmiddi\",$F$82,IF($H$83=\"Schmiddi\",$F$83,IF($H$84=\"Schmiddi\",$F$84,0)))))))","v":5},null,null,null,null,"Schmiddi",null,null,null,null,null,null,null,null,null,null,null,{"$f":"IF($H$78=\"Schmiddi\",$T$78,IF($H$79=\"Schmiddi\",$T$79,IF($H$80=\"Schmiddi\",$T$80,IF($H$81=\"Schmiddi\",$T$81,IF($H$82=\"Schmiddi\",$T$82,IF($H$83=\"Schmiddi\",$T$83,IF($H$84=\"Schmiddi\",$T$84,0)))))))","v":10},null,null,null,null,null,{"$f":"IF($H$78=\"Schmiddi\",$Z$78,IF($H$79=\"Schmiddi\",$Z$79,IF($H$80=\"Schmiddi\",$Z$80,IF($H$81=\"Schmiddi\",$Z$81,IF($H$82=\"Schmiddi\",$Z$82,IF($H$83=\"Schmiddi\",$Z$83,IF($H$84=\"Schmiddi\",$Z$84,0)))))))","v":1},null,null,null,null,null,null,null,null,null,null,{"$f":"IF($H$78=\"Schmiddi\",$AK$78,IF($H$79=\"Schmiddi\",$AK$79,IF($H$80=\"Schmiddi\",$AK$80,IF($H$81=\"Schmiddi\",$AK$81,IF($H$82=\"Schmiddi\",$AK$82,IF($H$83=\"Schmiddi\",$AK$83,IF($H$84=\"Schmiddi\",$AK$84,0)))))))","v":1},null,null,null,null,null,null,null,null,null,null,{"$f":"IF($H$78=\"Schmiddi\",$AV$78,IF($H$79=\"Schmiddi\",$AV$79,IF($H$80=\"Schmiddi\",$AV$80,IF($H$81=\"Schmiddi\",$AV$81,IF($H$82=\"Schmiddi\",$AV$82,IF($H$83=\"Schmiddi\",$AV$83,IF($H$84=\"Schmiddi\",$AV$84,0)))))))","v":8},null,null,null,null,null,null,null,null,null,null,{"$f":"IF($H$78=\"Schmiddi\",$BG$78,IF($H$79=\"Schmiddi\",$BG$79,IF($H$80=\"Schmiddi\",$BG$80,IF($H$81=\"Schmiddi\",$BG$81,IF($H$82=\"Schmiddi\",$BG$82,IF($H$83=\"Schmiddi\",$BG$83,IF($H$84=\"Schmiddi\",$BG$84,0)))))))","v":20},null,null,null,null,":",null,{"$f":"IF($H$78=\"Schmiddi\",$BN$78,IF($H$79=\"Schmiddi\",$BN$79,IF($H$80=\"Schmiddi\",$BN$80,IF($H$81=\"Schmiddi\",$BN$81,IF($H$82=\"Schmiddi\",$BN$82,IF($H$83=\"Schmiddi\",$BN$83,IF($H$84=\"Schmiddi\",$BN$84,0)))))))","v":37},null,null,null,null,{"$f":"IF($H$78=\"Schmiddi\",$BS$78,IF($H$79=\"Schmiddi\",$BS$79,IF($H$80=\"Schmiddi\",$BS$80,IF($H$81=\"Schmiddi\",$BS$81,IF($H$82=\"Schmiddi\",$BS$82,IF($H$83=\"Schmiddi\",$BS$83,IF($H$84=\"Schmiddi\",$BS$84,0)))))))","v":-17},null,null,null,null,{"$f":"IF($H$78=\"Schmiddi\",$BX$78,IF($H$79=\"Schmiddi\",$BX$79,IF($H$80=\"Schmiddi\",$BX$80,IF($H$81=\"Schmiddi\",$BX$81,IF($H$82=\"Schmiddi\",$BX$82,IF($H$83=\"Schmiddi\",$BX$83,IF($H$84=\"Schmiddi\",$BX$84,0)))))))","v":4}]

{"sheet":"26.11.","index":6,"n_rows":97,"n_cols":88,"rows_kept":97,"cut":false,"hidden":false,"merged":[[79,2,79,4],[79,5,79,6],[80,2,80,4],[80,5,80,6],[81,2,81,4],[81,5,81,6],[82,2,82,4],[82,5,82,6],[83,2,83,4],[83,5,83,6],[14,2,14,81],[15,2,20,5],[15,6,20,6],[15,7,15,10],[15,11,20,11],[19,7,19,10],[19,12,19,16],[19,18,19,22],[19,24,19,33],[19,35,19,49],[15,68,20,68],[17,53,17,67],[17,69,17,73],[17,74,17,76],[17,77,17,81],[18,53,18,67],[18,69,18,73],[18,74,18,76],[18,77,18,81],[19,50,19,52],[19,53,19,67],[19,69,19,73],[19,74,19,76],[19,77,19,81],[8,1,8,82],[9,1,9,82],[10,1,10,82],[11,1,27,1],[11,2,11,81],[16,69,16,73],[16,74,16,76],[16,77,16,81],[15,17,20,17],[15,18,15,22],[11,82,27,82],[12,2,12,81],[13,2,13,5],[13,7,13,10],[13,12,13,16],[13,18,13,22],[13,24,13,33],[13,35,13,67],[13,69,13,81],[15,77,15,81],[16,53,16,67],[16,50,16,52],[15,50,15,52],[15,53,15,67],[1,1,1,82],[2,1,2,82],[3,1,3,82],[4,1,7,1],[4,2,4,81],[4,82,7,82],[5,2,5,81],[6,2,6,13],[6,14,6,30],[6,31,6,47],[6,48,6,64],[6,65,6,81],[7,2,7,13],[7,14,7,30],[7,31,7,47],[7,48,7,64],[7,65,7,81],[20,77,20,81],[17,7,17,10],[17,12,17,16],[17,18,17,22],[17,24,17,33],[17,35,17,49],[17,50,17,52],[15,12,15,16],[15,69,15,73],[15,74,15,76],[20,7,20,10],[20,12,20,16],[20,18,20,22],[20,24,20,33],[20,35,20,49],[20,50,20,52],[20,53,20,67],[20,69,20,73],[20,74,20,76],[15,23,20,23],[15,24,15,33],[15,34,20,34],[15,35,15,49],[16,7,16,10],[16,12,16,16],[16,18,16,22],[16,24,16,33],[16,35,16,49],[18,7,18,10],[18,12,18,16],[18,18,18,22],[18,24,18,33],[18,35,18,49],[18,50,18,52],[21,2,21,81],[22,2,27,5],[22,6,27,6],[22,7,22,10],[22,11,27,11],[22,12,22,16],[22,69,22,73],[22,74,22,76],[22,77,22,81],[23,53,23,67],[23,69,23,73],[23,74,23,76],[23,77,23,81],[22,17,27,17],[22,18,22,22],[22,23,27,23],[22,24,22,33],[22,34,27,34],[22,35,22,49],[23,7,23,10],[23,12,23,16],[23,18,23,22],[23,24,23,33],[23,35,23,49],[25,7,25,10],[25,12,25,16],[25,18,25,22],[25,24,25,33],[25,35,25,49],[25,50,25,52],[24,7,24,10],[24,12,24,16],[24,18,24,22],[24,24,24,33],[24,35,24,49],[24,50,24,52],[27,74,27,76],[23,50,23,52],[22,50,22,52],[22,53,22,67],[22,68,27,68],[24,53,24,67],[24,69,24,73],[24,74,24,76],[24,77,24,81],[25,53,25,67],[25,69,25,73],[25,74,25,76],[25,77,25,81],[65,2,65,6],[65,7,65,18],[65,19,65,24],[27,77,27,81],[28,1,28,82],[59,1,59,82],[26,53,26,67],[26,69,26,73],[26,74,26,76],[26,77,26,81],[27,7,27,10],[27,12,27,16],[27,18,27,22],[27,24,27,33],[27,35,27,49],[27,50,27,52],[26,7,26,10],[26,12,26,16],[26,18,26,22],[26,24,26,33],[26,35,26,49],[26,50,26,52],[27,53,27,67],[27,69,27,73],[64,58,64,62],[64,63,64,64],[64,65,64,69],[60,1,60,82],[61,1,67,1],[61,2,61,81],[61,82,67,82],[62,2,62,81],[63,2,63,6],[63,7,63,18],[63,19,63,24],[63,25,63,35],[63,36,63,46],[63,47,63,57],[63,58,63,69],[63,70,63,74],[63,75,63,78],[63,79,63,81],[64,2,64,6],[64,7,64,18],[64,19,64,24],[64,25,64,35],[64,36,64,46],[64,79,64,81],[64,70,64,74],[64,75,64,78],[65,70,65,74],[65,75,65,78],[65,79,65,81],[66,2,66,6],[66,7,66,18],[66,19,66,24],[66,25,66,35],[66,36,66,46],[66,47,66,57],[66,58,66,62],[66,63,66,64],[66,65,66,69],[66,70,66,74],[66,75,66,78],[66,79,66,81],[65,25,65,35],[65,36,65,46],[65,47,65,57],[65,58,65,62],[65,63,65,64],[65,65,65,69],[64,47,64,57],[69,75,69,78],[69,79,69,81],[68,2,68,6],[68,7,68,18],[68,19,68,24],[68,25,68,35],[68,36,68,46],[68,47,68,57],[68,58,68,62],[68,63,68,64],[68,65,68,69],[77,58,77,62],[77,63,77,64],[77,65,77,69],[76,19,76,24],[76,25,76,35],[77,70,77,74],[77,75,77,81],[71,1,71,82],[72,1,72,82],[73,1,73,82],[67,2,67,6],[67,7,67,18],[67,19,67,24],[67,25,67,35],[67,36,67,46],[67,79,67,81],[76,36,76,46],[76,47,76,57],[76,58,76,69],[76,70,76,74],[68,70,68,74],[68,75,68,78],[68,79,68,81],[67,47,67,57],[67,58,67,62],[67,63,67,64],[67,65,67,69],[67,70,67,74],[67,75,67,78],[76,75,76,81],[69,58,69,62],[69,63,69,64],[69,65,69,69],[69,70,69,74],[78,75,78,81],[76,2,76,6],[76,7,76,18],[77,2,77,4],[77,5,77,6],[78,2,78,4],[78,5,78,6],[80,65,80,69],[80,70,80,74],[80,75,80,81],[78,7,78,18],[78,19,78,24],[78,25,78,35],[78,36,78,46],[78,47,78,57],[78,58,78,62],[78,63,78,64],[78,65,78,69],[78,70,78,74],[77,7,77,18],[77,19,77,24],[77,25,77,35],[77,36,77,46],[77,47,77,57],[84,1,84,82],[79,63,79,64],[79,65,79,69],[79,70,79,74],[79,75,79,81],[80,7,80,18],[80,19,80,24],[80,25,80,35],[80,36,80,46],[80,47,80,57],[74,1,80,1],[74,2,74,81],[74,82,80,82],[75,2,75,81],[79,7,79,18],[79,19,79,24],[79,25,79,35],[79,36,79,46],[79,47,79,57],[79,58,79,62],[80,58,80,62],[80,63,80,64],[83,7,83,18],[83,19,83,24],[85,1,85,82],[86,1,86,82],[87,1,96,1],[87,2,87,81],[87,82,96,82],[88,2,88,81],[89,2,89,6],[89,7,89,18],[89,19,89,24],[89,25,89,35],[89,36,89,46],[89,47,89,57],[89,58,89,69],[89,70,89,74],[89,75,89,81],[90,2,90,6],[90,7,90,18],[90,19,90,24],[90,25,90,35],[90,36,90,46],[90,47,90,57],[90,58,90,62],[90,63,90,64],[90,65,90,69],[90,70,90,74],[90,75,90,81],[91,2,91,6],[91,7,91,18],[91,19,91,24],[91,25,91,35],[91,36,91,46],[91,47,91,57],[91,58,91,62],[91,63,91,64],[91,65,91,69],[91,70,91,74],[91,75,91,81],[92,70,92,74],[92,75,92,81],[93,2,93,6],[93,7,93,18],[93,19,93,24],[93,25,93,35],[93,36,93,46],[93,47,93,57],[93,58,93,62],[93,63,93,64],[93,65,93,69],[93,70,93,74],[93,75,93,81],[92,2,92,6],[92,7,92,18],[92,19,92,24],[92,25,92,35],[92,36,92,46],[92,47,92,57],[92,58,92,62],[92,63,92,64],[92,65,92,69],[94,70,94,74],[94,75,94,81],[95,2,95,6],[95,7,95,18],[95,19,95,24],[95,25,95,35],[95,36,95,46],[95,47,95,57],[95,58,95,62],[95,63,95,64],[95,65,95,69],[95,70,95,74],[95,75,95,81],[94,2,94,6],[94,7,94,18],[94,19,94,24],[94,25,94,35],[94,36,94,46],[94,47,94,57],[94,58,94,62],[94,63,94,64],[94,65,94,69],[96,2,96,6],[96,7,96,18],[96,19,96,24],[96,25,96,35],[96,36,96,46],[96,47,96,57],[96,58,96,62],[96,63,96,64],[96,65,96,69],[96,70,96,74],[96,75,96,81],[97,1,97,82],[0,0,0,83],[98,0,98,83],[1,83,97,83],[70,2,70,6],[70,7,70,18],[70,19,70,24],[70,25,70,35],[70,36,70,46],[70,47,70,57],[70,58,70,62],[70,63,70,64],[70,65,70,69],[70,70,70,74],[70,75,70,78],[70,79,70,81],[69,2,69,6],[69,7,69,18],[69,19,69,24],[69,25,69,35],[69,36,69,46],[69,47,69,57],[83,25,83,35],[83,36,83,46],[83,47,83,57],[83,58,83,62],[83,63,83,64],[83,65,83,69],[83,70,83,74],[83,75,83,81],[82,7,82,18],[82,19,82,24],[82,25,82,35],[82,36,82,46],[82,47,82,57],[82,58,82,62],[82,63,82,64],[82,65,82,69],[82,70,82,74],[82,75,82,81],[81,75,81,81],[81,7,81,18],[81,19,81,24],[81,25,81,35],[81,36,81,46],[81,47,81,57],[81,58,81,62],[81,63,81,64],[81,65,81,69],[81,70,81,74]]}
[]
[null,{"$f":"\"Turnier am \" & MID(CELL(\"dateiname\",A1),SEARCH(\"]\",CELL(\"dateiname\",A1))+1,31)","v":"Turnier am 26.11."}]
[]
[]
[null,null,"Spielerliste"]
[]
[null,null,{"$f":"\" Spieler\"","v":" Spieler"},null,null,null,null,null,null,null,null,null,null,null,"Spieler 1",null,null,null,null,null,null,null,null,null,null,null,null,null,null,null,null,"Spieler 2",null,null,null,null,null,null,null,null,null,null,null,null,null,null,null,null,"Spieler 3",null,null,null,null,null,null,null,null,null,null,null,null,null,null,null,null,"Spieler 4"]
[null,null,{"$f":"\" Name\"","v":" Name"},null,null,null,null,null,null,null,null,null,null,null,"Patrick",null,null,null,null,null,null,null,null,null,null,null,null,null,null,null,null,"Christoph",null,null,null,null,null,null,null,null,null,null,null,null,null,null,null,null,"Markus",null,null,null,null,null,null,null,null,null,null,null,null,null,null,null,null,"Ratze"]
[]
[]
[]
[null,null,"Spielplan"]
[]
[null,null,"00:12:00",null,null,null,null,"Spiel",null,null,null,null,"Datum",null,null,null,null,null,"Uhrzeit",null,null,null,null,null,"Austragungsort",null,null,null,null,null,null,null,null,null,null,"Paarung",null,null,null,null,null,null,null,null,null,null,null,null,null,null,null,null,null,null,null,null,null,null,null,null,null,null,null,null,null,null,null,null,null,"Ergebnis",null,null,null,null,null,null,null,null,null,null,null,null,null,null,"Spiele","SiegHeim","Unentschieden","SiegGast"]
[]
[null,null,"Hinrunde",null,null,null,null,1,null,null,null,null,{"$f":"MID(CELL(\"dateiname\",A1),SEARCH(\"]\",CELL(\"dateiname\",A1))+1,31)","v":"26.11."},null,null,null,null,null,"21:00:00",null,null,null,null,null,"Fernseher",null,null,null,null,null,null,null,null,null,null,{"$f":"$O$8","v":"Patrick"},null,null,null,null,null,null,null,null,null,null,null,null,null,null,":",null,null,{"$f":"$AF$8","v":"Christoph"},null,null,null,null,null,null,null,null,null,null,null,null,null,null,null,4,null,null,null,null,":",null,null,0,null,null,null,null,null,null,{"$f":"IF(AND(ISNUMBER(BR16),ISNUMBER(BZ16)),1,0)","v":1},{"$f":"IF(OR(ISBLANK(BR16),ISBLANK(BZ16)),0,IF(BR16>BZ16,1,0))","v":1},{"$f":"IF(OR(ISBLANK(BR16),ISBLANK(BZ16)),0,IF(BR16=BZ16,1,0))","v":0},{"$f":"IF(OR(ISBLANK(BR16),ISBLANK(BZ16)),0,IF(BR16<BZ16,1,0))","v":0}]
[null,null,null,null,null,null,null,{"$f":"H16+1","v":2},null,null,null,null,{"$f":"$M$16","v":"26.11."},null,null,null,null,null,{"$f":"S16","v":"21:00:00"},null,null,null,null,null,"Fernseher",null,null,null,null,null,null,null,null,null,null,{"$f":"$AW$8","v":"Markus"},null,null,null,null,null,null,null,null,null,null,null,null,null,null,":",null,null,{"$f":"$BN$8","v":"Ratze"},null,null,null,null,null,null,null,null,null,null,null,null,null,null,null,2,null,null,null,null,":",null,null,2,null,null,null,null,null,null,{"$f":"IF(AND(ISNUMBER(BR17),ISNUMBER(BZ17)),1,0)","v":1},{"$f":"IF(OR(ISBLANK(BR17),ISBLANK(BZ17)),0,IF(BR17>BZ17,1,0))","v":0},{"$f":"IF(OR(ISBLANK(BR17),ISBLANK(BZ17)),0,IF(BR17=BZ17,1,0))","v":1},{"$f":"IF(OR(ISBLANK(BR17),ISBLANK(BZ17)),0,IF(BR17<BZ17,1,0))","v":0}]
[null,null,null,null,null,null,null,{"$f":"H17+1","v":3},null,null,null,null,{"$f":"$M$16","v":"26.11."},null,null,null,null,null,{"$f":"S16+$C$14","v":"21:12:00"},null,null,null,null,null,{"$f":"$Y$16","v":"Fernseher"},null,null,null,null,null,null,null,null,null,null,{"$f":"$O$8","v":"Patrick"},null,null,null,null,null,null,null,null,null,null,null,null,null,null,":",null,null,{"$f":"$AW$8","v":"Markus"},null,null,null,null,null,null,null,null,null,null,null,null,null,null,null,4,null,null,null,null,":",null,null,2,null,null,null,null,null,null,1,1,0,0]
[null,null,null,null,null,null,null,{"$f":"H18+1","v":4},null,null,null,null,"26.11.",null,null,null,null,null,{"$f":"S17+$C$14","v":"21:12:00"},null,null,null,null,null,{"$f":"$Y$17","v":"Fernseher"},null,null,null,null,null,null,null,null,null,null,{"$f":"$AF$8","v":"Christoph"},null,null,null,null,null,null,null,null,null,null,null,null,null,null,":",null,null,{"$f":"$BN$8","v":"Ratze"},null,null,null,null,null,null,null,null,null,null,null,null,null,null,null,4,null,null,null,null,":",null,null,1,null,null,null,null,null,null,1,1,0,0]
[null,null,null,null,null,null,null,{"$f":"H19+1","v":5},null,null,null,null,"26.11.",null,null,null,null,null,{"$f":"S18+$C$14","v":"21:24:00"},null,null,null,null,null,{"$f":"$Y$16","v":"Fernseher"},null,null,null,null,null,null,null,null,null,null,{"$f":"$BN$8","v":"Ratze"},null,null,null,null,null,null,null,null,null,null,null,null,null,null,":",null,null,{"$f":"$O$8","v":"Patrick"},null,null,null,null,null,null,null,null,null,null,null,null,null,null,null,4,null,null,null,null,":",null,null,2,null,null,null,null,null,null,1,1,0,0]
[null,null,null,null,null,null,null,{"$f":"H20+1","v":6},null,null,null,null,"26.11.",null,null,null,null,null,{"$f":"S19+$C$14","v":"21:24:00"},null,null,null,null,null,{"$f":"$Y$17","v":"Fernseher"},null,null,null,null,null,null,null,null,null,null,{"$f":"$AF$8","v":"Christoph"},null,null,null,null,null,null,null,null,null,null,null,null,null,null,":",null,null,{"$f":"$AW$8","v":"Markus"},null,null,null,null,null,null,null,null,null,null,null,null,null,null,null,0,null,null,null,null,":",null,null,0,null,null,null,null,null,null,1,0,1,0]
[]
[null,null,"Rückrunde",null,null,null,null,{"$f":"H21+1","v":7},null,null,null,null,{"$f":"$M$16","v":"26.11."},null,null,null,null,null,{"$f":"S20+$C$14","v":"21:36:00"},null,null,null,null,null,{"$f":"$Y$17","v":"Fernseher"},null,null,null,null,null,null,null,null,null,null,{"$f":"$AF$8","v":"Christoph"},null,null,null,null,null,null,null,null,null,null,null,null,null,null,":",null,null,{"$f":"$O$8","v":"Patrick"},null,null,null,null,null,null,null,null,null,null,null,null,null,null,null,1,null,null,null,null,":",null,null,1,null,null,null,null,null,null,{"$f":"IF(AND(ISNUMBER(BR23),ISNUMBER(BZ23)),1,0)","v":1},{"$f":"IF(OR(ISBLANK(BR23),ISBLANK(BZ23)),0,IF(BR23>BZ23,1,0))","v":0},{"$f":"IF(OR(ISBLANK(BR23),ISBLANK(BZ23)),0,IF(BR23=BZ23,1,0))","v":1},{"$f":"IF(OR(ISBLANK(BR23),ISBLANK(BZ23)),0,IF(BR23<BZ23,1,0))","v":0}]
[null,null,null,null,null,null,null,{"$f":"H23+1","v":8},null,null,null,null,"26.11.",null,null,null,null,null,{"$f":"S21+$C$14","v":"21:36:00"},null,null,null,null,null,{"$f":"$Y$16","v":"Fernseher"},null,null,null,null,null,null,null,null,null,null,{"$f":"$BN$8","v":"Ratze"},null,null,null,null,null,null,null,null,null,null,null,null,null,null,":",null,null,{"$f":"$AW$8","v":"Markus"},null,null,null,null,null,null,null,null,null,null,null,null,null,null,null,0,null,null,null,null,":",null,null,2,null,null,null,null,null,null,1,0,0,1]
[null,null,null,null,null,null,null,{"$f":"H24+1","v":9},null,null,null,null,"26.11.",null,null,null,null,null,{"$f":"S23+$C$14","v":"21:48:00"},null,null,null,null,null,{"$f":"$Y$17","v":"Fernseher"},null,null,null,null,null,null,null,null,null,null,{"$f":"$AW$8","v":"Markus"},null,null,null,null,null,null,null,null,null,null,null,null,null,null,":",null,null,{"$f":"$O$8","v":"Patrick"},null,null,null,null,null,null,null,null,null,null,null,null,null,null,null,1,null,null,null,null,":",null,null,5,null,null,null,null,null,null,1,0,0,1]
[null,null,null,null,null,null,null,{"$f":"H25+1","v":10},null,null,null,null,"26.11.",null,null,null,null,null,{"$f":"S24+$C$14","v":"21:48:00"},null,null,null,null,null,{"$f":"$Y$16","v":"Fernseher"},null,null,null,null,null,null,null,null,null,null,{"$f":"$BN$8","v":"Ratze"},null,null,null,null,null,null,null,null,null,null,null,null,null,null,":",null,null,{"$f":"$AF$8","v":"Christoph"},null,null,null,null,null,null,null,null,null,null,null,null,null,null,null,1,null,null,null,null,":",null,null,6,null,null,null,null,null,null,1,0,0,1]
[null,null,null,null,null,null,null,{"$f":"H26+1","v":11},null,null,null,null,"26.11.",null,null,null,null,null,{"$f":"S25+$C$14","v":"22:00:00"},null,null,null,null,null,{"$f":"$Y$17","v":"Fernseher"},null,null,null,null,null,null,null,null,null,null,{"$f":"$O$8","v":"Patrick"},null,null,null,null,null,null,null,null,null,null,null,null,null,null,":",null,null,{"$f":"$BN$8","v":"Ratze"},null,null,null,null,null,null,null,null,null,null,null,null,null,null,null,5,null,null,null,null,":",null,null,2,null,null,null,null,null,null,1,1,0,0]
[null,null,null,null,null,null,null,{"$f":"H27+1","v":12},null,null,null,null,"26.11.",null,null,null,null,null,{"$f":"S26+$C$14","v":"22:00:00"},null,null,null,null,null,{"$f":"$Y$16","v":"Fernseher"},null,null,null,null,null,null,null,null,null,null,{"$f":"$AW$8","v":"Markus"},null,null,null,null,null,null,null,null,null,null,null,null,null,null,":",null,null,{"$f":"$AF$8","v":"Christoph"},null,null,null,null,null,null,null,null,null,null,null,null,null,null,null,3,null,null,null,null,":",null,null,2,null,null,null,null,null,null,1,1,0,0]
[]
[]
[]
[]
[]
[]
[]
[]
[]
[]
[]
[]
[]
[]
[]
[]
[]
[]
[]
[]
[]
[]
[]
[]
[]
[]
[]
[]
[]
[]
[]
[]
[]
[null,null,"Tabelle (unsortiert)"]
[]
[null,null,"Rang",null,null,null,null,"Spieler",null,null,null,null,null,null,null,null,null,null,null,"Spiele",null,null,null,null,null,"Siege",null,null,null,null,null,null,null,null,null,null,"Unentschieden",null,null,null,null,null,null,null,null,null,null,"Niederlagen",null,null,null,null,null,null,null,null,null,null,"Tore",null,null,null,null,null,null,null,null,null,null,null,"+/-",null,null,null,null,"Punkte",null,null,null,"HS"]
[null,null,{"$f":"IF(T65=0,0,RANK(BX65,$BX$65:$CA$68,0))","v":1},null,null,null,null,{"$f":"$O$8","v":"Patrick"},null,null,null,null,null,null,null,null,null,null,null,{"$f":"CG16+CG18+CG20+CG23+CG25+CG27","v":6},null,null,null,null,null,{"$f":"CH16+CH18+CJ20+CJ23+CJ25+CH27","v":4},null,null,null,null,null,null,null,null,null,null,{"$f":"CI16+CI18+CI20+CI23+CI25+CI27","v":1},null,null,null,null,null,null,null,null,null,null,{"$f":"CJ16+CJ18+CH20+CH23+CH25+CJ27","v":1},null,null,null,null,null,null,null,null,null,null,{"$f":"BR16+BR18+BZ20+BZ23+BZ25+BR27","v":21},null,null,null,null,":",null,{"$f":"BZ16+BZ18+BR20+BR23+BR25+BZ27","v":10},null,null,null,null,{"$f":"BG65-BN65","v":11},null,null,null,null,{"$f":"(Z65*3)+AK65","v":13},null,null,null,{"$f":"BX65+ROW()/1000","v":13.065}]
[null,null,{"$f":"IF(T66=0,0,RANK(BX66,$BX$65:$CA$68,0))","v":2},null,null,null,null,{"$f":"$AF$8","v":"Christoph"},null,null,null,null,null,null,null,null,null,null,null,{"$f":"CG16+CG19+CG21+CG23+CG26+CG28","v":6},null,null,null,null,null,{"$f":"CJ16+CH19+CH21+CH23+CJ26+CJ28","v":2},null,null,null,null,null,null,null,null,null,null,{"$f":"CI16+CI19+CI21+CI23+CI26+CI28","v":2},null,null,null,null,null,null,null,null,null,null,{"$f":"CH16+CJ19+CJ21+CJ23+CH26+CH28","v":2},null,null,null,null,null,null,null,null,null,null,{"$f":"BZ16+BR19+BR21+BR23+BZ26+BZ28","v":13},null,null,null,null,":",null,{"$f":"BR16+BZ19+BZ21+BZ23+BR26+BR28","v":10},null,null,null,null,{"$f":"BG66-BN66","v":3},null,null,null,null,{"$f":"(Z66*3)+AK66","v":8},null,null,null,{"$f":"BX66+ROW()/1000","v":8.0660000000000007}]
[null,null,{"$f":"IF(T67=0,0,RANK(BX67,$BX$65:$CA$68,0))","v":2},null,null,null,null,{"$f":"$AW$8","v":"Markus"},null,null,null,null,null,null,null,null,null,null,null,{"$f":"CG17+CG18+CG21+CG24+CG25+CG28","v":6},null,null,null,null,null,{"$f":"CH17+CJ18+CJ21+CJ24+CH25+CH28","v":2},null,null,null,null,null,null,null,null,null,null,{"$f":"CI17+CI18+CI21+CI24+CI25+CI28","v":2},null,null,null,null,null,null,null,null,null,null,{"$f":"CJ17+CH18+CH21+CH24+CJ25+CJ28","v":2},null,null,null,null,null,null,null,null,null,null,{"$f":"BR17+BZ18+BZ21+BZ24+BR25+BR28","v":10},null,null,null,null,":",null,{"$f":"BZ17+BR18+BR21+BR24+BZ25+BZ28","v":13},null,null,null,null,{"$f":"BG67-BN67","v":-3},null,null,null,null,{"$f":"(Z67*3)+AK67","v":8},null,null,null,{"$f":"BX67+ROW()/1000","v":8.0670000000000002}]
[null,null,{"$f":"IF(T68=0,0,RANK(BX68,$BX$65:$CA$68,0))","v":4},null,null,null,null,{"$f":"$BN$8","v":"Ratze"},null,null,null,null,null,null,null,null,null,null,null,{"$f":"CG17+CG19+CG20+CG24+CG26+CG27","v":6},null,null,null,null,null,{"$f":"CJ17+CJ19+CH20+CH24+CH26+CJ27","v":1},null,null,null,null,null,null,null,null,null,null,{"$f":"CI17+CI19+CI20+CI24+CI26+CI27","v":1},null,null,null,null,null,null,null,null,null,null,{"$f":"CH17+CH19+CJ20+CJ24+CJ26+CH27","v":4},null,null,null,null,null,null,null,null,null,null,{"$f":"BZ17+BZ19+BR20+BR24+BR26+BZ27","v":10},null,null,null,null,":",null,{"$f":"BR17+BR19+BZ20+BZ24+BZ26+BR27","v":21},null,null,null,null,{"$f":"BG68-BN68","v":-11},null,null,null,null,{"$f":"(Z68*3)+AK68","v":4},null,null,null,{"$f":"BX68+ROW()/1000","v":4.0679999999999996}]
[null,null,null,null,null,null,null,"Spieler 5",null,null,null,null,null,null,null,null,null,null,null,0,null,null,null,null,null,0,null,null,null,null,null,null,null,null,null,null,0,null,null,null,null,null,null,null,null,null,null,0,null,null,null,null,null,null,null,null,null,null,0,null,null,null,null,":",null,0,null,null,null,null,0,null,null,null,null,0,null,null,null,0]
[null,null,null,null,null,null,null,"Spieler 6",null,null,null,null,null,null,null,null,null,null,null,0,null,null,null,null,null,0,null,null,null,null,null,null,null,null,null,null,0,null,null,null,null,null,null,null,null,null,null,0,null,null,null,null,null,null,null,null,null,null,0,null,null,null,null,":",null,0,null,null,null,null,0,null,null,null,null,0,null,null,null,0]
[null,null,null,null,null,null,null,"Spieler 7",null,null,null,null,null,null,null,null,null,null,null,0,null,null,null,null,null,0,null,null,null,null,null,null,null,null,null,null,0,null,null,null,null,null,null,null,null,null,null,0,null,null,null,null,null,null,null,null,null,null,0,null,null,null,null,":",null,0,null,null,null,null,0,null,null,null,null,0,null,null,null,0]
[]
[]
[]
[null,null,"Tabelle"]
[]
[null,null,"Rang",null,null,null,null,"Spieler",null,null,null,null,null,null,null,null,null,null,null,"Spiele",null,null,null,null,null,"Siege",null,null,null,null,null,null,null,null,null,null,"Unentschieden",null,null,null,null,null,null,null,null,null,null,"Niederlagen",null,null,null,null,null,null,null,null,null,null,"Tore",null,null,null,null,null,null,null,null,null,null,null,"+/-",null,null,null,null,"Punkte"]
[null,null,{"$f":"INDEX($C$65:$C$68,MATCH(LARGE($CB$65:$CB$68,ROW(A1)),$CB$65:$CB$68,0),1)","v":1},null,null,1,null,{"$f":"INDEX($H$65:$H$68,MATCH(LARGE($CB$65:$CB$68,ROW(A1)),$CB$65:$CB$68,0),1)","v":"Patrick"},null,null,null,null,null,null,null,null,null,null,null,{"$f":"INDEX($T$65:$T$68,MATCH(LARGE($CB$65:$CB$68,ROW(A1)),$CB$65:$CB$68,0),1)","v":6},null,null,null,null,null,{"$f":"INDEX($Z$65:$Z$68,MATCH(LARGE($CB$65:$CB$68,ROW(A1)),$CB$65:$CB$68,0),1)","v":4},null,null,null,null,null,null,null,null,null,null,{"$f":"INDEX($AK$65:$AK$68,MATCH(LARGE($CB$65:$CB$68,ROW(A1)),$CB$65:$CB$68,0),1)","v":1},null,null,null,null,null,null,null,null,null,null,{"$f":"INDEX($AV$65:$AV$68,MATCH(LARGE($CB$65:$CB$68,ROW(A1)),$CB$65:$CB$68,0),1)","v":1},null,null,null,null,null,null,null,null,null,null,{"$f":"INDEX($BG$65:$BG$68,MATCH(LARGE($CB$65:$CB$68,ROW(A1)),$CB$65:$CB$68,0),1)","v":21},null,null,null,null,":",null,{"$f":"INDEX($BN$65:$BN$68,MATCH(LARGE($CB$65:$CB$68,ROW(A1)),$CB$65:$CB$68,0),1)","v":10},null,null,null,null,{"$f":"INDEX($BS$65:$BS$68,MATCH(LARGE($CB$65:$CB$68,ROW(A1)),$CB$65:$CB$68,0),1)","v":11},null,null,null,null,{"$f":"INDEX($BX$65:$BX$68,MATCH(LARGE($CB$65:$CB$68,ROW(A1)),$CB$65:$CB$68,0),1)","v":13}]
[null,null,{"$f":"INDEX($C$65:$C$68,MATCH(LARGE($CB$65:$CB$68,ROW(A2)),$CB$65:$CB$68,0),1)","v":2},null,null,3,null,{"$f":"INDEX($H$65:$H$68,MATCH(LARGE($CB$65:$CB$68,ROW(A2)),$CB$65:$CB$68,0),1)","v":"Markus"},null,null,null,null,null,null,null,null,null,null,null,{"$f":"INDEX($T$65:$T$68,MATCH(LARGE($CB$65:$CB$68,ROW(A2)),$CB$65:$CB$68,0),1)","v":6},null,null,null,null,null,{"$f":"INDEX($Z$65:$Z$68,MATCH(LARGE($CB$65:$CB$68,ROW(A2)),$CB$65:$CB$68,0),1)","v":2},null,null,null,null,null,null,null,null,null,null,{"$f":"INDEX($AK$65:$AK$68,MATCH(LARGE($CB$65:$CB$68,ROW(A2)),$CB$65:$CB$68,0),1)","v":2},null,null,null,null,null,null,null,null,null,null,{"$f":"INDEX($AV$65:$AV$68,MATCH(LARGE($CB$65:$CB$68,ROW(A2)),$CB$65:$CB$68,0),1)","v":2},null,null,null,null,null,null,null,null,null,null,{"$f":"INDEX($BG$65:$BG$68,MATCH(LARGE($CB$65:$CB$68,ROW(A2)),$CB$65:$CB$68,0),1)","v":10},null,null,null,null,":",null,{"$f":"INDEX($BN$65:$BN$68,MATCH(LARGE($CB$65:$CB$68,ROW(A2)),$CB$65:$CB$68,0),1)","v":13},null,null,null,null,{"$f":"INDEX($BS$65:$BS$68,MATCH(LARGE($CB$65:$CB$68,ROW(A2)),$CB$65:$CB$68,0),1)","v":-3},null,null,null,null,{"$f":"INDEX($BX$65:$BX$68,MATCH(LARGE($CB$65:$CB$68,ROW(A2)),$CB$65:$CB$68,0),1)","v":8}]
[null,null,{"$f":"INDEX($C$65:$C$68,MATCH(LARGE($CB$65:$CB$68,ROW(A3)),$CB$65:$CB$68,0),1)","v":2},null,null,2,null,{"$f":"INDEX($H$65:$H$68,MATCH(LARGE($CB$65:$CB$68,ROW(A3)),$CB$65:$CB$68,0),1)","v":"Christoph"},null,null,null,null,null,null,null,null,null,null,null,{"$f":"INDEX($T$65:$T$68,MATCH(LARGE($CB$65:$CB$68,ROW(A3)),$CB$65:$CB$68,0),1)","v":6},null,null,null,null,null,{"$f":"INDEX($Z$65:$Z$68,MATCH(LARGE($CB$65:$CB$68,ROW(A3)),$CB$65:$CB$68,0),1)","v":2},null,null,null,null,null,null,null,null,null,null,{"$f":"INDEX($AK$65:$AK$68,MATCH(LARGE($CB$65:$CB$68,ROW(A3)),$CB$65:$CB$68,0),1)","v":2},null,null,null,null,null,null,null,null,null,null,{"$f":"INDEX($AV$65:$AV$68,MATCH(LARGE($CB$65:$CB$68,ROW(A3)),$CB$65:$CB$68,0),1)","v":2},null,null,null,null,null,null,null,null,null,null,{"$f":"INDEX($BG$65:$BG$68,MATCH(LARGE($CB$65:$CB$68,ROW(A3)),$CB$65:$CB$68,0),1)","v":13},null,null,null,null,":",null,{"$f":"INDEX($BN$65:$BN$68,MATCH(LARGE($CB$65:$CB$68,ROW(A3)),$CB$65:$CB$68,0),1)","v":10},null,null,null,null,{"$f":"INDEX($BS$65:$BS$68,MATCH(LARGE($CB$65:$CB$68,ROW(A3)),$CB$65:$CB$68,0),1)","v":3},null,null,null,null,{"$f":"INDEX($BX$65:$BX$68,MATCH(LARGE($CB$65:$CB$68,ROW(A3)),$CB$65:$CB$68,0),1)","v":8}]
[null,null,{"$f":"INDEX($C$65:$C$68,MATCH(LARGE($CB$65:$CB$68,ROW(A4)),$CB$65:$CB$68,0),1)","v":4},null,null,4,null,{"$f":"INDEX($H$65:$H$68,MATCH(LARGE($CB$65:$CB$68,ROW(A4)),$CB$65:$CB$68,0),1)","v":"Ratze"},null,null,null,null,null,null,null,null,null,null,null,{"$f":"INDEX($T$65:$T$68,MATCH(LARGE($CB$65:$CB$68,ROW(A4)),$CB$65:$CB$68,0),1)","v":6},null,null,null,null,null,{"$f":"INDEX($Z$65:$Z$68,MATCH(LARGE($CB$65:$CB$68,ROW(A4)),$CB$65:$CB$68,0),1)","v":1},null,null,null,null,null,null,null,null,null,null,{"$f":"INDEX($AK$65:$AK$68,MATCH(LARGE($CB$65:$CB$68,ROW(A4)),$CB$65:$CB$68,0),1)","v":1},null,null,null,null,null,null,null,null,null,null,{"$f":"INDEX($AV$65:$AV$68,MATCH(LARGE($CB$65:$CB$68,ROW(A4)),$CB$65:$CB$68,0),1)","v":4},null,null,null,null,null,null,null,null,null,null,{"$f":"INDEX($BG$65:$BG$68,MATCH(LARGE($CB$65:$CB$68,ROW(A4)),$CB$65:$CB$68,0),1)","v":10},null,null,null,null,":",null,{"$f":"INDEX($BN$65:$BN$68,MATCH(LARGE($CB$65:$CB$68,ROW(A4)),$CB$65:$CB$68,0),1)","v":21},null,null,null,null,{"$f":"INDEX($BS$65:$BS$68,MATCH(LARGE($CB$65:$CB$68,ROW(A4)),$CB$65:$CB$68,0),1)","v":-11},null,null,null,null,{"$f":"INDEX($BX$65:$BX$68,MATCH(LARGE($CB$65:$CB$68,ROW(A4)),$CB$65:$CB$68,0),1)","v":4}]
[null,null,"---",null,null,"---",null,"Spieler 5",null,null,null,null,null,null,null,null,null,null,null,0,null,null,null,null,null,0,null,null,null,null,null,null,null,null,null,null,0,null,null,null,null,null,null,null,null,null,null,0,null,null,null,null,null,null,null,null,null,null,0,null,null,null,null,":",null,0,null,null,null,null,0,null,null,null,null,0]
[null,null,"---",null,null,"---",null,"Spieler 6",null,null,null,null,null,null,null,null,null,null,null,0,null,null,null,null,null,0,null,null,null,null,null,null,null,null,null,null,0,null,null,null,null,null,null,null,null,null,null,0,null,null,null,null,null,null,null,null,null,null,0,null,null,null,null,":",null,0,null,null,null,null,0,null,null,null,null,0]
[null,null,"---",null,null,"---",null,"Spieler 7",null,null,null,null,null,null,null,null,null,null,null,0,null,null,null,null,null,0,null,null,null,null,null,null,null,null,null,null,0,null,null,null,null,null,null,null,null,null,null,0,null,null,null,null,null,null,null,null,null,null,0,null,null,null,null,":",null,0,null,null,null,null,0,null,null,null,null,0]
[]
[]
[]
[null,null,"Tabelle (nach Alphabet)"]
[]
[null,null,"Rang",null,null,null,null,"Spieler",null,null,null,null,null,null,null,null,null,null,null,"Spiele",null,null,null,null,null,"Siege",null,null,null,null,null,null,null,null,null,null,"Unentschieden",null,null,null,null,null,null,null,null,null,null,"Niederlagen",null,null,null,null,null,null,null,null,null,null,"Tore",null,null,null,null,null,null,null,null,null,null,null,"+/-",null,null,null,null,"Punkte"]
[null,null,{"$f":"IF($H$78=\"Basti\",$F$78,IF($H$79=\"Basti\",$F$79,IF($H$80=\"Basti\",$F$80,IF($H$81=\"Basti\",$F$81,IF($H$82=\"Basti\",$F$82,IF($H$83=\"Basti\",$F$83,IF($H$84=\"Basti\",$F$84,0)))))))","v":0},null,null,null,null,"Basti",null,null,null,null,null,null,null,null,null,null,null,{"$f":"IF($H$78=\"Basti\",$T$78,IF($H$79=\"Basti\",$T$79,IF($H$80=\"Basti\",$T$80,IF($H$81=\"Basti\",$T$81,IF($H$82=\"Basti\",$T$82,IF($H$83=\"Basti\",$T$83,IF($H$84=\"Basti\",$T$84,0)))))))","v":0},null,null,null,null,null,{"$f":"IF($H$78=\"Basti\",$Z$78,IF($H$79=\"Basti\",$Z$79,IF($H$80=\"Basti\",$Z$80,IF($H$81=\"Basti\",$Z$81,IF($H$82=\"Basti\",$Z$82,IF($H$83=\"Basti\",$Z$83,IF($H$84=\"Basti\",$Z$84,0)))))))","v":0},null,null,null,null,null,null,null,null,null,null,{"$f":"IF($H$78=\"Basti\",$AK$78,IF($H$79=\"Basti\",$AK$79,IF($H$80=\"Basti\",$AK$80,IF($H$81=\"Basti\",$AK$81,IF($H$82=\"Basti\",$AK$82,IF($H$83=\"Basti\",$AK$83,IF($H$84=\"Basti\",$AK$84,0)))))))","v":0},null,null,null,null,null,null,null,null,null,null,{"$f":"IF($H$78=\"Basti\",$AV$78,IF($H$79=\"Basti\",$AV$79,IF($H$80=\"Basti\",$AV$80,IF($H$81=\"Basti\",$AV$81,IF($H$82=\"Basti\",$AV$82,IF($H$83=\"Basti\",$AV$83,IF($H$84=\"Basti\",$AV$84,0)))))))","v":0},null,null,null,null,null,null,null,null,null,null,{"$f":"IF($H$78=\"Basti\",$BG$78,IF($H$79=\"Basti\",$BG$79,IF($H$80=\"Basti\",$BG$80,IF($H$81=\"Basti\",$BG$81,IF($H$82=\"Basti\",$BG$82,IF($H$83=\"Basti\",$BG$83,IF($H$84=\"Basti\",$BG$84,0)))))))","v":0},null,null,null,null,":",null,{"$f":"IF($H$78=\"Basti\",$BN$78,IF($H$79=\"Basti\",$BN$79,IF($H$80=\"Basti\",$BN$80,IF($H$81=\"Basti\",$BN$81,IF($H$82=\"Basti\",$BN$82,IF($H$83=\"Basti\",$BN$83,IF($H$84=\"Basti\",$BN$84,0)))))))","v":0},null,null,null,null,{"$f":"IF($H$78=\"Basti\",$BS$78,IF($H$79=\"Basti\",$BS$79,IF($H$80=\"Basti\",$BS$80,IF($H$81=\"Basti\",$BS$81,IF($H$82=\"Basti\",$BS$82,IF($H$83=\"Basti\",$BS$83,IF($H$84=\"Basti\",$BS$84,0)))))))","v":0},null,null,null,null,{"$f":"IF($H$78=\"Basti\",$BX$78,IF($H$79=\"Basti\",$BX$79,IF($H$80=\"Basti\",$BX$80,IF($H$81=\"Basti\",$BX$81,IF($H$82=\"Basti\",$BX$82,IF($H$83=\"Basti\",$BX$83,IF($H$84=\"Basti\",$BX$84,0)))))))","v":0}]
[null,null,{"$f":"IF($H$78=\"Christoph\",$F$78,IF($H$79=\"Christoph\",$F$79,IF($H$80=\"Christoph\",$F$80,IF($H$81=\"Christoph\",$F$81,IF($H$82=\"Christoph\",$F$82,IF($H$83=\"Christoph\",$F$83,IF($H$84=\"Christoph\",$F$84,0)))))))","v":2},null,null,null,null,"Christoph",null,null,null,null,null,null,null,null,null,null,null,{"$f":"IF($H$78=\"Christoph\",$T$78,IF($H$79=\"Christoph\",$T$79,IF($H$80=\"Christoph\",$T$80,IF($H$81=\"Christoph\",$T$81,IF($H$82=\"Christoph\",$T$82,IF($H$83=\"Christoph\",$T$83,IF($H$84=\"Christoph\",$T$84,0)))))))","v":6},null,null,null,null,null,{"$f":"IF($H$78=\"Christoph\",$Z$78,IF($H$79=\"Christoph\",$Z$79,IF($H$80=\"Christoph\",$Z$80,IF($H$81=\"Christoph\",$Z$81,IF($H$82=\"Christoph\",$Z$82,IF($H$83=\"Christoph\",$Z$83,IF($H$84=\"Christoph\",$Z$84,0)))))))","v":2},null,null,null,null,null,null,null,null,null,null,{"$f":"IF($H$78=\"Christoph\",$AK$78,IF($H$79=\"Christoph\",$AK$79,IF($H$80=\"Christoph\",$AK$80,IF($H$81=\"Christoph\",$AK$81,IF($H$82=\"Christoph\",$AK$82,IF($H$83=\"Christoph\",$AK$83,IF($H$84=\"Christoph\",$AK$84,0)))))))","v":2},null,null,null,null,null,null,null,null,null,null,{"$f":"IF($H$78=\"Christoph\",$AV$78,IF($H$79=\"Christoph\",$AV$79,IF($H$80=\"Christoph\",$AV$80,IF($H$81=\"Christoph\",$AV$81,IF($H$82=\"Christoph\",$AV$82,IF($H$83=\"Christoph\",$AV$83,IF($H$84=\"Christoph\",$AV$84,0)))))))","v":2},null,null,null,null,null,null,null,null,null,null,{"$f":"IF($H$78=\"Christoph\",$BG$78,IF($H$79=\"Christoph\",$BG$79,IF($H$80=\"Christoph\",$BG$80,IF($H$81=\"Christoph\",$BG$81,IF($H$82=\"Christoph\",$BG$82,IF($H$83=\"Christoph\",$BG$83,IF($H$84=\"Christoph\",$BG$84,0)))))))","v":13},null,null,null,null,":",null,{"$f":"IF($H$78=\"Christoph\",$BN$78,IF($H$79=\"Christoph\",$BN$79,IF($H$80=\"Christoph\",$BN$80,IF($H$81=\"Christoph\",$BN$81,IF($H$82=\"Christoph\",$BN$82,IF($H$83=\"Christoph\",$BN$83,IF($H$84=\"Christoph\",$BN$84,0)))))))","v":10},null,null,null,null,{"$f":"IF($H$78=\"Christoph\",$BS$78,IF($H$79=\"Christoph\",$BS$79,IF($H$80=\"Christoph\",$BS$80,IF($H$81=\"Christoph\",$BS$81,IF($H$82=\"Christoph\",$BS$82,IF($H$83=\"Christoph\",$BS$83,IF($H$84=\"Christoph\",$BS$84,0)))))))","v":3},null,null,null,null,{"$f":"IF($H$78=\"Christoph\",$BX$78,IF($H$79=\"Christoph\",$BX$79,IF($H$80=\"Christoph\",$BX$80,IF($H$81=\"Christoph\",$BX$81,IF($H$82=\"Christoph\",$BX$82,IF($H$83=\"Christoph\",$BX$83,IF($H$84=\"Christoph\",$BX$84,0)))))))","v":8}]
[null,null,{"$f":"IF($H$78=\"Jule\",$F$78,IF($H$79=\"Jule\",$F$79,IF($H$80=\"Jule\",$F$80,IF($H$81=\"Jule\",$F$81,IF($H$82=\"Jule\",$F$82,IF($H$83=\"Jule\",$F$83,IF($H$84=\"Jule\",$F$84,0)))))))","v":0},null,null,null,null,"Jule",null,null,null,null,null,null,null,null,null,null,null,{"$f":"IF($H$78=\"Jule\",$T$78,IF($H$79=\"Jule\",$T$79,IF($H$80=\"Jule\",$T$80,IF($H$81=\"Jule\",$T$81,IF($H$82=\"Jule\",$T$82,IF($H$83=\"Jule\",$T$83,IF($H$84=\"Jule\",$T$84,0)))))))","v":0},null,null,null,null,null,{"$f":"IF($H$78=\"Jule\",$Z$78,IF($H$79=\"Jule\",$Z$79,IF($H$80=\"Jule\",$Z$80,IF($H$81=\"Jule\",$Z$81,IF($H$82=\"Jule\",$Z$82,IF($H$83=\"Jule\",$Z$83,IF($H$84=\"Jule\",$Z$84,0)))))))","v":0},null,null,null,null,null,null,null,null,null,null,{"$f":"IF($H$78=\"Jule\",$AK$78,IF($H$79=\"Jule\",$AK$79,IF($H$80=\"Jule\",$AK$80,IF($H$81=\"Jule\",$AK$81,IF($H$82=\"Jule\",$AK$82,IF($H$83=\"Jule\",$AK$83,IF($H$84=\"Jule\",$AK$84,0)))))))","v":0},null,null,null,null,null,null,null,null,null,null,{"$f":"IF($H$78=\"Jule\",$AV$78,IF($H$79=\"Jule\",$AV$79,IF($H$80=\"Jule\",$AV$80,IF($H$81=\"Jule\",$AV$81,IF($H$82=\"Jule\",$AV$82,IF($H$83=\"Jule\",$AV$83,IF($H$84=\"Jule\",$AV$84,0)))))))","v":0},null,null,null,null,null,null,null,null,null,null,{"$f":"IF($H$78=\"Jule\",$BG$78,IF($H$79=\"Jule\",$BG$79,IF($H$80=\"Jule\",$BG$80,IF($H$81=\"Jule\",$BG$81,IF($H$82=\"Jule\",$BG$82,IF($H$83=\"Jule\",$BG$83,IF($H$84=\"Jule\",$BG$84,0)))))))","v":0},null,null,null,null,":",null,{"$f":"IF($H$78=\"Jule\",$BN$78,IF($H$79=\"Jule\",$BN$79,IF($H$80=\"Jule\",$BN$80,IF($H$81=\"Jule\",$BN$81,IF($H$82=\"Jule\",$BN$82,IF($H$83=\"Jule\",$BN$83,IF($H$84=\"Jule\",$BN$84,0)))))))","v":0},null,null,null,null,{"$f":"IF($H$78=\"Jule\",$BS$78,IF($H$79=\"Jule\",$BS$79,IF($H$80=\"Jule\",$BS$80,IF($H$81=\"Jule\",$BS$81,IF($H$82=\"Jule\",$BS$82,IF($H$83=\"Jule\",$BS$83,IF($H$84=\"Jule\",$BS$84,0)))))))","v":0},null,null,null,null,{"$f":"IF($H$78=\"Jule\",$BX$78,IF($H$79=\"Jule\",$BX$79,IF($H$80=\"Jule\",$BX$80,IF($H$81=\"Jule\",$BX$81,IF($H$82=\"Jule\",$BX$82,IF($H$83=\"Jule\",$BX$83,IF($H$84=\"Jule\",$BX$84,0)))))))","v":0}]
[null,null,{"$f":"IF($H$78=\"Markus\",$F$78,IF($H$79=\"Markus\",$F$79,IF($H$80=\"Markus\",$F$80,IF($H$81=\"Markus\",$F$81,IF($H$82=\"Markus\",$F$82,IF($H$83=\"Markus\",$F$83,IF($H$84=\"Markus\",$F$84,0)))))))","v":3},null,null,null,null,"Markus",null,null,null,null,null,null,null,null,null,null,null,{"$f":"IF($H$78=\"Markus\",$T$78,IF($H$79=\"Markus\",$T$79,IF($H$80=\"Markus\",$T$80,IF($H$81=\"Markus\",$T$81,IF($H$82=\"Markus\",$T$82,IF($H$83=\"Markus\",$T$83,IF($H$84=\"Markus\",$T$84,0)))))))","v":6},null,null,null,null,null,{"$f":"IF($H$78=\"Markus\",$Z$78,IF($H$79=\"Markus\",$Z$79,IF($H$80=\"Markus\",$Z$80,IF($H$81=\"Markus\",$Z$81,IF($H$82=\"Markus\",$Z$82,IF($H$83=\"Markus\",$Z$83,IF($H$84=\"Markus\",$Z$84,0)))))))","v":2},null,null,null,null,null,null,null,null,null,null,{"$f":"IF($H$78=\"Markus\",$AK$78,IF($H$79=\"Markus\",$AK$79,IF($H$80=\"Markus\",$AK$80,IF($H$81=\"Markus\",$AK$81,IF($H$82=\"Markus\",$AK$82,IF($H$83=\"Markus\",$AK$83,IF($H$84=\"Markus\",$AK$84,0)))))))","v":2},null,null,null,null,null,null,null,null,null,null,{"$f":"IF($H$78=\"Markus\",$AV$78,IF($H$79=\"Markus\",$AV$79,IF($H$80=\"Markus\",$AV$80,IF($H$81=\"Markus\",$AV$81,IF($H$82=\"Markus\",$AV$82,IF($H$83=\"Markus\",$AV$83,IF($H$84=\"Markus\",$AV$84,0)))))))","v":2},null,null,null,null,null,null,null,null,null,null,{"$f":"IF($H$78=\"Markus\",$BG$78,IF($H$79=\"Markus\",$BG$79,IF($H$80=\"Markus\",$BG$80,IF($H$81=\"Markus\",$BG$81,IF($H$82=\"Markus\",$BG$82,IF($H$83=\"Markus\",$BG$83,IF($H$84=\"Markus\",$BG$84,0)))))))","v":10},null,null,null,null,":",null,{"$f":"IF($H$78=\"Markus\",$BN$78,IF($H$79=\"Markus\",$BN$79,IF($H$80=\"Markus\",$BN$80,IF($H$81=\"Markus\",$BN$81,IF($H$82=\"Markus\",$BN$82,IF($H$83=\"Markus\",$BN$83,IF($H$84=\"Markus\",$BN$84,0)))))))","v":13},null,null,null,null,{"$f":"IF($H$78=\"Markus\",$BS$78,IF($H$79=\"Markus\",$BS$79,IF($H$80=\"Markus\",$BS$80,IF($H$81=\"Markus\",$BS$81,IF($H$82=\"Markus\",$BS$82,IF($H$83=\"Markus\",$BS$83,IF($H$84=\"Markus\",$BS$84,0)))))))","v":-3},null,null,null,null,{"$f":"IF($H$78=\"Markus\",$BX$78,IF($H$79=\"Markus\",$BX$79,IF($H$80=\"Markus\",$BX$80,IF($H$81=\"Markus\",$BX$81,IF($H$82=\"Markus\",$BX$82,IF($H$83=\"Markus\",$BX$83,IF($H$84=\"Markus\",$BX$84,0)))))))","v":8}]
[null,null,{"$f":"IF($H$78=\"Patrick\",$F$78,IF($H$79=\"Patrick\",$F$79,IF($H$80=\"Patrick\",$F$80,IF($H$81=\"Patrick\",$F$81,IF($H$82=\"Patrick\",$F$82,IF($H$83=\"Patrick\",$F$83,IF($H$84=\"Patrick\",$F$84,0)))))))","v":1},null,null,null,null,"Patrick",null,null,null,null,null,null,null,null,null,null,null,{"$f":"IF($H$78=\"Patrick\",$T$78,IF($H$79=\"Patrick\",$T$79,IF($H$80=\"Patrick\",$T$80,IF($H$81=\"Patrick\",$T$81,IF($H$82=\"Patrick\",$T$82,IF($H$83=\"Patrick\",$T$83,IF($H$84=\"Patrick\",$T$84,0)))))))","v":6},null,null,null,null,null,{"$f":"IF($H$78=\"Patrick\",$Z$78,IF($H$79=\"Patrick\",$Z$79,IF($H$80=\"Patrick\",$Z$80,IF($H$81=\"Patrick\",$Z$81,IF($H$82=\"Patrick\",$Z$82,IF($H$83=\"Patrick\",$Z$83,IF($H$84=\"Patrick\",$Z$84,0)))))))","v":4},null,null,null,null,null,null,null,null,null,null,{"$f":"IF($H$78=\"Patrick\",$AK$78,IF($H$79=\"Patrick\",$AK$79,IF($H$80=\"Patrick\",$AK$80,IF($H$81=\"Patrick\",$AK$81,IF($H$82=\"Patrick\",$AK$82,IF($H$83=\"Patrick\",$AK$83,IF($H$84=\"Patrick\",$AK$84,0)))))))","v":1},null,null,null,null,null,null,null,null,null,null,{"$f":"IF($H$78=\"Patrick\",$AV$78,IF($H$79=\"Patrick\",$AV$79,IF($H$80=\"Patrick\",$AV$80,IF($H$81=\"Patrick\",$AV$81,IF($H$82=\"Patrick\",$AV$82,IF($H$83=\"Patrick\",$AV$83,IF($H$84=\"Patrick\",$AV$84,0)))))))","v":1},null,null,null,null,null,null,null,null,null,null,{"$f":"IF($H$78=\"Patrick\",$BG$78,IF($H$79=\"Patrick\",$BG$79,IF($H$80=\"Patrick\",$BG$80,IF($H$81=\"Patrick\",$BG$81,IF($H$82=\"Patrick\",$BG$82,IF($H$83=\"Patrick\",$BG$83,IF($H$84=\"Patrick\",$BG$84,0)))))))","v":21},null,null,null,null,":",null,{"$f":"IF($H$78=\"Patrick\",$BN$78,IF($H$79=\"Patrick\",$BN$79,IF($H$80=\"Patrick\",$BN$80,IF($H$81=\"Patrick\",$BN$81,IF($H$82=\"Patrick\",$BN$82,IF($H$83=\"Patrick\",$BN$83,IF($H$84=\"Patrick\",$BN$84,0)))))))","v":10},null,null,null,null,{"$f":"IF($H$78=\"Patrick\",$BS$78,IF($H$79=\"Patrick\",$BS$79,IF($H$80=\"Patrick\",$BS$80,IF($H$81=\"Patrick\",$BS$81,IF($H$82=\"Patrick\",$BS$82,IF($H$83=\"Patrick\",$BS$83,IF($H$84=\"Patrick\",$BS$84,0)))))))","v":11},null,null,null,null,{"$f":"IF($H$78=\"Patrick\",$BX$78,IF($H$79=\"Patrick\",$BX$79,IF($H$80=\"Patrick\",$BX$80,IF($H$81=\"Patrick\",$BX$81,IF($H$82=\"Patrick\",$BX$82,IF($H$83=\"Patrick\",$BX$83,IF($H$84=\"Patrick\",$BX$84,0)))))))","v":13}]
[null,null,{"$f":"IF($H$78=\"Ratze\",$F$78,IF($H$79=\"Ratze\",$F$79,IF($H$80=\"Ratze\",$F$80,IF($H$81=\"Ratze\",$F$81,IF($H$82=\"Ratze\",$F$82,IF($H$83=\"Ratze\",$F$83,IF($H$84=\"Ratze\",$F$84,0)))))))","v":4},null,null,null,null,"Ratze",null,null,null,null,null,null,null,null,null,null,null,{"$f":"IF($H$78=\"Ratze\",$T$78,IF($H$79=\"Ratze\",$T$79,IF($H$80=\"Ratze\",$T$80,IF($H$81=\"Ratze\",$T$81,IF($H$82=\"Ratze\",$T$82,IF($H$83=\"Ratze\",$T$83,IF($H$84=\"Ratze\",$T$84,0)))))))","v":6},null,null,null,null,null,{"$f":"IF($H$78=\"Ratze\",$Z$78,IF($H$79=\"Ratze\",$Z$79,IF($H$80=\"Ratze\",$Z$80,IF($H$81=\"Ratze\",$Z$81,IF($H$82=\"Ratze\",$Z$82,IF($H$83=\"Ratze\",$Z$83,IF($H$84=\"Ratze\",$Z$84,0)))))))","v":1},null,null,null,null,null,null,null,null,null,null,{"$f":"IF($H$78=\"Ratze\",$AK$78,IF($H$79=\"Ratze\",$AK$79,IF($H$80=\"Ratze\",$AK$80,IF($H$81=\"Ratze\",$AK$81,IF($H$82=\"Ratze\",$AK$82,IF($H$83=\"Ratze\",$AK$83,IF($H$84=\"Ratze\",$AK$84,0)))))))","v":1},null,null,null,null,null,null,null,null,null,null,{"$f":"IF($H$78=\"Ratze\",$AV$78,IF($H$79=\"Ratze\",$AV$79,IF($H$80=\"Ratze\",$AV$80,IF($H$81=\"Ratze\",$AV$81,IF($H$82=\"Ratze\",$AV$82,IF($H$83=\"Ratze\",$AV$83,IF($H$84=\"Ratze\",$AV$84,0)))))))","v":4},null,null,null,null,null,null,null,null,null,null,{"$f":"IF($H$78=\"Ratze\",$BG$78,IF($H$79=\"Ratze\",$BG$79,IF($H$80=\"Ratze\",$BG$80,IF($H$81=\"Ratze\",$BG$81,IF($H$82=\"Ratze\",$BG$82,IF($H$83=\"Ratze\",$BG$83,IF($H$84=\"Ratze\",$BG$84,0)))))))","v":10},null,null,null,null,":",null,{"$f":"IF($H$78=\"Ratze\",$BN$78,IF($H$79=\"Ratze\",$BN$79,IF($H$80=\"Ratze\",$BN$80,IF($H$81=\"Ratze\",$BN$81,IF($H$82=\"Ratze\",$BN$82,IF($H$83=\"Ratze\",$BN$83,IF($H$84=\"Ratze\",$BN$84,0)))))))","v":21},null,null,null,null,{"$f":"IF($H$78=\"Ratze\",$BS$78,IF($H$79=\"Ratze\",$BS$79,IF($H$80=\"Ratze\",$BS$80,IF($H$81=\"Ratze\",$BS$81,IF($H$82=\"Ratze\",$BS$82,IF($H$83=\"Ratze\",$BS$83,IF($H$84=\"Ratze\",$BS$84,0)))))))","v":-11},null,null,null,null,{"$f":"IF($H$78=\"Ratze\",$BX$78,IF($H$79=\"Ratze\",$BX$79,IF($H$80=\"Ratze\",$BX$80,IF($H$81=\"Ratze\",$BX$81,IF($H$82=\"Ratze\",$BX$82,IF($H$83=\"Ratze\",$BX$83,IF($H$84=\"Ratze\",$BX$84,0)))))))","v":4}]
[null,null,{"$f":"IF($H$78=\"Schmiddi\",$F$78,IF($H$79=\"Schmiddi\",$F$79,IF($H$80=\"Schmiddi\",$F$80,IF($H$81=\"Schmiddi\",$F$81,IF($H$82=\"Schmiddi\",$F$82,IF($H$83=\"Schmiddi\",$F$83,IF($H$84=\"Schmiddi\",$F$84,0)))))))","v":0},null,null,null,null,"Schmiddi",null,null,null,null,null,null,null,null,null,null,null,{"$f":"IF($H$78=\"Schmiddi\",$T$78,IF($H$79=\"Schmiddi\",$T$79,IF($H$80=\"Schmiddi\",$T$80,IF($H$81=\"Schmiddi\",$T$81,IF($H$82=\"Schmiddi\",$T$82,IF($H$83=\"Schmiddi\",$T$83,IF($H$84=\"Schmiddi\",$T$84,0)))))))","v":0},null,null,null,null,null,{"$f":"IF($H$78=\"Schmiddi\",$Z$78,IF($H$79=\"Schmiddi\",$Z$79,IF($H$80=\"Schmiddi\",$Z$80,IF($H$81=\"Schmiddi\",$Z$81,IF($H$82=\"Schmiddi\",$Z$82,IF($H$83=\"Schmiddi\",$Z$83,IF($H$84=\"Schmiddi\",$Z$84,0)))))))","v":0},null,null,null,null,null,null,null,null,null,null,{"$f":"IF($H$78=\"Schmiddi\",$AK$78,IF($H$79=\"Schmiddi\",$AK$79,IF($H$80=\"Schmiddi\",$AK$80,IF($H$81=\"Schmiddi\",$AK$81,IF($H$82=\"Schmiddi\",$AK$82,IF($H$83=\"Schmiddi\",$AK$83,IF($H$84=\"Schmiddi\",$AK$84,0)))))))","v":0},null,null,null,null,null,null,null,null,null,null,{"$f":"IF($H$78=\"Schmiddi\",$AV$78,IF($H$79=\"Schmiddi\",$AV$79,IF($H$80=\"Schmiddi\",$AV$80,IF($H$81=\"Schmiddi\",$AV$81,IF($H$82=\"Schmiddi\",$AV$82,IF($H$83=\"Schmiddi\",$AV$83,IF($H$84=\"Schmiddi\",$AV$84,0)))))))","v":0},null,null,null,null,null,null,null,null,null,null,{"$f":"IF($H$78=\"Schmiddi\",$BG$78,IF($H$79=\"Schmiddi\",$BG$79,IF($H$80=\"Schmiddi\",$BG$80,IF($H$81=\"Schmiddi\",$BG$81,IF($H$82=\"Schmiddi\",$BG$82,IF($H$83=\"Schmiddi\",$BG$83,IF($H$84=\"Schmiddi\",$BG$84,0)))))))","v":0},null,null,null,null,":",null,{"$f":"IF($H$78=\"Schmiddi\",$BN$78,IF($H$79=\"Schmiddi\",$BN$79,IF($H$80=\"Schmiddi\",$BN$80,IF($H$81=\"Schmiddi\",$BN$81,IF($H$82=\"Schmiddi\",$BN$82,IF($H$83=\"Schmiddi\",$BN$83,IF($H$84=\"Schmiddi\",$BN$84,0)))))))","v":0},null,null,null,null,{"$f":"IF($H$78=\"Schmiddi\",$BS$78,IF($H$79=\"Schmiddi\",$BS$79,IF($H$80=\"Schmiddi\",$BS$80,IF($H$81=\"Schmiddi\",$BS$81,IF($H$82=\"Schmiddi\",$BS$82,IF($H$83=\"Schmiddi\",$BS$83,IF($H$84=\"Schmiddi\",$BS$84,0)))))))","v":0},null,null,null,null,{"$f":"IF($H$78=\"Schmiddi\",$BX$78,IF($H$79=\"Schmiddi\",$BX$79,IF($H$80=\"Schmiddi\",$BX$80,IF($H$81=\"Schmiddi\",$BX$81,IF($H$82=\"Schmiddi\",$BX$82,IF($H$83=\"Schmiddi\",$BX$83,IF($H$84=\"Schmiddi\",$BX$84,0)))))))","v":0}]

{"sheet":"9.12.","index":7,"n_rows":97,"n_cols":88,"rows_kept":97,"cut":false,"hidden":false,"merged":[[82,2,82,4],[82,5,82,6],[83,2,83,4],[83,5,83,6],[84,1,84,82],[83,47,83,57],[83,58,83,62],[83,63,83,64],[83,65,83,69],[83,70,83,74],[83,75,83,81],[80,75,80,81],[83,7,83,18],[83,19,83,24],[83,25,83,35],[83,36,83,46],[80,7,80,18],[80,19,80,24],[80,25,80,35],[81,65,81,69],[81,70,81,74],[81,75,81,81],[80,65,80,69],[80,70,80,74],[81,2,81,4],[80,5,80,6],[80,36,80,46],[79,7,79,18],[79,19,79,24],[79,25,79,35],[79,36,79,46],[77,63,77,64],[81,7,81,18],[81,19,81,24],[81,25,81,35],[81,36,81,46],[81,47,81,57],[81,58,81,62],[81,63,81,64],[80,58,80,62],[80,63,80,64],[81,5,81,6],[80,47,80,57],[80,2,80,4],[78,70,78,74],[77,2,77,4],[78,2,78,4],[79,2,79,4],[77,5,77,6],[78,5,78,6],[79,5,79,6],[79,47,79,57],[79,58,79,62],[79,63,79,64],[79,65,79,69],[79,70,79,74],[77,58,77,62],[78,58,78,62],[78,63,78,64],[78,65,78,69],[77,75,77,81],[78,7,78,18],[78,19,78,24],[78,25,78,35],[78,36,78,46],[78,47,78,57],[77,65,77,69],[77,70,77,74],[67,7,67,18],[67,19,67,24],[67,25,67,35],[67,36,67,46],[68,70,68,74],[68,75,68,78],[68,79,68,81],[76,7,76,18],[76,19,76,24],[76,25,76,35],[76,36,76,46],[76,47,76,57],[76,58,76,69],[76,70,76,74],[76,75,76,81],[69,58,69,62],[69,63,69,64],[69,65,69,69],[69,70,69,74],[69,75,69,78],[69,79,69,81],[72,1,72,82],[73,1,73,82],[74,1,83,1],[66,79,66,81],[74,2,74,81],[74,82,83,82],[75,2,75,81],[76,2,76,6],[82,70,82,74],[82,75,82,81],[82,7,82,18],[82,19,82,24],[82,25,82,35],[82,36,82,46],[82,47,82,57],[82,58,82,62],[82,63,82,64],[82,65,82,69],[79,75,79,81],[65,47,65,57],[65,58,65,62],[65,2,65,6],[65,7,65,18],[67,79,67,81],[68,2,68,6],[68,7,68,18],[68,19,68,24],[68,25,68,35],[68,36,68,46],[68,47,68,57],[68,58,68,62],[68,63,68,64],[68,65,68,69],[67,47,67,57],[67,58,67,62],[67,63,67,64],[67,65,67,69],[67,70,67,74],[67,75,67,78],[67,2,67,6],[65,19,65,24],[64,7,64,18],[64,19,64,24],[64,25,64,35],[64,36,64,46],[64,79,64,81],[71,1,71,82],[64,70,64,74],[64,75,64,78],[65,70,65,74],[65,75,65,78],[65,79,65,81],[66,2,66,6],[66,7,66,18],[66,19,66,24],[66,25,66,35],[66,36,66,46],[66,47,66,57],[66,58,66,62],[66,63,66,64],[66,65,66,69],[66,70,66,74],[66,75,66,78],[65,25,65,35],[65,36,65,46],[36,1,36,82],[59,1,59,82],[65,63,65,64],[65,65,65,69],[64,47,64,57],[64,58,64,62],[64,63,64,64],[64,65,64,69],[60,1,60,82],[61,1,68,1],[61,2,61,81],[61,82,68,82],[62,2,62,81],[63,2,63,6],[63,7,63,18],[63,19,63,24],[63,25,63,35],[63,36,63,46],[63,47,63,57],[63,58,63,69],[63,70,63,74],[63,75,63,78],[63,79,63,81],[64,2,64,6],[34,74,34,76],[34,77,34,81],[35,7,35,10],[35,12,35,16],[35,18,35,22],[35,24,35,33],[35,35,35,49],[35,50,35,52],[34,7,34,10],[34,12,34,16],[34,18,34,22],[34,24,34,33],[34,35,34,49],[34,50,34,52],[35,53,35,67],[35,69,35,73],[35,74,35,76],[35,77,35,81],[28,53,28,67],[28,69,28,73],[34,53,34,67],[34,69,34,73],[32,77,32,81],[33,7,33,10],[33,12,33,16],[33,18,33,22],[33,24,33,33],[33,35,33,49],[33,50,33,52],[33,53,33,67],[33,69,33,73],[33,74,33,76],[33,77,33,81],[32,7,32,10],[32,12,32,16],[32,18,32,22],[32,24,32,33],[32,35,32,49],[32,50,32,52],[32,53,32,67],[32,69,32,73],[32,74,32,76],[29,53,29,67],[29,69,29,73],[29,74,29,76],[29,77,29,81],[31,77,31,81],[30,7,30,10],[30,12,30,16],[30,18,30,22],[30,24,30,33],[30,35,30,49],[30,50,30,52],[30,53,30,67],[30,69,30,73],[30,74,30,76],[31,7,31,10],[31,12,31,16],[31,18,31,22],[31,24,31,33],[31,35,31,49],[31,50,31,52],[31,53,31,67],[31,69,31,73],[31,74,31,76],[26,68,35,68],[30,77,30,81],[26,35,26,49],[27,7,27,10],[27,12,27,16],[27,18,27,22],[27,24,27,33],[27,35,27,49],[27,50,27,52],[26,50,26,52],[26,53,26,67],[28,74,28,76],[28,77,28,81],[29,7,29,10],[29,12,29,16],[29,18,29,22],[29,24,29,33],[29,35,29,49],[29,50,29,52],[28,7,28,10],[28,12,28,16],[28,18,28,22],[28,24,28,33],[28,35,28,49],[28,50,28,52],[24,53,24,67],[24,69,24,73],[24,74,24,76],[24,77,24,81],[25,2,25,81],[26,2,35,5],[26,6,35,6],[26,7,26,10],[26,11,35,11],[26,12,26,16],[15,2,24,5],[15,6,24,6],[26,69,26,73],[26,74,26,76],[26,77,26,81],[27,53,27,67],[27,69,27,73],[27,74,27,76],[27,77,27,81],[26,17,35,17],[26,18,26,22],[26,23,35,23],[26,24,26,33],[26,34,35,34],[22,53,22,67],[22,69,22,73],[22,74,22,76],[22,77,22,81],[23,7,23,10],[23,12,23,16],[23,18,23,22],[23,24,23,33],[23,35,23,49],[23,50,23,52],[23,53,23,67],[23,69,23,73],[23,74,23,76],[23,77,23,81],[20,53,20,67],[20,69,20,73],[20,74,20,76],[20,77,20,81],[21,7,21,10],[21,12,21,16],[21,18,21,22],[21,24,21,33],[21,35,21,49],[21,50,21,52],[21,53,21,67],[21,69,21,73],[21,74,21,76],[21,77,21,81],[18,53,18,67],[18,69,18,73],[18,74,18,76],[18,77,18,81],[19,7,19,10],[19,12,19,16],[19,18,19,22],[19,24,19,33],[19,35,19,49],[19,50,19,52],[19,53,19,67],[19,69,19,73],[19,74,19,76],[19,77,19,81],[16,53,16,67],[16,69,16,73],[16,74,16,76],[16,77,16,81],[17,7,17,10],[17,12,17,16],[17,18,17,22],[17,24,17,33],[17,35,17,49],[17,50,17,52],[17,53,17,67],[17,69,17,73],[17,74,17,76],[17,77,17,81],[16,24,16,33],[16,35,16,49],[15,7,15,10],[15,11,24,11],[15,12,15,16],[15,17,24,17],[18,7,18,10],[18,12,18,16],[18,18,18,22],[18,24,18,33],[18,35,18,49],[20,7,20,10],[20,12,20,16],[20,18,20,22],[20,24,20,33],[20,35,20,49],[22,7,22,10],[22,12,22,16],[22,18,22,22],[22,24,22,33],[22,35,22,49],[24,7,24,10],[24,12,24,16],[24,18,24,22],[24,24,24,33],[24,35,24,49],[15,18,15,22],[15,23,24,23],[15,24,15,33],[15,34,24,34],[15,35,15,49],[15,50,15,52],[16,50,16,52],[18,50,18,52],[20,50,20,52],[22,50,22,52],[24,50,24,52],[13,12,13,16],[13,18,13,22],[13,24,13,33],[13,35,13,67],[13,69,13,81],[14,2,14,81],[7,68,7,81],[8,1,8,82],[9,1,9,82],[10,1,10,82],[11,1,35,1],[11,2,11,81],[11,82,35,82],[12,2,12,81],[13,2,13,5],[13,7,13,10],[15,53,15,67],[15,68,24,68],[15,69,15,73],[15,74,15,76],[15,77,15,81],[16,7,16,10],[16,12,16,16],[16,18,16,22],[1,1,1,82],[2,1,2,82],[3,1,3,82],[4,1,7,1],[4,2,4,81],[4,82,7,82],[5,2,5,81],[6,2,6,11],[6,12,6,25],[6,26,6,39],[6,40,6,53],[6,54,6,67],[6,68,6,81],[7,2,7,11],[7,12,7,25],[7,26,7,39],[7,40,7,53],[7,54,7,67],[85,1,85,82],[86,1,86,82],[87,1,96,1],[87,2,87,81],[87,82,96,82],[88,2,88,81],[89,2,89,6],[89,7,89,18],[89,19,89,24],[89,25,89,35],[89,36,89,46],[89,47,89,57],[89,58,89,69],[89,70,89,74],[89,75,89,81],[90,2,90,6],[90,7,90,18],[90,19,90,24],[90,25,90,35],[90,36,90,46],[90,47,90,57],[90,58,90,62],[90,63,90,64],[90,65,90,69],[90,70,90,74],[90,75,90,81],[91,2,91,6],[91,7,91,18],[91,19,91,24],[91,25,91,35],[91,36,91,46],[91,47,91,57],[91,58,91,62],[91,63,91,64],[91,65,91,69],[91,70,91,74],[91,75,91,81],[92,70,92,74],[92,75,92,81],[93,2,93,6],[93,7,93,18],[93,19,93,24],[93,25,93,35],[93,36,93,46],[93,47,93,57],[93,58,93,62],[93,63,93,64],[93,65,93,69],[93,70,93,74],[93,75,93,81],[92,2,92,6],[92,7,92,18],[92,19,92,24],[92,25,92,35],[92,36,92,46],[92,47,92,57],[92,58,92,62],[92,63,92,64],[92,65,92,69],[95,63,95,64],[95,65,95,69],[95,70,95,74],[95,75,95,81],[94,2,94,6],[94,7,94,18],[94,19,94,24],[94,25,94,35],[94,36,94,46],[94,47,94,57],[94,58,94,62],[94,63,94,64],[94,65,94,69],[0,0,0,83],[98,0,98,83],[1,83,97,83],[70,2,70,6],[70,7,70,18],[70,19,70,24],[70,25,70,35],[70,36,70,46],[70,47,70,57],[70,58,70,62],[70,63,70,64],[70,65,70,69],[70,70,70,74],[70,75,70,78],[70,79,70,81],[69,2,69,6],[69,7,69,18],[69,19,69,24],[69,25,69,35],[69,36,69,46],[69,47,69,57],[96,2,96,6],[96,7,96,18],[96,19,96,24],[78,75,78,81],[77,7,77,18],[77,19,77,24],[77,25,77,35],[77,36,77,46],[77,47,77,57],[96,70,96,74],[96,75,96,81],[97,1,97,82],[96,25,96,35],[96,36,96,46],[96,47,96,57],[96,58,96,62],[96,63,96,64],[96,65,96,69],[94,70,94,74],[94,75,94,81],[95,2,95,6],[95,7,95,18],[95,19,95,24],[95,25,95,35],[95,36,95,46],[95,47,95,57],[95,58,95,62]]}
[]
[null,{"$f":"\"Turnier am \" & MID(CELL(\"dateiname\",A1),SEARCH(\"]\",CELL(\"dateiname\",A1))+1,31)","v":"Turnier am 9.12."}]
[]
[]
[null,null,"Spielerliste"]
[]
[null,null,{"$f":"\" Spieler\"","v":" Spieler"},null,null,null,null,null,null,null,null,null,"Spieler 1",null,null,null,null,null,null,null,null,null,null,null,null,null,"Spieler 2",null,null,null,null,null,null,null,null,null,null,null,null,null,"Spieler 3",null,null,null,null,null,null,null,null,null,null,null,null,null,"Spieler 4",null,null,null,null,null,null,null,null,null,null,null,null,null,"Spieler 5"]
[null,null,{"$f":"\" Name\"","v":" Name"},null,null,null,null,null,null,null,null,null,"Schmiddi",null,null,null,null,null,null,null,null,null,null,null,null,null,"Ratze",null,null,null,null,null,null,null,null,null,null,null,null,null,"Jule",null,null,null,null,null,null,null,null,null,null,null,null,null,"Christoph",null,null,null,null,null,null,null,null,null,null,null,null,null,"Patrick"]
[]
[]
[]
[null,null,"Spielplan"]
[]
[null,null,"00:12:00",null,null,null,null,"Spiel",null,null,null,null,"Datum",null,null,null,null,null,"Uhrzeit",null,null,null,null,null,"Austragungsort",null,null,null,null,null,null,null,null,null,null,"Paarung",null,null,null,null,null,null,null,null,null,null,null,null,null,null,null,null,null,null,null,null,null,null,null,null,null,null,null,null,null,null,null,null,null,"Ergebnis",null,null,null,null,null,null,null,null,null,null,null,null,null,null,"Spiele","SiegHeim","Unentschieden","SiegGast"]
[]
[null,null,"Hinrunde",null,null,null,null,1,null,null,null,null,{"$f":"MID(CELL(\"dateiname\",A1),SEARCH(\"]\",CELL(\"dateiname\",A1))+1,31)","v":"9.12."},null,null,null,null,null,"21:00:00",null,null,null,null,null,"Fernseher",null,null,null,null,null,null,null,null,null,null,{"$f":"$M$8","v":"Schmiddi"},null,null,null,null,null,null,null,null,null,null,null,null,null,null,":",null,null,{"$f":"$AA$8","v":"Ratze"},null,null,null,null,null,null,null,null,null,null,null,null,null,null,null,1,null,null,null,null,":",null,null,0,null,null,null,null,null,null,{"$f":"IF(AND(ISNUMBER(BR16),ISNUMBER(BZ16)),1,0)","v":1},{"$f":"IF(OR(ISBLANK(BR16),ISBLANK(BZ16)),0,IF(BR16>BZ16,1,0))","v":1},{"$f":"IF(OR(ISBLANK(BR16),ISBLANK(BZ16)),0,IF(BR16=BZ16,1,0))","v":0},{"$f":"IF(OR(ISBLANK(BR16),ISBLANK(BZ16)),0,IF(BR16<BZ16,1,0))","v":0}]
[null,null,null,null,null,null,null,{"$f":"H16+1","v":2},null,null,null,null,{"$f":"$M$16","v":"9.12."},null,null,null,null,null,{"$f":"S16","v":"21:00:00"},null,null,null,null,null,"Fernseher",null,null,null,null,null,null,null,null,null,null,{"$f":"$AO$8","v":"Jule"},null,null,null,null,null,null,null,null,null,null,null,null,null,null,":",null,null,{"$f":"$BC$8","v":"Christoph"},null,null,null,null,null,null,null,null,null,null,null,null,null,null,null,2,null,null,null,null,":",null,null,4,null,null,null,null,null,null,{"$f":"IF(AND(ISNUMBER(BR17),ISNUMBER(BZ17)),1,0)","v":1},{"$f":"IF(OR(ISBLANK(BR17),ISBLANK(BZ17)),0,IF(BR17>BZ17,1,0))","v":0},{"$f":"IF(OR(ISBLANK(BR17),ISBLANK(BZ17)),0,IF(BR17=BZ17,1,0))","v":0},{"$f":"IF(OR(ISBLANK(BR17),ISBLANK(BZ17)),0,IF(BR17<BZ17,1,0))","v":1}]
[null,null,null,null,null,null,null,{"$f":"H17+1","v":3},null,null,null,null,{"$f":"$M$16","v":"9.12."},null,null,null,null,null,{"$f":"S16+$C$14","v":"21:12:00"},null,null,null,null,null,{"$f":"$Y$16","v":"Fernseher"},null,null,null,null,null,null,null,null,null,null,{"$f":"$BQ$8","v":"Patrick"},null,null,null,null,null,null,null,null,null,null,null,null,null,null,":",null,null,{"$f":"$M$8","v":"Schmiddi"},null,null,null,null,null,null,null,null,null,null,null,null,null,null,null,2,null,null,null,null,":",null,null,2,null,null,null,null,null,null,1,0,1,0]
[null,null,null,null,null,null,null,{"$f":"H18+1","v":4},null,null,null,null,"9.12.",null,null,null,null,null,"21:12:00",null,null,null,null,null,{"$f":"$Y$17","v":"Fernseher"},null,null,null,null,null,null,null,null,null,null,{"$f":"$AA$8","v":"Ratze"},null,null,null,null,null,null,null,null,null,null,null,null,null,null,":",null,null,{"$f":"$AO$8","v":"Jule"},null,null,null,null,null,null,null,null,null,null,null,null,null,null,null,1,null,null,null,null,":",null,null,1,null,null,null,null,null,null,1,0,1,0]
[null,null,null,null,null,null,null,5,null,null,null,null,"9.12.",null,null,null,null,null,"21:24:00",null,null,null,null,null,{"$f":"$Y$16","v":"Fernseher"},null,null,null,null,null,null,null,null,null,null,{"$f":"$BC$8","v":"Christoph"},null,null,null,null,null,null,null,null,null,null,null,null,null,null,":",null,null,{"$f":"$BQ$8","v":"Patrick"},null,null,null,null,null,null,null,null,null,null,null,null,null,null,null,1,null,null,null,null,":",null,null,0,null,null,null,null,null,null,1,1,0,0]
[null,null,null,null,null,null,null,6,null,null,null,null,"9.12.",null,null,null,null,null,"21:24:00",null,null,null,null,null,{"$f":"$Y$17","v":"Fernseher"},null,null,null,null,null,null,null,null,null,null,{"$f":"$M$8","v":"Schmiddi"},null,null,null,null,null,null,null,null,null,null,null,null,null,null,":",null,null,{"$f":"$AO$8","v":"Jule"},null,null,null,null,null,null,null,null,null,null,null,null,null,null,null,3,null,null,null,null,":",null,null,3,null,null,null,null,null,null,1,0,1,0]
[null,null,null,null,null,null,null,7,null,null,null,null,"9.12.",null,null,null,null,null,"21:36:00",null,null,null,null,null,{"$f":"$Y$16","v":"Fernseher"},null,null,null,null,null,null,null,null,null,null,{"$f":"$AA$8","v":"Ratze"},null,null,null,null,null,null,null,null,null,null,null,null,null,null,":",null,null,{"$f":"$BC$8","v":"Christoph"},null,null,null,null,null,null,null,null,null,null,null,null,null,null,null,1,null,null,null,null,":",null,null,1,null,null,null,null,null,null,1,0,1,0]
[null,null,null,null,null,null,null,8,null,null,null,null,"9.12.",null,null,null,null,null,"21:36:00",null,null,null,null,null,{"$f":"$Y$17","v":"Fernseher"},null,null,null,null,null,null,null,null,null,null,{"$f":"$AO$8","v":"Jule"},null,null,null,null,null,null,null,null,null,null,null,null,null,null,":",null,null,{"$f":"$BQ$8","v":"Patrick"},null,null,null,null,null,null,null,null,null,null,null,null,null,null,null,3,null,null,null,null,":",null,null,2,null,null,null,null,null,null,1,1,0,0]
[null,null,null,null,null,null,null,9,null,null,null,null,"9.12.",null,null,null,null,null,"21:48:00",null,null,null,null,null,{"$f":"$Y$16","v":"Fernseher"},null,null,null,null,null,null,null,null,null,null,{"$f":"$BC$8","v":"Christoph"},null,null,null,null,null,null,null,null,null,null,null,null,null,null,":",null,null,{"$f":"$M$8","v":"Schmiddi"},null,null,null,null,null,null,null,null,null,null,null,null,null,null,null,1,null,null,null,null,":",null,null,2,null,null,null,null,null,null,1,0,0,1]
[null,null,null,null,null,null,null,10,null,null,null,null,"9.12.",null,null,null,null,null,"21:48:00",null,null,null,null,null,{"$f":"$Y$17","v":"Fernseher"},null,null,null,null,null,null,null,null,null,null,{"$f":"$BQ$8","v":"Patrick"},null,null,null,null,null,null,null,null,null,null,null,null,null,null,":",null,null,{"$f":"$AA$8","v":"Ratze"},null,null,null,null,null,null,null,null,null,null,null,null,null,null,null,4,null,null,null,null,":",null,null,0,null,null,null,null,null,null,1,1,0,0]
[]
[null,null,"Rückrunde",null,null,null,null,{"$f":"H25+1","v":11},null,null,null,null,{"$f":"$M$16","v":"9.12."},null,null,null,null,null,{"$f":"S24+$C$14","v":"22:00:00"},null,null,null,null,null,{"$f":"$Y$17","v":"Fernseher"},null,null,null,null,null,null,null,null,null,null,{"$f":"$AA$8","v":"Ratze"},null,null,null,null,null,null,null,null,null,null,null,null,null,null,":",null,null,{"$f":"$M$8","v":"Schmiddi"},null,null,null,null,null,null,null,null,null,null,null,null,null,null,null,5,null,null,null,null,":",null,null,0,null,null,null,null,null,null,{"$f":"IF(AND(ISNUMBER(BR27),ISNUMBER(BZ27)),1,0)","v":1},{"$f":"IF(OR(ISBLANK(BR27),ISBLANK(BZ27)),0,IF(BR27>BZ27,1,0))","v":1},{"$f":"IF(OR(ISBLANK(BR27),ISBLANK(BZ27)),0,IF(BR27=BZ27,1,0))","v":0},{"$f":"IF(OR(ISBLANK(BR27),ISBLANK(BZ27)),0,IF(BR27<BZ27,1,0))","v":0}]
[null,null,null,null,null,null,null,{"$f":"H27+1","v":12},null,null,null,null,"9.12.",null,null,null,null,null,{"$f":"S25+$C$14","v":"22:00:00"},null,null,null,null,null,{"$f":"$Y$16","v":"Fernseher"},null,null,null,null,null,null,null,null,null,null,{"$f":"$BC$8","v":"Christoph"},null,null,null,null,null,null,null,null,null,null,null,null,null,null,":",null,null,{"$f":"$AO$8","v":"Jule"},null,null,null,null,null,null,null,null,null,null,null,null,null,null,null,2,null,null,null,null,":",null,null,2,null,null,null,null,null,null,1,0,1,0]
[null,null,null,null,null,null,null,{"$f":"H28+1","v":13},null,null,null,null,"9.12.",null,null,null,null,null,{"$f":"S27+$C$14","v":"22:12:00"},null,null,null,null,null,{"$f":"$Y$17","v":"Fernseher"},null,null,null,null,null,null,null,null,null,null,{"$f":"$M$8","v":"Schmiddi"},null,null,null,null,null,null,null,null,null,null,null,null,null,null,":",null,null,{"$f":"$BQ$8","v":"Patrick"},null,null,null,null,null,null,null,null,null,null,null,null,null,null,null,2,null,null,null,null,":",null,null,0,null,null,null,null,null,null,1,1,0,0]
[null,null,null,null,null,null,null,14,null,null,null,null,"9.12.",null,null,null,null,null,"22:12:00",null,null,null,null,null,{"$f":"$Y$16","v":"Fernseher"},null,null,null,null,null,null,null,null,null,null,{"$f":"$AO$8","v":"Jule"},null,null,null,null,null,null,null,null,null,null,null,null,null,null,":",null,null,{"$f":"$AA$8","v":"Ratze"},null,null,null,null,null,null,null,null,null,null,null,null,null,null,null,3,null,null,null,null,":",null,null,4,null,null,null,null,null,null,1,0,0,1]
[null,null,null,null,null,null,null,15,null,null,null,null,"9.12.",null,null,null,null,null,"22:24:00",null,null,null,null,null,{"$f":"$Y$17","v":"Fernseher"},null,null,null,null,null,null,null,null,null,null,{"$f":"$BQ$8","v":"Patrick"},null,null,null,null,null,null,null,null,null,null,null,null,null,null,":",null,null,{"$f":"$BC$8","v":"Christoph"},null,null,null,null,null,null,null,null,null,null,null,null,null,null,null,1,null,null,null,null,":",null,null,1,null,null,null,null,null,null,1,0,1,0]
[null,null,null,null,null,null,null,16,null,null,null,null,"9.12.",null,null,null,null,null,"22:24:00",null,null,null,null,null,{"$f":"$Y$16","v":"Fernseher"},null,null,null,null,null,null,null,null,null,null,{"$f":"$AO$8","v":"Jule"},null,null,null,null,null,null,null,null,null,null,null,null,null,null,":",null,null,{"$f":"$M$8","v":"Schmiddi"},null,null,null,null,null,null,null,null,null,null,null,null,null,null,null,4,null,null,null,null,":",null,null,1,null,null,null,null,null,null,1,1,0,0]
[null,null,null,null,null,null,null,17,null,null,null,null,"9.12.",null,null,null,null,null,"22:36:00",null,null,null,null,null,{"$f":"$Y$17","v":"Fernseher"},null,null,null,null,null,null,null,null,null,null,{"$f":"$BC$8","v":"Christoph"},null,null,null,null,null,null,null,null,null,null,null,null,null,null,":",null,null,{"$f":"$AA$8","v":"Ratze"},null,null,null,null,null,null,null,null,null,null,null,null,null,null,null,2,null,null,null,null,":",null,null,1,null,null,null,null,null,null,1,1,0,0]
[null,null,null,null,null,null,null,18,null,null,null,null,"9.12.",null,null,null,null,null,"22:36:00",null,null,null,null,null,{"$f":"$Y$16","v":"Fernseher"},null,null,null,null,null,null,null,null,null,null,{"$f":"$BQ$8","v":"Patrick"},null,null,null,null,null,null,null,null,null,null,null,null,null,null,":",null,null,{"$f":"$AO$8","v":"Jule"},null,null,null,null,null,null,null,null,null,null,null,null,null,null,null,2,null,null,null,null,":",null,null,1,null,null,null,null,null,null,1,1,0,0]
[null,null,null,null,null,null,null,19,null,null,null,null,"9.12.",null,null,null,null,null,"22:48:00",null,null,null,null,null,{"$f":"$Y$17","v":"Fernseher"},null,null,null,null,null,null,null,null,null,null,{"$f":"$M$8","v":"Schmiddi"},null,null,null,null,null,null,null,null,null,null,null,null,null,null,":",null,null,{"$f":"$BC$8","v":"Christoph"},null,null,null,null,null,null,null,null,null,null,null,null,null,null,null,2,null,null,null,null,":",null,null,4,null,null,null,null,null,null,1,0,0,1]
[null,null,null,null,null,null,null,20,null,null,null,null,"9.12.",null,null,null,null,null,"22:48:00",null,null,null,null,null,{"$f":"$Y$16","v":"Fernseher"},null,null,null,null,null,null,null,null,null,null,{"$f":"$AA$8","v":"Ratze"},null,null,null,null,null,null,null,null,null,null,null,null,null,null,":",null,null,{"$f":"$BQ$8","v":"Patrick"},null,null,null,null,null,null,null,null,null,null,null,null,null,null,null,2,null,null,null,null,":",null,null,2,null,null,null,null,null,null,1,0,1,0]
[]
[]
[]
[]
[]
[]
[]
[]
[]
[]
[]
[]
[]
[]
[]
[]
[]
[]
[]
[]
[]
[]
[]
[]
[]
[null,null,"Tabelle (unsortiert)"]
[]
[null,null,"Rang",null,null,null,null,"Spieler",null,null,null,null,null,null,null,null,null,null,null,"Spiele",null,null,null,null,null,"Siege",null,null,null,null,null,null,null,null,null,null,"Unentschieden",null,null,null,null,null,null,null,null,null,null,"Niederlagen",null,null,null,null,null,null,null,null,null,null,"Tore",null,null,null,null,null,null,null,null,null,null,null,"+/-",null,null,null,null,"Punkte",null,null,null,"HS"]
[null,null,{"$f":"IF(T65=0,0,RANK(BX65,$BX$65:$CA$69,0))","v":2},null,null,null,null,{"$f":"$M$8","v":"Schmiddi"},null,null,null,null,null,null,null,null,null,null,null,{"$f":"CG16+CG18+CG21+CG24+CG27+CG29+CG32+CG35","v":8},null,null,null,null,null,{"$f":"CH16+CJ18+CH21+CJ24+CJ27+CH29+CJ32+CH35","v":3},null,null,null,null,null,null,null,null,null,null,{"$f":"CI16+CI18+CI21+CI24+CI27+CI29+CI32+CI35","v":2},null,null,null,null,null,null,null,null,null,null,{"$f":"CJ16+CH18+CJ21+CH24+CH27+CJ29+CH32+CJ35","v":3},null,null,null,null,null,null,null,null,null,null,{"$f":"BR16+BZ18+BR21+BZ24+BZ27+BR29+BZ32+BR35","v":13},null,null,null,null,":",null,{"$f":"BZ16+BR18+BZ21+BR24+BR27+BZ29+BR32+BZ35","v":19},null,null,null,null,{"$f":"BG65-BN65","v":-6},null,null,null,null,{"$f":"(Z65*3)+AK65","v":11},null,null,null,{"$f":"BX65+ROW()/1000","v":11.065}]
[null,null,{"$f":"IF(T66=0,0,RANK(BX66,$BX$65:$CA$69,0))","v":3},null,null,null,null,{"$f":"$AA$8","v":"Ratze"},null,null,null,null,null,null,null,null,null,null,null,{"$f":"CG16+CG19+CG22+CG25+CG27+CG30+CG33+CG36","v":8},null,null,null,null,null,{"$f":"CJ16+CH19+CH22+CJ25+CH27+CJ30+CJ33+CH36","v":2},null,null,null,null,null,null,null,null,null,null,{"$f":"CI16+CI19+CI22+CI25+CI27+CI30+CI33+CI36","v":3},null,null,null,null,null,null,null,null,null,null,{"$f":"CH16+CJ19+CJ22+CH25+CJ27+CH30+CH33+CJ36","v":3},null,null,null,null,null,null,null,null,null,null,{"$f":"BZ16+BR19+BR22+BZ25+BR27+BZ30+BZ33+BR36","v":14},null,null,null,":",":",null,{"$f":"BR16+BZ19+BZ22+BR25+BZ27+BR30+BR33+BZ36","v":14},null,null,null,null,{"$f":"BG66-BN66","v":0},null,null,null,null,{"$f":"(Z66*3)+AK66","v":9},null,null,null,{"$f":"BX66+ROW()/1000","v":9.0660000000000007}]
[null,null,{"$f":"IF(T67=0,0,RANK(BX67,$BX$65:$CA$69,0))","v":3},null,null,null,null,{"$f":"$AO$8","v":"Jule"},null,null,null,null,null,null,null,null,null,null,null,{"$f":"CG17+CG19+CG21+CG23+CG28+CG30+CG32+CG34","v":8},null,null,null,null,null,{"$f":"CH17+CJ19+CJ21+CH23+CJ28+CH30+CH32+CJ34","v":2},null,null,null,null,null,null,null,null,null,null,{"$f":"CI17+CI19+CI21+CI23+CI28+CI30+CI32+CI34","v":3},null,null,null,null,null,null,null,null,null,null,{"$f":"CJ17+CH19+CH21+CJ23+CH28+CJ30+CJ32+CH34","v":3},null,null,null,null,null,null,null,null,null,null,{"$f":"BR17+BZ19+BZ21+BR23+BZ28+BR30+BR32+BZ34","v":19},null,null,null,":",":",null,{"$f":"BZ17+BR19+BR21+BZ23+BR28+BZ30+BZ32+BR34","v":19},null,null,null,null,{"$f":"BG67-BN67","v":0},null,null,null,null,{"$f":"(Z67*3)+AK67","v":9},null,null,null,{"$f":"BX67+ROW()/1000","v":9.0670000000000002}]
[null,null,{"$f":"IF(T68=0,0,RANK(BX68,$BX$65:$CA$69,0))","v":1},null,null,null,null,{"$f":"$BC$8","v":"Christoph"},null,null,null,null,null,null,null,null,null,null,null,{"$f":"CG17+CG20+CG22+CG24+CG28+CG31+CG33+CG35","v":8},null,null,null,null,null,{"$f":"CJ17+CH20+CJ22+CH24+CH28+CJ31+CH33+CJ35","v":4},null,null,null,null,null,null,null,null,null,null,{"$f":"CI17+CI20+CI22+CI24+CI28+CI31+CI33+CI35","v":3},null,null,null,null,null,null,null,null,null,null,{"$f":"CH17+CJ20+CH22+CJ24+CJ28+CH31+CJ33+CH35","v":1},null,null,null,null,null,null,null,null,null,null,{"$f":"BZ17+BR20+BZ22+BR24+BR28+BZ31+BR33+BZ35","v":16},null,null,null,":",":",null,{"$f":"BR17+BZ20+BR22+BZ24+BZ28+BR31+BZ33+BR35","v":11},null,null,null,null,{"$f":"BG68-BN68","v":5},null,null,null,null,{"$f":"(Z68*3)+AK68","v":15},null,null,null,{"$f":"BX68+ROW()/1000","v":15.068}]
[null,null,{"$f":"IF(T69=0,0,RANK(BX69,$BX$65:$CA$69,0))","v":3},null,null,null,null,{"$f":"$BQ$8","v":"Patrick"},null,null,null,null,null,null,null,null,null,null,null,{"$f":"CG18+CG20+CG23+CG25+CG29+CG31+CG34+CG36","v":8},null,null,null,null,null,{"$f":"CH18+CJ20+CJ23+CH25+CJ29+CH31+CH34+CJ36","v":2},null,null,null,null,null,null,null,null,null,null,{"$f":"CI18+CI20+CI23+CI25+CI29+CI31+CI34+CI36","v":3},null,null,null,null,null,null,null,null,null,null,{"$f":"CJ18+CH20+CH23+CJ25+CH29+CJ31+CJ34+CH36","v":3},null,null,null,null,null,null,null,null,null,null,{"$f":"BR18+BZ20+BZ23+BR25+BZ29+BR31+BR34+BZ36","v":13},null,null,null,":",":",null,{"$f":"BZ18+BR20+BR23+BZ25+BR29+BZ31+BZ34+BR36","v":12},null,null,null,null,{"$f":"BG69-BN69","v":1},null,null,null,null,{"$f":"(Z69*3)+AK69","v":9},null,null,null,{"$f":"BX69+ROW()/1000","v":9.0690000000000008}]
[null,null,null,null,null,null,null,"Spieler 6",null,null,null,null,null,null,null,null,null,null,null,0,null,null,null,null,null,0,null,null,null,null,null,null,null,null,null,null,0,null,null,null,null,null,null,null,null,null,null,0,null,null,null,null,null,null,null,null,null,null,0,null,null,null,null,":",null,0,null,null,null,null,0,null,null,null,null,0,null,null,null,0]
[null,null,null,null,null,null,null,"Spieler 7",null,null,null,null,null,null,null,null,null,null,null,0,null,null,null,null,null,0,null,null,null,null,null,null,null,null,null,null,0,null,null,null,null,null,null,null,null,null,null,0,null,null,null,null,null,null,null,null,null,null,0,null,null,null,null,":",null,0,null,null,null,null,0,null,null,null,null,0,null,null,null,0]
[]
[]
[]
[null,null,"Tabelle"]
[]
[null,null,"Rang",null,null,null,null,"Spieler",null,null,null,null,null,null,null,null,null,null,null,"Spiele",null,null,null,null,null,"Siege",null,null,null,null,null,null,null,null,null,null,"Unentschieden",null,null,null,null,null,null,null,null,null,null,"Niederlagen",null,null,null,null,null,null,null,null,null,null,"Tore",null,null,null,null,null,null,null,null,null,null,null,"+/-",null,null,null,null,"Punkte"]
[null,null,{"$f":"INDEX($C$65:$C$69,MATCH(LARGE($CB$65:$CB$69,ROW(A1)),$CB$65:$CB$69,0),1)","v":1},null,null,1,null,{"$f":"INDEX($H$65:$H$69,MATCH(LARGE($CB$65:$CB$69,ROW(A1)),$CB$65:$CB$69,0),1)","v":"Christoph"},null,null,null,null,null,null,null,null,null,null,null,{"$f":"INDEX($T$65:$T$69,MATCH(LARGE($CB$65:$CB$69,ROW(A1)),$CB$65:$CB$69,0),1)","v":8},null,null,null,null,null,{"$f":"INDEX($Z$65:$Z$69,MATCH(LARGE($CB$65:$CB$69,ROW(A1)),$CB$65:$CB$69,0),1)","v":4},null,null,null,null,null,null,null,null,null,null,{"$f":"INDEX($AK$65:$AK$69,MATCH(LARGE($CB$65:$CB$69,ROW(A1)),$CB$65:$CB$69,0),1)","v":3},null,null,null,null,null,null,null,null,null,null,{"$f":"INDEX($AV$65:$AV$69,MATCH(LARGE($CB$65:$CB$69,ROW(A1)),$CB$65:$CB$69,0),1)","v":1},null,null,null,null,null,null,null,null,null,null,{"$f":"INDEX($BG$65:$BG$69,MATCH(LARGE($CB$65:$CB$69,ROW(A1)),$CB$65:$CB$69,0),1)","v":16},null,null,null,null,":",null,{"$f":"INDEX($BN$65:$BN$69,MATCH(LARGE($CB$65:$CB$69,ROW(A1)),$CB$65:$CB$69,0),1)","v":11},null,null,null,null,{"$f":"INDEX($BS$65:$BS$69,MATCH(LARGE($CB$65:$CB$69,ROW(A1)),$CB$65:$CB$69,0),1)","v":5},null,null,null,null,{"$f":"INDEX($BX$65:$BX$69,MATCH(LARGE($CB$65:$CB$69,ROW(A1)),$CB$65:$CB$69,0),1)","v":15}]
[null,null,{"$f":"INDEX($C$65:$C$69,MATCH(LARGE($CB$65:$CB$69,ROW(A2)),$CB$65:$CB$69,0),1)","v":2},null,null,2,null,{"$f":"INDEX($H$65:$H$69,MATCH(LARGE($CB$65:$CB$69,ROW(A2)),$CB$65:$CB$69,0),1)","v":"Schmiddi"},null,null,null,null,null,null,null,null,null,null,null,{"$f":"INDEX($T$65:$T$69,MATCH(LARGE($CB$65:$CB$69,ROW(A2)),$CB$65:$CB$69,0),1)","v":8},null,null,null,null,null,{"$f":"INDEX($Z$65:$Z$69,MATCH(LARGE($CB$65:$CB$69,ROW(A2)),$CB$65:$CB$69,0),1)","v":3},null,null,null,null,null,null,null,null,null,null,{"$f":"INDEX($AK$65:$AK$69,MATCH(LARGE($CB$65:$CB$69,ROW(A2)),$CB$65:$CB$69,0),1)","v":2},null,null,null,null,null,null,null,null,null,null,{"$f":"INDEX($AV$65:$AV$69,MATCH(LARGE($CB$65:$CB$69,ROW(A2)),$CB$65:$CB$69,0),1)","v":3},null,null,null,null,null,null,null,null,null,null,{"$f":"INDEX($BG$65:$BG$69,MATCH(LARGE($CB$65:$CB$69,ROW(A2)),$CB$65:$CB$69,0),1)","v":13},null,null,null,null,":",null,{"$f":"INDEX($BN$65:$BN$69,MATCH(LARGE($CB$65:$CB$69,ROW(A2)),$CB$65:$CB$69,0),1)","v":19},null,null,null,null,{"$f":"INDEX($BS$65:$BS$69,MATCH(LARGE($CB$65:$CB$69,ROW(A2)),$CB$65:$CB$69,0),1)","v":-6},null,null,null,null,{"$f":"INDEX($BX$65:$BX$69,MATCH(LARGE($CB$65:$CB$69,ROW(A2)),$CB$65:$CB$69,0),1)","v":11}]
[null,null,{"$f":"INDEX($C$65:$C$69,MATCH(LARGE($CB$65:$CB$69,ROW(A3)),$CB$65:$CB$69,0),1)","v":3},null,null,3,null,{"$f":"INDEX($H$65:$H$69,MATCH(LARGE($CB$65:$CB$69,ROW(A3)),$CB$65:$CB$69,0),1)","v":"Patrick"},null,null,null,null,null,null,null,null,null,null,null,{"$f":"INDEX($T$65:$T$69,MATCH(LARGE($CB$65:$CB$69,ROW(A3)),$CB$65:$CB$69,0),1)","v":8},null,null,null,null,null,{"$f":"INDEX($Z$65:$Z$69,MATCH(LARGE($CB$65:$CB$69,ROW(A3)),$CB$65:$CB$69,0),1)","v":2},null,null,null,null,null,null,null,null,null,null,{"$f":"INDEX($AK$65:$AK$69,MATCH(LARGE($CB$65:$CB$69,ROW(A3)),$CB$65:$CB$69,0),1)","v":3},null,null,null,null,null,null,null,null,null,null,{"$f":"INDEX($AV$65:$AV$69,MATCH(LARGE($CB$65:$CB$69,ROW(A3)),$CB$65:$CB$69,0),1)","v":3},null,null,null,null,null,null,null,null,null,null,{"$f":"INDEX($BG$65:$BG$69,MATCH(LARGE($CB$65:$CB$69,ROW(A3)),$CB$65:$CB$69,0),1)","v":13},null,null,null,null,":",null,{"$f":"INDEX($BN$65:$BN$69,MATCH(LARGE($CB$65:$CB$69,ROW(A3)),$CB$65:$CB$69,0),1)","v":12},null,null,null,null,{"$f":"INDEX($BS$65:$BS$69,MATCH(LARGE($CB$65:$CB$69,ROW(A3)),$CB$65:$CB$69,0),1)","v":1},null,null,null,null,{"$f":"INDEX($BX$65:$BX$69,MATCH(LARGE($CB$65:$CB$69,ROW(A3)),$CB$65:$CB$69,0),1)","v":9}]
[null,null,{"$f":"INDEX($C$65:$C$69,MATCH(LARGE($CB$65:$CB$69,ROW(A4)),$CB$65:$CB$69,0),1)","v":3},null,null,4,null,{"$f":"INDEX($H$65:$H$69,MATCH(LARGE($CB$65:$CB$69,ROW(A4)),$CB$65:$CB$69,0),1)","v":"Jule"},null,null,null,null,null,null,null,null,null,null,null,{"$f":"INDEX($T$65:$T$69,MATCH(LARGE($CB$65:$CB$69,ROW(A4)),$CB$65:$CB$69,0),1)","v":8},null,null,null,null,null,{"$f":"INDEX($Z$65:$Z$69,MATCH(LARGE($CB$65:$CB$69,ROW(A4)),$CB$65:$CB$69,0),1)","v":2},null,null,null,null,null,null,null,null,null,null,{"$f":"INDEX($AK$65:$AK$69,MATCH(LARGE($CB$65:$CB$69,ROW(A4)),$CB$65:$CB$69,0),1)","v":3},null,null,null,null,null,null,null,null,null,null,{"$f":"INDEX($AV$65:$AV$69,MATCH(LARGE($CB$65:$CB$69,ROW(A4)),$CB$65:$CB$69,0),1)","v":3},null,null,null,null,null,null,null,null,null,null,{"$f":"INDEX($BG$65:$BG$69,MATCH(LARGE($CB$65:$CB$69,ROW(A4)),$CB$65:$CB$69,0),1)","v":19},null,null,null,null,":",null,{"$f":"INDEX($BN$65:$BN$69,MATCH(LARGE($CB$65:$CB$69,ROW(A4)),$CB$65:$CB$69,0),1)","v":19},null,null,null,null,{"$f":"INDEX($BS$65:$BS$69,MATCH(LARGE($CB$65:$CB$69,ROW(A4)),$CB$65:$CB$69,0),1)","v":0},null,null,null,null,{"$f":"INDEX($BX$65:$BX$69,MATCH(LARGE($CB$65:$CB$69,ROW(A4)),$CB$65:$CB$69,0),1)","v":9}]
[null,null,{"$f":"INDEX($C$65:$C$69,MATCH(LARGE($CB$65:$CB$69,ROW(A5)),$CB$65:$CB$69,0),1)","v":3},null,null,5,null,{"$f":"INDEX($H$65:$H$69,MATCH(LARGE($CB$65:$CB$69,ROW(A5)),$CB$65:$CB$69,0),1)","v":"Ratze"},null,null,null,null,null,null,null,null,null,null,null,{"$f":"INDEX($T$65:$T$69,MATCH(LARGE($CB$65:$CB$69,ROW(A5)),$CB$65:$CB$69,0),1)","v":8},null,null,null,null,null,{"$f":"INDEX($Z$65:$Z$69,MATCH(LARGE($CB$65:$CB$69,ROW(A5)),$CB$65:$CB$69,0),1)","v":2},null,null,null,null,null,null,null,null,null,null,{"$f":"INDEX($AK$65:$AK$69,MATCH(LARGE($CB$65:$CB$69,ROW(A5)),$CB$65:$CB$69,0),1)","v":3},null,null,null,null,null,null,null,null,null,null,{"$f":"INDEX($AV$65:$AV$69,MATCH(LARGE($CB$65:$CB$69,ROW(A5)),$CB$65:$CB$69,0),1)","v":3},null,null,null,null,null,null,null,null,null,null,{"$f":"INDEX($BG$65:$BG$69,MATCH(LARGE($CB$65:$CB$69,ROW(A5)),$CB$65:$CB$69,0),1)","v":14},null,null,null,null,":",null,{"$f":"INDEX($BN$65:$BN$69,MATCH(LARGE($CB$65:$CB$69,ROW(A5)),$CB$65:$CB$69,0),1)","v":14},null,null,null,null,{"$f":"INDEX($BS$65:$BS$69,MATCH(LARGE($CB$65:$CB$69,ROW(A5)),$CB$65:$CB$69,0),1)","v":0},null,null,null,null,{"$f":"INDEX($BX$65:$BX$69,MATCH(LARGE($CB$65:$CB$69,ROW(A5)),$CB$65:$CB$69,0),1)","v":9}]
[null,null,"---",null,null,"---",null,"Spieler 6",null,null,null,null,null,null,null,null,null,null,null,0,null,null,null,null,null,0,null,null,null,null,null,null,null,null,null,null,0,null,null,null,null,null,null,null,null,null,null,0,null,null,null,null,null,null,null,null,null,null,0,null,null,null,null,":",null,0,null,null,null,null,0,null,null,null,null,0]
[null,null,"---",null,null,"---",null,"Spieler 7",null,null,null,null,null,null,null,null,null,null,null,0,null,null,null,null,null,0,null,null,null,null,null,null,null,null,null,null,0,null,null,null,null,null,null,null,null,null,null,0,null,null,null,null,null,null,null,null,null,null,0,null,null,null,null,":",null,0,null,null,null,null,0,null,null,null,null,0]
[]
[]
[]
[null,null,"Tabelle (nach Alphabet)"]
[]
[null,null,"Rang",null,null,null,null,"Spieler",null,null,null,null,null,null,null,null,null,null,null,"Spiele",null,null,null,null,null,"Siege",null,null,null,null,null,null,null,null,null,null,"Unentschieden",null,null,null,null,null,null,null,null,null,null,"Niederlagen",null,null,null,null,null,null,null,null,null,null,"Tore",null,null,null,null,null,null,null,null,null,null,null,"+/-",null,null,null,null,"Punkte"]
[null,null,{"$f":"IF($H$78=\"Basti\",$F$78,IF($H$79=\"Basti\",$F$79,IF($H$80=\"Basti\",$F$80,IF($H$81=\"Basti\",$F$81,IF($H$82=\"Basti\",$F$82,IF($H$83=\"Basti\",$F$83,IF($H$84=\"Basti\",$F$84,0)))))))","v":0},null,null,null,null,"Basti",null,null,null,null,null,null,null,null,null,null,null,{"$f":"IF($H$78=\"Basti\",$T$78,IF($H$79=\"Basti\",$T$79,IF($H$80=\"Basti\",$T$80,IF($H$81=\"Basti\",$T$81,IF($H$82=\"Basti\",$T$82,IF($H$83=\"Basti\",$T$83,IF($H$84=\"Basti\",$T$84,0)))))))","v":0},null,null,null,null,null,{"$f":"IF($H$78=\"Basti\",$Z$78,IF($H$79=\"Basti\",$Z$79,IF($H$80=\"Basti\",$Z$80,IF($H$81=\"Basti\",$Z$81,IF($H$82=\"Basti\",$Z$82,IF($H$83=\"Basti\",$Z$83,IF($H$84=\"Basti\",$Z$84,0)))))))","v":0},null,null,null,null,null,null,null,null,null,null,{"$f":"IF($H$78=\"Basti\",$AK$78,IF($H$79=\"Basti\",$AK$79,IF($H$80=\"Basti\",$AK$80,IF($H$81=\"Basti\",$AK$81,IF($H$82=\"Basti\",$AK$82,IF($H$83=\"Basti\",$AK$83,IF($H$84=\"Basti\",$AK$84,0)))))))","v":0},null,null,null,null,null,null,null,null,null,null,{"$f":"IF($H$78=\"Basti\",$AV$78,IF($H$79=\"Basti\",$AV$79,IF($H$80=\"Basti\",$AV$80,IF($H$81=\"Basti\",$AV$81,IF($H$82=\"Basti\",$AV$82,IF($H$83=\"Basti\",$AV$83,IF($H$84=\"Basti\",$AV$84,0)))))))","v":0},null,null,null,null,null,null,null,null,null,null,{"$f":"IF($H$78=\"Basti\",$BG$78,IF($H$79=\"Basti\",$BG$79,IF($H$80=\"Basti\",$BG$80,IF($H$81=\"Basti\",$BG$81,IF($H$82=\"Basti\",$BG$82,IF($H$83=\"Basti\",$BG$83,IF($H$84=\"Basti\",$BG$84,0)))))))","v":0},null,null,null,null,":",null,{"$f":"IF($H$78=\"Basti\",$BN$78,IF($H$79=\"Basti\",$BN$79,IF($H$80=\"Basti\",$BN$80,IF($H$81=\"Basti\",$BN$81,IF($H$82=\"Basti\",$BN$82,IF($H$83=\"Basti\",$BN$83,IF($H$84=\"Basti\",$BN$84,0)))))))","v":0},null,null,null,null,{"$f":"IF($H$78=\"Basti\",$BS$78,IF($H$79=\"Basti\",$BS$79,IF($H$80=\"Basti\",$BS$80,IF($H$81=\"Basti\",$BS$81,IF($H$82=\"Basti\",$BS$82,IF($H$83=\"Basti\",$BS$83,IF($H$84=\"Basti\",$BS$84,0)))))))","v":0},null,null,null,null,{"$f":"IF($H$78=\"Basti\",$BX$78,IF($H$79=\"Basti\",$BX$79,IF($H$80=\"Basti\",$BX$80,IF($H$81=\"Basti\",$BX$81,IF($H$82=\"Basti\",$BX$82,IF($H$83=\"Basti\",$BX$83,IF($H$84=\"Basti\",$BX$84,0)))))))","v":0}]
[null,null,{"$f":"IF($H$78=\"Christoph\",$F$78,IF($H$79=\"Christoph\",$F$79,IF($H$80=\"Christoph\",$F$80,IF($H$81=\"Christoph\",$F$81,IF($H$82=\"Christoph\",$F$82,IF($H$83=\"Christoph\",$F$83,IF($H$84=\"Christoph\",$F$84,0)))))))","v":1},null,null,null,null,"Christoph",null,null,null,null,null,null,null,null,null,null,null,{"$f":"IF($H$78=\"Christoph\",$T$78,IF($H$79=\"Christoph\",$T$79,IF($H$80=\"Christoph\",$T$80,IF($H$81=\"Christoph\",$T$81,IF($H$82=\"Christoph\",$T$82,IF($H$83=\"Christoph\",$T$83,IF($H$84=\"Christoph\",$T$84,0)))))))","v":8},null,null,null,null,null,{"$f":"IF($H$78=\"Christoph\",$Z$78,IF($H$79=\"Christoph\",$Z$79,IF($H$80=\"Christoph\",$Z$80,IF($H$81=\"Christoph\",$Z$81,IF($H$82=\"Christoph\",$Z$82,IF($H$83=\"Christoph\",$Z$83,IF($H$84=\"Christoph\",$Z$84,0)))))))","v":4},null,null,null,null,null,null,null,null,null,null,{"$f":"IF($H$78=\"Christoph\",$AK$78,IF($H$79=\"Christoph\",$AK$79,IF($H$80=\"Christoph\",$AK$80,IF($H$81=\"Christoph\",$AK$81,IF($H$82=\"Christoph\",$AK$82,IF($H$83=\"Christoph\",$AK$83,IF($H$84=\"Christoph\",$AK$84,0)))))))","v":3},null,null,null,null,null,null,null,null,null,null,{"$f":"IF($H$78=\"Christoph\",$AV$78,IF($H$79=\"Christoph\",$AV$79,IF($H$80=\"Christoph\",$AV$80,IF($H$81=\"Christoph\",$AV$81,IF($H$82=\"Christoph\",$AV$82,IF($H$83=\"Christoph\",$AV$83,IF($H$84=\"Christoph\",$AV$84,0)))))))","v":1},null,null,null,null,null,null,null,null,null,null,{"$f":"IF($H$78=\"Christoph\",$BG$78,IF($H$79=\"Christoph\",$BG$79,IF($H$80=\"Christoph\",$BG$80,IF($H$81=\"Christoph\",$BG$81,IF($H$82=\"Christoph\",$BG$82,IF($H$83=\"Christoph\",$BG$83,IF($H$84=\"Christoph\",$BG$84,0)))))))","v":16},null,null,null,null,":",null,{"$f":"IF($H$78=\"Christoph\",$BN$78,IF($H$79=\"Christoph\",$BN$79,IF($H$80=\"Christoph\",$BN$80,IF($H$81=\"Christoph\",$BN$81,IF($H$82=\"Christoph\",$BN$82,IF($H$83=\"Christoph\",$BN$83,IF($H$84=\"Christoph\",$BN$84,0)))))))","v":11},null,null,null,null,{"$f":"IF($H$78=\"Christoph\",$BS$78,IF($H$79=\"Christoph\",$BS$79,IF($H$80=\"Christoph\",$BS$80,IF($H$81=\"Christoph\",$BS$81,IF($H$82=\"Christoph\",$BS$82,IF($H$83=\"Christoph\",$BS$83,IF($H$84=\"Christoph\",$BS$84,0)))))))","v":5},null,null,null,null,{"$f":"IF($H$78=\"Christoph\",$BX$78,IF($H$79=\"Christoph\",$BX$79,IF($H$80=\"Christoph\",$BX$80,IF($H$81=\"Christoph\",$BX$81,IF($H$82=\"Christoph\",$BX$82,IF($H$83=\"Christoph\",$BX$83,IF($H$84=\"Christoph\",$BX$84,0)))))))","v":15}]
[null,null,{"$f":"IF($H$78=\"Jule\",$F$78,IF($H$79=\"Jule\",$F$79,IF($H$80=\"Jule\",$F$80,IF($H$81=\"Jule\",$F$81,IF($H$82=\"Jule\",$F$82,IF($H$83=\"Jule\",$F$83,IF($H$84=\"Jule\",$F$84,0)))))))","v":4},null,null,null,null,"Jule",null,null,null,null,null,null,null,null,null,null,null,{"$f":"IF($H$78=\"Jule\",$T$78,IF($H$79=\"Jule\",$T$79,IF($H$80=\"Jule\",$T$80,IF($H$81=\"Jule\",$T$81,IF($H$82=\"Jule\",$T$82,IF($H$83=\"Jule\",$T$83,IF($H$84=\"Jule\",$T$84,0)))))))","v":8},null,null,null,null,null,{"$f":"IF($H$78=\"Jule\",$Z$78,IF($H$79=\"Jule\",$Z$79,IF($H$80=\"Jule\",$Z$80,IF($H$81=\"Jule\",$Z$81,IF($H$82=\"Jule\",$Z$82,IF($H$83=\"Jule\",$Z$83,IF($H$84=\"Jule\",$Z$84,0)))))))","v":2},null,null,null,null,null,null,null,null,null,null,{"$f":"IF($H$78=\"Jule\",$AK$78,IF($H$79=\"Jule\",$AK$79,IF($H$80=\"Jule\",$AK$80,IF($H$81=\"Jule\",$AK$81,IF($H$82=\"Jule\",$AK$82,IF($H$83=\"Jule\",$AK$83,IF($H$84=\"Jule\",$AK$84,0)))))))","v":3},null,null,null,null,null,null,null,null,null,null,{"$f":"IF($H$78=\"Jule\",$AV$78,IF($H$79=\"Jule\",$AV$79,IF($H$80=\"Jule\",$AV$80,IF($H$81=\"Jule\",$AV$81,IF($H$82=\"Jule\",$AV$82,IF($H$83=\"Jule\",$AV$83,IF($H$84=\"Jule\",$AV$84,0)))))))","v":3},null,null,null,null,null,null,null,null,null,null,{"$f":"IF($H$78=\"Jule\",$BG$78,IF($H$79=\"Jule\",$BG$79,IF($H$80=\"Jule\",$BG$80,IF($H$81=\"Jule\",$BG$81,IF($H$82=\"Jule\",$BG$82,IF($H$83=\"Jule\",$BG$83,IF($H$84=\"Jule\",$BG$84,0)))))))","v":19},null,null,null,null,":",null,{"$f":"IF($H$78=\"Jule\",$BN$78,IF($H$79=\"Jule\",$BN$79,IF($H$80=\"Jule\",$BN$80,IF($H$81=\"Jule\",$BN$81,IF($H$82=\"Jule\",$BN$82,IF($H$83=\"Jule\",$BN$83,IF($H$84=\"Jule\",$BN$84,0)))))))","v":19},null,null,null,null,{"$f":"IF($H$78=\"Jule\",$BS$78,IF($H$79=\"Jule\",$BS$79,IF($H$80=\"Jule\",$BS$80,IF($H$81=\"Jule\",$BS$81,IF($H$82=\"Jule\",$BS$82,IF($H$83=\"Jule\",$BS$83,IF($H$84=\"Jule\",$BS$84,0)))))))","v":0},null,null,null,null,{"$f":"IF($H$78=\"Jule\",$BX$78,IF($H$79=\"Jule\",$BX$79,IF($H$80=\"Jule\",$BX$80,IF($H$81=\"Jule\",$BX$81,IF($H$82=\"Jule\",$BX$82,IF($H$83=\"Jule\",$BX$83,IF($H$84=\"Jule\",$BX$84,0)))))))","v":9}]
[null,null,{"$f":"IF($H$78=\"Markus\",$F$78,IF($H$79=\"Markus\",$F$79,IF($H$80=\"Markus\",$F$80,IF($H$81=\"Markus\",$F$81,IF($H$82=\"Markus\",$F$82,IF($H$83=\"Markus\",$F$83,IF($H$84=\"Markus\",$F$84,0)))))))","v":0},null,null,null,null,"Markus",null,null,null,null,null,null,null,null,null,null,null,{"$f":"IF($H$78=\"Markus\",$T$78,IF($H$79=\"Markus\",$T$79,IF($H$80=\"Markus\",$T$80,IF($H$81=\"Markus\",$T$81,IF($H$82=\"Markus\",$T$82,IF($H$83=\"Markus\",$T$83,IF($H$84=\"Markus\",$T$84,0)))))))","v":0},null,null,null,null,null,{"$f":"IF($H$78=\"Markus\",$Z$78,IF($H$79=\"Markus\",$Z$79,IF($H$80=\"Markus\",$Z$80,IF($H$81=\"Markus\",$Z$81,IF($H$82=\"Markus\",$Z$82,IF($H$83=\"Markus\",$Z$83,IF($H$84=\"Markus\",$Z$84,0)))))))","v":0},null,null,null,null,null,null,null,null,null,null,{"$f":"IF($H$78=\"Markus\",$AK$78,IF($H$79=\"Markus\",$AK$79,IF($H$80=\"Markus\",$AK$80,IF($H$81=\"Markus\",$AK$81,IF($H$82=\"Markus\",$AK$82,IF($H$83=\"Markus\",$AK$83,IF($H$84=\"Markus\",$AK$84,0)))))))","v":0},null,null,null,null,null,null,null,null,null,null,{"$f":"IF($H$78=\"Markus\",$AV$78,IF($H$79=\"Markus\",$AV$79,IF($H$80=\"Markus\",$AV$80,IF($H$81=\"Markus\",$AV$81,IF($H$82=\"Markus\",$AV$82,IF($H$83=\"Markus\",$AV$83,IF($H$84=\"Markus\",$AV$84,0)))))))","v":0},null,null,null,null,null,null,null,null,null,null,{"$f":"IF($H$78=\"Markus\",$BG$78,IF($H$79=\"Markus\",$BG$79,IF($H$80=\"Markus\",$BG$80,IF($H$81=\"Markus\",$BG$81,IF($H$82=\"Markus\",$BG$82,IF($H$83=\"Markus\",$BG$83,IF($H$84=\"Markus\",$BG$84,0)))))))","v":0},null,null,null,null,":",null,{"$f":"IF($H$78=\"Markus\",$BN$78,IF($H$79=\"Markus\",$BN$79,IF($H$80=\"Markus\",$BN$80,IF($H$81=\"Markus\",$BN$81,IF($H$82=\"Markus\",$BN$82,IF($H$83=\"Markus\",$BN$83,IF($H$84=\"Markus\",$BN$84,0)))))))","v":0},null,null,null,null,{"$f":"IF($H$78=\"Markus\",$BS$78,IF($H$79=\"Markus\",$BS$79,IF($H$80=\"Markus\",$BS$80,IF($H$81=\"Markus\",$BS$81,IF($H$82=\"Markus\",$BS$82,IF($H$83=\"Markus\",$BS$83,IF($H$84=\"Markus\",$BS$84,0)))))))","v":0},null,null,null,null,{"$f":"IF($H$78=\"Markus\",$BX$78,IF($H$79=\"Markus\",$BX$79,IF($H$80=\"Markus\",$BX$80,IF($H$81=\"Markus\",$BX$81,IF($H$82=\"Markus\",$BX$82,IF($H$83=\"Markus\",$BX$83,IF($H$84=\"Markus\",$BX$84,0)))))))","v":0}]
[null,null,{"$f":"IF($H$78=\"Patrick\",$F$78,IF($H$79=\"Patrick\",$F$79,IF($H$80=\"Patrick\",$F$80,IF($H$81=\"Patrick\",$F$81,IF($H$82=\"Patrick\",$F$82,IF($H$83=\"Patrick\",$F$83,IF($H$84=\"Patrick\",$F$84,0)))))))","v":3},null,null,null,null,"Patrick",null,null,null,null,null,null,null,null,null,null,null,{"$f":"IF($H$78=\"Patrick\",$T$78,IF($H$79=\"Patrick\",$T$79,IF($H$80=\"Patrick\",$T$80,IF($H$81=\"Patrick\",$T$81,IF($H$82=\"Patrick\",$T$82,IF($H$83=\"Patrick\",$T$83,IF($H$84=\"Patrick\",$T$84,0)))))))","v":8},null,null,null,null,null,{"$f":"IF($H$78=\"Patrick\",$Z$78,IF($H$79=\"Patrick\",$Z$79,IF($H$80=\"Patrick\",$Z$80,IF($H$81=\"Patrick\",$Z$81,IF($H$82=\"Patrick\",$Z$82,IF($H$83=\"Patrick\",$Z$83,IF($H$84=\"Patrick\",$Z$84,0)))))))","v":2},null,null,null,null,null,null,null,null,null,null,{"$f":"IF($H$78=\"Patrick\",$AK$78,IF($H$79=\"Patrick\",$AK$79,IF($H$80=\"Patrick\",$AK$80,IF($H$81=\"Patrick\",$AK$81,IF($H$82=\"Patrick\",$AK$82,IF($H$83=\"Patrick\",$AK$83,IF($H$84=\"Patrick\",$AK$84,0)))))))","v":3},null,null,null,null,null,null,null,null,null,null,{"$f":"IF($H$78=\"Patrick\",$AV$78,IF($H$79=\"Patrick\",$AV$79,IF($H$80=\"Patrick\",$AV$80,IF($H$81=\"Patrick\",$AV$81,IF($H$82=\"Patrick\",$AV$82,IF($H$83=\"Patrick\",$AV$83,IF($H$84=\"Patrick\",$AV$84,0)))))))","v":3},null,null,null,null,null,null,null,null,null,null,{"$f":"IF($H$78=\"Patrick\",$BG$78,IF($H$79=\"Patrick\",$BG$79,IF($H$80=\"Patrick\",$BG$80,IF($H$81=\"Patrick\",$BG$81,IF($H$82=\"Patrick\",$BG$82,IF($H$83=\"Patrick\",$BG$83,IF($H$84=\"Patrick\",$BG$84,0)))))))","v":13},null,null,null,null,":",null,{"$f":"IF($H$78=\"Patrick\",$BN$78,IF($H$79=\"Patrick\",$BN$79,IF($H$80=\"Patrick\",$BN$80,IF($H$81=\"Patrick\",$BN$81,IF($H$82=\"Patrick\",$BN$82,IF($H$83=\"Patrick\",$BN$83,IF($H$84=\"Patrick\",$BN$84,0)))))))","v":12},null,null,null,null,{"$f":"IF($H$78=\"Patrick\",$BS$78,IF($H$79=\"Patrick\",$BS$79,IF($H$80=\"Patrick\",$BS$80,IF($H$81=\"Patrick\",$BS$81,IF($H$82=\"Patrick\",$BS$82,IF($H$83=\"Patrick\",$BS$83,IF($H$84=\"Patrick\",$BS$84,0)))))))","v":1},null,null,null,null,{"$f":"IF($H$78=\"Patrick\",$BX$78,IF($H$79=\"Patrick\",$BX$79,IF($H$80=\"Patrick\",$BX$80,IF($H$81=\"Patrick\",$BX$81,IF($H$82=\"Patrick\",$BX$82,IF($H$83=\"Patrick\",$BX$83,IF($H$84=\"Patrick\",$BX$84,0)))))))","v":9}]
[null,null,{"$f":"IF($H$78=\"Ratze\",$F$78,IF($H$79=\"Ratze\",$F$79,IF($H$80=\"Ratze\",$F$80,IF($H$81=\"Ratze\",$F$81,IF($H$82=\"Ratze\",$F$82,IF($H$83=\"Ratze\",$F$83,IF($H$84=\"Ratze\",$F$84,0)))))))","v":5},null,null,null,null,"Ratze",null,null,null,null,null,null,null,null,null,null,null,{"$f":"IF($H$78=\"Ratze\",$T$78,IF($H$79=\"Ratze\",$T$79,IF($H$80=\"Ratze\",$T$80,IF($H$81=\"Ratze\",$T$81,IF($H$82=\"Ratze\",$T$82,IF($H$83=\"Ratze\",$T$83,IF($H$84=\"Ratze\",$T$84,0)))))))","v":8},null,null,null,null,null,{"$f":"IF($H$78=\"Ratze\",$Z$78,IF($H$79=\"Ratze\",$Z$79,IF($H$80=\"Ratze\",$Z$80,IF($H$81=\"Ratze\",$Z$81,IF($H$82=\"Ratze\",$Z$82,IF($H$83=\"Ratze\",$Z$83,IF($H$84=\"Ratze\",$Z$84,0)))))))","v":2},null,null,null,null,null,null,null,null,null,null,{"$f":"IF($H$78=\"Ratze\",$AK$78,IF($H$79=\"Ratze\",$AK$79,IF($H$80=\"Ratze\",$AK$80,IF($H$81=\"Ratze\",$AK$81,IF($H$82=\"Ratze\",$AK$82,IF($H$83=\"Ratze\",$AK$83,IF($H$84=\"Ratze\",$AK$84,0)))))))","v":3},null,null,null,null,null,null,null,null,null,null,{"$f":"IF($H$78=\"Ratze\",$AV$78,IF($H$79=\"Ratze\",$AV$79,IF($H$80=\"Ratze\",$AV$80,IF($H$81=\"Ratze\",$AV$81,IF($H$82=\"Ratze\",$AV$82,IF($H$83=\"Ratze\",$AV$83,IF($H$84=\"Ratze\",$AV$84,0)))))))","v":3},null,null,null,null,null,null,null,null,null,null,{"$f":"IF($H$78=\"Ratze\",$BG$78,IF($H$79=\"Ratze\",$BG$79,IF($H$80=\"Ratze\",$BG$80,IF($H$81=\"Ratze\",$BG$81,IF($H$82=\"Ratze\",$BG$82,IF($H$83=\"Ratze\",$BG$83,IF($H$84=\"Ratze\",$BG$84,0)))))))","v":14},null,null,null,null,":",null,{"$f":"IF($H$78=\"Ratze\",$BN$78,IF($H$79=\"Ratze\",$BN$79,IF($H$80=\"Ratze\",$BN$80,IF($H$81=\"Ratze\",$BN$81,IF($H$82=\"Ratze\",$BN$82,IF($H$83=\"Ratze\",$BN$83,IF($H$84=\"Ratze\",$BN$84,0)))))))","v":14},null,null,null,null,{"$f":"IF($H$78=\"Ratze\",$BS$78,IF($H$79=\"Ratze\",$BS$79,IF($H$80=\"Ratze\",$BS$80,IF($H$81=\"Ratze\",$BS$81,IF($H$82=\"Ratze\",$BS$82,IF($H$83=\"Ratze\",$BS$83,IF($H$84=\"Ratze\",$BS$84,0)))))))","v":0},null,null,null,null,{"$f":"IF($H$78=\"Ratze\",$BX$78,IF($H$79=\"Ratze\",$BX$79,IF($H$80=\"Ratze\",$BX$80,IF($H$81=\"Ratze\",$BX$81,IF($H$82=\"Ratze\",$BX$82,IF($H$83=\"Ratze\",$BX$83,IF($H$84=\"Ratze\",$BX$84,0)))))))","v":9}]
[null,null,{"$f":"IF($H$78=\"Schmiddi\",$F$78,IF($H$79=\"Schmiddi\",$F$79,IF($H$80=\"Schmiddi\",$F$80,IF($H$81=\"Schmiddi\",$F$81,IF($H$82=\"Schmiddi\",$F$82,IF($H$83=\"Schmiddi\",$F$83,IF($H$84=\"Schmiddi\",$F$84,0)))))))","v":2},null,null,null,null,"Schmiddi",null,null,null,null,null,null,null,null,null,null,null,{"$f":"IF($H$78=\"Schmiddi\",$T$78,IF($H$79=\"Schmiddi\",$T$79,IF($H$80=\"Schmiddi\",$T$80,IF($H$81=\"Schmiddi\",$T$81,IF($H$82=\"Schmiddi\",$T$82,IF($H$83=\"Schmiddi\",$T$83,IF($H$84=\"Schmiddi\",$T$84,0)))))))","v":8},null,null,null,null,null,{"$f":"IF($H$78=\"Schmiddi\",$Z$78,IF($H$79=\"Schmiddi\",$Z$79,IF($H$80=\"Schmiddi\",$Z$80,IF($H$81=\"Schmiddi\",$Z$81,IF($H$82=\"Schmiddi\",$Z$82,IF($H$83=\"Schmiddi\",$Z$83,IF($H$84=\"Schmiddi\",$Z$84,0)))))))","v":3},null,null,null,null,null,null,null,null,null,null,{"$f":"IF($H$78=\"Schmiddi\",$AK$78,IF($H$79=\"Schmiddi\",$AK$79,IF($H$80=\"Schmiddi\",$AK$80,IF($H$81=\"Schmiddi\",$AK$81,IF($H$82=\"Schmiddi\",$AK$82,IF($H$83=\"Schmiddi\",$AK$83,IF($H$84=\"Schmiddi\",$AK$84,0)))))))","v":2},null,null,null,null,null,null,null,null,null,null,{"$f":"IF($H$78=\"Schmiddi\",$AV$78,IF($H$79=\"Schmiddi\",$AV$79,IF($H$80=\"Schmiddi\",$AV$80,IF($H$81=\"Schmiddi\",$AV$81,IF($H$82=\"Schmiddi\",$AV$82,IF($H$83=\"Schmiddi\",$AV$83,IF($H$84=\"Schmiddi\",$AV$84,0)))))))","v":3},null,null,null,null,null,null,null,null,null,null,{"$f":"IF($H$78=\"Schmiddi\",$BG$78,IF($H$79=\"Schmiddi\",$BG$79,IF($H$80=\"Schmiddi\",$BG$80,IF($H$81=\"Schmiddi\",$BG$81,IF($H$82=\"Schmiddi\",$BG$82,IF($H$83=\"Schmiddi\",$BG$83,IF($H$84=\"Schmiddi\",$BG$84,0)))))))","v":13},null,null,null,null,":",null,{"$f":"IF($H$78=\"Schmiddi\",$BN$78,IF($H$79=\"Schmiddi\",$BN$79,IF($H$80=\"Schmiddi\",$BN$80,IF($H$81=\"Schmiddi\",$BN$81,IF($H$82=\"Schmiddi\",$BN$82,IF($H$83=\"Schmiddi\",$BN$83,IF($H$84=\"Schmiddi\",$BN$84,0)))))))","v":19},null,null,null,null,{"$f":"IF($H$78=\"Schmiddi\",$BS$78,IF($H$79=\"Schmiddi\",$BS$79,IF($H$80=\"Schmiddi\",$BS$80,IF($H$81=\"Schmiddi\",$BS$81,IF($H$82=\"Schmiddi\",$BS$82,IF($H$83=\"Schmiddi\",$BS$83,IF($H$84=\"Schmiddi\",$BS$84,0)))))))","v":-6},null,null,null,null,{"$f":"IF($H$78=\"Schmiddi\",$BX$78,IF($H$79=\"Schmiddi\",$BX$79,IF($H$80=\"Schmiddi\",$BX$80,IF($H$81=\"Schmiddi\",$BX$81,IF($H$82=\"Schmiddi\",$BX$82,IF($H$83=\"Schmiddi\",$BX$83,IF($H$84=\"Schmiddi\",$BX$84,0)))))))","v":11}]

{"sheet":"16.12.","index":8,"n_rows":97,"n_cols":88,"rows_kept":97,"cut":false,"hidden":false,"merged":[[98,0,98,83],[96,58,96,62],[96,63,96,64],[96,65,96,69],[96,70,96,74],[96,75,96,81],[97,1,97,82],[96,2,96,6],[96,7,96,18],[96,19,96,24],[96,25,96,35],[96,36,96,46],[96,47,96,57],[95,47,95,57],[95,58,95,62],[95,63,95,64],[95,65,95,69],[95,70,95,74],[95,75,95,81],[94,58,94,62],[94,63,94,64],[94,65,94,69],[94,70,94,74],[94,75,94,81],[94,47,94,57],[95,2,95,6],[95,7,95,18],[95,19,95,24],[95,25,95,35],[95,36,95,46],[94,2,94,6],[94,7,94,18],[94,19,94,24],[94,25,94,35],[94,36,94,46],[93,47,93,57],[93,58,93,62],[93,63,93,64],[93,65,93,69],[93,70,93,74],[93,75,93,81],[92,58,92,62],[92,63,92,64],[92,65,92,69],[92,70,92,74],[92,75,92,81],[92,47,92,57],[93,2,93,6],[93,7,93,18],[93,19,93,24],[93,25,93,35],[93,36,93,46],[92,2,92,6],[92,7,92,18],[92,19,92,24],[92,25,92,35],[92,36,92,46],[90,25,90,35],[90,36,90,46],[91,47,91,57],[91,58,91,62],[91,63,91,64],[91,65,91,69],[91,70,91,74],[91,75,91,81],[90,58,90,62],[90,63,90,64],[90,65,90,69],[90,70,90,74],[90,75,90,81],[90,47,90,57],[89,25,89,35],[89,36,89,46],[89,47,89,57],[89,58,89,69],[89,70,89,74],[89,75,89,81],[84,1,84,82],[85,1,85,82],[86,1,86,82],[87,1,96,1],[87,2,87,81],[87,82,96,82],[88,2,88,81],[89,2,89,6],[89,7,89,18],[89,19,89,24],[91,2,91,6],[91,7,91,18],[91,19,91,24],[91,25,91,35],[91,36,91,46],[90,2,90,6],[90,7,90,18],[90,19,90,24],[83,47,83,57],[83,58,83,62],[83,63,83,64],[83,65,83,69],[83,70,83,74],[83,75,83,81],[82,58,82,62],[82,63,82,64],[82,65,82,69],[82,70,82,74],[82,75,82,81],[82,47,82,57],[83,7,83,18],[83,19,83,24],[83,25,83,35],[83,36,83,46],[82,7,82,18],[82,19,82,24],[82,25,82,35],[82,36,82,46],[82,2,82,4],[82,5,82,6],[83,2,83,4],[83,5,83,6],[76,70,76,74],[77,70,77,74],[77,2,77,4],[77,5,77,6],[78,2,78,4],[78,5,78,6],[79,2,79,4],[79,5,79,6],[80,2,80,4],[80,5,80,6],[79,7,79,18],[79,19,79,24],[79,25,79,35],[79,36,79,46],[79,47,79,57],[79,63,79,64],[79,65,79,69],[79,70,79,74],[80,7,80,18],[80,19,80,24],[80,25,80,35],[80,36,80,46],[80,47,80,57],[79,58,79,62],[78,75,78,81],[81,7,81,18],[81,19,81,24],[81,25,81,35],[81,36,81,46],[81,47,81,57],[81,58,81,62],[81,2,81,4],[81,5,81,6],[79,75,79,81],[81,63,81,64],[81,65,81,69],[81,70,81,74],[81,75,81,81],[80,58,80,62],[80,63,80,64],[80,65,80,69],[80,70,80,74],[80,75,80,81],[78,7,78,18],[78,19,78,24],[78,25,78,35],[78,36,78,46],[78,47,78,57],[78,58,78,62],[78,63,78,64],[78,65,78,69],[78,70,78,74],[71,1,71,82],[72,1,72,82],[73,1,73,82],[74,1,83,1],[74,2,74,81],[74,82,83,82],[75,2,75,81],[76,2,76,6],[76,7,76,18],[76,75,76,81],[77,7,77,18],[77,19,77,24],[77,25,77,35],[77,36,77,46],[77,47,77,57],[77,58,77,62],[77,63,77,64],[77,65,77,69],[76,19,76,24],[76,25,76,35],[76,36,76,46],[76,47,76,57],[76,58,76,69],[77,75,77,81],[69,70,69,74],[69,75,69,78],[69,79,69,81],[70,2,70,6],[70,7,70,18],[70,19,70,24],[70,25,70,35],[70,36,70,46],[70,79,70,81],[70,47,70,57],[70,58,70,62],[70,63,70,64],[70,65,70,69],[70,70,70,74],[70,75,70,78],[69,2,69,6],[69,7,69,18],[69,19,69,24],[69,25,69,35],[69,36,69,46],[69,47,69,57],[69,58,69,62],[69,63,69,64],[69,65,69,69],[67,2,67,6],[67,7,67,18],[67,19,67,24],[67,25,67,35],[67,36,67,46],[67,79,67,81],[68,2,68,6],[68,7,68,18],[68,19,68,24],[68,25,68,35],[68,36,68,46],[68,47,68,57],[68,58,68,62],[68,63,68,64],[68,65,68,69],[67,47,67,57],[67,58,67,62],[67,63,67,64],[67,65,67,69],[67,70,67,74],[67,75,67,78],[68,70,68,74],[68,75,68,78],[68,79,68,81],[64,70,64,74],[64,75,64,78],[65,70,65,74],[65,75,65,78],[65,79,65,81],[66,2,66,6],[66,7,66,18],[66,19,66,24],[66,25,66,35],[66,36,66,46],[66,47,66,57],[66,58,66,62],[66,63,66,64],[66,65,66,69],[66,70,66,74],[66,75,66,78],[66,79,66,81],[65,25,65,35],[65,36,65,46],[65,47,65,57],[65,58,65,62],[65,63,65,64],[65,65,65,69],[64,47,64,57],[64,58,64,62],[64,63,64,64],[64,65,64,69],[60,1,60,82],[61,1,68,1],[61,2,61,81],[61,82,68,82],[62,2,62,81],[63,2,63,6],[63,7,63,18],[63,19,63,24],[63,25,63,35],[63,36,63,46],[63,47,63,57],[63,58,63,69],[63,70,63,74],[63,75,63,78],[63,79,63,81],[64,2,64,6],[64,7,64,18],[64,19,64,24],[64,25,64,35],[64,36,64,46],[64,79,64,81],[65,2,65,6],[65,7,65,18],[65,19,65,24],[35,77,35,81],[36,1,36,82],[59,1,59,82],[34,53,34,67],[34,69,34,73],[34,74,34,76],[34,77,34,81],[35,7,35,10],[35,12,35,16],[35,18,35,22],[35,24,35,33],[35,35,35,49],[35,50,35,52],[34,7,34,10],[34,12,34,16],[34,18,34,22],[34,24,34,33],[34,35,34,49],[34,50,34,52],[35,53,35,67],[35,69,35,73],[35,74,35,76],[32,77,32,81],[33,7,33,10],[33,12,33,16],[33,18,33,22],[33,24,33,33],[33,35,33,49],[33,50,33,52],[33,53,33,67],[33,69,33,73],[33,74,33,76],[33,77,33,81],[32,7,32,10],[32,12,32,16],[32,18,32,22],[32,24,32,33],[32,35,32,49],[32,50,32,52],[32,53,32,67],[32,69,32,73],[32,74,32,76],[30,77,30,81],[31,7,31,10],[31,12,31,16],[31,18,31,22],[31,24,31,33],[31,35,31,49],[31,50,31,52],[31,53,31,67],[31,69,31,73],[31,74,31,76],[31,77,31,81],[30,7,30,10],[30,12,30,16],[30,18,30,22],[30,24,30,33],[30,35,30,49],[30,50,30,52],[30,53,30,67],[30,69,30,73],[30,74,30,76],[28,74,28,76],[28,77,28,81],[29,7,29,10],[29,12,29,16],[29,18,29,22],[29,24,29,33],[29,35,29,49],[29,50,29,52],[28,7,28,10],[28,12,28,16],[28,18,28,22],[28,24,28,33],[28,35,28,49],[28,50,28,52],[29,53,29,67],[29,69,29,73],[29,74,29,76],[29,77,29,81],[27,18,27,22],[27,24,27,33],[27,35,27,49],[27,50,27,52],[26,50,26,52],[26,53,26,67],[26,68,35,68],[28,53,28,67],[28,69,28,73],[24,77,24,81],[25,2,25,81],[26,2,35,5],[26,6,35,6],[26,7,26,10],[26,11,35,11],[26,12,26,16],[15,2,24,5],[15,6,24,6],[26,69,26,73],[26,74,26,76],[26,77,26,81],[27,53,27,67],[27,69,27,73],[27,74,27,76],[27,77,27,81],[26,17,35,17],[26,18,26,22],[26,23,35,23],[26,24,26,33],[26,34,35,34],[26,35,26,49],[27,7,27,10],[27,12,27,16],[24,7,24,10],[24,12,24,16],[24,18,24,22],[24,24,24,33],[24,35,24,49],[24,50,24,52],[24,53,24,67],[24,69,24,73],[24,74,24,76],[22,24,22,33],[22,35,22,49],[22,50,22,52],[22,53,22,67],[22,69,22,73],[22,74,22,76],[22,77,22,81],[23,7,23,10],[23,12,23,16],[23,18,23,22],[23,24,23,33],[23,35,23,49],[23,50,23,52],[23,53,23,67],[23,69,23,73],[23,74,23,76],[23,77,23,81],[20,53,20,67],[20,69,20,73],[20,74,20,76],[20,77,20,81],[21,7,21,10],[21,12,21,16],[21,18,21,22],[21,24,21,33],[21,35,21,49],[21,50,21,52],[21,53,21,67],[21,69,21,73],[21,74,21,76],[21,77,21,81],[18,53,18,67],[18,69,18,73],[18,74,18,76],[18,77,18,81],[19,7,19,10],[19,12,19,16],[19,18,19,22],[19,24,19,33],[19,35,19,49],[19,50,19,52],[19,53,19,67],[19,69,19,73],[19,74,19,76],[19,77,19,81],[16,53,16,67],[16,69,16,73],[16,74,16,76],[16,77,16,81],[17,7,17,10],[17,12,17,16],[17,18,17,22],[17,24,17,33],[17,35,17,49],[17,50,17,52],[17,53,17,67],[17,69,17,73],[17,74,17,76],[17,77,17,81],[15,24,15,33],[15,34,24,34],[15,35,15,49],[15,50,15,52],[16,50,16,52],[15,7,15,10],[15,11,24,11],[15,12,15,16],[15,17,24,17],[18,7,18,10],[18,12,18,16],[18,18,18,22],[18,24,18,33],[18,35,18,49],[18,50,18,52],[20,7,20,10],[20,12,20,16],[20,18,20,22],[20,24,20,33],[20,35,20,49],[20,50,20,52],[22,7,22,10],[22,12,22,16],[22,18,22,22],[13,69,13,81],[14,2,14,81],[7,68,7,81],[8,1,8,82],[9,1,9,82],[10,1,10,82],[11,1,35,1],[11,2,11,81],[11,82,35,82],[12,2,12,81],[13,2,13,5],[13,7,13,10],[15,53,15,67],[15,68,24,68],[15,69,15,73],[15,74,15,76],[15,77,15,81],[16,7,16,10],[16,12,16,16],[16,18,16,22],[16,24,16,33],[16,35,16,49],[15,18,15,22],[15,23,24,23],[0,0,0,83],[1,1,1,82],[1,83,97,83],[2,1,2,82],[3,1,3,82],[4,1,7,1],[4,2,4,81],[4,82,7,82],[5,2,5,81],[6,2,6,11],[6,12,6,25],[6,26,6,39],[6,40,6,53],[6,54,6,67],[6,68,6,81],[7,2,7,11],[7,12,7,25],[7,26,7,39],[7,40,7,53],[7,54,7,67],[13,12,13,16],[13,18,13,22],[13,24,13,33],[13,35,13,67]]}
[]
[null,{"$f":"\"Turnier am \" & MID(CELL(\"dateiname\",A1),SEARCH(\"]\",CELL(\"dateiname\",A1))+1,31)","v":"Turnier am 16.12."}]
[]
[]
[null,null,"Spielerliste"]
[]
[null,null,{"$f":"\" Spieler\"","v":" Spieler"},null,null,null,null,null,null,null,null,null,"Spieler 1",null,null,null,null,null,null,null,null,null,null,null,null,null,"Spieler 2",null,null,null,null,null,null,null,null,null,null,null,null,null,"Spieler 3",null,null,null,null,null,null,null,null,null,null,null,null,null,"Spieler 4",null,null,null,null,null,null,null,null,null,null,null,null,null,"Spieler 5"]
[null,null,{"$f":"\" Name\"","v":" Name"},null,null,null,null,null,null,null,null,null,"Christoph",null,null,null,null,null,null,null,null,null,null,null,null,null,"Schmiddi",null,null,null,null,null,null,null,null,null,null,null,null,null,"Patrick",null,null,null,null,null,null,null,null,null,null,null,null,null,"Markus",null,null,null,null,null,null,null,null,null,null,null,null,null,"Ratze"]
[]
[]
[]
[null,null,"Spielplan"]
[]
[null,null,"00:12:00",null,null,null,null,"Spiel",null,null,null,null,"Datum",null,null,null,null,null,"Uhrzeit",null,null,null,null,null,"Austragungsort",null,null,null,null,null,null,null,null,null,null,"Paarung",null,null,null,null,null,null,null,null,null,null,null,null,null,null,null,null,null,null,null,null,null,null,null,null,null,null,null,null,null,null,null,null,null,"Ergebnis",null,null,null,null,null,null,null,null,null,null,null,null,null,null,"Spiele","SiegHeim","Unentschieden","SiegGast"]
[]
[null,null,"Hinrunde",null,null,null,null,1,null,null,null,null,{"$f":"MID(CELL(\"dateiname\",A1),SEARCH(\"]\",CELL(\"dateiname\",A1))+1,31)","v":"16.12."},null,null,null,null,null,"21:00:00",null,null,null,null,null,"Fernseher",null,null,null,null,null,null,null,null,null,null,{"$f":"$M$8","v":"Christoph"},null,null,null,null,null,null,null,null,null,null,null,null,null,null,":",null,null,{"$f":"$AA$8","v":"Schmiddi"},null,null,null,null,null,null,null,null,null,null,null,null,null,null,null,2,null,null,null,null,":",null,null,1,null,null,null,null,null,null,{"$f":"IF(AND(ISNUMBER(BR16),ISNUMBER(BZ16)),1,0)","v":1},{"$f":"IF(OR(ISBLANK(BR16),ISBLANK(BZ16)),0,IF(BR16>BZ16,1,0))","v":1},{"$f":"IF(OR(ISBLANK(BR16),ISBLANK(BZ16)),0,IF(BR16=BZ16,1,0))","v":0},{"$f":"IF(OR(ISBLANK(BR16),ISBLANK(BZ16)),0,IF(BR16<BZ16,1,0))","v":0}]
[null,null,null,null,null,null,null,{"$f":"H16+1","v":2},null,null,null,null,{"$f":"$M$16","v":"16.12."},null,null,null,null,null,{"$f":"S16","v":"21:00:00"},null,null,null,null,null,{"$f":"$Y$16","v":"Fernseher"},null,null,null,null,null,null,null,null,null,null,{"$f":"$AO$8","v":"Patrick"},null,null,null,null,null,null,null,null,null,null,null,null,null,null,":",null,null,{"$f":"$BC$8","v":"Markus"},null,null,null,null,null,null,null,null,null,null,null,null,null,null,null,2,null,null,null,null,":",null,null,1,null,null,null,null,null,null,{"$f":"IF(AND(ISNUMBER(BR17),ISNUMBER(BZ17)),1,0)","v":1},{"$f":"IF(OR(ISBLANK(BR17),ISBLANK(BZ17)),0,IF(BR17>BZ17,1,0))","v":1},{"$f":"IF(OR(ISBLANK(BR17),ISBLANK(BZ17)),0,IF(BR17=BZ17,1,0))","v":0},{"$f":"IF(OR(ISBLANK(BR17),ISBLANK(BZ17)),0,IF(BR17<BZ17,1,0))","v":0}]
[null,null,null,null,null,null,null,{"$f":"H17+1","v":3},null,null,null,null,{"$f":"$M$16","v":"16.12."},null,null,null,null,null,{"$f":"S16+$C$14","v":"21:12:00"},null,null,null,null,null,"Fernseher",null,null,null,null,null,null,null,null,null,null,{"$f":"$BQ$8","v":"Ratze"},null,null,null,null,null,null,null,null,null,null,null,null,null,null,":",null,null,{"$f":"$M$8","v":"Christoph"},null,null,null,null,null,null,null,null,null,null,null,null,null,null,null,2,null,null,null,null,":",null,null,2,null,null,null,null,null,null,1,0,1,0]
[null,null,null,null,null,null,null,{"$f":"H18+1","v":4},null,null,null,null,"16.12.",null,null,null,null,null,"21:12:00",null,null,null,null,null,"Fernseher",null,null,null,null,null,null,null,null,null,null,{"$f":"$AA$8","v":"Schmiddi"},null,null,null,null,null,null,null,null,null,null,null,null,null,null,":",null,null,{"$f":"$AO$8","v":"Patrick"},null,null,null,null,null,null,null,null,null,null,null,null,null,null,null,4,null,null,null,null,":",null,null,3,null,null,null,null,null,null,1,1,0,0]
[null,null,null,null,null,null,null,5,null,null,null,null,"16.12.",null,null,null,null,null,"21:24:00",null,null,null,null,null,"Fernseher",null,null,null,null,null,null,null,null,null,null,{"$f":"$BC$8","v":"Markus"},null,null,null,null,null,null,null,null,null,null,null,null,null,null,":",null,null,{"$f":"$BQ$8","v":"Ratze"},null,null,null,null,null,null,null,null,null,null,null,null,null,null,null,2,null,null,null,null,":",null,null,0,null,null,null,null,null,null,1,1,0,0]
[null,null,null,null,null,null,null,6,null,null,null,null,"16.12.",null,null,null,null,null,"21:24:00",null,null,null,null,null,"Fernseher",null,null,null,null,null,null,null,null,null,null,{"$f":"$M$8","v":"Christoph"},null,null,null,null,null,null,null,null,null,null,null,null,null,null,":",null,null,{"$f":"$AO$8","v":"Patrick"},null,null,null,null,null,null,null,null,null,null,null,null,null,null,null,3,null,null,null,null,":",null,null,1,null,null,null,null,null,null,1,1,0,0]
[null,null,null,null,null,null,null,7,null,null,null,null,"16.12.",null,null,null,null,null,"21:36:00",null,null,null,null,null,"Fernseher",null,null,null,null,null,null,null,null,null,null,{"$f":"$AA$8","v":"Schmiddi"},null,null,null,null,null,null,null,null,null,null,null,null,null,null,":",null,null,{"$f":"$BC$8","v":"Markus"},null,null,null,null,null,null,null,null,null,null,null,null,null,null,null,2,null,null,null,null,":",null,null,2,null,null,null,null,null,null,1,0,1,0]
[null,null,null,null,null,null,null,8,null,null,null,null,"16.12.",null,null,null,null,null,"21:36:00",null,null,null,null,null,"Fernseher",null,null,null,null,null,null,null,null,null,null,{"$f":"$AO$8","v":"Patrick"},null,null,null,null,null,null,null,null,null,null,null,null,null,null,":",null,null,{"$f":"$BQ$8","v":"Ratze"},null,null,null,null,null,null,null,null,null,null,null,null,null,null,null,1,null,null,null,null,":",null,null,5,null,null,null,null,null,null,1,0,0,1]
[null,null,null,null,null,null,null,9,null,null,null,null,"16.12.",null,null,null,null,null,"21:48:00",null,null,null,null,null,"Fernseher",null,null,null,null,null,null,null,null,null,null,{"$f":"$BC$8","v":"Markus"},null,null,null,null,null,null,null,null,null,null,null,null,null,null,":",null,null,{"$f":"$M$8","v":"Christoph"},null,null,null,null,null,null,null,null,null,null,null,null,null,null,null,5,null,null,null,null,":",null,null,1,null,null,null,null,null,null,1,1,0,0]
[null,null,null,null,null,null,null,10,null,null,null,null,"16.12.",null,null,null,null,null,"21:48:00",null,null,null,null,null,"Fernseher",null,null,null,null,null,null,null,null,null,null,{"$f":"$BQ$8","v":"Ratze"},null,null,null,null,null,null,null,null,null,null,null,null,null,null,":",null,null,{"$f":"$AA$8","v":"Schmiddi"},null,null,null,null,null,null,null,null,null,null,null,null,null,null,null,2,null,null,null,null,":",null,null,2,null,null,null,null,null,null,1,0,1,0]
[]
[null,null,"Rückrunde",null,null,null,null,{"$f":"H25+1","v":11},null,null,null,null,{"$f":"$M$16","v":"16.12."},null,null,null,null,null,{"$f":"S24+$C$14","v":"22:00:00"},null,null,null,null,null,{"$f":"$Y$16","v":"Fernseher"},null,null,null,null,null,null,null,null,null,null,{"$f":"$AA$8","v":"Schmiddi"},null,null,null,null,null,null,null,null,null,null,null,null,null,null,":",null,null,{"$f":"$M$8","v":"Christoph"},null,null,null,null,null,null,null,null,null,null,null,null,null,null,null,2,null,null,null,null,":",null,null,3,null,null,null,null,null,null,{"$f":"IF(AND(ISNUMBER(BR27),ISNUMBER(BZ27)),1,0)","v":1},{"$f":"IF(OR(ISBLANK(BR27),ISBLANK(BZ27)),0,IF(BR27>BZ27,1,0))","v":0},{"$f":"IF(OR(ISBLANK(BR27),ISBLANK(BZ27)),0,IF(BR27=BZ27,1,0))","v":0},{"$f":"IF(OR(ISBLANK(BR27),ISBLANK(BZ27)),0,IF(BR27<BZ27,1,0))","v":1}]
[null,null,null,null,null,null,null,{"$f":"H27+1","v":12},null,null,null,null,"16.12.",null,null,null,null,null,{"$f":"S25+$C$14","v":"22:00:00"},null,null,null,null,null,"Fernseher",null,null,null,null,null,null,null,null,null,null,{"$f":"$BC$8","v":"Markus"},null,null,null,null,null,null,null,null,null,null,null,null,null,null,":",null,null,{"$f":"$AO$8","v":"Patrick"},null,null,null,null,null,null,null,null,null,null,null,null,null,null,null,2,null,null,null,null,":",null,null,2,null,null,null,null,null,null,1,0,1,0]
[null,null,null,null,null,null,null,{"$f":"H28+1","v":13},null,null,null,null,"16.12.",null,null,null,null,null,{"$f":"S27+$C$14","v":"22:12:00"},null,null,null,null,null,"Fernseher",null,null,null,null,null,null,null,null,null,null,{"$f":"$M$8","v":"Christoph"},null,null,null,null,null,null,null,null,null,null,null,null,null,null,":",null,null,{"$f":"$BQ$8","v":"Ratze"},null,null,null,null,null,null,null,null,null,null,null,null,null,null,null,3,null,null,null,null,":",null,null,2,null,null,null,null,null,null,1,1,0,0]
[null,null,null,null,null,null,null,14,null,null,null,null,"16.12.",null,null,null,null,null,"22:12:00",null,null,null,null,null,"Fernseher",null,null,null,null,null,null,null,null,null,null,{"$f":"$AO$8","v":"Patrick"},null,null,null,null,null,null,null,null,null,null,null,null,null,null,":",null,null,{"$f":"$AA$8","v":"Schmiddi"},null,null,null,null,null,null,null,null,null,null,null,null,null,null,null,2,null,null,null,null,":",null,null,1,null,null,null,null,null,null,1,1,0,0]
[null,null,null,null,null,null,null,15,null,null,null,null,"16.12.",null,null,null,null,null,"22:24:00",null,null,null,null,null,"Fernseher",null,null,null,null,null,null,null,null,null,null,{"$f":"$BQ$8","v":"Ratze"},null,null,null,null,null,null,null,null,null,null,null,null,null,null,":",null,null,{"$f":"$BC$8","v":"Markus"},null,null,null,null,null,null,null,null,null,null,null,null,null,null,null,1,null,null,null,null,":",null,null,3,null,null,null,null,null,null,1,0,0,1]
[null,null,null,null,null,null,null,16,null,null,null,null,"16.12.",null,null,null,null,null,"22:24:00",null,null,null,null,null,"Fernseher",null,null,null,null,null,null,null,null,null,null,{"$f":"$AO$8","v":"Patrick"},null,null,null,null,null,null,null,null,null,null,null,null,null,null,":",null,null,{"$f":"$M$8","v":"Christoph"},null,null,null,null,null,null,null,null,null,null,null,null,null,null,null,3,null,null,null,null,":",null,null,1,null,null,null,null,null,null,1,1,0,0]
[null,null,null,null,null,null,null,17,null,null,null,null,"16.12.",null,null,null,null,null,"22:36:00",null,null,null,null,null,"Fernseher",null,null,null,null,null,null,null,null,null,null,{"$f":"$BC$8","v":"Markus"},null,null,null,null,null,null,null,null,null,null,null,null,null,null,":",null,null,{"$f":"$AA$8","v":"Schmiddi"},null,null,null,null,null,null,null,null,null,null,null,null,null,null,null,3,null,null,null,null,":",null,null,2,null,null,null,null,null,null,1,1,0,0]
[null,null,null,null,null,null,null,18,null,null,null,null,"16.12.",null,null,null,null,null,"22:36:00",null,null,null,null,null,"Fernseher",null,null,null,null,null,null,null,null,null,null,{"$f":"$BQ$8","v":"Ratze"},null,null,null,null,null,null,null,null,null,null,null,null,null,null,":",null,null,{"$f":"$AO$8","v":"Patrick"},null,null,null,null,null,null,null,null,null,null,null,null,null,null,null,1,null,null,null,null,":",null,null,5,null,null,null,null,null,null,1,0,0,1]
[null,null,null,null,null,null,null,19,null,null,null,null,"16.12.",null,null,null,null,null,"22:48:00",null,null,null,null,null,"Fernseher",null,null,null,null,null,null,null,null,null,null,{"$f":"$M$8","v":"Christoph"},null,null,null,null,null,null,null,null,null,null,null,null,null,null,":",null,null,{"$f":"$BC$8","v":"Markus"},null,null,null,null,null,null,null,null,null,null,null,null,null,null,null,0,null,null,null,null,":",null,null,2,null,null,null,null,null,null,1,0,0,1]
[null,null,null,null,null,null,null,20,null,null,null,null,"16.12.",null,null,null,null,null,"22:48:00",null,null,null,null,null,"Fernseher",null,null,null,null,null,null,null,null,null,null,{"$f":"$AA$8","v":"Schmiddi"},null,null,null,null,null,null,null,null,null,null,null,null,null,null,":",null,null,{"$f":"$BQ$8","v":"Ratze"},null,null,null,null,null,null,null,null,null,null,null,null,null,null,null,0,null,null,null,null,":",null,null,4,null,null,null,null,null,null,1,0,0,1]
[]
[]
[]
[]
[]
[]
[]
[]
[]
[]
[]
[]
[]
[]
[]
[]
[]
[]
[]
[]
[]
[]
[]
[]
[]
[null,null,"Tabelle (unsortiert)"]
[]
[null,null,"Rang",null,null,null,null,"Spieler",null,null,null,null,null,null,null,null,null,null,null,"Spiele",null,null,null,null,null,"Siege",null,null,null,null,null,null,null,null,null,null,"Unentschieden",null,null,null,null,null,null,null,null,null,null,"Niederlagen",null,null,null,null,null,null,null,null,null,null,"Tore",null,null,null,null,null,null,null,null,null,null,null,"+/-",null,null,null,null,"Punkte",null,null,null,"HS"]
[null,null,{"$f":"IF(T65=0,0,RANK(BX65,$BX$65:$CA$69,0))","v":2},null,null,null,null,{"$f":"$M$8","v":"Christoph"},null,null,null,null,null,null,null,null,null,null,null,{"$f":"CG16+CG18+CG21+CG24+CG27+CG29+CG32+CG35","v":8},null,null,null,null,null,{"$f":"CH16+CJ18+CH21+CJ24+CJ27+CH29+CJ32+CH35","v":4},null,null,null,null,null,null,null,null,null,null,{"$f":"CI16+CI18+CI21+CI24+CI27+CI29+CI32+CI35","v":1},null,null,null,null,null,null,null,null,null,null,{"$f":"CJ16+CH18+CJ21+CH24+CH27+CJ29+CH32+CJ35","v":3},null,null,null,null,null,null,null,null,null,null,{"$f":"BR16+BZ18+BR21+BZ24+BZ27+BR29+BZ32+BR35","v":15},null,null,null,null,":",null,{"$f":"BZ16+BR18+BZ21+BR24+BR27+BZ29+BR32+BZ35","v":18},null,null,null,null,{"$f":"BG65-BN65","v":-3},null,null,null,null,{"$f":"(Z65*3)+AK65","v":13},null,null,null,{"$f":"BX65+ROW()/1000","v":13.065}]
[null,null,{"$f":"IF(T66=0,0,RANK(BX66,$BX$65:$CA$69,0))","v":5},null,null,null,null,{"$f":"$AA$8","v":"Schmiddi"},null,null,null,null,null,null,null,null,null,null,null,{"$f":"CG16+CG19+CG22+CG25+CG27+CG30+CG33+CG36","v":8},null,null,null,null,null,{"$f":"CJ16+CH19+CH22+CJ25+CH27+CJ30+CJ33+CH36","v":1},null,null,null,null,null,null,null,null,null,null,{"$f":"CI16+CI19+CI22+CI25+CI27+CI30+CI33+CI36","v":2},null,null,null,null,null,null,null,null,null,null,{"$f":"CH16+CJ19+CJ22+CH25+CJ27+CH30+CH33+CJ36","v":5},null,null,null,null,null,null,null,null,null,null,{"$f":"BZ16+BR19+BR22+BZ25+BR27+BZ30+BZ33+BR36","v":14},null,null,null,":",":",null,{"$f":"BR16+BZ19+BZ22+BR25+BZ27+BR30+BR33+BZ36","v":21},null,null,null,null,{"$f":"BG66-BN66","v":-7},null,null,null,null,{"$f":"(Z66*3)+AK66","v":5},null,null,null,{"$f":"BX66+ROW()/1000","v":5.0659999999999998}]
[null,null,{"$f":"IF(T67=0,0,RANK(BX67,$BX$65:$CA$69,0))","v":2},null,null,null,null,{"$f":"$AO$8","v":"Patrick"},null,null,null,null,null,null,null,null,null,null,null,{"$f":"CG17+CG19+CG21+CG23+CG28+CG30+CG32+CG34","v":8},null,null,null,null,null,{"$f":"CH17+CJ19+CJ21+CH23+CJ28+CH30+CH32+CJ34","v":4},null,null,null,null,null,null,null,null,null,null,{"$f":"CI17+CI19+CI21+CI23+CI28+CI30+CI32+CI34","v":1},null,null,null,null,null,null,null,null,null,null,{"$f":"CJ17+CH19+CH21+CJ23+CH28+CJ30+CJ32+CH34","v":3},null,null,null,null,null,null,null,null,null,null,{"$f":"BR17+BZ19+BZ21+BR23+BZ28+BR30+BR32+BZ34","v":19},null,null,null,":",":",null,{"$f":"BZ17+BR19+BR21+BZ23+BR28+BZ30+BZ32+BR34","v":18},null,null,null,null,{"$f":"BG67-BN67","v":1},null,null,null,null,{"$f":"(Z67*3)+AK67","v":13},null,null,null,{"$f":"BX67+ROW()/1000","v":13.067}]
[null,null,{"$f":"IF(T68=0,0,RANK(BX68,$BX$65:$CA$69,0))","v":1},null,null,null,null,{"$f":"$BC$8","v":"Markus"},null,null,null,null,null,null,null,null,null,null,null,{"$f":"CG17+CG20+CG22+CG24+CG28+CG31+CG33+CG35","v":8},null,null,null,null,null,{"$f":"CJ17+CH20+CJ22+CH24+CH28+CJ31+CH33+CJ35","v":5},null,null,null,null,null,null,null,null,null,null,{"$f":"CI17+CI20+CI22+CI24+CI28+CI31+CI33+CI35","v":2},null,null,null,null,null,null,null,null,null,null,{"$f":"CH17+CJ20+CH22+CJ24+CJ28+CH31+CJ33+CH35","v":1},null,null,null,null,null,null,null,null,null,null,{"$f":"BZ17+BR20+BZ22+BR24+BR28+BZ31+BR33+BZ35","v":20},null,null,null,":",":",null,{"$f":"BR17+BZ20+BR22+BZ24+BZ28+BR31+BZ33+BR35","v":10},null,null,null,null,{"$f":"BG68-BN68","v":10},null,null,null,null,{"$f":"(Z68*3)+AK68","v":17},null,null,null,{"$f":"BX68+ROW()/1000","v":17.068000000000001}]
[null,null,{"$f":"IF(T69=0,0,RANK(BX69,$BX$65:$CA$69,0))","v":4},null,null,null,null,{"$f":"$BQ$8","v":"Ratze"},null,null,null,null,null,null,null,null,null,null,null,{"$f":"CG18+CG20+CG23+CG25+CG29+CG31+CG34+CG36","v":8},null,null,null,null,null,{"$f":"CH18+CJ20+CJ23+CH25+CJ29+CH31+CH34+CJ36","v":2},null,null,null,null,null,null,null,null,null,null,{"$f":"CI18+CI20+CI23+CI25+CI29+CI31+CI34+CI36","v":2},null,null,null,null,null,null,null,null,null,null,{"$f":"CJ18+CH20+CH23+CJ25+CH29+CJ31+CJ34+CH36","v":4},null,null,null,null,null,null,null,null,null,null,{"$f":"BR18+BZ20+BZ23+BR25+BZ29+BR31+BR34+BZ36","v":17},null,null,null,":",":",null,{"$f":"BZ18+BR20+BR23+BZ25+BR29+BZ31+BZ34+BR36","v":18},null,null,null,null,{"$f":"BG69-BN69","v":-1},null,null,null,null,{"$f":"(Z69*3)+AK69","v":8},null,null,null,{"$f":"BX69+ROW()/1000","v":8.0690000000000008}]
[null,null,null,null,null,null,null,"Spieler 6",null,null,null,null,null,null,null,null,null,null,null,0,null,null,null,null,null,0,null,null,null,null,null,null,null,null,null,null,0,null,null,null,null,null,null,null,null,null,null,0,null,null,null,null,null,null,null,null,null,null,0,null,null,null,null,":",null,0,null,null,null,null,0,null,null,null,null,0,null,null,null,0]
[null,null,null,null,null,null,null,"Spieler 7",null,null,null,null,null,null,null,null,null,null,null,0,null,null,null,null,null,0,null,null,null,null,null,null,null,null,null,null,0,null,null,null,null,null,null,null,null,null,null,0,null,null,null,null,null,null,null,null,null,null,0,null,null,null,null,":",null,0,null,null,null,null,0,null,null,null,null,0,null,null,null,0]
[]
[]
[]
[null,null,"Tabelle"]
[]
[null,null,"Rang",null,null,null,null,"Spieler",null,null,null,null,null,null,null,null,null,null,null,"Spiele",null,null,null,null,null,"Siege",null,null,null,null,null,null,null,null,null,null,"Unentschieden",null,null,null,null,null,null,null,null,null,null,"Niederlagen",null,null,null,null,null,null,null,null,null,null,"Tore",null,null,null,null,null,null,null,null,null,null,null,"+/-",null,null,null,null,"Punkte"]
[null,null,{"$f":"INDEX($C$65:$C$69,MATCH(LARGE($CB$65:$CB$69,ROW(A1)),$CB$65:$CB$69,0),1)","v":1},null,null,1,null,{"$f":"INDEX($H$65:$H$69,MATCH(LARGE($CB$65:$CB$69,ROW(A1)),$CB$65:$CB$69,0),1)","v":"Markus"},null,null,null,null,null,null,null,null,null,null,null,{"$f":"INDEX($T$65:$T$69,MATCH(LARGE($CB$65:$CB$69,ROW(A1)),$CB$65:$CB$69,0),1)","v":8},null,null,null,null,null,{"$f":"INDEX($Z$65:$Z$69,MATCH(LARGE($CB$65:$CB$69,ROW(A1)),$CB$65:$CB$69,0),1)","v":5},null,null,null,null,null,null,null,null,null,null,{"$f":"INDEX($AK$65:$AK$69,MATCH(LARGE($CB$65:$CB$69,ROW(A1)),$CB$65:$CB$69,0),1)","v":2},null,null,null,null,null,null,null,null,null,null,{"$f":"INDEX($AV$65:$AV$69,MATCH(LARGE($CB$65:$CB$69,ROW(A1)),$CB$65:$CB$69,0),1)","v":1},null,null,null,null,null,null,null,null,null,null,{"$f":"INDEX($BG$65:$BG$69,MATCH(LARGE($CB$65:$CB$69,ROW(A1)),$CB$65:$CB$69,0),1)","v":20},null,null,null,null,":",null,{"$f":"INDEX($BN$65:$BN$69,MATCH(LARGE($CB$65:$CB$69,ROW(A1)),$CB$65:$CB$69,0),1)","v":10},null,null,null,null,{"$f":"INDEX($BS$65:$BS$69,MATCH(LARGE($CB$65:$CB$69,ROW(A1)),$CB$65:$CB$69,0),1)","v":10},null,null,null,null,{"$f":"INDEX($BX$65:$BX$69,MATCH(LARGE($CB$65:$CB$69,ROW(A1)),$CB$65:$CB$69,0),1)","v":17}]
[null,null,{"$f":"INDEX($C$65:$C$69,MATCH(LARGE($CB$65:$CB$69,ROW(A2)),$CB$65:$CB$69,0),1)","v":2},null,null,2,null,{"$f":"INDEX($H$65:$H$69,MATCH(LARGE($CB$65:$CB$69,ROW(A2)),$CB$65:$CB$69,0),1)","v":"Patrick"},null,null,null,null,null,null,null,null,null,null,null,{"$f":"INDEX($T$65:$T$69,MATCH(LARGE($CB$65:$CB$69,ROW(A2)),$CB$65:$CB$69,0),1)","v":8},null,null,null,null,null,{"$f":"INDEX($Z$65:$Z$69,MATCH(LARGE($CB$65:$CB$69,ROW(A2)),$CB$65:$CB$69,0),1)","v":4},null,null,null,null,null,null,null,null,null,null,{"$f":"INDEX($AK$65:$AK$69,MATCH(LARGE($CB$65:$CB$69,ROW(A2)),$CB$65:$CB$69,0),1)","v":1},null,null,null,null,null,null,null,null,null,null,{"$f":"INDEX($AV$65:$AV$69,MATCH(LARGE($CB$65:$CB$69,ROW(A2)),$CB$65:$CB$69,0),1)","v":3},null,null,null,null,null,null,null,null,null,null,{"$f":"INDEX($BG$65:$BG$69,MATCH(LARGE($CB$65:$CB$69,ROW(A2)),$CB$65:$CB$69,0),1)","v":19},null,null,null,null,":",null,{"$f":"INDEX($BN$65:$BN$69,MATCH(LARGE($CB$65:$CB$69,ROW(A2)),$CB$65:$CB$69,0),1)","v":18},null,null,null,null,{"$f":"INDEX($BS$65:$BS$69,MATCH(LARGE($CB$65:$CB$69,ROW(A2)),$CB$65:$CB$69,0),1)","v":1},null,null,null,null,{"$f":"INDEX($BX$65:$BX$69,MATCH(LARGE($CB$65:$CB$69,ROW(A2)),$CB$65:$CB$69,0),1)","v":13}]
[null,null,{"$f":"INDEX($C$65:$C$69,MATCH(LARGE($CB$65:$CB$69,ROW(A3)),$CB$65:$CB$69,0),1)","v":2},null,null,3,null,{"$f":"INDEX($H$65:$H$69,MATCH(LARGE($CB$65:$CB$69,ROW(A3)),$CB$65:$CB$69,0),1)","v":"Christoph"},null,null,null,null,null,null,null,null,null,null,null,{"$f":"INDEX($T$65:$T$69,MATCH(LARGE($CB$65:$CB$69,ROW(A3)),$CB$65:$CB$69,0),1)","v":8},null,null,null,null,null,{"$f":"INDEX($Z$65:$Z$69,MATCH(LARGE($CB$65:$CB$69,ROW(A3)),$CB$65:$CB$69,0),1)","v":4},null,null,null,null,null,null,null,null,null,null,{"$f":"INDEX($AK$65:$AK$69,MATCH(LARGE($CB$65:$CB$69,ROW(A3)),$CB$65:$CB$69,0),1)","v":1},null,null,null,null,null,null,null,null,null,null,{"$f":"INDEX($AV$65:$AV$69,MATCH(LARGE($CB$65:$CB$69,ROW(A3)),$CB$65:$CB$69,0),1)","v":3},null,null,null,null,null,null,null,null,null,null,{"$f":"INDEX($BG$65:$BG$69,MATCH(LARGE($CB$65:$CB$69,ROW(A3)),$CB$65:$CB$69,0),1)","v":15},null,null,null,null,":",null,{"$f":"INDEX($BN$65:$BN$69,MATCH(LARGE($CB$65:$CB$69,ROW(A3)),$CB$65:$CB$69,0),1)","v":18},null,null,null,null,{"$f":"INDEX($BS$65:$BS$69,MATCH(LARGE($CB$65:$CB$69,ROW(A3)),$CB$65:$CB$69,0),1)","v":-3},null,null,null,null,{"$f":"INDEX($BX$65:$BX$69,MATCH(LARGE($CB$65:$CB$69,ROW(A3)),$CB$65:$CB$69,0),1)","v":13}]
[null,null,{"$f":"INDEX($C$65:$C$69,MATCH(LARGE($CB$65:$CB$69,ROW(A4)),$CB$65:$CB$69,0),1)","v":4},null,null,4,null,{"$f":"INDEX($H$65:$H$69,MATCH(LARGE($CB$65:$CB$69,ROW(A4)),$CB$65:$CB$69,0),1)","v":"Ratze"},null,null,null,null,null,null,null,null,null,null,null,{"$f":"INDEX($T$65:$T$69,MATCH(LARGE($CB$65:$CB$69,ROW(A4)),$CB$65:$CB$69,0),1)","v":8},null,null,null,null,null,{"$f":"INDEX($Z$65:$Z$69,MATCH(LARGE($CB$65:$CB$69,ROW(A4)),$CB$65:$CB$69,0),1)","v":2},null,null,null,null,null,null,null,null,null,null,{"$f":"INDEX($AK$65:$AK$69,MATCH(LARGE($CB$65:$CB$69,ROW(A4)),$CB$65:$CB$69,0),1)","v":2},null,null,null,null,null,null,null,null,null,null,{"$f":"INDEX($AV$65:$AV$69,MATCH(LARGE($CB$65:$CB$69,ROW(A4)),$CB$65:$CB$69,0),1)","v":4},null,null,null,null,null,null,null,null,null,null,{"$f":"INDEX($BG$65:$BG$69,MATCH(LARGE($CB$65:$CB$69,ROW(A4)),$CB$65:$CB$69,0),1)","v":17},null,null,null,null,":",null,{"$f":"INDEX($BN$65:$BN$69,MATCH(LARGE($CB$65:$CB$69,ROW(A4)),$CB$65:$CB$69,0),1)","v":18},null,null,null,null,{"$f":"INDEX($BS$65:$BS$69,MATCH(LARGE($CB$65:$CB$69,ROW(A4)),$CB$65:$CB$69,0),1)","v":-1},null,null,null,null,{"$f":"INDEX($BX$65:$BX$69,MATCH(LARGE($CB$65:$CB$69,ROW(A4)),$CB$65:$CB$69,0),1)","v":8}]
[null,null,{"$f":"INDEX($C$65:$C$69,MATCH(LARGE($CB$65:$CB$69,ROW(A5)),$CB$65:$CB$69,0),1)","v":5},null,null,5,null,{"$f":"INDEX($H$65:$H$69,MATCH(LARGE($CB$65:$CB$69,ROW(A5)),$CB$65:$CB$69,0),1)","v":"Schmiddi"},null,null,null,null,null,null,null,null,null,null,null,{"$f":"INDEX($T$65:$T$69,MATCH(LARGE($CB$65:$CB$69,ROW(A5)),$CB$65:$CB$69,0),1)","v":8},null,null,null,null,null,{"$f":"INDEX($Z$65:$Z$69,MATCH(LARGE($CB$65:$CB$69,ROW(A4)),$CB$65:$CB$69,0),1)","v":2},null,null,null,null,null,null,null,null,null,null,{"$f":"INDEX($AK$65:$AK$69,MATCH(LARGE($CB$65:$CB$69,ROW(A5)),$CB$65:$CB$69,0),1)","v":2},null,null,null,null,null,null,null,null,null,null,{"$f":"INDEX($AV$65:$AV$69,MATCH(LARGE($CB$65:$CB$69,ROW(A5)),$CB$65:$CB$69,0),1)","v":5},null,null,null,null,null,null,null,null,null,null,{"$f":"INDEX($BG$65:$BG$69,MATCH(LARGE($CB$65:$CB$69,ROW(A5)),$CB$65:$CB$69,0),1)","v":14},null,null,null,null,":",null,{"$f":"INDEX($BN$65:$BN$69,MATCH(LARGE($CB$65:$CB$69,ROW(A5)),$CB$65:$CB$69,0),1)","v":21},null,null,null,null,{"$f":"INDEX($BS$65:$BS$69,MATCH(LARGE($CB$65:$CB$69,ROW(A5)),$CB$65:$CB$69,0),1)","v":-7},null,null,null,null,{"$f":"INDEX($BX$65:$BX$69,MATCH(LARGE($CB$65:$CB$69,ROW(A5)),$CB$65:$CB$69,0),1)","v":5}]
[null,null,"---",null,null,"---",null,"Spieler 6",null,null,null,null,null,null,null,null,null,null,null,0,null,null,null,null,null,0,null,null,null,null,null,null,null,null,null,null,0,null,null,null,null,null,null,null,null,null,null,0,null,null,null,null,null,null,null,null,null,null,0,null,null,null,null,":",null,0,null,null,null,null,0,null,null,null,null,0]
[null,null,"---",null,null,"---",null,"Spieler 7",null,null,null,null,null,null,null,null,null,null,null,0,null,null,null,null,null,0,null,null,null,null,null,null,null,null,null,null,0,null,null,null,null,null,null,null,null,null,null,0,null,null,null,null,null,null,null,null,null,null,0,null,null,null,null,":",null,0,null,null,null,null,0,null,null,null,null,0]
[]
[]
[]
[null,null,"Tabelle (nach Alphabet)"]
[]
[null,null,"Rang",null,null,null,null,"Spieler",null,null,null,null,null,null,null,null,null,null,null,"Spiele",null,null,null,null,null,"Siege",null,null,null,null,null,null,null,null,null,null,"Unentschieden",null,null,null,null,null,null,null,null,null,null,"Niederlagen",null,null,null,null,null,null,null,null,null,null,"Tore",null,null,null,null,null,null,null,null,null,null,null,"+/-",null,null,null,null,"Punkte"]
[null,null,{"$f":"IF($H$78=\"Basti\",$F$78,IF($H$79=\"Basti\",$F$79,IF($H$80=\"Basti\",$F$80,IF($H$81=\"Basti\",$F$81,IF($H$82=\"Basti\",$F$82,IF($H$83=\"Basti\",$F$83,IF($H$84=\"Basti\",$F$84,0)))))))","v":0},null,null,null,null,"Basti",null,null,null,null,null,null,null,null,null,null,null,{"$f":"IF($H$78=\"Basti\",$T$78,IF($H$79=\"Basti\",$T$79,IF($H$80=\"Basti\",$T$80,IF($H$81=\"Basti\",$T$81,IF($H$82=\"Basti\",$T$82,IF($H$83=\"Basti\",$T$83,IF($H$84=\"Basti\",$T$84,0)))))))","v":0},null,null,null,null,null,{"$f":"IF($H$78=\"Basti\",$Z$78,IF($H$79=\"Basti\",$Z$79,IF($H$80=\"Basti\",$Z$80,IF($H$81=\"Basti\",$Z$81,IF($H$82=\"Basti\",$Z$82,IF($H$83=\"Basti\",$Z$83,IF($H$84=\"Basti\",$Z$84,0)))))))","v":0},null,null,null,null,null,null,null,null,null,null,{"$f":"IF($H$78=\"Basti\",$AK$78,IF($H$79=\"Basti\",$AK$79,IF($H$80=\"Basti\",$AK$80,IF($H$81=\"Basti\",$AK$81,IF($H$82=\"Basti\",$AK$82,IF($H$83=\"Basti\",$AK$83,IF($H$84=\"Basti\",$AK$84,0)))))))","v":0},null,null,null,null,null,null,null,null,null,null,{"$f":"IF($H$78=\"Basti\",$AV$78,IF($H$79=\"Basti\",$AV$79,IF($H$80=\"Basti\",$AV$80,IF($H$81=\"Basti\",$AV$81,IF($H$82=\"Basti\",$AV$82,IF($H$83=\"Basti\",$AV$83,IF($H$84=\"Basti\",$AV$84,0)))))))","v":0},null,null,null,null,null,null,null,null,null,null,{"$f":"IF($H$78=\"Basti\",$BG$78,IF($H$79=\"Basti\",$BG$79,IF($H$80=\"Basti\",$BG$80,IF($H$81=\"Basti\",$BG$81,IF($H$82=\"Basti\",$BG$82,IF($H$83=\"Basti\",$BG$83,IF($H$84=\"Basti\",$BG$84,0)))))))","v":0},null,null,null,null,":",null,{"$f":"IF($H$78=\"Basti\",$BN$78,IF($H$79=\"Basti\",$BN$79,IF($H$80=\"Basti\",$BN$80,IF($H$81=\"Basti\",$BN$81,IF($H$82=\"Basti\",$BN$82,IF($H$83=\"Basti\",$BN$83,IF($H$84=\"Basti\",$BN$84,0)))))))","v":0},null,null,null,null,{"$f":"IF($H$78=\"Basti\",$BS$78,IF($H$79=\"Basti\",$BS$79,IF($H$80=\"Basti\",$BS$80,IF($H$81=\"Basti\",$BS$81,IF($H$82=\"Basti\",$BS$82,IF($H$83=\"Basti\",$BS$83,IF($H$84=\"Basti\",$BS$84,0)))))))","v":0},null,null,null,null,{"$f":"IF($H$78=\"Basti\",$BX$78,IF($H$79=\"Basti\",$BX$79,IF($H$80=\"Basti\",$BX$80,IF($H$81=\"Basti\",$BX$81,IF($H$82=\"Basti\",$BX$82,IF($H$83=\"Basti\",$BX$83,IF($H$84=\"Basti\",$BX$84,0)))))))","v":0}]
[null,null,{"$f":"IF($H$78=\"Christoph\",$F$78,IF($H$79=\"Christoph\",$F$79,IF($H$80=\"Christoph\",$F$80,IF($H$81=\"Christoph\",$F$81,IF($H$82=\"Christoph\",$F$82,IF($H$83=\"Christoph\",$F$83,IF($H$84=\"Christoph\",$F$84,0)))))))","v":3},null,null,null,null,"Christoph",null,null,null,null,null,null,null,null,null,null,null,{"$f":"IF($H$78=\"Christoph\",$T$78,IF($H$79=\"Christoph\",$T$79,IF($H$80=\"Christoph\",$T$80,IF($H$81=\"Christoph\",$T$81,IF($H$82=\"Christoph\",$T$82,IF($H$83=\"Christoph\",$T$83,IF($H$84=\"Christoph\",$T$84,0)))))))","v":8},null,null,null,null,null,{"$f":"IF($H$78=\"Christoph\",$Z$78,IF($H$79=\"Christoph\",$Z$79,IF($H$80=\"Christoph\",$Z$80,IF($H$81=\"Christoph\",$Z$81,IF($H$82=\"Christoph\",$Z$82,IF($H$83=\"Christoph\",$Z$83,IF($H$84=\"Christoph\",$Z$84,0)))))))","v":4},null,null,null,null,null,null,null,null,null,null,{"$f":"IF($H$78=\"Christoph\",$AK$78,IF($H$79=\"Christoph\",$AK$79,IF($H$80=\"Christoph\",$AK$80,IF($H$81=\"Christoph\",$AK$81,IF($H$82=\"Christoph\",$AK$82,IF($H$83=\"Christoph\",$AK$83,IF($H$84=\"Christoph\",$AK$84,0)))))))","v":1},null,null,null,null,null,null,null,null,null,null,{"$f":"IF($H$78=\"Christoph\",$AV$78,IF($H$79=\"Christoph\",$AV$79,IF($H$80=\"Christoph\",$AV$80,IF($H$81=\"Christoph\",$AV$81,IF($H$82=\"Christoph\",$AV$82,IF($H$83=\"Christoph\",$AV$83,IF($H$84=\"Christoph\",$AV$84,0)))))))","v":3},null,null,null,null,null,null,null,null,null,null,{"$f":"IF($H$78=\"Christoph\",$BG$78,IF($H$79=\"Christoph\",$BG$79,IF($H$80=\"Christoph\",$BG$80,IF($H$81=\"Christoph\",$BG$81,IF($H$82=\"Christoph\",$BG$82,IF($H$83=\"Christoph\",$BG$83,IF($H$84=\"Christoph\",$BG$84,0)))))))","v":15},null,null,null,null,":",null,{"$f":"IF($H$78=\"Christoph\",$BN$78,IF($H$79=\"Christoph\",$BN$79,IF($H$80=\"Christoph\",$BN$80,IF($H$81=\"Christoph\",$BN$81,IF($H$82=\"Christoph\",$BN$82,IF($H$83=\"Christoph\",$BN$83,IF($H$84=\"Christoph\",$BN$84,0)))))))","v":18},null,null,null,null,{"$f":"IF($H$78=\"Christoph\",$BS$78,IF($H$79=\"Christoph\",$BS$79,IF($H$80=\"Christoph\",$BS$80,IF($H$81=\"Christoph\",$BS$81,IF($H$82=\"Christoph\",$BS$82,IF($H$83=\"Christoph\",$BS$83,IF($H$84=\"Christoph\",$BS$84,0)))))))","v":-3},null,null,null,null,{"$f":"IF($H$78=\"Christoph\",$BX$78,IF($H$79=\"Christoph\",$BX$79,IF($H$80=\"Christoph\",$BX$80,IF($H$81=\"Christoph\",$BX$81,IF($H$82=\"Christoph\",$BX$82,IF($H$83=\"Christoph\",$BX$83,IF($H$84=\"Christoph\",$BX$84,0)))))))","v":13}]
[null,null,{"$f":"IF($H$78=\"Jule\",$F$78,IF($H$79=\"Jule\",$F$79,IF($H$80=\"Jule\",$F$80,IF($H$81=\"Jule\",$F$81,IF($H$82=\"Jule\",$F$82,IF($H$83=\"Jule\",$F$83,IF($H$84=\"Jule\",$F$84,0)))))))","v":0},null,null,null,null,"Jule",null,null,null,null,null,null,null,null,null,null,null,{"$f":"IF($H$78=\"Jule\",$T$78,IF($H$79=\"Jule\",$T$79,IF($H$80=\"Jule\",$T$80,IF($H$81=\"Jule\",$T$81,IF($H$82=\"Jule\",$T$82,IF($H$83=\"Jule\",$T$83,IF($H$84=\"Jule\",$T$84,0)))))))","v":0},null,null,null,null,null,{"$f":"IF($H$78=\"Jule\",$Z$78,IF($H$79=\"Jule\",$Z$79,IF($H$80=\"Jule\",$Z$80,IF($H$81=\"Jule\",$Z$81,IF($H$82=\"Jule\",$Z$82,IF($H$83=\"Jule\",$Z$83,IF($H$84=\"Jule\",$Z$84,0)))))))","v":0},null,null,null,null,null,null,null,null,null,null,{"$f":"IF($H$78=\"Jule\",$AK$78,IF($H$79=\"Jule\",$AK$79,IF($H$80=\"Jule\",$AK$80,IF($H$81=\"Jule\",$AK$81,IF($H$82=\"Jule\",$AK$82,IF($H$83=\"Jule\",$AK$83,IF($H$84=\"Jule\",$AK$84,0)))))))","v":0},null,null,null,null,null,null,null,null,null,null,{"$f":"IF($H$78=\"Jule\",$AV$78,IF($H$79=\"Jule\",$AV$79,IF($H$80=\"Jule\",$AV$80,IF($H$81=\"Jule\",$AV$81,IF($H$82=\"Jule\",$AV$82,IF($H$83=\"Jule\",$AV$83,IF($H$84=\"Jule\",$AV$84,0)))))))","v":0},null,null,null,null,null,null,null,null,null,null,{"$f":"IF($H$78=\"Jule\",$BG$78,IF($H$79=\"Jule\",$BG$79,IF($H$80=\"Jule\",$BG$80,IF($H$81=\"Jule\",$BG$81,IF($H$82=\"Jule\",$BG$82,IF($H$83=\"Jule\",$BG$83,IF($H$84=\"Jule\",$BG$84,0)))))))","v":0},null,null,null,null,":",null,{"$f":"IF($H$78=\"Jule\",$BN$78,IF($H$79=\"Jule\",$BN$79,IF($H$80=\"Jule\",$BN$80,IF($H$81=\"Jule\",$BN$81,IF($H$82=\"Jule\",$BN$82,IF($H$83=\"Jule\",$BN$83,IF($H$84=\"Jule\",$BN$84,0)))))))","v":0},null,null,null,null,{"$f":"IF($H$78=\"Jule\",$BS$78,IF($H$79=\"Jule\",$BS$79,IF($H$80=\"Jule\",$BS$80,IF($H$81=\"Jule\",$BS$81,IF($H$82=\"Jule\",$BS$82,IF($H$83=\"Jule\",$BS$83,IF($H$84=\"Jule\",$BS$84,0)))))))","v":0},null,null,null,null,{"$f":"IF($H$78=\"Jule\",$BX$78,IF($H$79=\"Jule\",$BX$79,IF($H$80=\"Jule\",$BX$80,IF($H$81=\"Jule\",$BX$81,IF($H$82=\"Jule\",$BX$82,IF($H$83=\"Jule\",$BX$83,IF($H$84=\"Jule\",$BX$84,0)))))))","v":0}]
[null,null,{"$f":"IF($H$78=\"Markus\",$F$78,IF($H$79=\"Markus\",$F$79,IF($H$80=\"Markus\",$F$80,IF($H$81=\"Markus\",$F$81,IF($H$82=\"Markus\",$F$82,IF($H$83=\"Markus\",$F$83,IF($H$84=\"Markus\",$F$84,0)))))))","v":1},null,null,null,null,"Markus",null,null,null,null,null,null,null,null,null,null,null,{"$f":"IF($H$78=\"Markus\",$T$78,IF($H$79=\"Markus\",$T$79,IF($H$80=\"Markus\",$T$80,IF($H$81=\"Markus\",$T$81,IF($H$82=\"Markus\",$T$82,IF($H$83=\"Markus\",$T$83,IF($H$84=\"Markus\",$T$84,0)))))))","v":8},null,null,null,null,null,{"$f":"IF($H$78=\"Markus\",$Z$78,IF($H$79=\"Markus\",$Z$79,IF($H$80=\"Markus\",$Z$80,IF($H$81=\"Markus\",$Z$81,IF($H$82=\"Markus\",$Z$82,IF($H$83=\"Markus\",$Z$83,IF($H$84=\"Markus\",$Z$84,0)))))))","v":5},null,null,null,null,null,null,null,null,null,null,{"$f":"IF($H$78=\"Markus\",$AK$78,IF($H$79=\"Markus\",$AK$79,IF($H$80=\"Markus\",$AK$80,IF($H$81=\"Markus\",$AK$81,IF($H$82=\"Markus\",$AK$82,IF($H$83=\"Markus\",$AK$83,IF($H$84=\"Markus\",$AK$84,0)))))))","v":2},null,null,null,null,null,null,null,null,null,null,{"$f":"IF($H$78=\"Markus\",$AV$78,IF($H$79=\"Markus\",$AV$79,IF($H$80=\"Markus\",$AV$80,IF($H$81=\"Markus\",$AV$81,IF($H$82=\"Markus\",$AV$82,IF($H$83=\"Markus\",$AV$83,IF($H$84=\"Markus\",$AV$84,0)))))))","v":1},null,null,null,null,null,null,null,null,null,null,{"$f":"IF($H$78=\"Markus\",$BG$78,IF($H$79=\"Markus\",$BG$79,IF($H$80=\"Markus\",$BG$80,IF($H$81=\"Markus\",$BG$81,IF($H$82=\"Markus\",$BG$82,IF($H$83=\"Markus\",$BG$83,IF($H$84=\"Markus\",$BG$84,0)))))))","v":20},null,null,null,null,":",null,{"$f":"IF($H$78=\"Markus\",$BN$78,IF($H$79=\"Markus\",$BN$79,IF($H$80=\"Markus\",$BN$80,IF($H$81=\"Markus\",$BN$81,IF($H$82=\"Markus\",$BN$82,IF($H$83=\"Markus\",$BN$83,IF($H$84=\"Markus\",$BN$84,0)))))))","v":10},null,null,null,null,{"$f":"IF($H$78=\"Markus\",$BS$78,IF($H$79=\"Markus\",$BS$79,IF($H$80=\"Markus\",$BS$80,IF($H$81=\"Markus\",$BS$81,IF($H$82=\"Markus\",$BS$82,IF($H$83=\"Markus\",$BS$83,IF($H$84=\"Markus\",$BS$84,0)))))))","v":10},null,null,null,null,{"$f":"IF($H$78=\"Markus\",$BX$78,IF($H$79=\"Markus\",$BX$79,IF($H$80=\"Markus\",$BX$80,IF($H$81=\"Markus\",$BX$81,IF($H$82=\"Markus\",$BX$82,IF($H$83=\"Markus\",$BX$83,IF($H$84=\"Markus\",$BX$84,0)))))))","v":17}]
[null,null,{"$f":"IF($H$78=\"Patrick\",$F$78,IF($H$79=\"Patrick\",$F$79,IF($H$80=\"Patrick\",$F$80,IF($H$81=\"Patrick\",$F$81,IF($H$82=\"Patrick\",$F$82,IF($H$83=\"Patrick\",$F$83,IF($H$84=\"Patrick\",$F$84,0)))))))","v":2},null,null,null,null,"Patrick",null,null,null,null,null,null,null,null,null,null,null,{"$f":"IF($H$78=\"Patrick\",$T$78,IF($H$79=\"Patrick\",$T$79,IF($H$80=\"Patrick\",$T$80,IF($H$81=\"Patrick\",$T$81,IF($H$82=\"Patrick\",$T$82,IF($H$83=\"Patrick\",$T$83,IF($H$84=\"Patrick\",$T$84,0)))))))","v":8},null,null,null,null,null,{"$f":"IF($H$78=\"Patrick\",$Z$78,IF($H$79=\"Patrick\",$Z$79,IF($H$80=\"Patrick\",$Z$80,IF($H$81=\"Patrick\",$Z$81,IF($H$82=\"Patrick\",$Z$82,IF($H$83=\"Patrick\",$Z$83,IF($H$84=\"Patrick\",$Z$84,0)))))))","v":4},null,null,null,null,null,null,null,null,null,null,{"$f":"IF($H$78=\"Patrick\",$AK$78,IF($H$79=\"Patrick\",$AK$79,IF($H$80=\"Patrick\",$AK$80,IF($H$81=\"Patrick\",$AK$81,IF($H$82=\"Patrick\",$AK$82,IF($H$83=\"Patrick\",$AK$83,IF($H$84=\"Patrick\",$AK$84,0)))))))","v":1},null,null,null,null,null,null,null,null,null,null,{"$f":"IF($H$78=\"Patrick\",$AV$78,IF($H$79=\"Patrick\",$AV$79,IF($H$80=\"Patrick\",$AV$80,IF($H$81=\"Patrick\",$AV$81,IF($H$82=\"Patrick\",$AV$82,IF($H$83=\"Patrick\",$AV$83,IF($H$84=\"Patrick\",$AV$84,0)))))))","v":3},null,null,null,null,null,null,null,null,null,null,{"$f":"IF($H$78=\"Patrick\",$BG$78,IF($H$79=\"Patrick\",$BG$79,IF($H$80=\"Patrick\",$BG$80,IF($H$81=\"Patrick\",$BG$81,IF($H$82=\"Patrick\",$BG$82,IF($H$83=\"Patrick\",$BG$83,IF($H$84=\"Patrick\",$BG$84,0)))))))","v":19},null,null,null,null,":",null,{"$f":"IF($H$78=\"Patrick\",$BN$78,IF($H$79=\"Patrick\",$BN$79,IF($H$80=\"Patrick\",$BN$80,IF($H$81=\"Patrick\",$BN$81,IF($H$82=\"Patrick\",$BN$82,IF($H$83=\"Patrick\",$BN$83,IF($H$84=\"Patrick\",$BN$84,0)))))))","v":18},null,null,null,null,{"$f":"IF($H$78=\"Patrick\",$BS$78,IF($H$79=\"Patrick\",$BS$79,IF($H$80=\"Patrick\",$BS$80,IF($H$81=\"Patrick\",$BS$81,IF($H$82=\"Patrick\",$BS$82,IF($H$83=\"Patrick\",$BS$83,IF($H$84=\"Patrick\",$BS$84,0)))))))","v":1},null,null,null,null,{"$f":"IF($H$78=\"Patrick\",$BX$78,IF($H$79=\"Patrick\",$BX$79,IF($H$80=\"Patrick\",$BX$80,IF($H$81=\"Patrick\",$BX$81,IF($H$82=\"Patrick\",$BX$82,IF($H$83=\"Patrick\",$BX$83,IF($H$84=\"Patrick\",$BX$84,0)))))))","v":13}]
[null,null,{"$f":"IF($H$78=\"Ratze\",$F$78,IF($H$79=\"Ratze\",$F$79,IF($H$80=\"Ratze\",$F$80,IF($H$81=\"Ratze\",$F$81,IF($H$82=\"Ratze\",$F$82,IF($H$83=\"Ratze\",$F$83,IF($H$84=\"Ratze\",$F$84,0)))))))","v":4},null,null,null,null,"Ratze",null,null,null,null,null,null,null,null,null,null,null,{"$f":"IF($H$78=\"Ratze\",$T$78,IF($H$79=\"Ratze\",$T$79,IF($H$80=\"Ratze\",$T$80,IF($H$81=\"Ratze\",$T$81,IF($H$82=\"Ratze\",$T$82,IF($H$83=\"Ratze\",$T$83,IF($H$84=\"Ratze\",$T$84,0)))))))","v":8},null,null,null,null,null,{"$f":"IF($H$78=\"Ratze\",$Z$78,IF($H$79=\"Ratze\",$Z$79,IF($H$80=\"Ratze\",$Z$80,IF($H$81=\"Ratze\",$Z$81,IF($H$82=\"Ratze\",$Z$82,IF($H$83=\"Ratze\",$Z$83,IF($H$84=\"Ratze\",$Z$84,0)))))))","v":2},null,null,null,null,null,null,null,null,null,null,{"$f":"IF($H$78=\"Ratze\",$AK$78,IF($H$79=\"Ratze\",$AK$79,IF($H$80=\"Ratze\",$AK$80,IF($H$81=\"Ratze\",$AK$81,IF($H$82=\"Ratze\",$AK$82,IF($H$83=\"Ratze\",$AK$83,IF($H$84=\"Ratze\",$AK$84,0)))))))","v":2},null,null,null,null,null,null,null,null,null,null,{"$f":"IF($H$78=\"Ratze\",$AV$78,IF($H$79=\"Ratze\",$AV$79,IF($H$80=\"Ratze\",$AV$80,IF($H$81=\"Ratze\",$AV$81,IF($H$82=\"Ratze\",$AV$82,IF($H$83=\"Ratze\",$AV$83,IF($H$84=\"Ratze\",$AV$84,0)))))))","v":4},null,null,null,null,null,null,null,null,null,null,{"$f":"IF($H$78=\"Ratze\",$BG$78,IF($H$79=\"Ratze\",$BG$79,IF($H$80=\"Ratze\",$BG$80,IF($H$81=\"Ratze\",$BG$81,IF($H$82=\"Ratze\",$BG$82,IF($H$83=\"Ratze\",$BG$83,IF($H$84=\"Ratze\",$BG$84,0)))))))","v":17},null,null,null,null,":",null,{"$f":"IF($H$78=\"Ratze\",$BN$78,IF($H$79=\"Ratze\",$BN$79,IF($H$80=\"Ratze\",$BN$80,IF($H$81=\"Ratze\",$BN$81,IF($H$82=\"Ratze\",$BN$82,IF($H$83=\"Ratze\",$BN$83,IF($H$84=\"Ratze\",$BN$84,0)))))))","v":18},null,null,null,null,{"$f":"IF($H$78=\"Ratze\",$BS$78,IF($H$79=\"Ratze\",$BS$79,IF($H$80=\"Ratze\",$BS$80,IF($H$81=\"Ratze\",$BS$81,IF($H$82=\"Ratze\",$BS$82,IF($H$83=\"Ratze\",$BS$83,IF($H$84=\"Ratze\",$BS$84,0)))))))","v":-1},null,null,null,null,{"$f":"IF($H$78=\"Ratze\",$BX$78,IF($H$79=\"Ratze\",$BX$79,IF($H$80=\"Ratze\",$BX$80,IF($H$81=\"Ratze\",$BX$81,IF($H$82=\"Ratze\",$BX$82,IF($H$83=\"Ratze\",$BX$83,IF($H$84=\"Ratze\",$BX$84,0)))))))","v":8}]
[null,null,{"$f":"IF($H$78=\"Schmiddi\",$F$78,IF($H$79=\"Schmiddi\",$F$79,IF($H$80=\"Schmiddi\",$F$80,IF($H$81=\"Schmiddi\",$F$81,IF($H$82=\"Schmiddi\",$F$82,IF($H$83=\"Schmiddi\",$F$83,IF($H$84=\"Schmiddi\",$F$84,0)))))))","v":5},null,null,null,null,"Schmiddi",null,null,null,null,null,null,null,null,null,null,null,{"$f":"IF($H$78=\"Schmiddi\",$T$78,IF($H$79=\"Schmiddi\",$T$79,IF($H$80=\"Schmiddi\",$T$80,IF($H$81=\"Schmiddi\",$T$81,IF($H$82=\"Schmiddi\",$T$82,IF($H$83=\"Schmiddi\",$T$83,IF($H$84=\"Schmiddi\",$T$84,0)))))))","v":8},null,null,null,null,null,{"$f":"IF($H$78=\"Schmiddi\",$Z$78,IF($H$79=\"Schmiddi\",$Z$79,IF($H$80=\"Schmiddi\",$Z$80,IF($H$81=\"Schmiddi\",$Z$81,IF($H$82=\"Schmiddi\",$Z$82,IF($H$83=\"Schmiddi\",$Z$83,IF($H$84=\"Schmiddi\",$Z$84,0)))))))","v":2},null,null,null,null,null,null,null,null,null,null,{"$f":"IF($H$78=\"Schmiddi\",$AK$78,IF($H$79=\"Schmiddi\",$AK$79,IF($H$80=\"Schmiddi\",$AK$80,IF($H$81=\"Schmiddi\",$AK$81,IF($H$82=\"Schmiddi\",$AK$82,IF($H$83=\"Schmiddi\",$AK$83,IF($H$84=\"Schmiddi\",$AK$84,0)))))))","v":2},null,null,null,null,null,null,null,null,null,null,{"$f":"IF($H$78=\"Schmiddi\",$AV$78,IF($H$79=\"Schmiddi\",$AV$79,IF($H$80=\"Schmiddi\",$AV$80,IF($H$81=\"Schmiddi\",$AV$81,IF($H$82=\"Schmiddi\",$AV$82,IF($H$83=\"Schmiddi\",$AV$83,IF($H$84=\"Schmiddi\",$AV$84,0)))))))","v":5},null,null,null,null,null,null,null,null,null,null,{"$f":"IF($H$78=\"Schmiddi\",$BG$78,IF($H$79=\"Schmiddi\",$BG$79,IF($H$80=\"Schmiddi\",$BG$80,IF($H$81=\"Schmiddi\",$BG$81,IF($H$82=\"Schmiddi\",$BG$82,IF($H$83=\"Schmiddi\",$BG$83,IF($H$84=\"Schmiddi\",$BG$84,0)))))))","v":14},null,null,null,null,":",null,{"$f":"IF($H$78=\"Schmiddi\",$BN$78,IF($H$79=\"Schmiddi\",$BN$79,IF($H$80=\"Schmiddi\",$BN$80,IF($H$81=\"Schmiddi\",$BN$81,IF($H$82=\"Schmiddi\",$BN$82,IF($H$83=\"Schmiddi\",$BN$83,IF($H$84=\"Schmiddi\",$BN$84,0)))))))","v":21},null,null,null,null,{"$f":"IF($H$78=\"Schmiddi\",$BS$78,IF($H$79=\"Schmiddi\",$BS$79,IF($H$80=\"Schmiddi\",$BS$80,IF($H$81=\"Schmiddi\",$BS$81,IF($H$82=\"Schmiddi\",$BS$82,IF($H$83=\"Schmiddi\",$BS$83,IF($H$84=\"Schmiddi\",$BS$84,0)))))))","v":-7},null,null,null,null,{"$f":"IF($H$78=\"Schmiddi\",$BX$78,IF($H$79=\"Schmiddi\",$BX$79,IF($H$80=\"Schmiddi\",$BX$80,IF($H$81=\"Schmiddi\",$BX$81,IF($H$82=\"Schmiddi\",$BX$82,IF($H$83=\"Schmiddi\",$BX$83,IF($H$84=\"Schmiddi\",$BX$84,0)))))))","v":5}]

{"sheet":"23.12.","index":9,"n_rows":97,"n_cols":88,"rows_kept":97,"cut":false,"hidden":false,"merged":[[77,2,77,4],[78,2,78,4],[79,2,79,4],[80,2,80,4],[81,2,81,4],[82,2,82,4],[83,2,83,4],[77,5,77,6],[78,5,78,6],[79,5,79,6],[80,5,80,6],[81,5,81,6],[82,5,82,6],[83,5,83,6],[80,70,80,74],[80,75,80,81],[81,7,81,18],[81,19,81,24],[81,25,81,35],[81,36,81,46],[81,47,81,57],[81,58,81,62],[80,7,80,18],[80,19,80,24],[80,25,80,35],[80,36,80,46],[80,47,80,57],[81,63,81,64],[81,65,81,69],[81,70,81,74],[76,70,76,74],[77,70,77,74],[79,63,79,64],[79,65,79,69],[79,70,79,74],[79,58,79,62],[84,1,84,82],[98,0,98,83],[83,47,83,57],[83,58,83,62],[83,63,83,64],[83,65,83,69],[83,70,83,74],[83,75,83,81],[82,58,82,62],[82,63,82,64],[82,65,82,69],[82,70,82,74],[82,75,82,81],[83,7,83,18],[83,19,83,24],[83,25,83,35],[83,36,83,46],[82,7,82,18],[82,25,82,35],[82,36,82,46],[82,47,82,57],[77,75,77,81],[78,70,78,74],[78,75,78,81],[79,75,79,81],[78,7,78,18],[78,19,78,24],[78,25,78,35],[78,36,78,46],[78,47,78,57],[78,58,78,62],[78,63,78,64],[78,65,78,69],[79,7,79,18],[79,19,79,24],[79,25,79,35],[79,36,79,46],[79,47,79,57],[81,75,81,81],[80,58,80,62],[80,63,80,64],[80,65,80,69],[71,1,71,82],[72,1,72,82],[73,1,73,82],[74,1,83,1],[74,2,74,81],[74,82,83,82],[75,2,75,81],[76,2,76,6],[76,7,76,18],[76,75,76,81],[77,7,77,18],[77,19,77,24],[77,25,77,35],[77,36,77,46],[77,47,77,57],[77,58,77,62],[77,63,77,64],[77,65,77,69],[76,19,76,24],[76,25,76,35],[76,36,76,46],[76,47,76,57],[76,58,76,69],[82,19,82,24],[69,70,69,74],[69,75,69,77],[69,78,69,81],[70,2,70,6],[70,7,70,18],[70,19,70,24],[70,25,70,35],[70,36,70,46],[70,78,70,81],[70,47,70,57],[70,58,70,62],[70,63,70,64],[70,65,70,69],[70,70,70,74],[70,75,70,77],[69,2,69,6],[69,7,69,18],[69,19,69,24],[69,25,69,35],[69,36,69,46],[69,47,69,57],[69,58,69,62],[69,63,69,64],[69,65,69,69],[67,2,67,6],[67,7,67,18],[67,19,67,24],[67,25,67,35],[67,36,67,46],[67,78,67,81],[68,2,68,6],[68,7,68,18],[68,19,68,24],[68,25,68,35],[68,36,68,46],[68,47,68,57],[68,58,68,62],[68,63,68,64],[68,65,68,69],[67,47,67,57],[67,58,67,62],[67,63,67,64],[67,65,67,69],[67,70,67,74],[67,75,67,77],[68,70,68,74],[68,75,68,77],[68,78,68,81],[66,70,66,74],[66,75,66,77],[66,78,66,81],[65,25,65,35],[65,36,65,46],[65,47,65,57],[65,58,65,62],[65,63,65,64],[65,65,65,69],[66,2,66,6],[66,7,66,18],[66,19,66,24],[66,25,66,35],[66,36,66,46],[66,47,66,57],[66,58,66,62],[66,63,66,64],[66,65,66,69],[64,2,64,6],[64,7,64,18],[64,19,64,24],[64,25,64,35],[64,36,64,46],[64,78,64,81],[64,70,64,74],[64,75,64,77],[65,70,65,74],[65,75,65,77],[65,78,65,81],[64,47,64,57],[65,2,65,6],[65,7,65,18],[65,19,65,24],[64,58,64,62],[64,63,64,64],[64,65,64,69],[63,7,63,18],[63,19,63,24],[63,25,63,35],[63,36,63,46],[63,47,63,57],[63,58,63,69],[63,70,63,74],[63,75,63,77],[63,78,63,81],[58,1,58,82],[59,1,59,82],[56,53,56,67],[56,69,56,73],[56,74,56,76],[56,77,56,81],[57,7,57,10],[57,12,57,16],[57,18,57,22],[57,24,57,33],[57,35,57,49],[57,50,57,52],[60,1,60,82],[61,1,70,1],[61,2,61,81],[61,82,70,82],[62,2,62,81],[63,2,63,6],[55,77,55,81],[56,7,56,10],[56,12,56,16],[56,18,56,22],[56,24,56,33],[56,35,56,49],[56,50,56,52],[57,53,57,67],[57,69,57,73],[57,74,57,76],[57,77,57,81],[55,7,55,10],[55,12,55,16],[55,18,55,22],[55,24,55,33],[55,35,55,49],[55,50,55,52],[55,53,55,67],[55,69,55,73],[55,74,55,76],[53,77,53,81],[54,7,54,10],[54,12,54,16],[54,18,54,22],[54,24,54,33],[54,35,54,49],[54,50,54,52],[54,53,54,67],[54,69,54,73],[54,74,54,76],[54,77,54,81],[53,7,53,10],[53,12,53,16],[53,18,53,22],[53,24,53,33],[53,35,53,49],[53,50,53,52],[53,53,53,67],[53,69,53,73],[53,74,53,76],[51,77,51,81],[52,7,52,10],[52,12,52,16],[52,18,52,22],[52,24,52,33],[52,35,52,49],[52,50,52,52],[52,53,52,67],[52,69,52,73],[52,74,52,76],[52,77,52,81],[51,7,51,10],[51,12,51,16],[51,18,51,22],[51,24,51,33],[51,35,51,49],[51,50,51,52],[51,53,51,67],[51,69,51,73],[51,74,51,76],[49,77,49,81],[50,7,50,10],[50,12,50,16],[50,18,50,22],[50,24,50,33],[50,35,50,49],[50,50,50,52],[50,53,50,67],[50,69,50,73],[50,74,50,76],[50,77,50,81],[49,7,49,10],[49,12,49,16],[49,18,49,22],[49,24,49,33],[49,35,49,49],[49,50,49,52],[49,53,49,67],[49,69,49,73],[49,74,49,76],[47,77,47,81],[48,7,48,10],[48,12,48,16],[48,18,48,22],[48,24,48,33],[48,35,48,49],[48,50,48,52],[48,53,48,67],[48,69,48,73],[48,74,48,76],[48,77,48,81],[47,7,47,10],[47,12,47,16],[47,18,47,22],[47,24,47,33],[47,35,47,49],[47,50,47,52],[47,53,47,67],[47,69,47,73],[47,74,47,76],[45,77,45,81],[46,7,46,10],[46,12,46,16],[46,18,46,22],[46,24,46,33],[46,35,46,49],[46,50,46,52],[46,53,46,67],[46,69,46,73],[46,74,46,76],[46,77,46,81],[45,7,45,10],[45,12,45,16],[45,18,45,22],[45,24,45,33],[45,35,45,49],[45,50,45,52],[45,53,45,67],[45,69,45,73],[45,74,45,76],[43,77,43,81],[44,7,44,10],[44,12,44,16],[44,18,44,22],[44,24,44,33],[44,35,44,49],[44,50,44,52],[44,53,44,67],[44,69,44,73],[44,74,44,76],[44,77,44,81],[43,7,43,10],[43,12,43,16],[43,18,43,22],[43,24,43,33],[43,35,43,49],[43,50,43,52],[43,53,43,67],[43,69,43,73],[43,74,43,76],[41,77,41,81],[42,7,42,10],[42,12,42,16],[42,18,42,22],[42,24,42,33],[42,35,42,49],[42,50,42,52],[42,53,42,67],[42,69,42,73],[42,74,42,76],[42,77,42,81],[41,7,41,10],[41,12,41,16],[41,18,41,22],[41,24,41,33],[41,35,41,49],[41,50,41,52],[41,53,41,67],[41,69,41,73],[41,74,41,76],[38,50,38,52],[37,50,37,52],[37,53,37,67],[37,68,57,68],[39,53,39,67],[39,69,39,73],[39,74,39,76],[39,77,39,81],[40,7,40,10],[40,12,40,16],[40,18,40,22],[40,24,40,33],[40,35,40,49],[40,50,40,52],[39,7,39,10],[39,12,39,16],[39,18,39,22],[39,24,39,33],[39,35,39,49],[39,50,39,52],[40,53,40,67],[40,69,40,73],[40,74,40,76],[40,77,40,81],[36,2,36,81],[37,2,57,5],[37,6,57,6],[37,7,37,10],[37,11,57,11],[37,12,37,16],[37,69,37,73],[37,74,37,76],[37,77,37,81],[38,53,38,67],[38,69,38,73],[38,74,38,76],[38,77,38,81],[37,17,57,17],[37,18,37,22],[37,23,57,23],[37,24,37,33],[37,34,57,34],[37,35,37,49],[38,7,38,10],[38,12,38,16],[38,18,38,22],[38,24,38,33],[38,35,38,49],[34,77,34,81],[35,7,35,10],[35,12,35,16],[35,18,35,22],[35,24,35,33],[35,35,35,49],[35,50,35,52],[35,53,35,67],[35,69,35,73],[35,74,35,76],[35,77,35,81],[34,7,34,10],[34,12,34,16],[34,18,34,22],[34,24,34,33],[34,35,34,49],[34,50,34,52],[34,53,34,67],[34,69,34,73],[34,74,34,76],[32,77,32,81],[33,7,33,10],[33,12,33,16],[33,18,33,22],[33,24,33,33],[33,35,33,49],[33,50,33,52],[33,53,33,67],[33,69,33,73],[33,74,33,76],[33,77,33,81],[32,7,32,10],[32,12,32,16],[32,18,32,22],[32,24,32,33],[32,35,32,49],[32,50,32,52],[32,53,32,67],[32,69,32,73],[32,74,32,76],[30,77,30,81],[31,7,31,10],[31,12,31,16],[31,18,31,22],[31,24,31,33],[31,35,31,49],[31,50,31,52],[31,53,31,67],[31,69,31,73],[31,74,31,76],[31,77,31,81],[30,7,30,10],[30,12,30,16],[30,18,30,22],[30,24,30,33],[30,35,30,49],[30,50,30,52],[30,53,30,67],[30,69,30,73],[30,74,30,76],[28,77,28,81],[29,7,29,10],[29,12,29,16],[29,18,29,22],[29,24,29,33],[29,35,29,49],[29,50,29,52],[29,53,29,67],[29,69,29,73],[29,74,29,76],[29,77,29,81],[28,7,28,10],[28,12,28,16],[28,18,28,22],[28,24,28,33],[28,35,28,49],[28,50,28,52],[28,53,28,67],[28,69,28,73],[28,74,28,76],[27,7,27,10],[27,12,27,16],[27,18,27,22],[27,24,27,33],[27,35,27,49],[27,50,27,52],[27,53,27,67],[27,69,27,73],[27,74,27,76],[26,7,26,10],[26,12,26,16],[26,18,26,22],[26,24,26,33],[26,35,26,49],[26,50,26,52],[26,53,26,67],[26,69,26,73],[26,74,26,76],[25,7,25,10],[25,12,25,16],[25,18,25,22],[25,24,25,33],[25,35,25,49],[25,50,25,52],[25,53,25,67],[25,69,25,73],[25,74,25,76],[24,7,24,10],[24,12,24,16],[24,18,24,22],[24,24,24,33],[24,35,24,49],[24,50,24,52],[24,53,24,67],[24,69,24,73],[24,74,24,76],[23,7,23,10],[23,12,23,16],[23,18,23,22],[23,24,23,33],[23,35,23,49],[23,50,23,52],[23,53,23,67],[23,69,23,73],[23,74,23,76],[22,7,22,10],[22,12,22,16],[22,18,22,22],[22,24,22,33],[22,35,22,49],[22,50,22,52],[22,53,22,67],[22,69,22,73],[22,74,22,76],[21,7,21,10],[21,12,21,16],[21,18,21,22],[21,24,21,33],[21,35,21,49],[21,50,21,52],[21,53,21,67],[21,69,21,73],[21,74,21,76],[20,7,20,10],[20,12,20,16],[20,18,20,22],[20,24,20,33],[20,35,20,49],[20,50,20,52],[20,53,20,67],[20,69,20,73],[20,74,20,76],[19,12,19,16],[19,18,19,22],[19,24,19,33],[19,35,19,49],[19,50,19,52],[19,53,19,67],[19,69,19,73],[19,74,19,76],[19,77,19,81],[16,7,16,10],[16,12,16,16],[16,18,16,22],[16,24,16,33],[16,35,16,49],[16,50,16,52],[15,50,15,52],[15,53,15,67],[15,68,35,68],[17,53,17,67],[18,7,18,10],[18,12,18,16],[18,18,18,22],[18,24,18,33],[18,35,18,49],[18,50,18,52],[17,7,17,10],[17,12,17,16],[17,18,17,22],[17,24,17,33],[17,35,17,49],[17,50,17,52],[18,53,18,67],[19,7,19,10],[16,53,16,67],[16,69,16,73],[16,74,16,76],[16,77,16,81],[15,17,35,17],[15,18,15,22],[15,23,35,23],[15,24,15,33],[15,34,35,34],[15,35,15,49],[17,69,17,73],[17,74,17,76],[17,77,17,81],[18,69,18,73],[18,74,18,76],[18,77,18,81],[20,77,20,81],[21,77,21,81],[22,77,22,81],[23,77,23,81],[24,77,24,81],[25,77,25,81],[26,77,26,81],[27,77,27,81],[6,62,6,71],[8,1,8,82],[9,1,9,82],[10,1,10,82],[11,1,57,1],[11,2,11,81],[11,82,57,82],[12,2,12,81],[13,2,13,5],[13,7,13,10],[13,12,13,16],[13,18,13,22],[13,24,13,33],[13,35,13,67],[13,69,13,81],[14,2,14,81],[15,2,35,5],[15,6,35,6],[15,7,15,10],[15,11,35,11],[15,12,15,16],[15,69,15,73],[15,74,15,76],[15,77,15,81],[0,0,0,83],[1,1,1,82],[1,83,84,83],[2,1,2,82],[3,1,3,82],[4,1,7,1],[4,2,4,81],[4,82,7,82],[5,2,5,81],[6,2,6,11],[6,72,6,81],[7,2,7,11],[7,12,7,21],[7,22,7,31],[7,32,7,41],[7,42,7,51],[7,52,7,61],[7,62,7,71],[7,72,7,81],[6,12,6,21],[6,22,6,31],[6,32,6,41],[6,42,6,51],[6,52,6,61],[85,1,85,82],[86,1,86,82],[87,1,96,1],[87,2,87,81],[87,82,96,82],[88,2,88,81],[89,2,89,6],[89,7,89,18],[89,19,89,24],[89,25,89,35],[89,36,89,46],[89,47,89,57],[89,58,89,69],[89,70,89,74],[89,75,89,81],[90,2,90,6],[90,7,90,18],[90,19,90,24],[90,25,90,35],[90,36,90,46],[90,47,90,57],[90,58,90,62],[90,63,90,64],[90,65,90,69],[90,70,90,74],[90,75,90,81],[91,2,91,6],[91,7,91,18],[91,19,91,24],[91,25,91,35],[91,36,91,46],[91,47,91,57],[91,58,91,62],[91,63,91,64],[91,65,91,69],[91,70,91,74],[91,75,91,81],[92,70,92,74],[92,75,92,81],[93,2,93,6],[93,7,93,18],[93,19,93,24],[93,25,93,35],[93,36,93,46],[93,47,93,57],[93,58,93,62],[93,63,93,64],[93,65,93,69],[93,70,93,74],[93,75,93,81],[92,2,92,6],[92,7,92,18],[92,19,92,24],[92,25,92,35],[92,36,92,46],[92,47,92,57],[92,58,92,62],[92,63,92,64],[92,65,92,69],[94,70,94,74],[94,75,94,81],[95,2,95,6],[95,7,95,18],[95,19,95,24],[95,25,95,35],[95,36,95,46],[95,47,95,57],[95,58,95,62],[95,63,95,64],[95,65,95,69],[95,70,95,74],[95,75,95,81],[94,2,94,6],[94,7,94,18],[94,19,94,24],[94,25,94,35],[94,36,94,46],[94,47,94,57],[94,58,94,62],[94,63,94,64],[94,65,94,69],[96,70,96,74],[96,75,96,81],[97,1,97,82],[96,2,96,6],[96,7,96,18],[96,19,96,24],[96,25,96,35],[96,36,96,46],[96,47,96,57],[96,58,96,62],[96,63,96,64],[96,65,96,69]]}
[]
[null,{"$f":"\"Turnier am \" & MID(CELL(\"dateiname\",A1),SEARCH(\"]\",CELL(\"dateiname\",A1))+1,31)","v":"Turnier am 23.12."}]
[]
[]
[null,null,"Spielerliste"]
[]
[null,null,{"$f":"\" Spieler\"","v":" Spieler"},null,null,null,null,null,null,null,null,null,"Spieler 1",null,null,null,null,null,null,null,null,null,"Spieler 2",null,null,null,null,null,null,null,null,null,"Spieler 3",null,null,null,null,null,null,null,null,null,"Spieler 4",null,null,null,null,null,null,null,null,null,"Spieler 5",null,null,null,null,null,null,null,null,null,"Spieler 6",null,null,null,null,null,null,null,null,null,"Spieler 7"]
[null,null,{"$f":"\" Name\"","v":" Name"},null,null,null,null,null,null,null,null,null,"Basti",null,null,null,null,null,null,null,null,null,"Schmiddi",null,null,null,null,null,null,null,null,null,"Ratze",null,null,null,null,null,null,null,null,null,"Markus",null,null,null,null,null,null,null,null,null,"Jule",null,null,null,null,null,null,null,null,null,"Patrick",null,null,null,null,null,null,null,null,null,"Christoph"]
[]
[]
[]
[null,null,"Spielplan"]
[]
[null,null,"00:12:00",null,null,null,null,"Spiel",null,null,null,null,"Datum",null,null,null,null,null,"Uhrzeit",null,null,null,null,null,"Austragungsort",null,null,null,null,null,null,null,null,null,null,"Paarung",null,null,null,null,null,null,null,null,null,null,null,null,null,null,null,null,null,null,null,null,null,null,null,null,null,null,null,null,null,null,null,null,null,"Ergebnis",null,null,null,null,null,null,null,null,null,null,null,null,null,null,"Spiele","SiegHeim","Unentschieden","SiegGast"]
[]
[null,null,"Hinrunde",null,null,null,null,1,null,null,null,null,{"$f":"MID(CELL(\"dateiname\",A1),SEARCH(\"]\",CELL(\"dateiname\",A1))+1,31)","v":"23.12."},null,null,null,null,null,"21:00:00",null,null,null,null,null,"Fernseher",null,null,null,null,null,null,null,null,null,null,{"$f":"$M$8","v":"Basti"},null,null,null,null,null,null,null,null,null,null,null,null,null,null,":",null,null,{"$f":"$W$8","v":"Schmiddi"},null,null,null,null,null,null,null,null,null,null,null,null,null,null,null,1,null,null,null,null,":",null,null,2,null,null,null,null,null,null,{"$f":"IF(AND(ISNUMBER(BR16),ISNUMBER(BZ16)),1,0)","v":1},{"$f":"IF(OR(ISBLANK(BR16),ISBLANK(BZ16)),0,IF(BR16>BZ16,1,0))","v":0},{"$f":"IF(OR(ISBLANK(BR16),ISBLANK(BZ16)),0,IF(BR16=BZ16,1,0))","v":0},{"$f":"IF(OR(ISBLANK(BR16),ISBLANK(BZ16)),0,IF(BR16<BZ16,1,0))","v":1}]
[null,null,null,null,null,null,null,{"$f":"H16+1","v":2},null,null,null,null,{"$f":"$M$16","v":"23.12."},null,null,null,null,null,{"$f":"S16","v":"21:00:00"},null,null,null,null,null,"Fernseher",null,null,null,null,null,null,null,null,null,null,{"$f":"$AG$8","v":"Ratze"},null,null,null,null,null,null,null,null,null,null,null,null,null,null,":",null,null,{"$f":"$AQ$8","v":"Markus"},null,null,null,null,null,null,null,null,null,null,null,null,null,null,null,2,null,null,null,null,":",null,null,2,null,null,null,null,null,null,{"$f":"IF(AND(ISNUMBER(BR17),ISNUMBER(BZ17)),1,0)","v":1},{"$f":"IF(OR(ISBLANK(BR17),ISBLANK(BZ17)),0,IF(BR17>BZ17,1,0))","v":0},{"$f":"IF(OR(ISBLANK(BR17),ISBLANK(BZ17)),0,IF(BR17=BZ17,1,0))","v":1},{"$f":"IF(OR(ISBLANK(BR17),ISBLANK(BZ17)),0,IF(BR17<BZ17,1,0))","v":0}]
[null,null,null,null,null,null,null,{"$f":"H17+1","v":3},null,null,null,null,{"$f":"$M$16","v":"23.12."},null,null,null,null,null,{"$f":"S16","v":"21:00:00"},null,null,null,null,null,"Fernseher",null,null,null,null,null,null,null,null,null,null,{"$f":"$BA$8","v":"Jule"},null,null,null,null,null,null,null,null,null,null,null,null,null,null,":",null,null,{"$f":"$BK$8","v":"Patrick"},null,null,null,null,null,null,null,null,null,null,null,null,null,null,null,0,null,null,null,null,":",null,null,2,null,null,null,null,null,null,1,0,0,1]
[null,null,null,null,null,null,null,4,null,null,null,null,"23.12.",null,null,null,null,null,{"$f":"S16+$C$14","v":"21:12:00"},null,null,null,null,null,{"$f":"$Y$16","v":"Fernseher"},null,null,null,null,null,null,null,null,null,null,{"$f":"$BU$8","v":"Christoph"},null,null,null,null,null,null,null,null,null,null,null,null,null,null,":",null,null,{"$f":"$M$8","v":"Basti"},null,null,null,null,null,null,null,null,null,null,null,null,null,null,null,4,null,null,null,null,":",null,null,1,null,null,null,null,null,null,1,1,0,0]
[null,null,null,null,null,null,null,5,null,null,null,null,"23.12.",null,null,null,null,null,"21:12:00",null,null,null,null,null,{"$f":"$Y$17","v":"Fernseher"},null,null,null,null,null,null,null,null,null,null,{"$f":"$W$8","v":"Schmiddi"},null,null,null,null,null,null,null,null,null,null,null,null,null,null,":",null,null,{"$f":"$AG$8","v":"Ratze"},null,null,null,null,null,null,null,null,null,null,null,null,null,null,null,3,null,null,null,null,":",null,null,4,null,null,null,null,null,null,1,0,0,1]
[null,null,null,null,null,null,null,6,null,null,null,null,"23.12.",null,null,null,null,null,"21:12:00",null,null,null,null,null,{"$f":"$Y$18","v":"Fernseher"},null,null,null,null,null,null,null,null,null,null,{"$f":"$AQ$8","v":"Markus"},null,null,null,null,null,null,null,null,null,null,null,null,null,null,":",null,null,{"$f":"$BA$8","v":"Jule"},null,null,null,null,null,null,null,null,null,null,null,null,null,null,null,5,null,null,null,null,":",null,null,1,null,null,null,null,null,null,1,1,0,0]
[null,null,null,null,null,null,null,7,null,null,null,null,"23.12.",null,null,null,null,null,"21:24:00",null,null,null,null,null,{"$f":"$Y$16","v":"Fernseher"},null,null,null,null,null,null,null,null,null,null,{"$f":"$BK$8","v":"Patrick"},null,null,null,null,null,null,null,null,null,null,null,null,null,null,":",null,null,{"$f":"$BU$8","v":"Christoph"},null,null,null,null,null,null,null,null,null,null,null,null,null,null,null,3,null,null,null,null,":",null,null,5,null,null,null,null,null,null,1,0,0,1]
[null,null,null,null,null,null,null,8,null,null,null,null,"23.12.",null,null,null,null,null,"21:24:00",null,null,null,null,null,{"$f":"$Y$17","v":"Fernseher"},null,null,null,null,null,null,null,null,null,null,{"$f":"$M$8","v":"Basti"},null,null,null,null,null,null,null,null,null,null,null,null,null,null,":",null,null,{"$f":"$AG$8","v":"Ratze"},null,null,null,null,null,null,null,null,null,null,null,null,null,null,null,0,null,null,null,null,":",null,null,6,null,null,null,null,null,null,1,0,0,1]
[null,null,null,null,null,null,null,9,null,null,null,null,"23.12.",null,null,null,null,null,"21:24:00",null,null,null,null,null,{"$f":"$Y$18","v":"Fernseher"},null,null,null,null,null,null,null,null,null,null,{"$f":"$AQ$8","v":"Markus"},null,null,null,null,null,null,null,null,null,null,null,null,null,null,":",null,null,{"$f":"$W$8","v":"Schmiddi"},null,null,null,null,null,null,null,null,null,null,null,null,null,null,null,3,null,null,null,null,":",null,null,3,null,null,null,null,null,null,1,0,1,0]
[null,null,null,null,null,null,null,10,null,null,null,null,"23.12.",null,null,null,null,null,"21:36:00",null,null,null,null,null,{"$f":"$Y$16","v":"Fernseher"},null,null,null,null,null,null,null,null,null,null,{"$f":"$BA$8","v":"Jule"},null,null,null,null,null,null,null,null,null,null,null,null,null,null,":",null,null,{"$f":"$BU$8","v":"Christoph"},null,null,null,null,null,null,null,null,null,null,null,null,null,null,null,3,null,null,null,null,":",null,null,1,null,null,null,null,null,null,1,1,0,0]
[null,null,null,null,null,null,null,11,null,null,null,null,"23.12.",null,null,null,null,null,"21:36:00",null,null,null,null,null,{"$f":"$Y$17","v":"Fernseher"},null,null,null,null,null,null,null,null,null,null,{"$f":"$AG$8","v":"Ratze"},null,null,null,null,null,null,null,null,null,null,null,null,null,null,":",null,null,{"$f":"$BK$8","v":"Patrick"},null,null,null,null,null,null,null,null,null,null,null,null,null,null,null,1,null,null,null,null,":",null,null,4,null,null,null,null,null,null,1,0,0,1]
[null,null,null,null,null,null,null,12,null,null,null,null,"23.12.",null,null,null,null,null,"21:36:00",null,null,null,null,null,{"$f":"$Y$18","v":"Fernseher"},null,null,null,null,null,null,null,null,null,null,{"$f":"$AQ$8","v":"Markus"},null,null,null,null,null,null,null,null,null,null,null,null,null,null,":",null,null,{"$f":"$M$8","v":"Basti"},null,null,null,null,null,null,null,null,null,null,null,null,null,null,null,2,null,null,null,null,":",null,null,1,null,null,null,null,null,null,1,1,0,0]
[null,null,null,null,null,null,null,13,null,null,null,null,"23.12.",null,null,null,null,null,"21:48:00",null,null,null,null,null,{"$f":"$Y$16","v":"Fernseher"},null,null,null,null,null,null,null,null,null,null,{"$f":"$W$8","v":"Schmiddi"},null,null,null,null,null,null,null,null,null,null,null,null,null,null,":",null,null,{"$f":"$BA$8","v":"Jule"},null,null,null,null,null,null,null,null,null,null,null,null,null,null,null,2,null,null,null,null,":",null,null,2,null,null,null,null,null,null,1,0,1,0]
[null,null,null,null,null,null,null,14,null,null,null,null,"23.12.",null,null,null,null,null,"21:48:00",null,null,null,null,null,{"$f":"$Y$17","v":"Fernseher"},null,null,null,null,null,null,null,null,null,null,{"$f":"$BU$8","v":"Christoph"},null,null,null,null,null,null,null,null,null,null,null,null,null,null,":",null,null,{"$f":"$AQ$8","v":"Markus"},null,null,null,null,null,null,null,null,null,null,null,null,null,null,null,4,null,null,null,null,":",null,null,3,null,null,null,null,null,null,1,1,0,0]
[null,null,null,null,null,null,null,15,null,null,null,null,"23.12.",null,null,null,null,null,"21:48:00",null,null,null,null,null,{"$f":"$Y$18","v":"Fernseher"},null,null,null,null,null,null,null,null,null,null,{"$f":"$M$8","v":"Basti"},null,null,null,null,null,null,null,null,null,null,null,null,null,null,":",null,null,{"$f":"$BK$8","v":"Patrick"},null,null,null,null,null,null,null,null,null,null,null,null,null,null,null,0,null,null,null,null,":",null,null,2,null,null,null,null,null,null,1,0,0,1]
[null,null,null,null,null,null,null,16,null,null,null,null,"23.12.",null,null,null,null,null,"22:00:00",null,null,null,null,null,{"$f":"$Y$16","v":"Fernseher"},null,null,null,null,null,null,null,null,null,null,{"$f":"$BA$8","v":"Jule"},null,null,null,null,null,null,null,null,null,null,null,null,null,null,":",null,null,{"$f":"$AG$8","v":"Ratze"},null,null,null,null,null,null,null,null,null,null,null,null,null,null,null,3,null,null,null,null,":",null,null,5,null,null,null,null,null,null,1,0,0,1]
[null,null,null,null,null,null,null,17,null,null,null,null,"23.12.",null,null,null,null,null,"22:00:00",null,null,null,null,null,{"$f":"$Y$17","v":"Fernseher"},null,null,null,null,null,null,null,null,null,null,{"$f":"$BU$8","v":"Christoph"},null,null,null,null,null,null,null,null,null,null,null,null,null,null,":",null,null,{"$f":"$W$8","v":"Schmiddi"},null,null,null,null,null,null,null,null,null,null,null,null,null,null,null,4,null,null,null,null,":",null,null,4,null,null,null,null,null,null,1,0,1,0]
[null,null,null,null,null,null,null,18,null,null,null,null,"23.12.",null,null,null,null,null,"22:00:00",null,null,null,null,null,{"$f":"$Y$18","v":"Fernseher"},null,null,null,null,null,null,null,null,null,null,{"$f":"$AQ$8","v":"Markus"},null,null,null,null,null,null,null,null,null,null,null,null,null,null,":",null,null,{"$f":"$BK$8","v":"Patrick"},null,null,null,null,null,null,null,null,null,null,null,null,null,null,null,2,null,null,null,null,":",null,null,4,null,null,null,null,null,null,1,0,0,1]
[null,null,null,null,null,null,null,19,null,null,null,null,"23.12.",null,null,null,null,null,"22:12:00",null,null,null,null,null,{"$f":"$Y$16","v":"Fernseher"},null,null,null,null,null,null,null,null,null,null,{"$f":"$BA$8","v":"Jule"},null,null,null,null,null,null,null,null,null,null,null,null,null,null,":",null,null,{"$f":"$M$8","v":"Basti"},null,null,null,null,null,null,null,null,null,null,null,null,null,null,null,5,null,null,null,null,":",null,null,0,null,null,null,null,null,null,1,1,0,0]
[null,null,null,null,null,null,null,20,null,null,null,null,"23.12.",null,null,null,null,null,"22:12:00",null,null,null,null,null,{"$f":"$Y$17","v":"Fernseher"},null,null,null,null,null,null,null,null,null,null,{"$f":"$AG$8","v":"Ratze"},null,null,null,null,null,null,null,null,null,null,null,null,null,null,":",null,null,{"$f":"$BU$8","v":"Christoph"},null,null,null,null,null,null,null,null,null,null,null,null,null,null,null,2,null,null,null,null,":",null,null,4,null,null,null,null,null,null,1,0,0,1]
[null,null,null,null,null,null,null,21,null,null,null,null,"23.12.",null,null,null,null,null,"22:12:00",null,null,null,null,null,{"$f":"$Y$18","v":"Fernseher"},null,null,null,null,null,null,null,null,null,null,{"$f":"$W$8","v":"Schmiddi"},null,null,null,null,null,null,null,null,null,null,null,null,null,null,":",null,null,{"$f":"$BK$8","v":"Patrick"},null,null,null,null,null,null,null,null,null,null,null,null,null,null,null,2,null,null,null,null,":",null,null,1,null,null,null,null,null,null,1,1,0,0]
[]
[null,null,"Rückrunde",null,null,null,null,{"$f":"H36+1","v":22},null,null,null,null,{"$f":"$M$16","v":"23.12."},null,null,null,null,null,{"$f":"S34+$C$14","v":"22:24:00"},null,null,null,null,null,{"$f":"$Y$18","v":"Fernseher"},null,null,null,null,null,null,null,null,null,null,{"$f":"$W$8","v":"Schmiddi"},null,null,null,null,null,null,null,null,null,null,null,null,null,null,":",null,null,{"$f":"$M$8","v":"Basti"},null,null,null,null,null,null,null,null,null,null,null,null,null,null,null,2,null,null,null,null,":",null,null,1,null,null,null,null,null,null,{"$f":"IF(AND(ISNUMBER(BR38),ISNUMBER(BZ38)),1,0)","v":1},{"$f":"IF(OR(ISBLANK(BR38),ISBLANK(BZ38)),0,IF(BR38>BZ38,1,0))","v":1},{"$f":"IF(OR(ISBLANK(BR38),ISBLANK(BZ38)),0,IF(BR38=BZ38,1,0))","v":0},{"$f":"IF(OR(ISBLANK(BR38),ISBLANK(BZ38)),0,IF(BR38<BZ38,1,0))","v":0}]
[null,null,null,null,null,null,null,{"$f":"H38+1","v":23},null,null,null,null,"23.12.",null,null,null,null,null,{"$f":"S35+$C$14","v":"22:24:00"},null,null,null,null,null,{"$f":"$Y$16","v":"Fernseher"},null,null,null,null,null,null,null,null,null,null,{"$f":"$AQ$8","v":"Markus"},null,null,null,null,null,null,null,null,null,null,null,null,null,null,":",null,null,{"$f":"$AG$8","v":"Ratze"},null,null,null,null,null,null,null,null,null,null,null,null,null,null,null,3,null,null,null,null,":",null,null,4,null,null,null,null,null,null,1,0,0,1]
[null,null,null,null,null,null,null,{"$f":"H39+1","v":24},null,null,null,null,"23.12.",null,null,null,null,null,{"$f":"S36+$C$14","v":"22:24:00"},null,null,null,null,null,{"$f":"$Y$17","v":"Fernseher"},null,null,null,null,null,null,null,null,null,null,{"$f":"$BK$8","v":"Patrick"},null,null,null,null,null,null,null,null,null,null,null,null,null,null,":",null,null,{"$f":"$BA$8","v":"Jule"},null,null,null,null,null,null,null,null,null,null,null,null,null,null,null,0,null,null,null,null,":",null,null,1,null,null,null,null,null,null,1,0,0,1]
[null,null,null,null,null,null,null,25,null,null,null,null,"23.12.",null,null,null,null,null,{"$f":"S38+$C$14","v":"22:36:00"},null,null,null,null,null,{"$f":"$Y$18","v":"Fernseher"},null,null,null,null,null,null,null,null,null,null,{"$f":"$M$8","v":"Basti"},null,null,null,null,null,null,null,null,null,null,null,null,null,null,":",null,null,{"$f":"$BU$8","v":"Christoph"},null,null,null,null,null,null,null,null,null,null,null,null,null,null,null,1,null,null,null,null,":",null,null,3,null,null,null,null,null,null,1,0,0,1]
[null,null,null,null,null,null,null,26,null,null,null,null,"23.12.",null,null,null,null,null,"22:36:00",null,null,null,null,null,{"$f":"$Y$16","v":"Fernseher"},null,null,null,null,null,null,null,null,null,null,{"$f":"$AG$8","v":"Ratze"},null,null,null,null,null,null,null,null,null,null,null,null,null,null,":",null,null,{"$f":"$W$8","v":"Schmiddi"},null,null,null,null,null,null,null,null,null,null,null,null,null,null,null,6,null,null,null,null,":",null,null,3,null,null,null,null,null,null,1,1,0,0]
[null,null,null,null,null,null,null,27,null,null,null,null,"23.12.",null,null,null,null,null,"22:36:00",null,null,null,null,null,{"$f":"$Y$17","v":"Fernseher"},null,null,null,null,null,null,null,null,null,null,{"$f":"$BA$8","v":"Jule"},null,null,null,null,null,null,null,null,null,null,null,null,null,null,":",null,null,{"$f":"$AQ$8","v":"Markus"},null,null,null,null,null,null,null,null,null,null,null,null,null,null,null,5,null,null,null,null,":",null,null,2,null,null,null,null,null,null,1,1,0,0]
[null,null,null,null,null,null,null,28,null,null,null,null,"23.12.",null,null,null,null,null,"22:48:00",null,null,null,null,null,{"$f":"$Y$18","v":"Fernseher"},null,null,null,null,null,null,null,null,null,null,{"$f":"$BU$8","v":"Christoph"},null,null,null,null,null,null,null,null,null,null,null,null,null,null,":",null,null,{"$f":"$BK$8","v":"Patrick"},null,null,null,null,null,null,null,null,null,null,null,null,null,null,null,0,null,null,null,null,":",null,null,2,null,null,null,null,null,null,1,0,0,1]
[null,null,null,null,null,null,null,29,null,null,null,null,"23.12.",null,null,null,null,null,"22:48:00",null,null,null,null,null,{"$f":"$Y$16","v":"Fernseher"},null,null,null,null,null,null,null,null,null,null,{"$f":"$AG$8","v":"Ratze"},null,null,null,null,null,null,null,null,null,null,null,null,null,null,":",null,null,{"$f":"$M$8","v":"Basti"},null,null,null,null,null,null,null,null,null,null,null,null,null,null,null,4,null,null,null,null,":",null,null,0,null,null,null,null,null,null,1,1,0,0]
[null,null,null,null,null,null,null,30,null,null,null,null,"23.12.",null,null,null,null,null,"22:48:00",null,null,null,null,null,{"$f":"$Y$17","v":"Fernseher"},null,null,null,null,null,null,null,null,null,null,{"$f":"$W$8","v":"Schmiddi"},null,null,null,null,null,null,null,null,null,null,null,null,null,null,":",null,null,{"$f":"$AQ$8","v":"Markus"},null,null,null,null,null,null,null,null,null,null,null,null,null,null,null,4,null,null,null,null,":",null,null,1,null,null,null,null,null,null,1,1,0,0]
[null,null,null,null,null,null,null,31,null,null,null,null,"23.12.",null,null,null,null,null,"23:00:00",null,null,null,null,null,{"$f":"$Y$18","v":"Fernseher"},null,null,null,null,null,null,null,null,null,null,{"$f":"$BU$8","v":"Christoph"},null,null,null,null,null,null,null,null,null,null,null,null,null,null,":",null,null,{"$f":"$BA$8","v":"Jule"},null,null,null,null,null,null,null,null,null,null,null,null,null,null,null,0,null,null,null,null,":",null,null,3,null,null,null,null,null,null,1,0,0,1]
[null,null,null,null,null,null,null,32,null,null,null,null,"23.12.",null,null,null,null,null,"23:00:00",null,null,null,null,null,{"$f":"$Y$16","v":"Fernseher"},null,null,null,null,null,null,null,null,null,null,{"$f":"$BK$8","v":"Patrick"},null,null,null,null,null,null,null,null,null,null,null,null,null,null,":",null,null,{"$f":"$AG$8","v":"Ratze"},null,null,null,null,null,null,null,null,null,null,null,null,null,null,null,1,null,null,null,null,":",null,null,4,null,null,null,null,null,null,1,0,0,1]
[null,null,null,null,null,null,null,33,null,null,null,null,"23.12.",null,null,null,null,null,"23:00:00",null,null,null,null,null,{"$f":"$Y$17","v":"Fernseher"},null,null,null,null,null,null,null,null,null,null,{"$f":"$M$8","v":"Basti"},null,null,null,null,null,null,null,null,null,null,null,null,null,null,":",null,null,{"$f":"$AQ$8","v":"Markus"},null,null,null,null,null,null,null,null,null,null,null,null,null,null,null,0,null,null,null,null,":",null,null,8,null,null,null,null,null,null,1,0,0,1]
[null,null,null,null,null,null,null,34,null,null,null,null,"23.12.",null,null,null,null,null,"23:12:00",null,null,null,null,null,{"$f":"$Y$18","v":"Fernseher"},null,null,null,null,null,null,null,null,null,null,{"$f":"$BA$8","v":"Jule"},null,null,null,null,null,null,null,null,null,null,null,null,null,null,":",null,null,{"$f":"$W$8","v":"Schmiddi"},null,null,null,null,null,null,null,null,null,null,null,null,null,null,null,4,null,null,null,null,":",null,null,3,null,null,null,null,null,null,1,1,0,0]
[null,null,null,null,null,null,null,35,null,null,null,null,"23.12.",null,null,null,null,null,"23:12:00",null,null,null,null,null,{"$f":"$Y$16","v":"Fernseher"},null,null,null,null,null,null,null,null,null,null,{"$f":"$AQ$8","v":"Markus"},null,null,null,null,null,null,null,null,null,null,null,null,null,null,":",null,null,{"$f":"$BU$8","v":"Christoph"},null,null,null,null,null,null,null,null,null,null,null,null,null,null,null,1,null,null,null,null,":",null,null,2,null,null,null,null,null,null,1,0,0,1]
[null,null,null,null,null,null,null,36,null,null,null,null,"23.12.",null,null,null,null,null,"23:12:00",null,null,null,null,null,{"$f":"$Y$17","v":"Fernseher"},null,null,null,null,null,null,null,null,null,null,{"$f":"$BK$8","v":"Patrick"},null,null,null,null,null,null,null,null,null,null,null,null,null,null,":",null,null,{"$f":"$M$8","v":"Basti"},null,null,null,null,null,null,null,null,null,null,null,null,null,null,null,2,null,null,null,null,":",null,null,1,null,null,null,null,null,null,1,1,0,0]
[null,null,null,null,null,null,null,37,null,null,null,null,"23.12.",null,null,null,null,null,"23:24:00",null,null,null,null,null,{"$f":"$Y$18","v":"Fernseher"},null,null,null,null,null,null,null,null,null,null,{"$f":"$AG$8","v":"Ratze"},null,null,null,null,null,null,null,null,null,null,null,null,null,null,":",null,null,{"$f":"$BA$8","v":"Jule"},null,null,null,null,null,null,null,null,null,null,null,null,null,null,null,6,null,null,null,null,":",null,null,1,null,null,null,null,null,null,1,1,0,0]
[null,null,null,null,null,null,null,38,null,null,null,null,"23.12.",null,null,null,null,null,"23:24:00",null,null,null,null,null,{"$f":"$Y$16","v":"Fernseher"},null,null,null,null,null,null,null,null,null,null,{"$f":"$W$8","v":"Schmiddi"},null,null,null,null,null,null,null,null,null,null,null,null,null,null,":",null,null,{"$f":"$BU$8","v":"Christoph"},null,null,null,null,null,null,null,null,null,null,null,null,null,null,null,2,null,null,null,null,":",null,null,3,null,null,null,null,null,null,1,0,0,1]
[null,null,null,null,null,null,null,39,null,null,null,null,"23.12.",null,null,null,null,null,"23:24:00",null,null,null,null,null,{"$f":"$Y$17","v":"Fernseher"},null,null,null,null,null,null,null,null,null,null,{"$f":"$BK$8","v":"Patrick"},null,null,null,null,null,null,null,null,null,null,null,null,null,null,":",null,null,{"$f":"$AQ$8","v":"Markus"},null,null,null,null,null,null,null,null,null,null,null,null,null,null,null,2,null,null,null,null,":",null,null,3,null,null,null,null,null,null,1,0,0,1]
[null,null,null,null,null,null,null,40,null,null,null,null,"23.12.",null,null,null,null,null,"23:36:00",null,null,null,null,null,{"$f":"$Y$18","v":"Fernseher"},null,null,null,null,null,null,null,null,null,null,{"$f":"$M$8","v":"Basti"},null,null,null,null,null,null,null,null,null,null,null,null,null,null,":",null,null,{"$f":"$BA$8","v":"Jule"},null,null,null,null,null,null,null,null,null,null,null,null,null,null,null,0,null,null,null,null,":",null,null,2,null,null,null,null,null,null,1,0,0,1]
[null,null,null,null,null,null,null,41,null,null,null,null,"23.12.",null,null,null,null,null,"23:36:00",null,null,null,null,null,{"$f":"$Y$16","v":"Fernseher"},null,null,null,null,null,null,null,null,null,null,{"$f":"$BU$8","v":"Christoph"},null,null,null,null,null,null,null,null,null,null,null,null,null,null,":",null,null,{"$f":"$AG$8","v":"Ratze"},null,null,null,null,null,null,null,null,null,null,null,null,null,null,null,3,null,null,null,null,":",null,null,2,null,null,null,null,null,null,1,1,0,0]
[null,null,null,null,null,null,null,42,null,null,null,null,"23.12.",null,null,null,null,null,"23:36:00",null,null,null,null,null,{"$f":"$Y$17","v":"Fernseher"},null,null,null,null,null,null,null,null,null,null,{"$f":"$BK$8","v":"Patrick"},null,null,null,null,null,null,null,null,null,null,null,null,null,null,":",null,null,{"$f":"$W$8","v":"Schmiddi"},null,null,null,null,null,null,null,null,null,null,null,null,null,null,null,8,null,null,null,null,":",null,null,3,null,null,null,null,null,null,1,1,0,0]
[]
[]
[]
[null,null,"Tabelle (unsortiert)"]
[]
[null,null,"Rang",null,null,null,null,"Spieler",null,null,null,null,null,null,null,null,null,null,null,"Spiele",null,null,null,null,null,"Siege",null,null,null,null,null,null,null,null,null,null,"Unentschieden",null,null,null,null,null,null,null,null,null,null,"Niederlagen",null,null,null,null,null,null,null,null,null,null,"Tore",null,null,null,null,null,null,null,null,null,null,null,"+/-",null,null,null,null,"Punkte",null,null,"HS"]
[null,null,{"$f":"IF(T65=0,0,RANK(BX65,$BX$65:$BZ$71,0))","v":7},null,null,null,null,{"$f":"$M$8","v":"Basti"},null,null,null,null,null,null,null,null,null,null,null,{"$f":"CG16+CG19+CG23+CG27+CG30+CG34+CG38+CG41+CG45+CG49+CG52+CG56","v":12},null,null,null,null,null,{"$f":"CH16+CJ19+CH23+CJ27+CH30+CJ34+CJ38+CH41+CJ45+CH49+CJ52+CH56","v":0},null,null,null,null,null,null,null,null,null,null,{"$f":"CI16+CI19+CI23+CI27+CI30+CI34+CI38+CI41+CI45+CI49+CI52+CI56","v":0},null,null,null,null,null,null,null,null,null,null,{"$f":"CJ16+CH19+CJ23+CH27+CJ30+CH34+CH38+CJ41+CH45+CJ49+CH52+CJ56","v":12},null,null,null,null,null,null,null,null,null,null,{"$f":"BR16+BZ19+BR23+BZ27+BR30+BZ34+BZ38+BR41+BZ45+BR49+BZ52+BR56","v":6},null,null,null,null,":",null,{"$f":"BZ16+BR19+BZ23+BR27+BZ30+BR34+BR38+BZ41+BR45+BZ49+BR52+BZ56","v":42},null,null,null,null,{"$f":"BG65-BN65","v":-36},null,null,null,null,{"$f":"(Z65*3)+AK65","v":0},null,null,{"$f":"BX65+ROW()/1000","v":6.5000000000000002E-2}]
[null,null,5,null,null,null,null,{"$f":"$W$8","v":"Schmiddi"},null,null,null,null,null,null,null,null,null,null,null,{"$f":"CG16+CG20+CG24+CG28+CG32+CG36+CG38+CG42+CG46+CG50+CG54+CG58","v":12},null,null,null,null,null,{"$f":"CJ16+CH20+CJ24+CH28+CJ32+CH36+CH38+CJ42+CH46+CJ50+CH54+CJ58","v":4},null,null,null,null,null,null,null,null,null,null,{"$f":"CI16+CI20+CI24+CI28+CI32+CI36+CI38+CI42+CI46+CI50+CI54+CI58","v":3},null,null,null,null,null,null,null,null,null,null,{"$f":"CH16+CJ20+CH24+CJ28+CH32+CJ36+CJ38+CH42+CJ46+CH50+CJ54+CH58","v":5},null,null,null,null,null,null,null,null,null,null,{"$f":"BZ16+BR20+BZ24+BR28+BZ32+BR36+BR38+BZ42+BR46+BZ50+BR54+BZ58","v":33},null,null,null,null,":",null,{"$f":"BR16+BZ20+BR24+BZ28+BR32+BZ36+BZ38+BR42+BZ46+BR50+BZ54+BR58","v":38},null,null,null,null,-5,null,null,null,null,{"$f":"(Z66*3)+AK66","v":15},null,null,{"$f":"BX66+ROW()/1000","v":15.066000000000001}]
[null,null,1,null,null,null,null,{"$f":"$AG$8","v":"Ratze"},null,null,null,null,null,null,null,null,null,null,null,{"$f":"CG17+CG20+CG23+CG26+CG31+CG35+CG39+CG42+CG45+CG48+CG53+CG57","v":12},null,null,null,null,null,{"$f":"CH17+CJ20+CJ23+CH26+CJ31+CH35++CJ39+CH42+CH45+CJ48+CH53+CJ57","v":8},null,null,null,null,null,null,null,null,null,null,{"$f":"CI17+CI20+CI23+CI26+CI31+CI35+CI39+CI42+CI45+CI48+CI53+CI57","v":1},null,null,null,null,null,null,null,null,null,null,{"$f":"CJ17+CH20+CH23+CJ26+CH31+CJ35+CH39+CJ42+CJ45+CH48+CJ53+CH57","v":3},null,null,null,null,null,null,null,null,null,null,{"$f":"BR17+BZ20+BZ23+BR26+BZ31+BR35+BZ39+BR42+BR45+BZ48+BR53+BZ57","v":46},null,null,null,null,":",null,{"$f":"BZ17+BR20+BR23+BZ26+BR31+BZ35+BR39+BZ42+BZ45+BR48+BZ53+BR57","v":27},null,null,null,null,19,null,null,null,null,25,null,null,25.067]
[null,null,6,null,null,null,null,{"$f":"$AQ$8","v":"Markus"},null,null,null,null,null,null,null,null,null,null,null,{"$f":"CG17+CG21+CG24+CG27+CG29+CG33+CG39+CG43+CG46+CG49+CG51+CG55","v":12},null,null,null,null,null,{"$f":"CJ17+CH21+CH24+CH27+CJ29+CH33+CH39+CJ43+CJ46+CJ49+CH51+CJ55","v":4},null,null,null,null,null,null,null,null,null,null,{"$f":"CI17+CI21+CI24+CI27+CI29+CI33+CI39+CI43+CI46+CI49+CI51+CI55","v":2},null,null,null,null,null,null,null,null,null,null,{"$f":"CH17+CJ21+CJ24+CJ27+CH29+CJ33+CJ39+CH43+CH46+CH49+CJ51+CH55","v":6},null,null,null,null,null,null,null,null,null,null,{"$f":"BZ17+BR21+BR24+BR27+BZ29+BR33+BR39+BZ43+BZ46+BZ49+BR51+BZ55","v":35},null,null,null,null,":",null,{"$f":"BR17+BZ21+BZ24+BZ27+BR29+BZ33+BZ39+BR43+BR46+BR49+BZ51+BR55","v":32},null,null,null,null,3,null,null,null,null,14,null,null,14.068]
[null,null,3,null,null,null,null,{"$f":"$BA$8","v":"Jule"},null,null,null,null,null,null,null,null,null,null,null,{"$f":"CG18+CG21+CG25+CG28+CG31+CG34+CG40+CG43+CG47+CG50+CG53+CG56","v":12},null,null,null,null,null,{"$f":"CH18+CJ21+CH25+CJ28+CH31+CH34+CJ40+CH43+CJ47+CH50+CJ53+CJ56","v":7},null,null,null,null,null,null,null,null,null,null,{"$f":"CI18+CI21+CI25+CI28+CI31+CI34+CI40+CI43+CI47+CI50+CI53+CI56","v":1},null,null,null,null,null,null,null,null,null,null,{"$f":"CJ18+CH21+CJ25+CH28+CJ31+CJ34+CH40+CJ43+CH47+CJ50+CH53+CH56","v":4},null,null,null,null,null,null,null,null,null,null,{"$f":"BR18+BZ21+BR25+BZ28+BR31+BR34+BZ40+BR43+BZ47+BR50+BZ53+BZ56","v":30},null,null,null,null,":",null,{"$f":"BZ18+BR21+BZ25+BR28+BZ31+BZ34+BR40+BZ43+BR47+BZ50+BR53+BR56","v":26},null,null,null,null,4,null,null,null,null,22,null,null,22.068999999999999]
[null,null,4,null,null,null,null,{"$f":"$BK$8","v":"Patrick"},null,null,null,null,null,null,null,null,null,null,null,{"$f":"CG18+CG22+CG26+CG30+CG33+CG36+CG40+CG44+CG48+CG52+CG55+CG58","v":12},null,null,null,null,null,{"$f":"CJ18+CH22+CJ26+CJ30+CJ33+CJ36+CH40+CJ44+CH48+CH52+CH55+CH58","v":7},null,null,null,null,null,null,null,null,null,null,{"$f":"CI18+CI22+CI26+CI30+CI33+CI36+CI40+CI44+CI48+CI52+CI55+CI58","v":0},null,null,null,null,null,null,null,null,null,null,{"$f":"CH18+CJ22+CH26+CH30+CH33+CH36+CJ40+CH44+CJ48+CJ52+CJ55+CJ58","v":5},null,null,null,null,null,null,null,null,null,null,{"$f":"BZ18+BR22+BZ26+BZ30+BZ33+BZ36+BR40+BZ44+BR48+BR52+BR55+BR58","v":31},null,null,null,null,":",null,{"$f":"BR18+BZ22+BR26+BR30+BR33+BR36+BZ40+BR44+BZ48+BZ52+BZ55+BZ58","v":22},null,null,null,null,9,null,null,null,null,21,null,null,21.07]
[null,null,1,null,null,null,null,{"$f":"$BU$8","v":"Christoph"},null,null,null,null,null,null,null,null,null,null,null,{"$f":"CG19+CG22+CG25+CG29+CG32+CG35+CG41+CG44+CG47+CG51+CG54+CG57","v":12},null,null,null,null,null,{"$f":"CH19+CJ22+CJ25+CH29+CH32+CJ35+CJ41+CH44+CH47+CJ51+CJ54+CH57","v":8},null,null,null,null,null,null,null,null,null,null,{"$f":"CI19+CI22+CI25+CI29+CI32+CI35+CI41+CI44+CI47+CI51+CI54+CI57","v":1},null,null,null,null,null,null,null,null,null,null,{"$f":"CJ19+CH22+CH25+CJ29+CJ32+CH35+CH41+CJ44+CJ47+CH51+CH54+CJ57","v":3},null,null,null,null,null,null,null,null,null,null,{"$f":"BR19+BZ22+BZ25+BR29+BR32+BZ35+BZ41+BR44+BR47+BZ51+BZ54+BR57","v":33},null,null,null,null,":",null,{"$f":"BZ19+BR22+BR25+BZ29+BZ32+BR35+BR41+BZ44+BZ47+BR51+BR54+BZ57","v":27},null,null,null,null,6,null,null,null,null,25,null,null,25.071000000000002]
[]
[]
[]
[null,null,"Tabelle"]
[]
[null,null,"Rang",null,null,null,null,"Spieler",null,null,null,null,null,null,null,null,null,null,null,"Spiele",null,null,null,null,null,"Siege",null,null,null,null,null,null,null,null,null,null,"Unentschieden",null,null,null,null,null,null,null,null,null,null,"Niederlagen",null,null,null,null,null,null,null,null,null,null,"Tore",null,null,null,null,null,null,null,null,null,null,null,"+/-",null,null,null,null,"Punkte"]
[null,null,{"$f":"INDEX($C$65:$C$71,MATCH(LARGE($CA$65:$CA$71,ROW(A1)),$CA$65:$CA$71,0),1)","v":1},null,null,2,null,{"$f":"INDEX($H$65:$H$71,MATCH(LARGE($CA$65:$CA$71,ROW(A1)),$CA$65:$CA$71,0),1)","v":"Christoph"},null,null,null,null,null,null,null,null,null,null,null,{"$f":"INDEX($T$65:$T$71,MATCH(LARGE($CA$65:$CA$71,ROW(A1)),$CA$65:$CA$71,0),1)","v":12},null,null,null,null,null,{"$f":"INDEX($Z$65:$Z$71,MATCH(LARGE($CA$65:$CA$71,ROW(A1)),$CA$65:$CA$71,0),1)","v":8},null,null,null,null,null,null,null,null,null,null,{"$f":"INDEX($AK$65:$AK$71,MATCH(LARGE($CA$65:$CA$71,ROW(A1)),$CA$65:$CA$71,0),1)","v":1},null,null,null,null,null,null,null,null,null,null,{"$f":"INDEX($AV$65:$AV$71,MATCH(LARGE($CA$65:$CA$71,ROW(A1)),$CA$65:$CA$71,0),1)","v":3},null,null,null,null,null,null,null,null,null,null,{"$f":"INDEX($BG$65:$BG$71,MATCH(LARGE($CA$65:$CA$71,ROW(A1)),$CA$65:$CA$71,0),1)","v":33},null,null,null,null,":",null,{"$f":"INDEX($BN$65:$BN$71,MATCH(LARGE($CA$65:$CA$71,ROW(A1)),$CA$65:$CA$71,0),1)","v":27},null,null,null,null,{"$f":"INDEX($BS$65:$BS$71,MATCH(LARGE($CA$65:$CA$71,ROW(A1)),$CA$65:$CA$71,0),1)","v":6},null,null,null,null,{"$f":"INDEX($BX$65:$BX$71,MATCH(LARGE($CA$65:$CA$71,ROW(A1)),$CA$65:$CA$71,0),1)","v":25}]
[null,null,{"$f":"INDEX($C$65:$C$71,MATCH(LARGE($CA$65:$CA$71,ROW(A2)),$CA$65:$CA$71,0),1)","v":1},null,null,1,null,"Ratze",null,null,null,null,null,null,null,null,null,null,null,12,null,null,null,null,null,8,null,null,null,null,null,null,null,null,null,null,1,null,null,null,null,null,null,null,null,null,null,3,null,null,null,null,null,null,null,null,null,null,46,null,null,null,null,":",null,27,null,null,null,null,19,null,null,null,null,{"$f":"IF($C79=\"\",\"\",INDEX(BX$65:BX$71,MATCH($C79,$C$65:$C$71,0)))","v":25}]
[null,null,3,null,null,3,null,"Jule",null,null,null,null,null,null,null,null,null,null,null,12,null,null,null,null,null,7,null,null,null,null,null,null,null,null,null,null,1,null,null,null,null,null,null,null,null,null,null,4,null,null,null,null,null,null,null,null,null,null,30,null,null,null,null,":",null,26,null,null,null,null,4,null,null,null,null,22]
[null,null,4,null,null,4,null,"Patrick",null,null,null,null,null,null,null,null,null,null,null,12,null,null,null,null,null,7,null,null,null,null,null,null,null,null,null,null,0,null,null,null,null,null,null,null,null,null,null,5,null,null,null,null,null,null,null,null,null,null,31,null,null,null,null,":",null,22,null,null,null,null,9,null,null,null,null,21]
[null,null,5,null,null,5,null,"Schmiddi",null,null,null,null,null,null,null,null,null,null,null,12,null,null,null,null,null,4,null,null,null,null,null,null,null,null,null,null,3,null,null,null,null,null,null,null,null,null,null,5,null,null,null,null,null,null,null,null,null,null,33,null,null,null,null,":",null,38,null,null,null,null,-5,null,null,null,null,15]
[null,null,6,null,null,6,null,"Markus",null,null,null,null,null,null,null,null,null,null,null,12,null,null,null,null,null,4,null,null,null,null,null,null,null,null,null,null,2,null,null,null,null,null,null,null,null,null,null,6,null,null,null,null,null,null,null,null,null,null,35,null,null,null,null,":",null,32,null,null,null,null,3,null,null,null,null,14]
[null,null,7,null,null,7,null,"Basti",null,null,null,null,null,null,null,null,null,null,null,12,null,null,null,null,null,0,null,null,null,null,null,null,null,null,null,null,0,null,null,null,null,null,null,null,null,null,null,12,null,null,null,null,null,null,null,null,null,null,6,null,null,null,null,":",null,42,null,null,null,null,-36,null,null,null,null,0]
[]
[]
[]
[null,null,"Tabelle (nach Alphabet)"]
[]
[null,null,"Rang",null,null,null,null,"Spieler",null,null,null,null,null,null,null,null,null,null,null,"Spiele",null,null,null,null,null,"Siege",null,null,null,null,null,null,null,null,null,null,"Unentschieden",null,null,null,null,null,null,null,null,null,null,"Niederlagen",null,null,null,null,null,null,null,null,null,null,"Tore",null,null,null,null,null,null,null,null,null,null,null,"+/-",null,null,null,null,"Punkte"]
[null,null,{"$f":"IF($H$78=\"Basti\",$F$78,IF($H$79=\"Basti\",$F$79,IF($H$80=\"Basti\",$F$80,IF($H$81=\"Basti\",$F$81,IF($H$82=\"Basti\",$F$82,IF($H$83=\"Basti\",$F$83,IF($H$84=\"Basti\",$F$84,0)))))))","v":7},null,null,null,null,"Basti",null,null,null,null,null,null,null,null,null,null,null,{"$f":"IF($H$78=\"Basti\",$T$78,IF($H$79=\"Basti\",$T$79,IF($H$80=\"Basti\",$T$80,IF($H$81=\"Basti\",$T$81,IF($H$82=\"Basti\",$T$82,IF($H$83=\"Basti\",$T$83,IF($H$84=\"Basti\",$T$84,0)))))))","v":12},null,null,null,null,null,{"$f":"IF($H$78=\"Basti\",$Z$78,IF($H$79=\"Basti\",$Z$79,IF($H$80=\"Basti\",$Z$80,IF($H$81=\"Basti\",$Z$81,IF($H$82=\"Basti\",$Z$82,IF($H$83=\"Basti\",$Z$83,IF($H$84=\"Basti\",$Z$84,0)))))))","v":0},null,null,null,null,null,null,null,null,null,null,{"$f":"IF($H$78=\"Basti\",$AK$78,IF($H$79=\"Basti\",$AK$79,IF($H$80=\"Basti\",$AK$80,IF($H$81=\"Basti\",$AK$81,IF($H$82=\"Basti\",$AK$82,IF($H$83=\"Basti\",$AK$83,IF($H$84=\"Basti\",$AK$84,0)))))))","v":0},null,null,null,null,null,null,null,null,null,null,{"$f":"IF($H$78=\"Basti\",$AV$78,IF($H$79=\"Basti\",$AV$79,IF($H$80=\"Basti\",$AV$80,IF($H$81=\"Basti\",$AV$81,IF($H$82=\"Basti\",$AV$82,IF($H$83=\"Basti\",$AV$83,IF($H$84=\"Basti\",$AV$84,0)))))))","v":12},null,null,null,null,null,null,null,null,null,null,{"$f":"IF($H$78=\"Basti\",$BG$78,IF($H$79=\"Basti\",$BG$79,IF($H$80=\"Basti\",$BG$80,IF($H$81=\"Basti\",$BG$81,IF($H$82=\"Basti\",$BG$82,IF($H$83=\"Basti\",$BG$83,IF($H$84=\"Basti\",$BG$84,0)))))))","v":6},null,null,null,null,":",null,{"$f":"IF($H$78=\"Basti\",$BN$78,IF($H$79=\"Basti\",$BN$79,IF($H$80=\"Basti\",$BN$80,IF($H$81=\"Basti\",$BN$81,IF($H$82=\"Basti\",$BN$82,IF($H$83=\"Basti\",$BN$83,IF($H$84=\"Basti\",$BN$84,0)))))))","v":42},null,null,null,null,{"$f":"IF($H$78=\"Basti\",$BS$78,IF($H$79=\"Basti\",$BS$79,IF($H$80=\"Basti\",$BS$80,IF($H$81=\"Basti\",$BS$81,IF($H$82=\"Basti\",$BS$82,IF($H$83=\"Basti\",$BS$83,IF($H$84=\"Basti\",$BS$84,0)))))))","v":-36},null,null,null,null,{"$f":"IF($H$78=\"Basti\",$BX$78,IF($H$79=\"Basti\",$BX$79,IF($H$80=\"Basti\",$BX$80,IF($H$81=\"Basti\",$BX$81,IF($H$82=\"Basti\",$BX$82,IF($H$83=\"Basti\",$BX$83,IF($H$84=\"Basti\",$BX$84,0)))))))","v":0}]
[null,null,{"$f":"IF($H$78=\"Christoph\",$F$78,IF($H$79=\"Christoph\",$F$79,IF($H$80=\"Christoph\",$F$80,IF($H$81=\"Christoph\",$F$81,IF($H$82=\"Christoph\",$F$82,IF($H$83=\"Christoph\",$F$83,IF($H$84=\"Christoph\",$F$84,0)))))))","v":2},null,null,null,null,"Christoph",null,null,null,null,null,null,null,null,null,null,null,{"$f":"IF($H$78=\"Christoph\",$T$78,IF($H$79=\"Christoph\",$T$79,IF($H$80=\"Christoph\",$T$80,IF($H$81=\"Christoph\",$T$81,IF($H$82=\"Christoph\",$T$82,IF($H$83=\"Christoph\",$T$83,IF($H$84=\"Christoph\",$T$84,0)))))))","v":12},null,null,null,null,null,{"$f":"IF($H$78=\"Christoph\",$Z$78,IF($H$79=\"Christoph\",$Z$79,IF($H$80=\"Christoph\",$Z$80,IF($H$81=\"Christoph\",$Z$81,IF($H$82=\"Christoph\",$Z$82,IF($H$83=\"Christoph\",$Z$83,IF($H$84=\"Christoph\",$Z$84,0)))))))","v":8},null,null,null,null,null,null,null,null,null,null,{"$f":"IF($H$78=\"Christoph\",$AK$78,IF($H$79=\"Christoph\",$AK$79,IF($H$80=\"Christoph\",$AK$80,IF($H$81=\"Christoph\",$AK$81,IF($H$82=\"Christoph\",$AK$82,IF($H$83=\"Christoph\",$AK$83,IF($H$84=\"Christoph\",$AK$84,0)))))))","v":1},null,null,null,null,null,null,null,null,null,null,{"$f":"IF($H$78=\"Christoph\",$AV$78,IF($H$79=\"Christoph\",$AV$79,IF($H$80=\"Christoph\",$AV$80,IF($H$81=\"Christoph\",$AV$81,IF($H$82=\"Christoph\",$AV$82,IF($H$83=\"Christoph\",$AV$83,IF($H$84=\"Christoph\",$AV$84,0)))))))","v":3},null,null,null,null,null,null,null,null,null,null,{"$f":"IF($H$78=\"Christoph\",$BG$78,IF($H$79=\"Christoph\",$BG$79,IF($H$80=\"Christoph\",$BG$80,IF($H$81=\"Christoph\",$BG$81,IF($H$82=\"Christoph\",$BG$82,IF($H$83=\"Christoph\",$BG$83,IF($H$84=\"Christoph\",$BG$84,0)))))))","v":33},null,null,null,null,":",null,{"$f":"IF($H$78=\"Christoph\",$BN$78,IF($H$79=\"Christoph\",$BN$79,IF($H$80=\"Christoph\",$BN$80,IF($H$81=\"Christoph\",$BN$81,IF($H$82=\"Christoph\",$BN$82,IF($H$83=\"Christoph\",$BN$83,IF($H$84=\"Christoph\",$BN$84,0)))))))","v":27},null,null,null,null,{"$f":"IF($H$78=\"Christoph\",$BS$78,IF($H$79=\"Christoph\",$BS$79,IF($H$80=\"Christoph\",$BS$80,IF($H$81=\"Christoph\",$BS$81,IF($H$82=\"Christoph\",$BS$82,IF($H$83=\"Christoph\",$BS$83,IF($H$84=\"Christoph\",$BS$84,0)))))))","v":6},null,null,null,null,{"$f":"IF($H$78=\"Christoph\",$BX$78,IF($H$79=\"Christoph\",$BX$79,IF($H$80=\"Christoph\",$BX$80,IF($H$81=\"Christoph\",$BX$81,IF($H$82=\"Christoph\",$BX$82,IF($H$83=\"Christoph\",$BX$83,IF($H$84=\"Christoph\",$BX$84,0)))))))","v":25}]
[null,null,{"$f":"IF($H$78=\"Jule\",$F$78,IF($H$79=\"Jule\",$F$79,IF($H$80=\"Jule\",$F$80,IF($H$81=\"Jule\",$F$81,IF($H$82=\"Jule\",$F$82,IF($H$83=\"Jule\",$F$83,IF($H$84=\"Jule\",$F$84,0)))))))","v":3},null,null,null,null,"Jule",null,null,null,null,null,null,null,null,null,null,null,{"$f":"IF($H$78=\"Jule\",$T$78,IF($H$79=\"Jule\",$T$79,IF($H$80=\"Jule\",$T$80,IF($H$81=\"Jule\",$T$81,IF($H$82=\"Jule\",$T$82,IF($H$83=\"Jule\",$T$83,IF($H$84=\"Jule\",$T$84,0)))))))","v":12},null,null,null,null,null,{"$f":"IF($H$78=\"Jule\",$Z$78,IF($H$79=\"Jule\",$Z$79,IF($H$80=\"Jule\",$Z$80,IF($H$81=\"Jule\",$Z$81,IF($H$82=\"Jule\",$Z$82,IF($H$83=\"Jule\",$Z$83,IF($H$84=\"Jule\",$Z$84,0)))))))","v":7},null,null,null,null,null,null,null,null,null,null,{"$f":"IF($H$78=\"Jule\",$AK$78,IF($H$79=\"Jule\",$AK$79,IF($H$80=\"Jule\",$AK$80,IF($H$81=\"Jule\",$AK$81,IF($H$82=\"Jule\",$AK$82,IF($H$83=\"Jule\",$AK$83,IF($H$84=\"Jule\",$AK$84,0)))))))","v":1},null,null,null,null,null,null,null,null,null,null,{"$f":"IF($H$78=\"Jule\",$AV$78,IF($H$79=\"Jule\",$AV$79,IF($H$80=\"Jule\",$AV$80,IF($H$81=\"Jule\",$AV$81,IF($H$82=\"Jule\",$AV$82,IF($H$83=\"Jule\",$AV$83,IF($H$84=\"Jule\",$AV$84,0)))))))","v":4},null,null,null,null,null,null,null,null,null,null,{"$f":"IF($H$78=\"Jule\",$BG$78,IF($H$79=\"Jule\",$BG$79,IF($H$80=\"Jule\",$BG$80,IF($H$81=\"Jule\",$BG$81,IF($H$82=\"Jule\",$BG$82,IF($H$83=\"Jule\",$BG$83,IF($H$84=\"Jule\",$BG$84,0)))))))","v":30},null,null,null,null,":",null,{"$f":"IF($H$78=\"Jule\",$BN$78,IF($H$79=\"Jule\",$BN$79,IF($H$80=\"Jule\",$BN$80,IF($H$81=\"Jule\",$BN$81,IF($H$82=\"Jule\",$BN$82,IF($H$83=\"Jule\",$BN$83,IF($H$84=\"Jule\",$BN$84,0)))))))","v":26},null,null,null,null,{"$f":"IF($H$78=\"Jule\",$BS$78,IF($H$79=\"Jule\",$BS$79,IF($H$80=\"Jule\",$BS$80,IF($H$81=\"Jule\",$BS$81,IF($H$82=\"Jule\",$BS$82,IF($H$83=\"Jule\",$BS$83,IF($H$84=\"Jule\",$BS$84,0)))))))","v":4},null,null,null,null,{"$f":"IF($H$78=\"Jule\",$BX$78,IF($H$79=\"Jule\",$BX$79,IF($H$80=\"Jule\",$BX$80,IF($H$81=\"Jule\",$BX$81,IF($H$82=\"Jule\",$BX$82,IF($H$83=\"Jule\",$BX$83,IF($H$84=\"Jule\",$BX$84,0)))))))","v":22}]
[null,null,{"$f":"IF($H$78=\"Markus\",$F$78,IF($H$79=\"Markus\",$F$79,IF($H$80=\"Markus\",$F$80,IF($H$81=\"Markus\",$F$81,IF($H$82=\"Markus\",$F$82,IF($H$83=\"Markus\",$F$83,IF($H$84=\"Markus\",$F$84,0)))))))","v":6},null,null,null,null,"Markus",null,null,null,null,null,null,null,null,null,null,null,{"$f":"IF($H$78=\"Markus\",$T$78,IF($H$79=\"Markus\",$T$79,IF($H$80=\"Markus\",$T$80,IF($H$81=\"Markus\",$T$81,IF($H$82=\"Markus\",$T$82,IF($H$83=\"Markus\",$T$83,IF($H$84=\"Markus\",$T$84,0)))))))","v":12},null,null,null,null,null,{"$f":"IF($H$78=\"Markus\",$Z$78,IF($H$79=\"Markus\",$Z$79,IF($H$80=\"Markus\",$Z$80,IF($H$81=\"Markus\",$Z$81,IF($H$82=\"Markus\",$Z$82,IF($H$83=\"Markus\",$Z$83,IF($H$84=\"Markus\",$Z$84,0)))))))","v":4},null,null,null,null,null,null,null,null,null,null,{"$f":"IF($H$78=\"Markus\",$AK$78,IF($H$79=\"Markus\",$AK$79,IF($H$80=\"Markus\",$AK$80,IF($H$81=\"Markus\",$AK$81,IF($H$82=\"Markus\",$AK$82,IF($H$83=\"Markus\",$AK$83,IF($H$84=\"Markus\",$AK$84,0)))))))","v":2},null,null,null,null,null,null,null,null,null,null,{"$f":"IF($H$78=\"Markus\",$AV$78,IF($H$79=\"Markus\",$AV$79,IF($H$80=\"Markus\",$AV$80,IF($H$81=\"Markus\",$AV$81,IF($H$82=\"Markus\",$AV$82,IF($H$83=\"Markus\",$AV$83,IF($H$84=\"Markus\",$AV$84,0)))))))","v":6},null,null,null,null,null,null,null,null,null,null,{"$f":"IF($H$78=\"Markus\",$BG$78,IF($H$79=\"Markus\",$BG$79,IF($H$80=\"Markus\",$BG$80,IF($H$81=\"Markus\",$BG$81,IF($H$82=\"Markus\",$BG$82,IF($H$83=\"Markus\",$BG$83,IF($H$84=\"Markus\",$BG$84,0)))))))","v":35},null,null,null,null,":",null,{"$f":"IF($H$78=\"Markus\",$BN$78,IF($H$79=\"Markus\",$BN$79,IF($H$80=\"Markus\",$BN$80,IF($H$81=\"Markus\",$BN$81,IF($H$82=\"Markus\",$BN$82,IF($H$83=\"Markus\",$BN$83,IF($H$84=\"Markus\",$BN$84,0)))))))","v":32},null,null,null,null,{"$f":"IF($H$78=\"Markus\",$BS$78,IF($H$79=\"Markus\",$BS$79,IF($H$80=\"Markus\",$BS$80,IF($H$81=\"Markus\",$BS$81,IF($H$82=\"Markus\",$BS$82,IF($H$83=\"Markus\",$BS$83,IF($H$84=\"Markus\",$BS$84,0)))))))","v":3},null,null,null,null,{"$f":"IF($H$78=\"Markus\",$BX$78,IF($H$79=\"Markus\",$BX$79,IF($H$80=\"Markus\",$BX$80,IF($H$81=\"Markus\",$BX$81,IF($H$82=\"Markus\",$BX$82,IF($H$83=\"Markus\",$BX$83,IF($H$84=\"Markus\",$BX$84,0)))))))","v":14}]
[null,null,{"$f":"IF($H$78=\"Patrick\",$F$78,IF($H$79=\"Patrick\",$F$79,IF($H$80=\"Patrick\",$F$80,IF($H$81=\"Patrick\",$F$81,IF($H$82=\"Patrick\",$F$82,IF($H$83=\"Patrick\",$F$83,IF($H$84=\"Patrick\",$F$84,0)))))))","v":4},null,null,null,null,"Patrick",null,null,null,null,null,null,null,null,null,null,null,{"$f":"IF($H$78=\"Patrick\",$T$78,IF($H$79=\"Patrick\",$T$79,IF($H$80=\"Patrick\",$T$80,IF($H$81=\"Patrick\",$T$81,IF($H$82=\"Patrick\",$T$82,IF($H$83=\"Patrick\",$T$83,IF($H$84=\"Patrick\",$T$84,0)))))))","v":12},null,null,null,null,null,{"$f":"IF($H$78=\"Patrick\",$Z$78,IF($H$79=\"Patrick\",$Z$79,IF($H$80=\"Patrick\",$Z$80,IF($H$81=\"Patrick\",$Z$81,IF($H$82=\"Patrick\",$Z$82,IF($H$83=\"Patrick\",$Z$83,IF($H$84=\"Patrick\",$Z$84,0)))))))","v":7},null,null,null,null,null,null,null,null,null,null,{"$f":"IF($H$78=\"Patrick\",$AK$78,IF($H$79=\"Patrick\",$AK$79,IF($H$80=\"Patrick\",$AK$80,IF($H$81=\"Patrick\",$AK$81,IF($H$82=\"Patrick\",$AK$82,IF($H$83=\"Patrick\",$AK$83,IF($H$84=\"Patrick\",$AK$84,0)))))))","v":0},null,null,null,null,null,null,null,null,null,null,{"$f":"IF($H$78=\"Patrick\",$AV$78,IF($H$79=\"Patrick\",$AV$79,IF($H$80=\"Patrick\",$AV$80,IF($H$81=\"Patrick\",$AV$81,IF($H$82=\"Patrick\",$AV$82,IF($H$83=\"Patrick\",$AV$83,IF($H$84=\"Patrick\",$AV$84,0)))))))","v":5},null,null,null,null,null,null,null,null,null,null,{"$f":"IF($H$78=\"Patrick\",$BG$78,IF($H$79=\"Patrick\",$BG$79,IF($H$80=\"Patrick\",$BG$80,IF($H$81=\"Patrick\",$BG$81,IF($H$82=\"Patrick\",$BG$82,IF($H$83=\"Patrick\",$BG$83,IF($H$84=\"Patrick\",$BG$84,0)))))))","v":31},null,null,null,null,":",null,{"$f":"IF($H$78=\"Patrick\",$BN$78,IF($H$79=\"Patrick\",$BN$79,IF($H$80=\"Patrick\",$BN$80,IF($H$81=\"Patrick\",$BN$81,IF($H$82=\"Patrick\",$BN$82,IF($H$83=\"Patrick\",$BN$83,IF($H$84=\"Patrick\",$BN$84,0)))))))","v":22},null,null,null,null,{"$f":"IF($H$78=\"Patrick\",$BS$78,IF($H$79=\"Patrick\",$BS$79,IF($H$80=\"Patrick\",$BS$80,IF($H$81=\"Patrick\",$BS$81,IF($H$82=\"Patrick\",$BS$82,IF($H$83=\"Patrick\",$BS$83,IF($H$84=\"Patrick\",$BS$84,0)))))))","v":9},null,null,null,null,{"$f":"IF($H$78=\"Patrick\",$BX$78,IF($H$79=\"Patrick\",$BX$79,IF($H$80=\"Patrick\",$BX$80,IF($H$81=\"Patrick\",$BX$81,IF($H$82=\"Patrick\",$BX$82,IF($H$83=\"Patrick\",$BX$83,IF($H$84=\"Patrick\",$BX$84,0)))))))","v":21}]
[null,null,{"$f":"IF($H$78=\"Ratze\",$F$78,IF($H$79=\"Ratze\",$F$79,IF($H$80=\"Ratze\",$F$80,IF($H$81=\"Ratze\",$F$81,IF($H$82=\"Ratze\",$F$82,IF($H$83=\"Ratze\",$F$83,IF($H$84=\"Ratze\",$F$84,0)))))))","v":1},null,null,null,null,"Ratze",null,null,null,null,null,null,null,null,null,null,null,{"$f":"IF($H$78=\"Ratze\",$T$78,IF($H$79=\"Ratze\",$T$79,IF($H$80=\"Ratze\",$T$80,IF($H$81=\"Ratze\",$T$81,IF($H$82=\"Ratze\",$T$82,IF($H$83=\"Ratze\",$T$83,IF($H$84=\"Ratze\",$T$84,0)))))))","v":12},null,null,null,null,null,{"$f":"IF($H$78=\"Ratze\",$Z$78,IF($H$79=\"Ratze\",$Z$79,IF($H$80=\"Ratze\",$Z$80,IF($H$81=\"Ratze\",$Z$81,IF($H$82=\"Ratze\",$Z$82,IF($H$83=\"Ratze\",$Z$83,IF($H$84=\"Ratze\",$Z$84,0)))))))","v":8},null,null,null,null,null,null,null,null,null,null,{"$f":"IF($H$78=\"Ratze\",$AK$78,IF($H$79=\"Ratze\",$AK$79,IF($H$80=\"Ratze\",$AK$80,IF($H$81=\"Ratze\",$AK$81,IF($H$82=\"Ratze\",$AK$82,IF($H$83=\"Ratze\",$AK$83,IF($H$84=\"Ratze\",$AK$84,0)))))))","v":1},null,null,null,null,null,null,null,null,null,null,{"$f":"IF($H$78=\"Ratze\",$AV$78,IF($H$79=\"Ratze\",$AV$79,IF($H$80=\"Ratze\",$AV$80,IF($H$81=\"Ratze\",$AV$81,IF($H$82=\"Ratze\",$AV$82,IF($H$83=\"Ratze\",$AV$83,IF($H$84=\"Ratze\",$AV$84,0)))))))","v":3},null,null,null,null,null,null,null,null,null,null,{"$f":"IF($H$78=\"Ratze\",$BG$78,IF($H$79=\"Ratze\",$BG$79,IF($H$80=\"Ratze\",$BG$80,IF($H$81=\"Ratze\",$BG$81,IF($H$82=\"Ratze\",$BG$82,IF($H$83=\"Ratze\",$BG$83,IF($H$84=\"Ratze\",$BG$84,0)))))))","v":46},null,null,null,null,":",null,{"$f":"IF($H$78=\"Ratze\",$BN$78,IF($H$79=\"Ratze\",$BN$79,IF($H$80=\"Ratze\",$BN$80,IF($H$81=\"Ratze\",$BN$81,IF($H$82=\"Ratze\",$BN$82,IF($H$83=\"Ratze\",$BN$83,IF($H$84=\"Ratze\",$BN$84,0)))))))","v":27},null,null,null,null,{"$f":"IF($H$78=\"Ratze\",$BS$78,IF($H$79=\"Ratze\",$BS$79,IF($H$80=\"Ratze\",$BS$80,IF($H$81=\"Ratze\",$BS$81,IF($H$82=\"Ratze\",$BS$82,IF($H$83=\"Ratze\",$BS$83,IF($H$84=\"Ratze\",$BS$84,0)))))))","v":19},null,null,null,null,{"$f":"IF($H$78=\"Ratze\",$BX$78,IF($H$79=\"Ratze\",$BX$79,IF($H$80=\"Ratze\",$BX$80,IF($H$81=\"Ratze\",$BX$81,IF($H$82=\"Ratze\",$BX$82,IF($H$83=\"Ratze\",$BX$83,IF($H$84=\"Ratze\",$BX$84,0)))))))","v":25}]
[null,null,{"$f":"IF($H$78=\"Schmiddi\",$F$78,IF($H$79=\"Schmiddi\",$F$79,IF($H$80=\"Schmiddi\",$F$80,IF($H$81=\"Schmiddi\",$F$81,IF($H$82=\"Schmiddi\",$F$82,IF($H$83=\"Schmiddi\",$F$83,IF($H$84=\"Schmiddi\",$F$84,0)))))))","v":5},null,null,null,null,"Schmiddi",null,null,null,null,null,null,null,null,null,null,null,{"$f":"IF($H$78=\"Schmiddi\",$T$78,IF($H$79=\"Schmiddi\",$T$79,IF($H$80=\"Schmiddi\",$T$80,IF($H$81=\"Schmiddi\",$T$81,IF($H$82=\"Schmiddi\",$T$82,IF($H$83=\"Schmiddi\",$T$83,IF($H$84=\"Schmiddi\",$T$84,0)))))))","v":12},null,null,null,null,null,{"$f":"IF($H$78=\"Schmiddi\",$Z$78,IF($H$79=\"Schmiddi\",$Z$79,IF($H$80=\"Schmiddi\",$Z$80,IF($H$81=\"Schmiddi\",$Z$81,IF($H$82=\"Schmiddi\",$Z$82,IF($H$83=\"Schmiddi\",$Z$83,IF($H$84=\"Schmiddi\",$Z$84,0)))))))","v":4},null,null,null,null,null,null,null,null,null,null,{"$f":"IF($H$78=\"Schmiddi\",$AK$78,IF($H$79=\"Schmiddi\",$AK$79,IF($H$80=\"Schmiddi\",$AK$80,IF($H$81=\"Schmiddi\",$AK$81,IF($H$82=\"Schmiddi\",$AK$82,IF($H$83=\"Schmiddi\",$AK$83,IF($H$84=\"Schmiddi\",$AK$84,0)))))))","v":3},null,null,null,null,null,null,null,null,null,null,{"$f":"IF($H$78=\"Schmiddi\",$AV$78,IF($H$79=\"Schmiddi\",$AV$79,IF($H$80=\"Schmiddi\",$AV$80,IF($H$81=\"Schmiddi\",$AV$81,IF($H$82=\"Schmiddi\",$AV$82,IF($H$83=\"Schmiddi\",$AV$83,IF($H$84=\"Schmiddi\",$AV$84,0)))))))","v":5},null,null,null,null,null,null,null,null,null,null,{"$f":"IF($H$78=\"Schmiddi\",$BG$78,IF($H$79=\"Schmiddi\",$BG$79,IF($H$80=\"Schmiddi\",$BG$80,IF($H$81=\"Schmiddi\",$BG$81,IF($H$82=\"Schmiddi\",$BG$82,IF($H$83=\"Schmiddi\",$BG$83,IF($H$84=\"Schmiddi\",$BG$84,0)))))))","v":33},null,null,null,null,":",null,{"$f":"IF($H$78=\"Schmiddi\",$BN$78,IF($H$79=\"Schmiddi\",$BN$79,IF($H$80=\"Schmiddi\",$BN$80,IF($H$81=\"Schmiddi\",$BN$81,IF($H$82=\"Schmiddi\",$BN$82,IF($H$83=\"Schmiddi\",$BN$83,IF($H$84=\"Schmiddi\",$BN$84,0)))))))","v":38},null,null,null,null,{"$f":"IF($H$78=\"Schmiddi\",$BS$78,IF($H$79=\"Schmiddi\",$BS$79,IF($H$80=\"Schmiddi\",$BS$80,IF($H$81=\"Schmiddi\",$BS$81,IF($H$82=\"Schmiddi\",$BS$82,IF($H$83=\"Schmiddi\",$BS$83,IF($H$84=\"Schmiddi\",$BS$84,0)))))))","v":-5},null,null,null,null,{"$f":"IF($H$78=\"Schmiddi\",$BX$78,IF($H$79=\"Schmiddi\",$BX$79,IF($H$80=\"Schmiddi\",$BX$80,IF($H$81=\"Schmiddi\",$BX$81,IF($H$82=\"Schmiddi\",$BX$82,IF($H$83=\"Schmiddi\",$BX$83,IF($H$84=\"Schmiddi\",$BX$84,0)))))))","v":15}]

{"sheet":"6.1.","index":10,"n_rows":97,"n_cols":88,"rows_kept":97,"cut":false,"hidden":false,"merged":[[97,1,97,82],[98,0,98,83],[96,47,96,57],[96,58,96,62],[96,63,96,64],[96,65,96,69],[96,70,96,74],[96,75,96,81],[95,58,95,62],[95,63,95,64],[95,65,95,69],[95,70,95,74],[95,75,95,81],[96,2,96,6],[96,7,96,18],[96,19,96,24],[96,25,96,35],[96,36,96,46],[95,2,95,6],[95,7,95,18],[95,19,95,24],[95,25,95,35],[95,36,95,46],[95,47,95,57],[94,47,94,57],[94,58,94,62],[94,63,94,64],[94,65,94,69],[94,70,94,74],[94,75,94,81],[93,58,93,62],[93,63,93,64],[93,65,93,69],[93,70,93,74],[93,75,93,81],[93,47,93,57],[94,2,94,6],[94,7,94,18],[94,19,94,24],[94,25,94,35],[94,36,94,46],[93,2,93,6],[93,7,93,18],[93,19,93,24],[93,25,93,35],[93,36,93,46],[92,36,92,46],[90,63,90,64],[90,65,90,69],[90,70,90,74],[90,75,90,81],[91,2,91,6],[91,7,91,18],[91,19,91,24],[91,25,91,35],[91,36,91,46],[91,47,91,57],[92,47,92,57],[92,58,92,62],[92,63,92,64],[92,65,92,69],[92,70,92,74],[92,75,92,81],[91,58,91,62],[91,63,91,64],[91,65,91,69],[91,70,91,74],[91,75,91,81],[87,1,96,1],[87,2,87,81],[87,82,96,82],[88,2,88,81],[89,2,89,6],[89,7,89,18],[89,19,89,24],[89,25,89,35],[89,36,89,46],[89,47,89,57],[89,58,89,69],[89,70,89,74],[89,75,89,81],[90,2,90,6],[90,7,90,18],[90,19,90,24],[90,25,90,35],[90,36,90,46],[90,47,90,57],[90,58,90,62],[92,2,92,6],[92,7,92,18],[92,19,92,24],[92,25,92,35],[84,1,84,82],[85,1,85,82],[86,1,86,82],[82,75,82,81],[83,2,83,4],[83,5,83,6],[83,7,83,18],[83,19,83,24],[83,25,83,35],[83,36,83,46],[83,47,83,57],[83,58,83,62],[83,63,83,64],[82,36,82,46],[82,47,82,57],[82,58,82,62],[82,63,82,64],[82,65,82,69],[82,70,82,74],[81,65,81,69],[81,70,81,74],[81,75,81,81],[82,2,82,4],[82,5,82,6],[82,7,82,18],[82,19,82,24],[82,25,82,35],[83,65,83,69],[83,70,83,74],[83,75,83,81],[81,2,81,4],[81,5,81,6],[81,7,81,18],[81,19,81,24],[81,25,81,35],[81,36,81,46],[81,47,81,57],[81,58,81,62],[81,63,81,64],[79,2,79,4],[79,5,79,6],[79,7,79,18],[79,19,79,24],[79,25,79,35],[79,75,79,81],[80,2,80,4],[80,5,80,6],[80,7,80,18],[80,19,80,24],[80,25,80,35],[80,36,80,46],[80,47,80,57],[80,58,80,62],[80,63,80,64],[79,36,79,46],[79,47,79,57],[79,58,79,62],[79,63,79,64],[79,65,79,69],[79,70,79,74],[80,65,80,69],[80,70,80,74],[80,75,80,81],[76,70,76,74],[77,65,77,69],[77,70,77,74],[77,75,77,81],[78,2,78,4],[78,5,78,6],[78,7,78,18],[78,19,78,24],[78,25,78,35],[78,36,78,46],[78,47,78,57],[78,58,78,62],[78,63,78,64],[78,65,78,69],[78,70,78,74],[78,75,78,81],[71,1,71,82],[72,1,72,82],[73,1,73,82],[74,1,83,1],[74,2,74,81],[74,82,83,82],[75,2,75,81],[76,2,76,6],[76,7,76,18],[76,75,76,81],[77,2,77,4],[77,5,77,6],[77,7,77,18],[77,19,77,24],[77,25,77,35],[77,36,77,46],[77,47,77,57],[77,58,77,62],[77,63,77,64],[76,19,76,24],[76,25,76,35],[76,36,76,46],[76,47,76,57],[76,58,76,69],[69,70,69,74],[69,75,69,78],[69,79,69,81],[70,2,70,6],[70,7,70,18],[70,19,70,24],[70,25,70,35],[70,36,70,46],[70,79,70,81],[70,47,70,57],[70,58,70,62],[70,63,70,64],[70,65,70,69],[70,70,70,74],[70,75,70,78],[69,2,69,6],[69,7,69,18],[69,19,69,24],[69,25,69,35],[69,36,69,46],[69,47,69,57],[69,58,69,62],[69,63,69,64],[69,65,69,69],[67,2,67,6],[67,7,67,18],[67,19,67,24],[67,25,67,35],[67,36,67,46],[67,79,67,81],[68,2,68,6],[68,7,68,18],[68,19,68,24],[68,25,68,35],[68,36,68,46],[68,47,68,57],[68,58,68,62],[68,63,68,64],[68,65,68,69],[67,47,67,57],[67,58,67,62],[67,63,67,64],[67,65,67,69],[67,70,67,74],[67,75,67,78],[68,70,68,74],[68,75,68,78],[68,79,68,81],[64,70,64,74],[64,75,64,78],[65,70,65,74],[65,75,65,78],[65,79,65,81],[66,2,66,6],[66,7,66,18],[66,19,66,24],[66,25,66,35],[66,36,66,46],[66,47,66,57],[66,58,66,62],[66,63,66,64],[66,65,66,69],[66,70,66,74],[66,75,66,78],[66,79,66,81],[65,25,65,35],[65,36,65,46],[65,47,65,57],[65,58,65,62],[65,63,65,64],[65,65,65,69],[64,47,64,57],[64,58,64,62],[64,63,64,64],[64,65,64,69],[60,1,60,82],[61,1,68,1],[61,2,61,81],[61,82,68,82],[62,2,62,81],[63,2,63,6],[63,7,63,18],[63,19,63,24],[63,25,63,35],[63,36,63,46],[63,47,63,57],[63,58,63,69],[63,70,63,74],[63,75,63,78],[63,79,63,81],[64,2,64,6],[64,7,64,18],[64,19,64,24],[64,25,64,35],[64,36,64,46],[64,79,64,81],[65,2,65,6],[65,7,65,18],[65,19,65,24],[35,77,35,81],[36,1,36,82],[59,1,59,82],[34,53,34,67],[34,69,34,73],[34,74,34,76],[34,77,34,81],[35,7,35,10],[35,12,35,16],[35,18,35,22],[35,24,35,33],[35,35,35,49],[35,50,35,52],[34,7,34,10],[34,12,34,16],[34,18,34,22],[34,24,34,33],[34,35,34,49],[34,50,34,52],[35,53,35,67],[35,69,35,73],[35,74,35,76],[32,77,32,81],[33,7,33,10],[33,12,33,16],[33,18,33,22],[33,24,33,33],[33,35,33,49],[33,50,33,52],[33,53,33,67],[33,69,33,73],[33,74,33,76],[33,77,33,81],[32,7,32,10],[32,12,32,16],[32,18,32,22],[32,24,32,33],[32,35,32,49],[32,50,32,52],[32,53,32,67],[32,69,32,73],[32,74,32,76],[30,77,30,81],[31,7,31,10],[31,12,31,16],[31,18,31,22],[31,24,31,33],[31,35,31,49],[31,50,31,52],[31,53,31,67],[31,69,31,73],[31,74,31,76],[31,77,31,81],[30,7,30,10],[30,12,30,16],[30,18,30,22],[30,24,30,33],[30,35,30,49],[30,50,30,52],[30,53,30,67],[30,69,30,73],[30,74,30,76],[28,74,28,76],[28,77,28,81],[29,7,29,10],[29,12,29,16],[29,18,29,22],[29,24,29,33],[29,35,29,49],[29,50,29,52],[28,7,28,10],[28,12,28,16],[28,18,28,22],[28,24,28,33],[28,35,28,49],[28,50,28,52],[29,53,29,67],[29,69,29,73],[29,74,29,76],[29,77,29,81],[27,18,27,22],[27,24,27,33],[27,35,27,49],[27,50,27,52],[26,50,26,52],[26,53,26,67],[26,68,35,68],[28,53,28,67],[28,69,28,73],[24,77,24,81],[25,2,25,81],[26,2,35,5],[26,6,35,6],[26,7,26,10],[26,11,35,11],[26,12,26,16],[15,2,24,5],[15,6,24,6],[26,69,26,73],[26,74,26,76],[26,77,26,81],[27,53,27,67],[27,69,27,73],[27,74,27,76],[27,77,27,81],[26,17,35,17],[26,18,26,22],[26,23,35,23],[26,24,26,33],[26,34,35,34],[26,35,26,49],[27,7,27,10],[27,12,27,16],[24,7,24,10],[24,12,24,16],[24,18,24,22],[24,24,24,33],[24,35,24,49],[24,50,24,52],[24,53,24,67],[24,69,24,73],[24,74,24,76],[22,24,22,33],[22,35,22,49],[22,50,22,52],[22,53,22,67],[22,69,22,73],[22,74,22,76],[22,77,22,81],[23,7,23,10],[23,12,23,16],[23,18,23,22],[23,24,23,33],[23,35,23,49],[23,50,23,52],[23,53,23,67],[23,69,23,73],[23,74,23,76],[23,77,23,81],[20,53,20,67],[20,69,20,73],[20,74,20,76],[20,77,20,81],[21,7,21,10],[21,12,21,16],[21,18,21,22],[21,24,21,33],[21,35,21,49],[21,50,21,52],[21,53,21,67],[21,69,21,73],[21,74,21,76],[21,77,21,81],[18,53,18,67],[18,69,18,73],[18,74,18,76],[18,77,18,81],[19,7,19,10],[19,12,19,16],[19,18,19,22],[19,24,19,33],[19,35,19,49],[19,50,19,52],[19,53,19,67],[19,69,19,73],[19,74,19,76],[19,77,19,81],[16,53,16,67],[16,69,16,73],[16,74,16,76],[16,77,16,81],[17,7,17,10],[17,12,17,16],[17,18,17,22],[17,24,17,33],[17,35,17,49],[17,50,17,52],[17,53,17,67],[17,69,17,73],[17,74,17,76],[17,77,17,81],[15,24,15,33],[15,34,24,34],[15,35,15,49],[15,50,15,52],[16,50,16,52],[15,7,15,10],[15,11,24,11],[15,12,15,16],[15,17,24,17],[18,7,18,10],[18,12,18,16],[18,18,18,22],[18,24,18,33],[18,35,18,49],[18,50,18,52],[20,7,20,10],[20,12,20,16],[20,18,20,22],[20,24,20,33],[20,35,20,49],[20,50,20,52],[22,7,22,10],[22,12,22,16],[22,18,22,22],[13,69,13,81],[14,2,14,81],[7,68,7,81],[8,1,8,82],[9,1,9,82],[10,1,10,82],[11,1,35,1],[11,2,11,81],[11,82,35,82],[12,2,12,81],[13,2,13,5],[13,7,13,10],[15,53,15,67],[15,68,24,68],[15,69,15,73],[15,74,15,76],[15,77,15,81],[16,7,16,10],[16,12,16,16],[16,18,16,22],[16,24,16,33],[16,35,16,49],[15,18,15,22],[15,23,24,23],[0,0,0,83],[1,1,1,82],[1,83,97,83],[2,1,2,82],[3,1,3,82],[4,1,7,1],[4,2,4,81],[4,82,7,82],[5,2,5,81],[6,2,6,11],[6,12,6,25],[6,26,6,39],[6,40,6,53],[6,54,6,67],[6,68,6,81],[7,2,7,11],[7,12,7,25],[7,26,7,39],[7,40,7,53],[7,54,7,67],[13,12,13,16],[13,18,13,22],[13,24,13,33],[13,35,13,67]]}
[]
[null,{"$f":"\"Turnier am \" & MID(CELL(\"dateiname\",A1),SEARCH(\"]\",CELL(\"dateiname\",A1))+1,31)","v":"Turnier am 6.1."}]
[]
[]
[null,null,"Spielerliste"]
[]
[null,null,{"$f":"\" Spieler\"","v":" Spieler"},null,null,null,null,null,null,null,null,null,"Spieler 1",null,null,null,null,null,null,null,null,null,null,null,null,null,"Spieler 2",null,null,null,null,null,null,null,null,null,null,null,null,null,"Spieler 3",null,null,null,null,null,null,null,null,null,null,null,null,null,"Spieler 4",null,null,null,null,null,null,null,null,null,null,null,null,null,"Spieler 5"]
[null,null,{"$f":"\" Name\"","v":" Name"},null,null,null,null,null,null,null,null,null,"Markus",null,null,null,null,null,null,null,null,null,null,null,null,null,"Christoph",null,null,null,null,null,null,null,null,null,null,null,null,null,"Ratze",null,null,null,null,null,null,null,null,null,null,null,null,null,"Schmiddi",null,null,null,null,null,null,null,null,null,null,null,null,null,"Patrick"]
[]
[]
[]
[null,null,"Spielplan"]
[]
[null,null,"00:12:00",null,null,null,null,"Spiel",null,null,null,null,"Datum",null,null,null,null,null,"Uhrzeit",null,null,null,null,null,"Austragungsort",null,null,null,null,null,null,null,null,null,null,"Paarung",null,null,null,null,null,null,null,null,null,null,null,null,null,null,null,null,null,null,null,null,null,null,null,null,null,null,null,null,null,null,null,null,null,"Ergebnis",null,null,null,null,null,null,null,null,null,null,null,null,null,null,"Spiele","SiegHeim","Unentschieden","SiegGast"]
[]
[null,null,"Hinrunde",null,null,null,null,1,null,null,null,null,{"$f":"MID(CELL(\"dateiname\",A1),SEARCH(\"]\",CELL(\"dateiname\",A1))+1,31)","v":"6.1."},null,null,null,null,null,"21:00:00",null,null,null,null,null,"Fernseher",null,null,null,null,null,null,null,null,null,null,{"$f":"$M$8","v":"Markus"},null,null,null,null,null,null,null,null,null,null,null,null,null,null,":",null,null,{"$f":"$AA$8","v":"Christoph"},null,null,null,null,null,null,null,null,null,null,null,null,null,null,null,1,null,null,null,null,":",null,null,1,null,null,null,null,null,null,{"$f":"IF(AND(ISNUMBER(BR16),ISNUMBER(BZ16)),1,0)","v":1},{"$f":"IF(OR(ISBLANK(BR16),ISBLANK(BZ16)),0,IF(BR16>BZ16,1,0))","v":0},{"$f":"IF(OR(ISBLANK(BR16),ISBLANK(BZ16)),0,IF(BR16=BZ16,1,0))","v":1},{"$f":"IF(OR(ISBLANK(BR16),ISBLANK(BZ16)),0,IF(BR16<BZ16,1,0))","v":0}]
[null,null,null,null,null,null,null,{"$f":"H16+1","v":2},null,null,null,null,{"$f":"$M$16","v":"6.1."},null,null,null,null,null,{"$f":"S16","v":"21:00:00"},null,null,null,null,null,"Fernseher",null,null,null,null,null,null,null,null,null,null,{"$f":"$AO$8","v":"Ratze"},null,null,null,null,null,null,null,null,null,null,null,null,null,null,":",null,null,{"$f":"$BC$8","v":"Schmiddi"},null,null,null,null,null,null,null,null,null,null,null,null,null,null,null,5,null,null,null,null,":",null,null,4,null,null,null,null,null,null,{"$f":"IF(AND(ISNUMBER(BR17),ISNUMBER(BZ17)),1,0)","v":1},{"$f":"IF(OR(ISBLANK(BR17),ISBLANK(BZ17)),0,IF(BR17>BZ17,1,0))","v":1},{"$f":"IF(OR(ISBLANK(BR17),ISBLANK(BZ17)),0,IF(BR17=BZ17,1,0))","v":0},{"$f":"IF(OR(ISBLANK(BR17),ISBLANK(BZ17)),0,IF(BR17<BZ17,1,0))","v":0}]
[null,null,null,null,null,null,null,{"$f":"H17+1","v":3},null,null,null,null,{"$f":"$M$16","v":"6.1."},null,null,null,null,null,{"$f":"S16+$C$14","v":"21:12:00"},null,null,null,null,null,{"$f":"$Y$16","v":"Fernseher"},null,null,null,null,null,null,null,null,null,null,{"$f":"$BQ$8","v":"Patrick"},null,null,null,null,null,null,null,null,null,null,null,null,null,null,":",null,null,{"$f":"$M$8","v":"Markus"},null,null,null,null,null,null,null,null,null,null,null,null,null,null,null,2,null,null,null,null,":",null,null,6,null,null,null,null,null,null,1,0,0,1]
[null,null,null,null,null,null,null,{"$f":"H18+1","v":4},null,null,null,null,"6.1.",null,null,null,null,null,"21:12:00",null,null,null,null,null,{"$f":"$Y$17","v":"Fernseher"},null,null,null,null,null,null,null,null,null,null,{"$f":"$AA$8","v":"Christoph"},null,null,null,null,null,null,null,null,null,null,null,null,null,null,":",null,null,{"$f":"$AO$8","v":"Ratze"},null,null,null,null,null,null,null,null,null,null,null,null,null,null,null,4,null,null,null,null,":",null,null,3,null,null,null,null,null,null,1,1,0,0]
[null,null,null,null,null,null,null,5,null,null,null,null,"6.1.",null,null,null,null,null,"21:24:00",null,null,null,null,null,{"$f":"$Y$16","v":"Fernseher"},null,null,null,null,null,null,null,null,null,null,{"$f":"$BC$8","v":"Schmiddi"},null,null,null,null,null,null,null,null,null,null,null,null,null,null,":",null,null,{"$f":"$BQ$8","v":"Patrick"},null,null,null,null,null,null,null,null,null,null,null,null,null,null,null,0,null,null,null,null,":",null,null,3,null,null,null,null,null,null,1,0,0,1]
[null,null,null,null,null,null,null,6,null,null,null,null,"6.1.",null,null,null,null,null,"21:24:00",null,null,null,null,null,{"$f":"$Y$17","v":"Fernseher"},null,null,null,null,null,null,null,null,null,null,{"$f":"$M$8","v":"Markus"},null,null,null,null,null,null,null,null,null,null,null,null,null,null,":",null,null,{"$f":"$AO$8","v":"Ratze"},null,null,null,null,null,null,null,null,null,null,null,null,null,null,null,0,null,null,null,null,":",null,null,4,null,null,null,null,null,null,1,0,0,1]
[null,null,null,null,null,null,null,7,null,null,null,null,"6.1.",null,null,null,null,null,"21:36:00",null,null,null,null,null,{"$f":"$Y$16","v":"Fernseher"},null,null,null,null,null,null,null,null,null,null,{"$f":"$AA$8","v":"Christoph"},null,null,null,null,null,null,null,null,null,null,null,null,null,null,":",null,null,{"$f":"$BC$8","v":"Schmiddi"},null,null,null,null,null,null,null,null,null,null,null,null,null,null,null,4,null,null,null,null,":",null,null,3,null,null,null,null,null,null,1,1,0,0]
[null,null,null,null,null,null,null,8,null,null,null,null,"6.1.",null,null,null,null,null,"21:36:00",null,null,null,null,null,{"$f":"$Y$17","v":"Fernseher"},null,null,null,null,null,null,null,null,null,null,{"$f":"$AO$8","v":"Ratze"},null,null,null,null,null,null,null,null,null,null,null,null,null,null,":",null,null,{"$f":"$BQ$8","v":"Patrick"},null,null,null,null,null,null,null,null,null,null,null,null,null,null,null,6,null,null,null,null,":",null,null,2,null,null,null,null,null,null,1,1,0,0]
[null,null,null,null,null,null,null,9,null,null,null,null,"6.1.",null,null,null,null,null,"21:48:00",null,null,null,null,null,{"$f":"$Y$16","v":"Fernseher"},null,null,null,null,null,null,null,null,null,null,{"$f":"$BC$8","v":"Schmiddi"},null,null,null,null,null,null,null,null,null,null,null,null,null,null,":",null,null,{"$f":"$M$8","v":"Markus"},null,null,null,null,null,null,null,null,null,null,null,null,null,null,null,2,null,null,null,null,":",null,null,1,null,null,null,null,null,null,1,1,0,0]
[null,null,null,null,null,null,null,10,null,null,null,null,"6.1.",null,null,null,null,null,"21:48:00",null,null,null,null,null,{"$f":"$Y$17","v":"Fernseher"},null,null,null,null,null,null,null,null,null,null,{"$f":"$BQ$8","v":"Patrick"},null,null,null,null,null,null,null,null,null,null,null,null,null,null,":",null,null,{"$f":"$AA$8","v":"Christoph"},null,null,null,null,null,null,null,null,null,null,null,null,null,null,null,1,null,null,null,null,":",null,null,3,null,null,null,null,null,null,1,0,0,1]
[]
[null,null,"Rückrunde",null,null,null,null,{"$f":"H25+1","v":11},null,null,null,null,{"$f":"$M$16","v":"6.1."},null,null,null,null,null,{"$f":"S24+$C$14","v":"22:00:00"},null,null,null,null,null,{"$f":"$Y$17","v":"Fernseher"},null,null,null,null,null,null,null,null,null,null,{"$f":"$AA$8","v":"Christoph"},null,null,null,null,null,null,null,null,null,null,null,null,null,null,":",null,null,{"$f":"$M$8","v":"Markus"},null,null,null,null,null,null,null,null,null,null,null,null,null,null,null,1,null,null,null,null,":",null,null,1,null,null,null,null,null,null,{"$f":"IF(AND(ISNUMBER(BR27),ISNUMBER(BZ27)),1,0)","v":1},{"$f":"IF(OR(ISBLANK(BR27),ISBLANK(BZ27)),0,IF(BR27>BZ27,1,0))","v":0},{"$f":"IF(OR(ISBLANK(BR27),ISBLANK(BZ27)),0,IF(BR27=BZ27,1,0))","v":1},{"$f":"IF(OR(ISBLANK(BR27),ISBLANK(BZ27)),0,IF(BR27<BZ27,1,0))","v":0}]
[null,null,null,null,null,null,null,{"$f":"H27+1","v":12},null,null,null,null,"6.1.",null,null,null,null,null,{"$f":"S25+$C$14","v":"22:00:00"},null,null,null,null,null,{"$f":"$Y$16","v":"Fernseher"},null,null,null,null,null,null,null,null,null,null,{"$f":"$BC$8","v":"Schmiddi"},null,null,null,null,null,null,null,null,null,null,null,null,null,null,":",null,null,{"$f":"$AO$8","v":"Ratze"},null,null,null,null,null,null,null,null,null,null,null,null,null,null,null,0,null,null,null,null,":",null,null,5,null,null,null,null,null,null,1,0,0,1]
[null,null,null,null,null,null,null,{"$f":"H28+1","v":13},null,null,null,null,"6.1.",null,null,null,null,null,{"$f":"S27+$C$14","v":"22:12:00"},null,null,null,null,null,{"$f":"$Y$17","v":"Fernseher"},null,null,null,null,null,null,null,null,null,null,{"$f":"$M$8","v":"Markus"},null,null,null,null,null,null,null,null,null,null,null,null,null,null,":",null,null,{"$f":"$BQ$8","v":"Patrick"},null,null,null,null,null,null,null,null,null,null,null,null,null,null,null,0,null,null,null,null,":",null,null,1,null,null,null,null,null,null,1,0,0,1]
[null,null,null,null,null,null,null,14,null,null,null,null,"6.1.",null,null,null,null,null,"22:12:00",null,null,null,null,null,{"$f":"$Y$16","v":"Fernseher"},null,null,null,null,null,null,null,null,null,null,{"$f":"$AO$8","v":"Ratze"},null,null,null,null,null,null,null,null,null,null,null,null,null,null,":",null,null,{"$f":"$AA$8","v":"Christoph"},null,null,null,null,null,null,null,null,null,null,null,null,null,null,null,1,null,null,null,null,":",null,null,1,null,null,null,null,null,null,1,0,1,0]
[null,null,null,null,null,null,null,15,null,null,null,null,"6.1.",null,null,null,null,null,"22:24:00",null,null,null,null,null,{"$f":"$Y$17","v":"Fernseher"},null,null,null,null,null,null,null,null,null,null,{"$f":"$BQ$8","v":"Patrick"},null,null,null,null,null,null,null,null,null,null,null,null,null,null,":",null,null,{"$f":"$BC$8","v":"Schmiddi"},null,null,null,null,null,null,null,null,null,null,null,null,null,null,null,2,null,null,null,null,":",null,null,1,null,null,null,null,null,null,1,1,0,0]
[null,null,null,null,null,null,null,16,null,null,null,null,"6.1.",null,null,null,null,null,"22:24:00",null,null,null,null,null,{"$f":"$Y$16","v":"Fernseher"},null,null,null,null,null,null,null,null,null,null,{"$f":"$AO$8","v":"Ratze"},null,null,null,null,null,null,null,null,null,null,null,null,null,null,":",null,null,{"$f":"$M$8","v":"Markus"},null,null,null,null,null,null,null,null,null,null,null,null,null,null,null,5,null,null,null,null,":",null,null,2,null,null,null,null,null,null,1,1,0,0]
[null,null,null,null,null,null,null,17,null,null,null,null,"6.1.",null,null,null,null,null,"22:36:00",null,null,null,null,null,{"$f":"$Y$17","v":"Fernseher"},null,null,null,null,null,null,null,null,null,null,{"$f":"$BC$8","v":"Schmiddi"},null,null,null,null,null,null,null,null,null,null,null,null,null,null,":",null,null,{"$f":"$AA$8","v":"Christoph"},null,null,null,null,null,null,null,null,null,null,null,null,null,null,null,1,null,null,null,null,":",null,null,3,null,null,null,null,null,null,1,0,0,1]
[null,null,null,null,null,null,null,18,null,null,null,null,"6.1.",null,null,null,null,null,"22:36:00",null,null,null,null,null,{"$f":"$Y$16","v":"Fernseher"},null,null,null,null,null,null,null,null,null,null,{"$f":"$BQ$8","v":"Patrick"},null,null,null,null,null,null,null,null,null,null,null,null,null,null,":",null,null,{"$f":"$AO$8","v":"Ratze"},null,null,null,null,null,null,null,null,null,null,null,null,null,null,null,1,null,null,null,null,":",null,null,2,null,null,null,null,null,null,1,0,0,1]
[null,null,null,null,null,null,null,19,null,null,null,null,"6.1.",null,null,null,null,null,"22:48:00",null,null,null,null,null,{"$f":"$Y$17","v":"Fernseher"},null,null,null,null,null,null,null,null,null,null,{"$f":"$M$8","v":"Markus"},null,null,null,null,null,null,null,null,null,null,null,null,null,null,":",null,null,{"$f":"$BC$8","v":"Schmiddi"},null,null,null,null,null,null,null,null,null,null,null,null,null,null,null,0,null,null,null,null,":",null,null,1,null,null,null,null,null,null,1,0,0,1]
[null,null,null,null,null,null,null,20,null,null,null,null,"6.1.",null,null,null,null,null,"22:48:00",null,null,null,null,null,{"$f":"$Y$16","v":"Fernseher"},null,null,null,null,null,null,null,null,null,null,{"$f":"$AA$8","v":"Christoph"},null,null,null,null,null,null,null,null,null,null,null,null,null,null,":",null,null,{"$f":"$BQ$8","v":"Patrick"},null,null,null,null,null,null,null,null,null,null,null,null,null,null,null,1,null,null,null,null,":",null,null,4,null,null,null,null,null,null,1,0,0,1]
[]
[]
[]
[]
[]
[]
[]
[]
[]
[]
[]
[]
[]
[]
[]
[]
[]
[]
[]
[]
[]
[]
[]
[]
[]
[null,null,"Tabelle (unsortiert)"]
[]
[null,null,"Rang",null,null,null,null,"Spieler",null,null,null,null,null,null,null,null,null,null,null,"Spiele",null,null,null,null,null,"Siege",null,null,null,null,null,null,null,null,null,null,"Unentschieden",null,null,null,null,null,null,null,null,null,null,"Niederlagen",null,null,null,null,null,null,null,null,null,null,"Tore",null,null,null,null,null,null,null,null,null,null,null,"+/-",null,null,null,null,"Punkte",null,null,null,"HS"]
[null,null,{"$f":"IF(T65=0,0,RANK(BX65,$BX$65:$CA$69,0))","v":5},null,null,null,null,{"$f":"$M$8","v":"Markus"},null,null,null,null,null,null,null,null,null,null,null,{"$f":"CG16+CG18+CG21+CG24+CG27+CG29+CG32+CG35","v":8},null,null,null,null,null,{"$f":"CH16+CJ18+CH21+CJ24+CJ27+CH29+CJ32+CH35","v":1},null,null,null,null,null,null,null,null,null,null,{"$f":"CI16+CI18+CI21+CI24+CI27+CI29+CI32+CI35","v":2},null,null,null,null,null,null,null,null,null,null,{"$f":"CJ16+CH18+CJ21+CH24+CH27+CJ29+CH32+CJ35","v":5},null,null,null,null,null,null,null,null,null,null,{"$f":"BR16+BZ18+BR21+BZ24+BZ27+BR29+BZ32+BR35","v":11},null,null,null,null,":",null,{"$f":"BZ16+BR18+BZ21+BR24+BR27+BZ29+BR32+BZ35","v":17},null,null,null,null,{"$f":"BG65-BN65","v":-6},null,null,null,null,{"$f":"(Z65*3)+AK65","v":5},null,null,null,{"$f":"BX65+ROW()/1000","v":5.0650000000000004}]
[null,null,{"$f":"IF(T66=0,0,RANK(BX66,$BX$65:$CA$69,0))","v":2},null,null,null,null,{"$f":"$AA$8","v":"Christoph"},null,null,null,null,null,null,null,null,null,null,null,{"$f":"CG16+CG19+CG22+CG25+CG27+CG30+CG33+CG36","v":8},null,null,null,null,null,{"$f":"CJ16+CH19+CH22+CJ25+CH27+CJ30+CJ33+CH36","v":4},null,null,null,null,null,null,null,null,null,null,{"$f":"CI16+CI19+CI22+CI25+CI27+CI30+CI33+CI36","v":3},null,null,null,null,null,null,null,null,null,null,{"$f":"CH16+CJ19+CJ22+CH25+CJ27+CH30+CH33+CJ36","v":1},null,null,null,null,null,null,null,null,null,null,{"$f":"BZ16+BR19+BR22+BZ25+BR27+BZ30+BZ33+BR36","v":18},null,null,null,":",":",null,{"$f":"BR16+BZ19+BZ22+BR25+BZ27+BR30+BR33+BZ36","v":15},null,null,null,null,{"$f":"BG66-BN66","v":3},null,null,null,null,{"$f":"(Z66*3)+AK66","v":15},null,null,null,{"$f":"BX66+ROW()/1000","v":15.066000000000001}]
[null,null,{"$f":"IF(T67=0,0,RANK(BX67,$BX$65:$CA$69,0))","v":1},null,null,null,null,{"$f":"$AO$8","v":"Ratze"},null,null,null,null,null,null,null,null,null,null,null,{"$f":"CG17+CG19+CG21+CG23+CG28+CG30+CG32+CG34","v":8},null,null,null,null,null,{"$f":"CH17+CJ19+CJ21+CH23+CJ28+CH30+CH32+CJ34","v":6},null,null,null,null,null,null,null,null,null,null,{"$f":"CI17+CI19+CI21+CI23+CI28+CI30+CI32+CI34","v":1},null,null,null,null,null,null,null,null,null,null,{"$f":"CJ17+CH19+CH21+CJ23+CH28+CJ30+CJ32+CH34","v":1},null,null,null,null,null,null,null,null,null,null,{"$f":"BR17+BZ19+BZ21+BR23+BZ28+BR30+BR32+BZ34","v":31},null,null,null,":",":",null,{"$f":"BZ17+BR19+BR21+BZ23+BR28+BZ30+BZ32+BR34","v":14},null,null,null,null,{"$f":"BG67-BN67","v":17},null,null,null,null,{"$f":"(Z67*3)+AK67","v":19},null,null,null,{"$f":"BX67+ROW()/1000","v":19.067}]
[null,null,{"$f":"IF(T68=0,0,RANK(BX68,$BX$65:$CA$69,0))","v":4},null,null,null,null,{"$f":"$BC$8","v":"Schmiddi"},null,null,null,null,null,null,null,null,null,null,null,{"$f":"CG17+CG20+CG22+CG24+CG28+CG31+CG33+CG35","v":8},null,null,null,null,null,{"$f":"CJ17+CH20+CJ22+CH24+CH28+CJ31+CH33+CJ35","v":2},null,null,null,null,null,null,null,null,null,null,{"$f":"CI17+CI20+CI22+CI24+CI28+CI31+CI33+CI35","v":0},null,null,null,null,null,null,null,null,null,null,{"$f":"CH17+CJ20+CH22+CJ24+CJ28+CH31+CJ33+CH35","v":6},null,null,null,null,null,null,null,null,null,null,{"$f":"BZ17+BR20+BZ22+BR24+BR28+BZ31+BR33+BZ35","v":12},null,null,null,":",":",null,{"$f":"BR17+BZ20+BR22+BZ24+BZ28+BR31+BZ33+BR35","v":23},null,null,null,null,{"$f":"BG68-BN68","v":-11},null,null,null,null,{"$f":"(Z68*3)+AK68","v":6},null,null,null,{"$f":"BX68+ROW()/1000","v":6.0679999999999996}]
[null,null,{"$f":"IF(T69=0,0,RANK(BX69,$BX$65:$CA$69,0))","v":3},null,null,null,null,{"$f":"$BQ$8","v":"Patrick"},null,null,null,null,null,null,null,null,null,null,null,{"$f":"CG18+CG20+CG23+CG25+CG29+CG31+CG34+CG36","v":8},null,null,null,null,null,{"$f":"CH18+CJ20+CJ23+CH25+CJ29+CH31+CH34+CJ36","v":4},null,null,null,null,null,null,null,null,null,null,{"$f":"CI18+CI20+CI23+CI25+CI29+CI31+CI34+CI36","v":0},null,null,null,null,null,null,null,null,null,null,{"$f":"CJ18+CH20+CH23+CJ25+CH29+CJ31+CJ34+CH36","v":4},null,null,null,null,null,null,null,null,null,null,{"$f":"BR18+BZ20+BZ23+BR25+BZ29+BR31+BR34+BZ36","v":16},null,null,null,":",":",null,{"$f":"BZ18+BR20+BR23+BZ25+BR29+BZ31+BZ34+BR36","v":19},null,null,null,null,{"$f":"BG69-BN69","v":-3},null,null,null,null,{"$f":"(Z69*3)+AK69","v":12},null,null,null,{"$f":"BX69+ROW()/1000","v":12.069000000000001}]
[null,null,null,null,null,null,null,"Spieler 6",null,null,null,null,null,null,null,null,null,null,null,0,null,null,null,null,null,0,null,null,null,null,null,null,null,null,null,null,0,null,null,null,null,null,null,null,null,null,null,0,null,null,null,null,null,null,null,null,null,null,0,null,null,null,null,":",null,0,null,null,null,null,0,null,null,null,null,0,null,null,null,0]
[null,null,null,null,null,null,null,"Spieler 7",null,null,null,null,null,null,null,null,null,null,null,0,null,null,null,null,null,0,null,null,null,null,null,null,null,null,null,null,0,null,null,null,null,null,null,null,null,null,null,0,null,null,null,null,null,null,null,null,null,null,0,null,null,null,null,":",null,0,null,null,null,null,0,null,null,null,null,0,null,null,null,0]
[]
[]
[]
[null,null,"Tabelle"]
[]
[null,null,"Rang",null,null,null,null,"Spieler",null,null,null,null,null,null,null,null,null,null,null,"Spiele",null,null,null,null,null,"Siege",null,null,null,null,null,null,null,null,null,null,"Unentschieden",null,null,null,null,null,null,null,null,null,null,"Niederlagen",null,null,null,null,null,null,null,null,null,null,"Tore",null,null,null,null,null,null,null,null,null,null,null,"+/-",null,null,null,null,"Punkte"]
[null,null,{"$f":"INDEX($C$65:$C$69,MATCH(LARGE($CB$65:$CB$69,ROW(A1)),$CB$65:$CB$69,0),1)","v":1},null,null,1,null,{"$f":"INDEX($H$65:$H$69,MATCH(LARGE($CB$65:$CB$69,ROW(A1)),$CB$65:$CB$69,0),1)","v":"Ratze"},null,null,null,null,null,null,null,null,null,null,null,{"$f":"INDEX($T$65:$T$69,MATCH(LARGE($CB$65:$CB$69,ROW(A1)),$CB$65:$CB$69,0),1)","v":8},null,null,null,null,null,{"$f":"INDEX($Z$65:$Z$69,MATCH(LARGE($CB$65:$CB$69,ROW(A1)),$CB$65:$CB$69,0),1)","v":6},null,null,null,null,null,null,null,null,null,null,{"$f":"INDEX($AK$65:$AK$69,MATCH(LARGE($CB$65:$CB$69,ROW(A1)),$CB$65:$CB$69,0),1)","v":1},null,null,null,null,null,null,null,null,null,null,{"$f":"INDEX($AV$65:$AV$69,MATCH(LARGE($CB$65:$CB$69,ROW(A1)),$CB$65:$CB$69,0),1)","v":1},null,null,null,null,null,null,null,null,null,null,{"$f":"INDEX($BG$65:$BG$69,MATCH(LARGE($CB$65:$CB$69,ROW(A1)),$CB$65:$CB$69,0),1)","v":31},null,null,null,null,":",null,{"$f":"INDEX($BN$65:$BN$69,MATCH(LARGE($CB$65:$CB$69,ROW(A1)),$CB$65:$CB$69,0),1)","v":14},null,null,null,null,{"$f":"INDEX($BS$65:$BS$69,MATCH(LARGE($CB$65:$CB$69,ROW(A1)),$CB$65:$CB$69,0),1)","v":17},null,null,null,null,{"$f":"INDEX($BX$65:$BX$69,MATCH(LARGE($CB$65:$CB$69,ROW(A1)),$CB$65:$CB$69,0),1)","v":19}]
[null,null,{"$f":"INDEX($C$65:$C$69,MATCH(LARGE($CB$65:$CB$69,ROW(A2)),$CB$65:$CB$69,0),1)","v":2},null,null,2,null,{"$f":"INDEX($H$65:$H$69,MATCH(LARGE($CB$65:$CB$69,ROW(A2)),$CB$65:$CB$69,0),1)","v":"Christoph"},null,null,null,null,null,null,null,null,null,null,null,{"$f":"INDEX($T$65:$T$69,MATCH(LARGE($CB$65:$CB$69,ROW(A2)),$CB$65:$CB$69,0),1)","v":8},null,null,null,null,null,{"$f":"INDEX($Z$65:$Z$69,MATCH(LARGE($CB$65:$CB$69,ROW(A2)),$CB$65:$CB$69,0),1)","v":4},null,null,null,null,null,null,null,null,null,null,{"$f":"INDEX($AK$65:$AK$69,MATCH(LARGE($CB$65:$CB$69,ROW(A2)),$CB$65:$CB$69,0),1)","v":3},null,null,null,null,null,null,null,null,null,null,{"$f":"INDEX($AV$65:$AV$69,MATCH(LARGE($CB$65:$CB$69,ROW(A2)),$CB$65:$CB$69,0),1)","v":1},null,null,null,null,null,null,null,null,null,null,{"$f":"INDEX($BG$65:$BG$69,MATCH(LARGE($CB$65:$CB$69,ROW(A2)),$CB$65:$CB$69,0),1)","v":18},null,null,null,null,":",null,{"$f":"INDEX($BN$65:$BN$69,MATCH(LARGE($CB$65:$CB$69,ROW(A2)),$CB$65:$CB$69,0),1)","v":15},null,null,null,null,{"$f":"INDEX($BS$65:$BS$69,MATCH(LARGE($CB$65:$CB$69,ROW(A2)),$CB$65:$CB$69,0),1)","v":3},null,null,null,null,{"$f":"INDEX($BX$65:$BX$69,MATCH(LARGE($CB$65:$CB$69,ROW(A2)),$CB$65:$CB$69,0),1)","v":15}]
[null,null,{"$f":"INDEX($C$65:$C$69,MATCH(LARGE($CB$65:$CB$69,ROW(A3)),$CB$65:$CB$69,0),1)","v":3},null,null,3,null,{"$f":"INDEX($H$65:$H$69,MATCH(LARGE($CB$65:$CB$69,ROW(A3)),$CB$65:$CB$69,0),1)","v":"Patrick"},null,null,null,null,null,null,null,null,null,null,null,{"$f":"INDEX($T$65:$T$69,MATCH(LARGE($CB$65:$CB$69,ROW(A3)),$CB$65:$CB$69,0),1)","v":8},null,null,null,null,null,{"$f":"INDEX($Z$65:$Z$69,MATCH(LARGE($CB$65:$CB$69,ROW(A3)),$CB$65:$CB$69,0),1)","v":4},null,null,null,null,null,null,null,null,null,null,{"$f":"INDEX($AK$65:$AK$69,MATCH(LARGE($CB$65:$CB$69,ROW(A3)),$CB$65:$CB$69,0),1)","v":0},null,null,null,null,null,null,null,null,null,null,{"$f":"INDEX($AV$65:$AV$69,MATCH(LARGE($CB$65:$CB$69,ROW(A3)),$CB$65:$CB$69,0),1)","v":4},null,null,null,null,null,null,null,null,null,null,{"$f":"INDEX($BG$65:$BG$69,MATCH(LARGE($CB$65:$CB$69,ROW(A3)),$CB$65:$CB$69,0),1)","v":16},null,null,null,null,":",null,{"$f":"INDEX($BN$65:$BN$69,MATCH(LARGE($CB$65:$CB$69,ROW(A3)),$CB$65:$CB$69,0),1)","v":19},null,null,null,null,{"$f":"INDEX($BS$65:$BS$69,MATCH(LARGE($CB$65:$CB$69,ROW(A3)),$CB$65:$CB$69,0),1)","v":-3},null,null,null,null,{"$f":"INDEX($BX$65:$BX$69,MATCH(LARGE($CB$65:$CB$69,ROW(A3)),$CB$65:$CB$69,0),1)","v":12}]
[null,null,{"$f":"INDEX($C$65:$C$69,MATCH(LARGE($CB$65:$CB$69,ROW(A4)),$CB$65:$CB$69,0),1)","v":4},null,null,4,null,{"$f":"INDEX($H$65:$H$69,MATCH(LARGE($CB$65:$CB$69,ROW(A4)),$CB$65:$CB$69,0),1)","v":"Schmiddi"},null,null,null,null,null,null,null,null,null,null,null,{"$f":"INDEX($T$65:$T$69,MATCH(LARGE($CB$65:$CB$69,ROW(A4)),$CB$65:$CB$69,0),1)","v":8},null,null,null,null,null,{"$f":"INDEX($Z$65:$Z$69,MATCH(LARGE($CB$65:$CB$69,ROW(A4)),$CB$65:$CB$69,0),1)","v":2},null,null,null,null,null,null,null,null,null,null,{"$f":"INDEX($AK$65:$AK$69,MATCH(LARGE($CB$65:$CB$69,ROW(A4)),$CB$65:$CB$69,0),1)","v":0},null,null,null,null,null,null,null,null,null,null,{"$f":"INDEX($AV$65:$AV$69,MATCH(LARGE($CB$65:$CB$69,ROW(A4)),$CB$65:$CB$69,0),1)","v":6},null,null,null,null,null,null,null,null,null,null,{"$f":"INDEX($BG$65:$BG$69,MATCH(LARGE($CB$65:$CB$69,ROW(A4)),$CB$65:$CB$69,0),1)","v":12},null,null,null,null,":",null,{"$f":"INDEX($BN$65:$BN$69,MATCH(LARGE($CB$65:$CB$69,ROW(A4)),$CB$65:$CB$69,0),1)","v":23},null,null,null,null,{"$f":"INDEX($BS$65:$BS$69,MATCH(LARGE($CB$65:$CB$69,ROW(A4)),$CB$65:$CB$69,0),1)","v":-11},null,null,null,null,{"$f":"INDEX($BX$65:$BX$69,MATCH(LARGE($CB$65:$CB$69,ROW(A4)),$CB$65:$CB$69,0),1)","v":6}]
[null,null,{"$f":"INDEX($C$65:$C$69,MATCH(LARGE($CB$65:$CB$69,ROW(A5)),$CB$65:$CB$69,0),1)","v":5},null,null,5,null,{"$f":"INDEX($H$65:$H$69,MATCH(LARGE($CB$65:$CB$69,ROW(A5)),$CB$65:$CB$69,0),1)","v":"Markus"},null,null,null,null,null,null,null,null,null,null,null,{"$f":"INDEX($T$65:$T$69,MATCH(LARGE($CB$65:$CB$69,ROW(A5)),$CB$65:$CB$69,0),1)","v":8},null,null,null,null,null,{"$f":"INDEX($Z$65:$Z$69,MATCH(LARGE($CB$65:$CB$69,ROW(A5)),$CB$65:$CB$69,0),1)","v":1},null,null,null,null,null,null,null,null,null,null,{"$f":"INDEX($AK$65:$AK$69,MATCH(LARGE($CB$65:$CB$69,ROW(A5)),$CB$65:$CB$69,0),1)","v":2},null,null,null,null,null,null,null,null,null,null,{"$f":"INDEX($AV$65:$AV$69,MATCH(LARGE($CB$65:$CB$69,ROW(A5)),$CB$65:$CB$69,0),1)","v":5},null,null,null,null,null,null,null,null,null,null,{"$f":"INDEX($BG$65:$BG$69,MATCH(LARGE($CB$65:$CB$69,ROW(A5)),$CB$65:$CB$69,0),1)","v":11},null,null,null,null,":",null,{"$f":"INDEX($BN$65:$BN$69,MATCH(LARGE($CB$65:$CB$69,ROW(A5)),$CB$65:$CB$69,0),1)","v":17},null,null,null,null,{"$f":"INDEX($BS$65:$BS$69,MATCH(LARGE($CB$65:$CB$69,ROW(A5)),$CB$65:$CB$69,0),1)","v":-6},null,null,null,null,{"$f":"INDEX($BX$65:$BX$69,MATCH(LARGE($CB$65:$CB$69,ROW(A5)),$CB$65:$CB$69,0),1)","v":5}]
[null,null,"---",null,null,"---",null,"Spieler 6",null,null,null,null,null,null,null,null,null,null,null,0,null,null,null,null,null,0,null,null,null,null,null,null,null,null,null,null,0,null,null,null,null,null,null,null,null,null,null,0,null,null,null,null,null,null,null,null,null,null,0,null,null,null,null,":",null,0,null,null,null,null,0,null,null,null,null,0]
[null,null,"---",null,null,"---",null,"Spieler 7",null,null,null,null,null,null,null,null,null,null,null,0,null,null,null,null,null,0,null,null,null,null,null,null,null,null,null,null,0,null,null,null,null,null,null,null,null,null,null,0,null,null,null,null,null,null,null,null,null,null,0,null,null,null,null,":",null,0,null,null,null,null,0,null,null,null,null,0]
[]
[]
[]
[null,null,"Tabelle (nach Alphabet)"]
[]
[null,null,"Rang",null,null,null,null,"Spieler",null,null,null,null,null,null,null,null,null,null,null,"Spiele",null,null,null,null,null,"Siege",null,null,null,null,null,null,null,null,null,null,"Unentschieden",null,null,null,null,null,null,null,null,null,null,"Niederlagen",null,null,null,null,null,null,null,null,null,null,"Tore",null,null,null,null,null,null,null,null,null,null,null,"+/-",null,null,null,null,"Punkte"]
[null,null,{"$f":"IF($H$78=\"Basti\",$F$78,IF($H$79=\"Basti\",$F$79,IF($H$80=\"Basti\",$F$80,IF($H$81=\"Basti\",$F$81,IF($H$82=\"Basti\",$F$82,IF($H$83=\"Basti\",$F$83,IF($H$84=\"Basti\",$F$84,0)))))))","v":0},null,null,null,null,"Basti",null,null,null,null,null,null,null,null,null,null,null,{"$f":"IF($H$78=\"Basti\",$T$78,IF($H$79=\"Basti\",$T$79,IF($H$80=\"Basti\",$T$80,IF($H$81=\"Basti\",$T$81,IF($H$82=\"Basti\",$T$82,IF($H$83=\"Basti\",$T$83,IF($H$84=\"Basti\",$T$84,0)))))))","v":0},null,null,null,null,null,{"$f":"IF($H$78=\"Basti\",$Z$78,IF($H$79=\"Basti\",$Z$79,IF($H$80=\"Basti\",$Z$80,IF($H$81=\"Basti\",$Z$81,IF($H$82=\"Basti\",$Z$82,IF($H$83=\"Basti\",$Z$83,IF($H$84=\"Basti\",$Z$84,0)))))))","v":0},null,null,null,null,null,null,null,null,null,null,{"$f":"IF($H$78=\"Basti\",$AK$78,IF($H$79=\"Basti\",$AK$79,IF($H$80=\"Basti\",$AK$80,IF($H$81=\"Basti\",$AK$81,IF($H$82=\"Basti\",$AK$82,IF($H$83=\"Basti\",$AK$83,IF($H$84=\"Basti\",$AK$84,0)))))))","v":0},null,null,null,null,null,null,null,null,null,null,{"$f":"IF($H$78=\"Basti\",$AV$78,IF($H$79=\"Basti\",$AV$79,IF($H$80=\"Basti\",$AV$80,IF($H$81=\"Basti\",$AV$81,IF($H$82=\"Basti\",$AV$82,IF($H$83=\"Basti\",$AV$83,IF($H$84=\"Basti\",$AV$84,0)))))))","v":0},null,null,null,null,null,null,null,null,null,null,{"$f":"IF($H$78=\"Basti\",$BG$78,IF($H$79=\"Basti\",$BG$79,IF($H$80=\"Basti\",$BG$80,IF($H$81=\"Basti\",$BG$81,IF($H$82=\"Basti\",$BG$82,IF($H$83=\"Basti\",$BG$83,IF($H$84=\"Basti\",$BG$84,0)))))))","v":0},null,null,null,null,":",null,{"$f":"IF($H$78=\"Basti\",$BN$78,IF($H$79=\"Basti\",$BN$79,IF($H$80=\"Basti\",$BN$80,IF($H$81=\"Basti\",$BN$81,IF($H$82=\"Basti\",$BN$82,IF($H$83=\"Basti\",$BN$83,IF($H$84=\"Basti\",$BN$84,0)))))))","v":0},null,null,null,null,{"$f":"IF($H$78=\"Basti\",$BS$78,IF($H$79=\"Basti\",$BS$79,IF($H$80=\"Basti\",$BS$80,IF($H$81=\"Basti\",$BS$81,IF($H$82=\"Basti\",$BS$82,IF($H$83=\"Basti\",$BS$83,IF($H$84=\"Basti\",$BS$84,0)))))))","v":0},null,null,null,null,{"$f":"IF($H$78=\"Basti\",$BX$78,IF($H$79=\"Basti\",$BX$79,IF($H$80=\"Basti\",$BX$80,IF($H$81=\"Basti\",$BX$81,IF($H$82=\"Basti\",$BX$82,IF($H$83=\"Basti\",$BX$83,IF($H$84=\"Basti\",$BX$84,0)))))))","v":0}]
[null,null,{"$f":"IF($H$78=\"Christoph\",$F$78,IF($H$79=\"Christoph\",$F$79,IF($H$80=\"Christoph\",$F$80,IF($H$81=\"Christoph\",$F$81,IF($H$82=\"Christoph\",$F$82,IF($H$83=\"Christoph\",$F$83,IF($H$84=\"Christoph\",$F$84,0)))))))","v":2},null,null,null,null,"Christoph",null,null,null,null,null,null,null,null,null,null,null,{"$f":"IF($H$78=\"Christoph\",$T$78,IF($H$79=\"Christoph\",$T$79,IF($H$80=\"Christoph\",$T$80,IF($H$81=\"Christoph\",$T$81,IF($H$82=\"Christoph\",$T$82,IF($H$83=\"Christoph\",$T$83,IF($H$84=\"Christoph\",$T$84,0)))))))","v":8},null,null,null,null,null,{"$f":"IF($H$78=\"Christoph\",$Z$78,IF($H$79=\"Christoph\",$Z$79,IF($H$80=\"Christoph\",$Z$80,IF($H$81=\"Christoph\",$Z$81,IF($H$82=\"Christoph\",$Z$82,IF($H$83=\"Christoph\",$Z$83,IF($H$84=\"Christoph\",$Z$84,0)))))))","v":4},null,null,null,null,null,null,null,null,null,null,{"$f":"IF($H$78=\"Christoph\",$AK$78,IF($H$79=\"Christoph\",$AK$79,IF($H$80=\"Christoph\",$AK$80,IF($H$81=\"Christoph\",$AK$81,IF($H$82=\"Christoph\",$AK$82,IF($H$83=\"Christoph\",$AK$83,IF($H$84=\"Christoph\",$AK$84,0)))))))","v":3},null,null,null,null,null,null,null,null,null,null,{"$f":"IF($H$78=\"Christoph\",$AV$78,IF($H$79=\"Christoph\",$AV$79,IF($H$80=\"Christoph\",$AV$80,IF($H$81=\"Christoph\",$AV$81,IF($H$82=\"Christoph\",$AV$82,IF($H$83=\"Christoph\",$AV$83,IF($H$84=\"Christoph\",$AV$84,0)))))))","v":1},null,null,null,null,null,null,null,null,null,null,{"$f":"IF($H$78=\"Christoph\",$BG$78,IF($H$79=\"Christoph\",$BG$79,IF($H$80=\"Christoph\",$BG$80,IF($H$81=\"Christoph\",$BG$81,IF($H$82=\"Christoph\",$BG$82,IF($H$83=\"Christoph\",$BG$83,IF($H$84=\"Christoph\",$BG$84,0)))))))","v":18},null,null,null,null,":",null,{"$f":"IF($H$78=\"Christoph\",$BN$78,IF($H$79=\"Christoph\",$BN$79,IF($H$80=\"Christoph\",$BN$80,IF($H$81=\"Christoph\",$BN$81,IF($H$82=\"Christoph\",$BN$82,IF($H$83=\"Christoph\",$BN$83,IF($H$84=\"Christoph\",$BN$84,0)))))))","v":15},null,null,null,null,{"$f":"IF($H$78=\"Christoph\",$BS$78,IF($H$79=\"Christoph\",$BS$79,IF($H$80=\"Christoph\",$BS$80,IF($H$81=\"Christoph\",$BS$81,IF($H$82=\"Christoph\",$BS$82,IF($H$83=\"Christoph\",$BS$83,IF($H$84=\"Christoph\",$BS$84,0)))))))","v":3},null,null,null,null,{"$f":"IF($H$78=\"Christoph\",$BX$78,IF($H$79=\"Christoph\",$BX$79,IF($H$80=\"Christoph\",$BX$80,IF($H$81=\"Christoph\",$BX$81,IF($H$82=\"Christoph\",$BX$82,IF($H$83=\"Christoph\",$BX$83,IF($H$84=\"Christoph\",$BX$84,0)))))))","v":15}]
[null,null,{"$f":"IF($H$78=\"Jule\",$F$78,IF($H$79=\"Jule\",$F$79,IF($H$80=\"Jule\",$F$80,IF($H$81=\"Jule\",$F$81,IF($H$82=\"Jule\",$F$82,IF($H$83=\"Jule\",$F$83,IF($H$84=\"Jule\",$F$84,0)))))))","v":0},null,null,null,null,"Jule",null,null,null,null,null,null,null,null,null,null,null,{"$f":"IF($H$78=\"Jule\",$T$78,IF($H$79=\"Jule\",$T$79,IF($H$80=\"Jule\",$T$80,IF($H$81=\"Jule\",$T$81,IF($H$82=\"Jule\",$T$82,IF($H$83=\"Jule\",$T$83,IF($H$84=\"Jule\",$T$84,0)))))))","v":0},null,null,null,null,null,{"$f":"IF($H$78=\"Jule\",$Z$78,IF($H$79=\"Jule\",$Z$79,IF($H$80=\"Jule\",$Z$80,IF($H$81=\"Jule\",$Z$81,IF($H$82=\"Jule\",$Z$82,IF($H$83=\"Jule\",$Z$83,IF($H$84=\"Jule\",$Z$84,0)))))))","v":0},null,null,null,null,null,null,null,null,null,null,{"$f":"IF($H$78=\"Jule\",$AK$78,IF($H$79=\"Jule\",$AK$79,IF($H$80=\"Jule\",$AK$80,IF($H$81=\"Jule\",$AK$81,IF($H$82=\"Jule\",$AK$82,IF($H$83=\"Jule\",$AK$83,IF($H$84=\"Jule\",$AK$84,0)))))))","v":0},null,null,null,null,null,null,null,null,null,null,{"$f":"IF($H$78=\"Jule\",$AV$78,IF($H$79=\"Jule\",$AV$79,IF($H$80=\"Jule\",$AV$80,IF($H$81=\"Jule\",$AV$81,IF($H$82=\"Jule\",$AV$82,IF($H$83=\"Jule\",$AV$83,IF($H$84=\"Jule\",$AV$84,0)))))))","v":0},null,null,null,null,null,null,null,null,null,null,{"$f":"IF($H$78=\"Jule\",$BG$78,IF($H$79=\"Jule\",$BG$79,IF($H$80=\"Jule\",$BG$80,IF($H$81=\"Jule\",$BG$81,IF($H$82=\"Jule\",$BG$82,IF($H$83=\"Jule\",$BG$83,IF($H$84=\"Jule\",$BG$84,0)))))))","v":0},null,null,null,null,":",null,{"$f":"IF($H$78=\"Jule\",$BN$78,IF($H$79=\"Jule\",$BN$79,IF($H$80=\"Jule\",$BN$80,IF($H$81=\"Jule\",$BN$81,IF($H$82=\"Jule\",$BN$82,IF($H$83=\"Jule\",$BN$83,IF($H$84=\"Jule\",$BN$84,0)))))))","v":0},null,null,null,null,{"$f":"IF($H$78=\"Jule\",$BS$78,IF($H$79=\"Jule\",$BS$79,IF($H$80=\"Jule\",$BS$80,IF($H$81=\"Jule\",$BS$81,IF($H$82=\"Jule\",$BS$82,IF($H$83=\"Jule\",$BS$83,IF($H$84=\"Jule\",$BS$84,0)))))))","v":0},null,null,null,null,{"$f":"IF($H$78=\"Jule\",$BX$78,IF($H$79=\"Jule\",$BX$79,IF($H$80=\"Jule\",$BX$80,IF($H$81=\"Jule\",$BX$81,IF($H$82=\"Jule\",$BX$82,IF($H$83=\"Jule\",$BX$83,IF($H$84=\"Jule\",$BX$84,0)))))))","v":0}]
[null,null,{"$f":"IF($H$78=\"Markus\",$F$78,IF($H$79=\"Markus\",$F$79,IF($H$80=\"Markus\",$F$80,IF($H$81=\"Markus\",$F$81,IF($H$82=\"Markus\",$F$82,IF($H$83=\"Markus\",$F$83,IF($H$84=\"Markus\",$F$84,0)))))))","v":5},null,null,null,null,"Markus",null,null,null,null,null,null,null,null,null,null,null,{"$f":"IF($H$78=\"Markus\",$T$78,IF($H$79=\"Markus\",$T$79,IF($H$80=\"Markus\",$T$80,IF($H$81=\"Markus\",$T$81,IF($H$82=\"Markus\",$T$82,IF($H$83=\"Markus\",$T$83,IF($H$84=\"Markus\",$T$84,0)))))))","v":8},null,null,null,null,null,{"$f":"IF($H$78=\"Markus\",$Z$78,IF($H$79=\"Markus\",$Z$79,IF($H$80=\"Markus\",$Z$80,IF($H$81=\"Markus\",$Z$81,IF($H$82=\"Markus\",$Z$82,IF($H$83=\"Markus\",$Z$83,IF($H$84=\"Markus\",$Z$84,0)))))))","v":1},null,null,null,null,null,null,null,null,null,null,{"$f":"IF($H$78=\"Markus\",$AK$78,IF($H$79=\"Markus\",$AK$79,IF($H$80=\"Markus\",$AK$80,IF($H$81=\"Markus\",$AK$81,IF($H$82=\"Markus\",$AK$82,IF($H$83=\"Markus\",$AK$83,IF($H$84=\"Markus\",$AK$84,0)))))))","v":2},null,null,null,null,null,null,null,null,null,null,{"$f":"IF($H$78=\"Markus\",$AV$78,IF($H$79=\"Markus\",$AV$79,IF($H$80=\"Markus\",$AV$80,IF($H$81=\"Markus\",$AV$81,IF($H$82=\"Markus\",$AV$82,IF($H$83=\"Markus\",$AV$83,IF($H$84=\"Markus\",$AV$84,0)))))))","v":5},null,null,null,null,null,null,null,null,null,null,{"$f":"IF($H$78=\"Markus\",$BG$78,IF($H$79=\"Markus\",$BG$79,IF($H$80=\"Markus\",$BG$80,IF($H$81=\"Markus\",$BG$81,IF($H$82=\"Markus\",$BG$82,IF($H$83=\"Markus\",$BG$83,IF($H$84=\"Markus\",$BG$84,0)))))))","v":11},null,null,null,null,":",null,{"$f":"IF($H$78=\"Markus\",$BN$78,IF($H$79=\"Markus\",$BN$79,IF($H$80=\"Markus\",$BN$80,IF($H$81=\"Markus\",$BN$81,IF($H$82=\"Markus\",$BN$82,IF($H$83=\"Markus\",$BN$83,IF($H$84=\"Markus\",$BN$84,0)))))))","v":17},null,null,null,null,{"$f":"IF($H$78=\"Markus\",$BS$78,IF($H$79=\"Markus\",$BS$79,IF($H$80=\"Markus\",$BS$80,IF($H$81=\"Markus\",$BS$81,IF($H$82=\"Markus\",$BS$82,IF($H$83=\"Markus\",$BS$83,IF($H$84=\"Markus\",$BS$84,0)))))))","v":-6},null,null,null,null,{"$f":"IF($H$78=\"Markus\",$BX$78,IF($H$79=\"Markus\",$BX$79,IF($H$80=\"Markus\",$BX$80,IF($H$81=\"Markus\",$BX$81,IF($H$82=\"Markus\",$BX$82,IF($H$83=\"Markus\",$BX$83,IF($H$84=\"Markus\",$BX$84,0)))))))","v":5}]
[null,null,{"$f":"IF($H$78=\"Patrick\",$F$78,IF($H$79=\"Patrick\",$F$79,IF($H$80=\"Patrick\",$F$80,IF($H$81=\"Patrick\",$F$81,IF($H$82=\"Patrick\",$F$82,IF($H$83=\"Patrick\",$F$83,IF($H$84=\"Patrick\",$F$84,0)))))))","v":3},null,null,null,null,"Patrick",null,null,null,null,null,null,null,null,null,null,null,{"$f":"IF($H$78=\"Patrick\",$T$78,IF($H$79=\"Patrick\",$T$79,IF($H$80=\"Patrick\",$T$80,IF($H$81=\"Patrick\",$T$81,IF($H$82=\"Patrick\",$T$82,IF($H$83=\"Patrick\",$T$83,IF($H$84=\"Patrick\",$T$84,0)))))))","v":8},null,null,null,null,null,{"$f":"IF($H$78=\"Patrick\",$Z$78,IF($H$79=\"Patrick\",$Z$79,IF($H$80=\"Patrick\",$Z$80,IF($H$81=\"Patrick\",$Z$81,IF($H$82=\"Patrick\",$Z$82,IF($H$83=\"Patrick\",$Z$83,IF($H$84=\"Patrick\",$Z$84,0)))))))","v":4},null,null,null,null,null,null,null,null,null,null,{"$f":"IF($H$78=\"Patrick\",$AK$78,IF($H$79=\"Patrick\",$AK$79,IF($H$80=\"Patrick\",$AK$80,IF($H$81=\"Patrick\",$AK$81,IF($H$82=\"Patrick\",$AK$82,IF($H$83=\"Patrick\",$AK$83,IF($H$84=\"Patrick\",$AK$84,0)))))))","v":0},null,null,null,null,null,null,null,null,null,null,{"$f":"IF($H$78=\"Patrick\",$AV$78,IF($H$79=\"Patrick\",$AV$79,IF($H$80=\"Patrick\",$AV$80,IF($H$81=\"Patrick\",$AV$81,IF($H$82=\"Patrick\",$AV$82,IF($H$83=\"Patrick\",$AV$83,IF($H$84=\"Patrick\",$AV$84,0)))))))","v":4},null,null,null,null,null,null,null,null,null,null,{"$f":"IF($H$78=\"Patrick\",$BG$78,IF($H$79=\"Patrick\",$BG$79,IF($H$80=\"Patrick\",$BG$80,IF($H$81=\"Patrick\",$BG$81,IF($H$82=\"Patrick\",$BG$82,IF($H$83=\"Patrick\",$BG$83,IF($H$84=\"Patrick\",$BG$84,0)))))))","v":16},null,null,null,null,":",null,{"$f":"IF($H$78=\"Patrick\",$BN$78,IF($H$79=\"Patrick\",$BN$79,IF($H$80=\"Patrick\",$BN$80,IF($H$81=\"Patrick\",$BN$81,IF($H$82=\"Patrick\",$BN$82,IF($H$83=\"Patrick\",$BN$83,IF($H$84=\"Patrick\",$BN$84,0)))))))","v":19},null,null,null,null,{"$f":"IF($H$78=\"Patrick\",$BS$78,IF($H$79=\"Patrick\",$BS$79,IF($H$80=\"Patrick\",$BS$80,IF($H$81=\"Patrick\",$BS$81,IF($H$82=\"Patrick\",$BS$82,IF($H$83=\"Patrick\",$BS$83,IF($H$84=\"Patrick\",$BS$84,0)))))))","v":-3},null,null,null,null,{"$f":"IF($H$78=\"Patrick\",$BX$78,IF($H$79=\"Patrick\",$BX$79,IF($H$80=\"Patrick\",$BX$80,IF($H$81=\"Patrick\",$BX$81,IF($H$82=\"Patrick\",$BX$82,IF($H$83=\"Patrick\",$BX$83,IF($H$84=\"Patrick\",$BX$84,0)))))))","v":12}]
[null,null,{"$f":"IF($H$78=\"Ratze\",$F$78,IF($H$79=\"Ratze\",$F$79,IF($H$80=\"Ratze\",$F$80,IF($H$81=\"Ratze\",$F$81,IF($H$82=\"Ratze\",$F$82,IF($H$83=\"Ratze\",$F$83,IF($H$84=\"Ratze\",$F$84,0)))))))","v":1},null,null,null,null,"Ratze",null,null,null,null,null,null,null,null,null,null,null,{"$f":"IF($H$78=\"Ratze\",$T$78,IF($H$79=\"Ratze\",$T$79,IF($H$80=\"Ratze\",$T$80,IF($H$81=\"Ratze\",$T$81,IF($H$82=\"Ratze\",$T$82,IF($H$83=\"Ratze\",$T$83,IF($H$84=\"Ratze\",$T$84,0)))))))","v":8},null,null,null,null,null,{"$f":"IF($H$78=\"Ratze\",$Z$78,IF($H$79=\"Ratze\",$Z$79,IF($H$80=\"Ratze\",$Z$80,IF($H$81=\"Ratze\",$Z$81,IF($H$82=\"Ratze\",$Z$82,IF($H$83=\"Ratze\",$Z$83,IF($H$84=\"Ratze\",$Z$84,0)))))))","v":6},null,null,null,null,null,null,null,null,null,null,{"$f":"IF($H$78=\"Ratze\",$AK$78,IF($H$79=\"Ratze\",$AK$79,IF($H$80=\"Ratze\",$AK$80,IF($H$81=\"Ratze\",$AK$81,IF($H$82=\"Ratze\",$AK$82,IF($H$83=\"Ratze\",$AK$83,IF($H$84=\"Ratze\",$AK$84,0)))))))","v":1},null,null,null,null,null,null,null,null,null,null,{"$f":"IF($H$78=\"Ratze\",$AV$78,IF($H$79=\"Ratze\",$AV$79,IF($H$80=\"Ratze\",$AV$80,IF($H$81=\"Ratze\",$AV$81,IF($H$82=\"Ratze\",$AV$82,IF($H$83=\"Ratze\",$AV$83,IF($H$84=\"Ratze\",$AV$84,0)))))))","v":1},null,null,null,null,null,null,null,null,null,null,{"$f":"IF($H$78=\"Ratze\",$BG$78,IF($H$79=\"Ratze\",$BG$79,IF($H$80=\"Ratze\",$BG$80,IF($H$81=\"Ratze\",$BG$81,IF($H$82=\"Ratze\",$BG$82,IF($H$83=\"Ratze\",$BG$83,IF($H$84=\"Ratze\",$BG$84,0)))))))","v":31},null,null,null,null,":",null,{"$f":"IF($H$78=\"Ratze\",$BN$78,IF($H$79=\"Ratze\",$BN$79,IF($H$80=\"Ratze\",$BN$80,IF($H$81=\"Ratze\",$BN$81,IF($H$82=\"Ratze\",$BN$82,IF($H$83=\"Ratze\",$BN$83,IF($H$84=\"Ratze\",$BN$84,0)))))))","v":14},null,null,null,null,{"$f":"IF($H$78=\"Ratze\",$BS$78,IF($H$79=\"Ratze\",$BS$79,IF($H$80=\"Ratze\",$BS$80,IF($H$81=\"Ratze\",$BS$81,IF($H$82=\"Ratze\",$BS$82,IF($H$83=\"Ratze\",$BS$83,IF($H$84=\"Ratze\",$BS$84,0)))))))","v":17},null,null,null,null,{"$f":"IF($H$78=\"Ratze\",$BX$78,IF($H$79=\"Ratze\",$BX$79,IF($H$80=\"Ratze\",$BX$80,IF($H$81=\"Ratze\",$BX$81,IF($H$82=\"Ratze\",$BX$82,IF($H$83=\"Ratze\",$BX$83,IF($H$84=\"Ratze\",$BX$84,0)))))))","v":19}]
[null,null,{"$f":"IF($H$78=\"Schmiddi\",$F$78,IF($H$79=\"Schmiddi\",$F$79,IF($H$80=\"Schmiddi\",$F$80,IF($H$81=\"Schmiddi\",$F$81,IF($H$82=\"Schmiddi\",$F$82,IF($H$83=\"Schmiddi\",$F$83,IF($H$84=\"Schmiddi\",$F$84,0)))))))","v":4},null,null,null,null,"Schmiddi",null,null,null,null,null,null,null,null,null,null,null,{"$f":"IF($H$78=\"Schmiddi\",$T$78,IF($H$79=\"Schmiddi\",$T$79,IF($H$80=\"Schmiddi\",$T$80,IF($H$81=\"Schmiddi\",$T$81,IF($H$82=\"Schmiddi\",$T$82,IF($H$83=\"Schmiddi\",$T$83,IF($H$84=\"Schmiddi\",$T$84,0)))))))","v":8},null,null,null,null,null,{"$f":"IF($H$78=\"Schmiddi\",$Z$78,IF($H$79=\"Schmiddi\",$Z$79,IF($H$80=\"Schmiddi\",$Z$80,IF($H$81=\"Schmiddi\",$Z$81,IF($H$82=\"Schmiddi\",$Z$82,IF($H$83=\"Schmiddi\",$Z$83,IF($H$84=\"Schmiddi\",$Z$84,0)))))))","v":2},null,null,null,null,null,null,null,null,null,null,{"$f":"IF($H$78=\"Schmiddi\",$AK$78,IF($H$79=\"Schmiddi\",$AK$79,IF($H$80=\"Schmiddi\",$AK$80,IF($H$81=\"Schmiddi\",$AK$81,IF($H$82=\"Schmiddi\",$AK$82,IF($H$83=\"Schmiddi\",$AK$83,IF($H$84=\"Schmiddi\",$AK$84,0)))))))","v":0},null,null,null,null,null,null,null,null,null,null,{"$f":"IF($H$78=\"Schmiddi\",$AV$78,IF($H$79=\"Schmiddi\",$AV$79,IF($H$80=\"Schmiddi\",$AV$80,IF($H$81=\"Schmiddi\",$AV$81,IF($H$82=\"Schmiddi\",$AV$82,IF($H$83=\"Schmiddi\",$AV$83,IF($H$84=\"Schmiddi\",$AV$84,0)))))))","v":6},null,null,null,null,null,null,null,null,null,null,{"$f":"IF($H$78=\"Schmiddi\",$BG$78,IF($H$79=\"Schmiddi\",$BG$79,IF($H$80=\"Schmiddi\",$BG$80,IF($H$81=\"Schmiddi\",$BG$81,IF($H$82=\"Schmiddi\",$BG$82,IF($H$83=\"Schmiddi\",$BG$83,IF($H$84=\"Schmiddi\",$BG$84,0)))))))","v":12},null,null,null,null,":",null,{"$f":"IF($H$78=\"Schmiddi\",$BN$78,IF($H$79=\"Schmiddi\",$BN$79,IF($H$80=\"Schmiddi\",$BN$80,IF($H$81=\"Schmiddi\",$BN$81,IF($H$82=\"Schmiddi\",$BN$82,IF($H$83=\"Schmiddi\",$BN$83,IF($H$84=\"Schmiddi\",$BN$84,0)))))))","v":23},null,null,null,null,{"$f":"IF($H$78=\"Schmiddi\",$BS$78,IF($H$79=\"Schmiddi\",$BS$79,IF($H$80=\"Schmiddi\",$BS$80,IF($H$81=\"Schmiddi\",$BS$81,IF($H$82=\"Schmiddi\",$BS$82,IF($H$83=\"Schmiddi\",$BS$83,IF($H$84=\"Schmiddi\",$BS$84,0)))))))","v":-11},null,null,null,null,{"$f":"IF($H$78=\"Schmiddi\",$BX$78,IF($H$79=\"Schmiddi\",$BX$79,IF($H$80=\"Schmiddi\",$BX$80,IF($H$81=\"Schmiddi\",$BX$81,IF($H$82=\"Schmiddi\",$BX$82,IF($H$83=\"Schmiddi\",$BX$83,IF($H$84=\"Schmiddi\",$BX$84,0)))))))","v":6}]

{"sheet":"13.1","index":11,"n_rows":97,"n_cols":88,"rows_kept":97,"cut":false,"hidden":false,"merged":[[97,1,97,82],[98,0,98,83],[96,47,96,57],[96,58,96,62],[96,63,96,64],[96,65,96,69],[96,70,96,74],[96,75,96,81],[95,58,95,62],[95,63,95,64],[95,65,95,69],[95,70,95,74],[95,75,95,81],[96,2,96,6],[96,7,96,18],[96,19,96,24],[96,25,96,35],[96,36,96,46],[95,2,95,6],[95,7,95,18],[95,19,95,24],[95,25,95,35],[95,36,95,46],[95,47,95,57],[94,47,94,57],[94,58,94,62],[94,63,94,64],[94,65,94,69],[94,70,94,74],[94,75,94,81],[93,58,93,62],[93,63,93,64],[93,65,93,69],[93,70,93,74],[93,75,93,81],[93,47,93,57],[94,2,94,6],[94,7,94,18],[94,19,94,24],[94,25,94,35],[94,36,94,46],[93,2,93,6],[93,7,93,18],[93,19,93,24],[93,25,93,35],[93,36,93,46],[92,36,92,46],[90,63,90,64],[90,65,90,69],[90,70,90,74],[90,75,90,81],[91,2,91,6],[91,7,91,18],[91,19,91,24],[91,25,91,35],[91,36,91,46],[91,47,91,57],[92,47,92,57],[92,58,92,62],[92,63,92,64],[92,65,92,69],[92,70,92,74],[92,75,92,81],[91,58,91,62],[91,63,91,64],[91,65,91,69],[91,70,91,74],[91,75,91,81],[87,1,96,1],[87,2,87,81],[87,82,96,82],[88,2,88,81],[89,2,89,6],[89,7,89,18],[89,19,89,24],[89,25,89,35],[89,36,89,46],[89,47,89,57],[89,58,89,69],[89,70,89,74],[89,75,89,81],[90,2,90,6],[90,7,90,18],[90,19,90,24],[90,25,90,35],[90,36,90,46],[90,47,90,57],[90,58,90,62],[92,2,92,6],[92,7,92,18],[92,19,92,24],[92,25,92,35],[84,1,84,82],[85,1,85,82],[86,1,86,82],[82,75,82,81],[83,2,83,4],[83,5,83,6],[83,7,83,18],[83,19,83,24],[83,25,83,35],[83,36,83,46],[83,47,83,57],[83,58,83,62],[83,63,83,64],[82,36,82,46],[82,47,82,57],[82,58,82,62],[82,63,82,64],[82,65,82,69],[82,70,82,74],[81,65,81,69],[81,70,81,74],[81,75,81,81],[82,2,82,4],[82,5,82,6],[82,7,82,18],[82,19,82,24],[82,25,82,35],[83,65,83,69],[83,70,83,74],[83,75,83,81],[81,2,81,4],[81,5,81,6],[81,7,81,18],[81,19,81,24],[81,25,81,35],[81,36,81,46],[81,47,81,57],[81,58,81,62],[81,63,81,64],[79,2,79,4],[79,5,79,6],[79,7,79,18],[79,19,79,24],[79,25,79,35],[79,75,79,81],[80,2,80,4],[80,5,80,6],[80,7,80,18],[80,19,80,24],[80,25,80,35],[80,36,80,46],[80,47,80,57],[80,58,80,62],[80,63,80,64],[79,36,79,46],[79,47,79,57],[79,58,79,62],[79,63,79,64],[79,65,79,69],[79,70,79,74],[80,65,80,69],[80,70,80,74],[80,75,80,81],[76,70,76,74],[77,65,77,69],[77,70,77,74],[77,75,77,81],[78,2,78,4],[78,5,78,6],[78,7,78,18],[78,19,78,24],[78,25,78,35],[78,36,78,46],[78,47,78,57],[78,58,78,62],[78,63,78,64],[78,65,78,69],[78,70,78,74],[78,75,78,81],[71,1,71,82],[72,1,72,82],[73,1,73,82],[74,1,83,1],[74,2,74,81],[74,82,83,82],[75,2,75,81],[76,2,76,6],[76,7,76,18],[76,75,76,81],[77,2,77,4],[77,5,77,6],[77,7,77,18],[77,19,77,24],[77,25,77,35],[77,36,77,46],[77,47,77,57],[77,58,77,62],[77,63,77,64],[76,19,76,24],[76,25,76,35],[76,36,76,46],[76,47,76,57],[76,58,76,69],[69,70,69,74],[69,75,69,78],[69,79,69,81],[70,2,70,6],[70,7,70,18],[70,19,70,24],[70,25,70,35],[70,36,70,46],[70,79,70,81],[70,47,70,57],[70,58,70,62],[70,63,70,64],[70,65,70,69],[70,70,70,74],[70,75,70,78],[69,2,69,6],[69,7,69,18],[69,19,69,24],[69,25,69,35],[69,36,69,46],[69,47,69,57],[69,58,69,62],[69,63,69,64],[69,65,69,69],[67,2,67,6],[67,7,67,18],[67,19,67,24],[67,25,67,35],[67,36,67,46],[67,79,67,81],[68,2,68,6],[68,7,68,18],[68,19,68,24],[68,25,68,35],[68,36,68,46],[68,47,68,57],[68,58,68,62],[68,63,68,64],[68,65,68,69],[67,47,67,57],[67,58,67,62],[67,63,67,64],[67,65,67,69],[67,70,67,74],[67,75,67,78],[68,70,68,74],[68,75,68,78],[68,79,68,81],[64,70,64,74],[64,75,64,78],[65,70,65,74],[65,75,65,78],[65,79,65,81],[66,2,66,6],[66,7,66,18],[66,19,66,24],[66,25,66,35],[66,36,66,46],[66,47,66,57],[66,58,66,62],[66,63,66,64],[66,65,66,69],[66,70,66,74],[66,75,66,78],[66,79,66,81],[65,25,65,35],[65,36,65,46],[65,47,65,57],[65,58,65,62],[65,63,65,64],[65,65,65,69],[64,47,64,57],[64,58,64,62],[64,63,64,64],[64,65,64,69],[60,1,60,82],[61,1,68,1],[61,2,61,81],[61,82,68,82],[62,2,62,81],[63,2,63,6],[63,7,63,18],[63,19,63,24],[63,25,63,35],[63,36,63,46],[63,47,63,57],[63,58,63,69],[63,70,63,74],[63,75,63,78],[63,79,63,81],[64,2,64,6],[64,7,64,18],[64,19,64,24],[64,25,64,35],[64,36,64,46],[64,79,64,81],[65,2,65,6],[65,7,65,18],[65,19,65,24],[35,77,35,81],[36,1,36,82],[59,1,59,82],[34,53,34,67],[34,69,34,73],[34,74,34,76],[34,77,34,81],[35,7,35,10],[35,12,35,16],[35,18,35,22],[35,24,35,33],[35,35,35,49],[35,50,35,52],[34,7,34,10],[34,12,34,16],[34,18,34,22],[34,24,34,33],[34,35,34,49],[34,50,34,52],[35,53,35,67],[35,69,35,73],[35,74,35,76],[32,77,32,81],[33,7,33,10],[33,12,33,16],[33,18,33,22],[33,24,33,33],[33,35,33,49],[33,50,33,52],[33,53,33,67],[33,69,33,73],[33,74,33,76],[33,77,33,81],[32,7,32,10],[32,12,32,16],[32,18,32,22],[32,24,32,33],[32,35,32,49],[32,50,32,52],[32,53,32,67],[32,69,32,73],[32,74,32,76],[30,77,30,81],[31,7,31,10],[31,12,31,16],[31,18,31,22],[31,24,31,33],[31,35,31,49],[31,50,31,52],[31,53,31,67],[31,69,31,73],[31,74,31,76],[31,77,31,81],[30,7,30,10],[30,12,30,16],[30,18,30,22],[30,24,30,33],[30,35,30,49],[30,50,30,52],[30,53,30,67],[30,69,30,73],[30,74,30,76],[28,74,28,76],[28,77,28,81],[29,7,29,10],[29,12,29,16],[29,18,29,22],[29,24,29,33],[29,35,29,49],[29,50,29,52],[28,7,28,10],[28,12,28,16],[28,18,28,22],[28,24,28,33],[28,35,28,49],[28,50,28,52],[29,53,29,67],[29,69,29,73],[29,74,29,76],[29,77,29,81],[27,18,27,22],[27,24,27,33],[27,35,27,49],[27,50,27,52],[26,50,26,52],[26,53,26,67],[26,68,35,68],[28,53,28,67],[28,69,28,73],[24,77,24,81],[25,2,25,81],[26,2,35,5],[26,6,35,6],[26,7,26,10],[26,11,35,11],[26,12,26,16],[15,2,24,5],[15,6,24,6],[26,69,26,73],[26,74,26,76],[26,77,26,81],[27,53,27,67],[27,69,27,73],[27,74,27,76],[27,77,27,81],[26,17,35,17],[26,18,26,22],[26,23,35,23],[26,24,26,33],[26,34,35,34],[26,35,26,49],[27,7,27,10],[27,12,27,16],[24,7,24,10],[24,12,24,16],[24,18,24,22],[24,24,24,33],[24,35,24,49],[24,50,24,52],[24,53,24,67],[24,69,24,73],[24,74,24,76],[22,24,22,33],[22,35,22,49],[22,50,22,52],[22,53,22,67],[22,69,22,73],[22,74,22,76],[22,77,22,81],[23,7,23,10],[23,12,23,16],[23,18,23,22],[23,24,23,33],[23,35,23,49],[23,50,23,52],[23,53,23,67],[23,69,23,73],[23,74,23,76],[23,77,23,81],[20,53,20,67],[20,69,20,73],[20,74,20,76],[20,77,20,81],[21,7,21,10],[21,12,21,16],[21,18,21,22],[21,24,21,33],[21,35,21,49],[21,50,21,52],[21,53,21,67],[21,69,21,73],[21,74,21,76],[21,77,21,81],[18,53,18,67],[18,69,18,73],[18,74,18,76],[18,77,18,81],[19,7,19,10],[19,12,19,16],[19,18,19,22],[19,24,19,33],[19,35,19,49],[19,50,19,52],[19,53,19,67],[19,69,19,73],[19,74,19,76],[19,77,19,81],[16,53,16,67],[16,69,16,73],[16,74,16,76],[16,77,16,81],[17,7,17,10],[17,12,17,16],[17,18,17,22],[17,24,17,33],[17,35,17,49],[17,50,17,52],[17,53,17,67],[17,69,17,73],[17,74,17,76],[17,77,17,81],[15,24,15,33],[15,34,24,34],[15,35,15,49],[15,50,15,52],[16,50,16,52],[15,7,15,10],[15,11,24,11],[15,12,15,16],[15,17,24,17],[18,7,18,10],[18,12,18,16],[18,18,18,22],[18,24,18,33],[18,35,18,49],[18,50,18,52],[20,7,20,10],[20,12,20,16],[20,18,20,22],[20,24,20,33],[20,35,20,49],[20,50,20,52],[22,7,22,10],[22,12,22,16],[22,18,22,22],[13,69,13,81],[14,2,14,81],[7,68,7,81],[8,1,8,82],[9,1,9,82],[10,1,10,82],[11,1,35,1],[11,2,11,81],[11,82,35,82],[12,2,12,81],[13,2,13,5],[13,7,13,10],[15,53,15,67],[15,68,24,68],[15,69,15,73],[15,74,15,76],[15,77,15,81],[16,7,16,10],[16,12,16,16],[16,18,16,22],[16,24,16,33],[16,35,16,49],[15,18,15,22],[15,23,24,23],[0,0,0,83],[1,1,1,82],[1,83,97,83],[2,1,2,82],[3,1,3,82],[4,1,7,1],[4,2,4,81],[4,82,7,82],[5,2,5,81],[6,2,6,11],[6,12,6,25],[6,26,6,39],[6,40,6,53],[6,54,6,67],[6,68,6,81],[7,2,7,11],[7,12,7,25],[7,26,7,39],[7,40,7,53],[7,54,7,67],[13,12,13,16],[13,18,13,22],[13,24,13,33],[13,35,13,67]]}
[]
[null,{"$f":"\"Turnier am \" & MID(CELL(\"dateiname\",A1),SEARCH(\"]\",CELL(\"dateiname\",A1))+1,31)","v":"Turnier am 13.1"}]
[]
[]
[null,null,"Spielerliste"]
[]
[null,null,{"$f":"\" Spieler\"","v":" Spieler"},null,null,null,null,null,null,null,null,null,"Spieler 1",null,null,null,null,null,null,null,null,null,null,null,null,null,"Spieler 2",null,null,null,null,null,null,null,null,null,null,null,null,null,"Spieler 3",null,null,null,null,null,null,null,null,null,null,null,null,null,"Spieler 4",null,null,null,null,null,null,null,null,null,null,null,null,null,"Spieler 5"]
[null,null,{"$f":"\" Name\"","v":" Name"},null,null,null,null,null,null,null,null,null,"Ratze",null,null,null,null,null,null,null,null,null,null,null,null,null,"Christoph",null,null,null,null,null,null,null,null,null,null,null,null,null,"Markus",null,null,null,null,null,null,null,null,null,null,null,null,null,"Jule",null,null,null,null,null,null,null,null,null,null,null,null,null,"Patrick"]
[]
[]
[]
[null,null,"Spielplan"]
[]
[null,null,"00:12:00",null,null,null,null,"Spiel",null,null,null,null,"Datum",null,null,null,null,null,"Uhrzeit",null,null,null,null,null,"Austragungsort",null,null,null,null,null,null,null,null,null,null,"Paarung",null,null,null,null,null,null,null,null,null,null,null,null,null,null,null,null,null,null,null,null,null,null,null,null,null,null,null,null,null,null,null,null,null,"Ergebnis",null,null,null,null,null,null,null,null,null,null,null,null,null,null,"Spiele","SiegHeim","Unentschieden","SiegGast"]
[]
[null,null,"Hinrunde",null,null,null,null,1,null,null,null,null,{"$f":"MID(CELL(\"dateiname\",A1),SEARCH(\"]\",CELL(\"dateiname\",A1))+1,31)","v":"13.1"},null,null,null,null,null,"21:00:00",null,null,null,null,null,"Fernseher",null,null,null,null,null,null,null,null,null,null,{"$f":"$M$8","v":"Ratze"},null,null,null,null,null,null,null,null,null,null,null,null,null,null,":",null,null,{"$f":"$AA$8","v":"Christoph"},null,null,null,null,null,null,null,null,null,null,null,null,null,null,null,0,null,null,null,null,":",null,null,0,null,null,null,null,null,null,{"$f":"IF(AND(ISNUMBER(BR16),ISNUMBER(BZ16)),1,0)","v":1},{"$f":"IF(OR(ISBLANK(BR16),ISBLANK(BZ16)),0,IF(BR16>BZ16,1,0))","v":0},{"$f":"IF(OR(ISBLANK(BR16),ISBLANK(BZ16)),0,IF(BR16=BZ16,1,0))","v":1},{"$f":"IF(OR(ISBLANK(BR16),ISBLANK(BZ16)),0,IF(BR16<BZ16,1,0))","v":0}]
[null,null,null,null,null,null,null,{"$f":"H16+1","v":2},null,null,null,null,{"$f":"$M$16","v":"13.1"},null,null,null,null,null,{"$f":"S16","v":"21:00:00"},null,null,null,null,null,"Fernseher",null,null,null,null,null,null,null,null,null,null,{"$f":"$AO$8","v":"Markus"},null,null,null,null,null,null,null,null,null,null,null,null,null,null,":",null,null,{"$f":"$BC$8","v":"Jule"},null,null,null,null,null,null,null,null,null,null,null,null,null,null,null,2,null,null,null,null,":",null,null,2,null,null,null,null,null,null,{"$f":"IF(AND(ISNUMBER(BR17),ISNUMBER(BZ17)),1,0)","v":1},{"$f":"IF(OR(ISBLANK(BR17),ISBLANK(BZ17)),0,IF(BR17>BZ17,1,0))","v":0},{"$f":"IF(OR(ISBLANK(BR17),ISBLANK(BZ17)),0,IF(BR17=BZ17,1,0))","v":1},{"$f":"IF(OR(ISBLANK(BR17),ISBLANK(BZ17)),0,IF(BR17<BZ17,1,0))","v":0}]
[null,null,null,null,null,null,null,{"$f":"H17+1","v":3},null,null,null,null,{"$f":"$M$16","v":"13.1"},null,null,null,null,null,{"$f":"S16+$C$14","v":"21:12:00"},null,null,null,null,null,{"$f":"$Y$16","v":"Fernseher"},null,null,null,null,null,null,null,null,null,null,{"$f":"$BQ$8","v":"Patrick"},null,null,null,null,null,null,null,null,null,null,null,null,null,null,":",null,null,{"$f":"$M$8","v":"Ratze"},null,null,null,null,null,null,null,null,null,null,null,null,null,null,null,0,null,null,null,null,":",null,null,2,null,null,null,null,null,null,1,0,0,1]
[null,null,null,null,null,null,null,{"$f":"H18+1","v":4},null,null,null,null,"13.1",null,null,null,null,null,"21:12:00",null,null,null,null,null,{"$f":"$Y$17","v":"Fernseher"},null,null,null,null,null,null,null,null,null,null,{"$f":"$AA$8","v":"Christoph"},null,null,null,null,null,null,null,null,null,null,null,null,null,null,":",null,null,{"$f":"$AO$8","v":"Markus"},null,null,null,null,null,null,null,null,null,null,null,null,null,null,null,0,null,null,null,null,":",null,null,2,null,null,null,null,null,null,1,0,0,1]
[null,null,null,null,null,null,null,5,null,null,null,null,"13.1",null,null,null,null,null,"21:24:00",null,null,null,null,null,{"$f":"$Y$16","v":"Fernseher"},null,null,null,null,null,null,null,null,null,null,{"$f":"$BC$8","v":"Jule"},null,null,null,null,null,null,null,null,null,null,null,null,null,null,":",null,null,{"$f":"$BQ$8","v":"Patrick"},null,null,null,null,null,null,null,null,null,null,null,null,null,null,null,3,null,null,null,null,":",null,null,2,null,null,null,null,null,null,1,1,0,0]
[null,null,null,null,null,null,null,6,null,null,null,null,"13.1",null,null,null,null,null,"21:24:00",null,null,null,null,null,{"$f":"$Y$17","v":"Fernseher"},null,null,null,null,null,null,null,null,null,null,{"$f":"$M$8","v":"Ratze"},null,null,null,null,null,null,null,null,null,null,null,null,null,null,":",null,null,{"$f":"$AO$8","v":"Markus"},null,null,null,null,null,null,null,null,null,null,null,null,null,null,null,4,null,null,null,null,":",null,null,0,null,null,null,null,null,null,1,1,0,0]
[null,null,null,null,null,null,null,7,null,null,null,null,"13.1",null,null,null,null,null,"21:36:00",null,null,null,null,null,{"$f":"$Y$16","v":"Fernseher"},null,null,null,null,null,null,null,null,null,null,{"$f":"$AA$8","v":"Christoph"},null,null,null,null,null,null,null,null,null,null,null,null,null,null,":",null,null,{"$f":"$BC$8","v":"Jule"},null,null,null,null,null,null,null,null,null,null,null,null,null,null,null,2,null,null,null,null,":",null,null,0,null,null,null,null,null,null,1,1,0,0]
[null,null,null,null,null,null,null,8,null,null,null,null,"13.1",null,null,null,null,null,"21:36:00",null,null,null,null,null,{"$f":"$Y$17","v":"Fernseher"},null,null,null,null,null,null,null,null,null,null,{"$f":"$AO$8","v":"Markus"},null,null,null,null,null,null,null,null,null,null,null,null,null,null,":",null,null,{"$f":"$BQ$8","v":"Patrick"},null,null,null,null,null,null,null,null,null,null,null,null,null,null,null,3,null,null,null,null,":",null,null,2,null,null,null,null,null,null,1,1,0,0]
[null,null,null,null,null,null,null,9,null,null,null,null,"13.1",null,null,null,null,null,"21:48:00",null,null,null,null,null,{"$f":"$Y$16","v":"Fernseher"},null,null,null,null,null,null,null,null,null,null,{"$f":"$BC$8","v":"Jule"},null,null,null,null,null,null,null,null,null,null,null,null,null,null,":",null,null,{"$f":"$M$8","v":"Ratze"},null,null,null,null,null,null,null,null,null,null,null,null,null,null,null,2,null,null,null,null,":",null,null,1,null,null,null,null,null,null,1,1,0,0]
[null,null,null,null,null,null,null,10,null,null,null,null,"13.1",null,null,null,null,null,"21:48:00",null,null,null,null,null,{"$f":"$Y$17","v":"Fernseher"},null,null,null,null,null,null,null,null,null,null,{"$f":"$BQ$8","v":"Patrick"},null,null,null,null,null,null,null,null,null,null,null,null,null,null,":",null,null,{"$f":"$AA$8","v":"Christoph"},null,null,null,null,null,null,null,null,null,null,null,null,null,null,null,1,null,null,null,null,":",null,null,2,null,null,null,null,null,null,1,0,0,1]
[]
[null,null,"Rückrunde",null,null,null,null,{"$f":"H25+1","v":11},null,null,null,null,{"$f":"$M$16","v":"13.1"},null,null,null,null,null,{"$f":"S24+$C$14","v":"22:00:00"},null,null,null,null,null,{"$f":"$Y$17","v":"Fernseher"},null,null,null,null,null,null,null,null,null,null,{"$f":"$AA$8","v":"Christoph"},null,null,null,null,null,null,null,null,null,null,null,null,null,null,":",null,null,{"$f":"$M$8","v":"Ratze"},null,null,null,null,null,null,null,null,null,null,null,null,null,null,null,3,null,null,null,null,":",null,null,2,null,null,null,null,null,null,{"$f":"IF(AND(ISNUMBER(BR27),ISNUMBER(BZ27)),1,0)","v":1},{"$f":"IF(OR(ISBLANK(BR27),ISBLANK(BZ27)),0,IF(BR27>BZ27,1,0))","v":1},{"$f":"IF(OR(ISBLANK(BR27),ISBLANK(BZ27)),0,IF(BR27=BZ27,1,0))","v":0},{"$f":"IF(OR(ISBLANK(BR27),ISBLANK(BZ27)),0,IF(BR27<BZ27,1,0))","v":0}]
[null,null,null,null,null,null,null,{"$f":"H27+1","v":12},null,null,null,null,"13.1",null,null,null,null,null,{"$f":"S25+$C$14","v":"22:00:00"},null,null,null,null,null,{"$f":"$Y$16","v":"Fernseher"},null,null,null,null,null,null,null,null,null,null,{"$f":"$BC$8","v":"Jule"},null,null,null,null,null,null,null,null,null,null,null,null,null,null,":",null,null,{"$f":"$AO$8","v":"Markus"},null,null,null,null,null,null,null,null,null,null,null,null,null,null,null,1,null,null,null,null,":",null,null,4,null,null,null,null,null,null,1,0,0,1]
[null,null,null,null,null,null,null,{"$f":"H28+1","v":13},null,null,null,null,"13.1",null,null,null,null,null,{"$f":"S27+$C$14","v":"22:12:00"},null,null,null,null,null,{"$f":"$Y$17","v":"Fernseher"},null,null,null,null,null,null,null,null,null,null,{"$f":"$M$8","v":"Ratze"},null,null,null,null,null,null,null,null,null,null,null,null,null,null,":",null,null,{"$f":"$BQ$8","v":"Patrick"},null,null,null,null,null,null,null,null,null,null,null,null,null,null,null,0,null,null,null,null,":",null,null,0,null,null,null,null,null,null,1,0,1,0]
[null,null,null,null,null,null,null,14,null,null,null,null,"13.1",null,null,null,null,null,"22:12:00",null,null,null,null,null,{"$f":"$Y$16","v":"Fernseher"},null,null,null,null,null,null,null,null,null,null,{"$f":"$AO$8","v":"Markus"},null,null,null,null,null,null,null,null,null,null,null,null,null,null,":",null,null,{"$f":"$AA$8","v":"Christoph"},null,null,null,null,null,null,null,null,null,null,null,null,null,null,null,2,null,null,null,null,":",null,null,2,null,null,null,null,null,null,1,0,1,0]
[null,null,null,null,null,null,null,15,null,null,null,null,"13.1",null,null,null,null,null,"22:24:00",null,null,null,null,null,{"$f":"$Y$17","v":"Fernseher"},null,null,null,null,null,null,null,null,null,null,{"$f":"$BQ$8","v":"Patrick"},null,null,null,null,null,null,null,null,null,null,null,null,null,null,":",null,null,{"$f":"$BC$8","v":"Jule"},null,null,null,null,null,null,null,null,null,null,null,null,null,null,null,1,null,null,null,null,":",null,null,1,null,null,null,null,null,null,1,0,1,0]
[null,null,null,null,null,null,null,16,null,null,null,null,"13.1",null,null,null,null,null,"22:24:00",null,null,null,null,null,{"$f":"$Y$16","v":"Fernseher"},null,null,null,null,null,null,null,null,null,null,{"$f":"$AO$8","v":"Markus"},null,null,null,null,null,null,null,null,null,null,null,null,null,null,":",null,null,{"$f":"$M$8","v":"Ratze"},null,null,null,null,null,null,null,null,null,null,null,null,null,null,null,3,null,null,null,null,":",null,null,2,null,null,null,null,null,null,1,1,0,0]
[null,null,null,null,null,null,null,17,null,null,null,null,"13.1",null,null,null,null,null,"22:36:00",null,null,null,null,null,{"$f":"$Y$17","v":"Fernseher"},null,null,null,null,null,null,null,null,null,null,{"$f":"$BC$8","v":"Jule"},null,null,null,null,null,null,null,null,null,null,null,null,null,null,":",null,null,{"$f":"$AA$8","v":"Christoph"},null,null,null,null,null,null,null,null,null,null,null,null,null,null,null,1,null,null,null,null,":",null,null,2,null,null,null,null,null,null,1,0,0,1]
[null,null,null,null,null,null,null,18,null,null,null,null,"13.1",null,null,null,null,null,"22:36:00",null,null,null,null,null,{"$f":"$Y$16","v":"Fernseher"},null,null,null,null,null,null,null,null,null,null,{"$f":"$BQ$8","v":"Patrick"},null,null,null,null,null,null,null,null,null,null,null,null,null,null,":",null,null,{"$f":"$AO$8","v":"Markus"},null,null,null,null,null,null,null,null,null,null,null,null,null,null,null,1,null,null,null,null,":",null,null,1,null,null,null,null,null,null,1,0,1,0]
[null,null,null,null,null,null,null,19,null,null,null,null,"13.1",null,null,null,null,null,"22:48:00",null,null,null,null,null,{"$f":"$Y$17","v":"Fernseher"},null,null,null,null,null,null,null,null,null,null,{"$f":"$M$8","v":"Ratze"},null,null,null,null,null,null,null,null,null,null,null,null,null,null,":",null,null,{"$f":"$BC$8","v":"Jule"},null,null,null,null,null,null,null,null,null,null,null,null,null,null,null,2,null,null,null,null,":",null,null,3,null,null,null,null,null,null,1,0,0,1]
[null,null,null,null,null,null,null,20,null,null,null,null,"13.1",null,null,null,null,null,"22:48:00",null,null,null,null,null,{"$f":"$Y$16","v":"Fernseher"},null,null,null,null,null,null,null,null,null,null,{"$f":"$AA$8","v":"Christoph"},null,null,null,null,null,null,null,null,null,null,null,null,null,null,":",null,null,{"$f":"$BQ$8","v":"Patrick"},null,null,null,null,null,null,null,null,null,null,null,null,null,null,null,1,null,null,null,null,":",null,null,1,null,null,null,null,null,null,1,0,1,0]
[]
[]
[]
[]
[]
[]
[]
[]
[]
[]
[]
[]
[]
[]
[]
[]
[]
[]
[]
[]
[]
[]
[]
[]
[]
[null,null,"Tabelle (unsortiert)"]
[]
[null,null,"Rang",null,null,null,null,"Spieler",null,null,null,null,null,null,null,null,null,null,null,"Spiele",null,null,null,null,null,"Siege",null,null,null,null,null,null,null,null,null,null,"Unentschieden",null,null,null,null,null,null,null,null,null,null,"Niederlagen",null,null,null,null,null,null,null,null,null,null,"Tore",null,null,null,null,null,null,null,null,null,null,null,"+/-",null,null,null,null,"Punkte",null,null,null,"HS"]
[null,null,{"$f":"IF(T65=0,0,RANK(BX65,$BX$65:$CA$69,0))","v":4},null,null,null,null,{"$f":"$M$8","v":"Ratze"},null,null,null,null,null,null,null,null,null,null,null,{"$f":"CG16+CG18+CG21+CG24+CG27+CG29+CG32+CG35","v":8},null,null,null,null,null,{"$f":"CH16+CJ18+CH21+CJ24+CJ27+CH29+CJ32+CH35","v":2},null,null,null,null,null,null,null,null,null,null,{"$f":"CI16+CI18+CI21+CI24+CI27+CI29+CI32+CI35","v":2},null,null,null,null,null,null,null,null,null,null,{"$f":"CJ16+CH18+CJ21+CH24+CH27+CJ29+CH32+CJ35","v":4},null,null,null,null,null,null,null,null,null,null,{"$f":"BR16+BZ18+BR21+BZ24+BZ27+BR29+BZ32+BR35","v":13},null,null,null,null,":",null,{"$f":"BZ16+BR18+BZ21+BR24+BR27+BZ29+BR32+BZ35","v":11},null,null,null,null,{"$f":"BG65-BN65","v":2},null,null,null,null,{"$f":"(Z65*3)+AK65","v":8},null,null,null,{"$f":"BX65+ROW()/1000","v":8.0649999999999995}]
[null,null,{"$f":"IF(T66=0,0,RANK(BX66,$BX$65:$CA$69,0))","v":1},null,null,null,null,{"$f":"$AA$8","v":"Christoph"},null,null,null,null,null,null,null,null,null,null,null,{"$f":"CG16+CG19+CG22+CG25+CG27+CG30+CG33+CG36","v":8},null,null,null,null,null,{"$f":"CJ16+CH19+CH22+CJ25+CH27+CJ30+CJ33+CH36","v":4},null,null,null,null,null,null,null,null,null,null,{"$f":"CI16+CI19+CI22+CI25+CI27+CI30+CI33+CI36","v":3},null,null,null,null,null,null,null,null,null,null,{"$f":"CH16+CJ19+CJ22+CH25+CJ27+CH30+CH33+CJ36","v":1},null,null,null,null,null,null,null,null,null,null,{"$f":"BZ16+BR19+BR22+BZ25+BR27+BZ30+BZ33+BR36","v":12},null,null,null,":",":",null,{"$f":"BR16+BZ19+BZ22+BR25+BZ27+BR30+BR33+BZ36","v":9},null,null,null,null,{"$f":"BG66-BN66","v":3},null,null,null,null,{"$f":"(Z66*3)+AK66","v":15},null,null,null,{"$f":"BX66+ROW()/1000","v":15.066000000000001}]
[null,null,{"$f":"IF(T67=0,0,RANK(BX67,$BX$65:$CA$69,0))","v":1},null,null,null,null,{"$f":"$AO$8","v":"Markus"},null,null,null,null,null,null,null,null,null,null,null,{"$f":"CG17+CG19+CG21+CG23+CG28+CG30+CG32+CG34","v":8},null,null,null,null,null,{"$f":"CH17+CJ19+CJ21+CH23+CJ28+CH30+CH32+CJ34","v":4},null,null,null,null,null,null,null,null,null,null,{"$f":"CI17+CI19+CI21+CI23+CI28+CI30+CI32+CI34","v":3},null,null,null,null,null,null,null,null,null,null,{"$f":"CJ17+CH19+CH21+CJ23+CH28+CJ30+CJ32+CH34","v":1},null,null,null,null,null,null,null,null,null,null,{"$f":"BR17+BZ19+BZ21+BR23+BZ28+BR30+BR32+BZ34","v":17},null,null,null,":",":",null,{"$f":"BZ17+BR19+BR21+BZ23+BR28+BZ30+BZ32+BR34","v":14},null,null,null,null,{"$f":"BG67-BN67","v":3},null,null,null,null,{"$f":"(Z67*3)+AK67","v":15},null,null,null,{"$f":"BX67+ROW()/1000","v":15.067}]
[null,null,{"$f":"IF(T68=0,0,RANK(BX68,$BX$65:$CA$69,0))","v":3},null,null,null,null,{"$f":"$BC$8","v":"Jule"},null,null,null,null,null,null,null,null,null,null,null,{"$f":"CG17+CG20+CG22+CG24+CG28+CG31+CG33+CG35","v":8},null,null,null,null,null,{"$f":"CJ17+CH20+CJ22+CH24+CH28+CJ31+CH33+CJ35","v":3},null,null,null,null,null,null,null,null,null,null,{"$f":"CI17+CI20+CI22+CI24+CI28+CI31+CI33+CI35","v":2},null,null,null,null,null,null,null,null,null,null,{"$f":"CH17+CJ20+CH22+CJ24+CJ28+CH31+CJ33+CH35","v":3},null,null,null,null,null,null,null,null,null,null,{"$f":"BZ17+BR20+BZ22+BR24+BR28+BZ31+BR33+BZ35","v":13},null,null,null,":",":",null,{"$f":"BR17+BZ20+BR22+BZ24+BZ28+BR31+BZ33+BR35","v":16},null,null,null,null,{"$f":"BG68-BN68","v":-3},null,null,null,null,{"$f":"(Z68*3)+AK68","v":11},null,null,null,{"$f":"BX68+ROW()/1000","v":11.068}]
[null,null,{"$f":"IF(T69=0,0,RANK(BX69,$BX$65:$CA$69,0))","v":5},null,null,null,null,{"$f":"$BQ$8","v":"Patrick"},null,null,null,null,null,null,null,null,null,null,null,{"$f":"CG18+CG20+CG23+CG25+CG29+CG31+CG34+CG36","v":8},null,null,null,null,null,{"$f":"CH18+CJ20+CJ23+CH25+CJ29+CH31+CH34+CJ36","v":0},null,null,null,null,null,null,null,null,null,null,{"$f":"CI18+CI20+CI23+CI25+CI29+CI31+CI34+CI36","v":4},null,null,null,null,null,null,null,null,null,null,{"$f":"CJ18+CH20+CH23+CJ25+CH29+CJ31+CJ34+CH36","v":4},null,null,null,null,null,null,null,null,null,null,{"$f":"BR18+BZ20+BZ23+BR25+BZ29+BR31+BR34+BZ36","v":8},null,null,null,":",":",null,{"$f":"BZ18+BR20+BR23+BZ25+BR29+BZ31+BZ34+BR36","v":13},null,null,null,null,{"$f":"BG69-BN69","v":-5},null,null,null,null,{"$f":"(Z69*3)+AK69","v":4},null,null,null,{"$f":"BX69+ROW()/1000","v":4.069}]
[null,null,null,null,null,null,null,"Spieler 6",null,null,null,null,null,null,null,null,null,null,null,0,null,null,null,null,null,0,null,null,null,null,null,null,null,null,null,null,0,null,null,null,null,null,null,null,null,null,null,0,null,null,null,null,null,null,null,null,null,null,0,null,null,null,null,":",null,0,null,null,null,null,0,null,null,null,null,0,null,null,null,0]
[null,null,null,null,null,null,null,"Spieler 7",null,null,null,null,null,null,null,null,null,null,null,0,null,null,null,null,null,0,null,null,null,null,null,null,null,null,null,null,0,null,null,null,null,null,null,null,null,null,null,0,null,null,null,null,null,null,null,null,null,null,0,null,null,null,null,":",null,0,null,null,null,null,0,null,null,null,null,0,null,null,null,0]
[]
[]
[]
[null,null,"Tabelle"]
[]
[null,null,"Rang",null,null,null,null,"Spieler",null,null,null,null,null,null,null,null,null,null,null,"Spiele",null,null,null,null,null,"Siege",null,null,null,null,null,null,null,null,null,null,"Unentschieden",null,null,null,null,null,null,null,null,null,null,"Niederlagen",null,null,null,null,null,null,null,null,null,null,"Tore",null,null,null,null,null,null,null,null,null,null,null,"+/-",null,null,null,null,"Punkte"]
[null,null,{"$f":"INDEX($C$65:$C$69,MATCH(LARGE($CB$65:$CB$69,ROW(A1)),$CB$65:$CB$69,0),1)","v":1},null,null,1,null,{"$f":"INDEX($H$65:$H$69,MATCH(LARGE($CB$65:$CB$69,ROW(A1)),$CB$65:$CB$69,0),1)","v":"Markus"},null,null,null,null,null,null,null,null,null,null,null,{"$f":"INDEX($T$65:$T$69,MATCH(LARGE($CB$65:$CB$69,ROW(A1)),$CB$65:$CB$69,0),1)","v":8},null,null,null,null,null,{"$f":"INDEX($Z$65:$Z$69,MATCH(LARGE($CB$65:$CB$69,ROW(A1)),$CB$65:$CB$69,0),1)","v":4},null,null,null,null,null,null,null,null,null,null,{"$f":"INDEX($AK$65:$AK$69,MATCH(LARGE($CB$65:$CB$69,ROW(A1)),$CB$65:$CB$69,0),1)","v":3},null,null,null,null,null,null,null,null,null,null,{"$f":"INDEX($AV$65:$AV$69,MATCH(LARGE($CB$65:$CB$69,ROW(A1)),$CB$65:$CB$69,0),1)","v":1},null,null,null,null,null,null,null,null,null,null,{"$f":"INDEX($BG$65:$BG$69,MATCH(LARGE($CB$65:$CB$69,ROW(A1)),$CB$65:$CB$69,0),1)","v":17},null,null,null,null,":",null,{"$f":"INDEX($BN$65:$BN$69,MATCH(LARGE($CB$65:$CB$69,ROW(A1)),$CB$65:$CB$69,0),1)","v":14},null,null,null,null,{"$f":"INDEX($BS$65:$BS$69,MATCH(LARGE($CB$65:$CB$69,ROW(A1)),$CB$65:$CB$69,0),1)","v":3},null,null,null,null,{"$f":"INDEX($BX$65:$BX$69,MATCH(LARGE($CB$65:$CB$69,ROW(A1)),$CB$65:$CB$69,0),1)","v":15}]
[null,null,{"$f":"INDEX($C$65:$C$69,MATCH(LARGE($CB$65:$CB$69,ROW(A2)),$CB$65:$CB$69,0),1)","v":1},null,null,2,null,{"$f":"INDEX($H$65:$H$69,MATCH(LARGE($CB$65:$CB$69,ROW(A2)),$CB$65:$CB$69,0),1)","v":"Christoph"},null,null,null,null,null,null,null,null,null,null,null,{"$f":"INDEX($T$65:$T$69,MATCH(LARGE($CB$65:$CB$69,ROW(A2)),$CB$65:$CB$69,0),1)","v":8},null,null,null,null,null,{"$f":"INDEX($Z$65:$Z$69,MATCH(LARGE($CB$65:$CB$69,ROW(A2)),$CB$65:$CB$69,0),1)","v":4},null,null,null,null,null,null,null,null,null,null,{"$f":"INDEX($AK$65:$AK$69,MATCH(LARGE($CB$65:$CB$69,ROW(A2)),$CB$65:$CB$69,0),1)","v":3},null,null,null,null,null,null,null,null,null,null,{"$f":"INDEX($AV$65:$AV$69,MATCH(LARGE($CB$65:$CB$69,ROW(A2)),$CB$65:$CB$69,0),1)","v":1},null,null,null,null,null,null,null,null,null,null,{"$f":"INDEX($BG$65:$BG$69,MATCH(LARGE($CB$65:$CB$69,ROW(A2)),$CB$65:$CB$69,0),1)","v":12},null,null,null,null,":",null,{"$f":"INDEX($BN$65:$BN$69,MATCH(LARGE($CB$65:$CB$69,ROW(A2)),$CB$65:$CB$69,0),1)","v":9},null,null,null,null,{"$f":"INDEX($BS$65:$BS$69,MATCH(LARGE($CB$65:$CB$69,ROW(A2)),$CB$65:$CB$69,0),1)","v":3},null,null,null,null,{"$f":"INDEX($BX$65:$BX$69,MATCH(LARGE($CB$65:$CB$69,ROW(A2)),$CB$65:$CB$69,0),1)","v":15}]
[null,null,{"$f":"INDEX($C$65:$C$69,MATCH(LARGE($CB$65:$CB$69,ROW(A3)),$CB$65:$CB$69,0),1)","v":3},null,null,3,null,{"$f":"INDEX($H$65:$H$69,MATCH(LARGE($CB$65:$CB$69,ROW(A3)),$CB$65:$CB$69,0),1)","v":"Jule"},null,null,null,null,null,null,null,null,null,null,null,{"$f":"INDEX($T$65:$T$69,MATCH(LARGE($CB$65:$CB$69,ROW(A3)),$CB$65:$CB$69,0),1)","v":8},null,null,null,null,null,{"$f":"INDEX($Z$65:$Z$69,MATCH(LARGE($CB$65:$CB$69,ROW(A3)),$CB$65:$CB$69,0),1)","v":3},null,null,null,null,null,null,null,null,null,null,{"$f":"INDEX($AK$65:$AK$69,MATCH(LARGE($CB$65:$CB$69,ROW(A3)),$CB$65:$CB$69,0),1)","v":2},null,null,null,null,null,null,null,null,null,null,{"$f":"INDEX($AV$65:$AV$69,MATCH(LARGE($CB$65:$CB$69,ROW(A3)),$CB$65:$CB$69,0),1)","v":3},null,null,null,null,null,null,null,null,null,null,{"$f":"INDEX($BG$65:$BG$69,MATCH(LARGE($CB$65:$CB$69,ROW(A3)),$CB$65:$CB$69,0),1)","v":13},null,null,null,null,":",null,{"$f":"INDEX($BN$65:$BN$69,MATCH(LARGE($CB$65:$CB$69,ROW(A3)),$CB$65:$CB$69,0),1)","v":16},null,null,null,null,{"$f":"INDEX($BS$65:$BS$69,MATCH(LARGE($CB$65:$CB$69,ROW(A3)),$CB$65:$CB$69,0),1)","v":-3},null,null,null,null,{"$f":"INDEX($BX$65:$BX$69,MATCH(LARGE($CB$65:$CB$69,ROW(A3)),$CB$65:$CB$69,0),1)","v":11}]
[null,null,{"$f":"INDEX($C$65:$C$69,MATCH(LARGE($CB$65:$CB$69,ROW(A4)),$CB$65:$CB$69,0),1)","v":4},null,null,4,null,{"$f":"INDEX($H$65:$H$69,MATCH(LARGE($CB$65:$CB$69,ROW(A4)),$CB$65:$CB$69,0),1)","v":"Ratze"},null,null,null,null,null,null,null,null,null,null,null,{"$f":"INDEX($T$65:$T$69,MATCH(LARGE($CB$65:$CB$69,ROW(A4)),$CB$65:$CB$69,0),1)","v":8},null,null,null,null,null,{"$f":"INDEX($Z$65:$Z$69,MATCH(LARGE($CB$65:$CB$69,ROW(A4)),$CB$65:$CB$69,0),1)","v":2},null,null,null,null,null,null,null,null,null,null,{"$f":"INDEX($AK$65:$AK$69,MATCH(LARGE($CB$65:$CB$69,ROW(A4)),$CB$65:$CB$69,0),1)","v":2},null,null,null,null,null,null,null,null,null,null,{"$f":"INDEX($AV$65:$AV$69,MATCH(LARGE($CB$65:$CB$69,ROW(A4)),$CB$65:$CB$69,0),1)","v":4},null,null,null,null,null,null,null,null,null,null,{"$f":"INDEX($BG$65:$BG$69,MATCH(LARGE($CB$65:$CB$69,ROW(A4)),$CB$65:$CB$69,0),1)","v":13},null,null,null,null,":",null,{"$f":"INDEX($BN$65:$BN$69,MATCH(LARGE($CB$65:$CB$69,ROW(A4)),$CB$65:$CB$69,0),1)","v":11},null,null,null,null,{"$f":"INDEX($BS$65:$BS$69,MATCH(LARGE($CB$65:$CB$69,ROW(A4)),$CB$65:$CB$69,0),1)","v":2},null,null,null,null,{"$f":"INDEX($BX$65:$BX$69,MATCH(LARGE($CB$65:$CB$69,ROW(A4)),$CB$65:$CB$69,0),1)","v":8}]
[null,null,{"$f":"INDEX($C$65:$C$69,MATCH(LARGE($CB$65:$CB$69,ROW(A5)),$CB$65:$CB$69,0),1)","v":5},null,null,5,null,{"$f":"INDEX($H$65:$H$69,MATCH(LARGE($CB$65:$CB$69,ROW(A5)),$CB$65:$CB$69,0),1)","v":"Patrick"},null,null,null,null,null,null,null,null,null,null,null,{"$f":"INDEX($T$65:$T$69,MATCH(LARGE($CB$65:$CB$69,ROW(A5)),$CB$65:$CB$69,0),1)","v":8},null,null,null,null,null,{"$f":"INDEX($Z$65:$Z$69,MATCH(LARGE($CB$65:$CB$69,ROW(A5)),$CB$65:$CB$69,0),1)","v":0},null,null,null,null,null,null,null,null,null,null,{"$f":"INDEX($AK$65:$AK$69,MATCH(LARGE($CB$65:$CB$69,ROW(A5)),$CB$65:$CB$69,0),1)","v":4},null,null,null,null,null,null,null,null,null,null,{"$f":"INDEX($AV$65:$AV$69,MATCH(LARGE($CB$65:$CB$69,ROW(A5)),$CB$65:$CB$69,0),1)","v":4},null,null,null,null,null,null,null,null,null,null,{"$f":"INDEX($BG$65:$BG$69,MATCH(LARGE($CB$65:$CB$69,ROW(A5)),$CB$65:$CB$69,0),1)","v":8},null,null,null,null,":",null,{"$f":"INDEX($BN$65:$BN$69,MATCH(LARGE($CB$65:$CB$69,ROW(A5)),$CB$65:$CB$69,0),1)","v":13},null,null,null,null,{"$f":"INDEX($BS$65:$BS$69,MATCH(LARGE($CB$65:$CB$69,ROW(A5)),$CB$65:$CB$69,0),1)","v":-5},null,null,null,null,{"$f":"INDEX($BX$65:$BX$69,MATCH(LARGE($CB$65:$CB$69,ROW(A5)),$CB$65:$CB$69,0),1)","v":4}]
[null,null,"---",null,null,"---",null,"Spieler 6",null,null,null,null,null,null,null,null,null,null,null,0,null,null,null,null,null,0,null,null,null,null,null,null,null,null,null,null,0,null,null,null,null,null,null,null,null,null,null,0,null,null,null,null,null,null,null,null,null,null,0,null,null,null,null,":",null,0,null,null,null,null,0,null,null,null,null,0]
[null,null,"---",null,null,"---",null,"Spieler 7",null,null,null,null,null,null,null,null,null,null,null,0,null,null,null,null,null,0,null,null,null,null,null,null,null,null,null,null,0,null,null,null,null,null,null,null,null,null,null,0,null,null,null,null,null,null,null,null,null,null,0,null,null,null,null,":",null,0,null,null,null,null,0,null,null,null,null,0]
[]
[]
[]
[null,null,"Tabelle (nach Alphabet)"]
[]
[null,null,"Rang",null,null,null,null,"Spieler",null,null,null,null,null,null,null,null,null,null,null,"Spiele",null,null,null,null,null,"Siege",null,null,null,null,null,null,null,null,null,null,"Unentschieden",null,null,null,null,null,null,null,null,null,null,"Niederlagen",null,null,null,null,null,null,null,null,null,null,"Tore",null,null,null,null,null,null,null,null,null,null,null,"+/-",null,null,null,null,"Punkte"]
[null,null,{"$f":"IF($H$78=\"Basti\",$F$78,IF($H$79=\"Basti\",$F$79,IF($H$80=\"Basti\",$F$80,IF($H$81=\"Basti\",$F$81,IF($H$82=\"Basti\",$F$82,IF($H$83=\"Basti\",$F$83,IF($H$84=\"Basti\",$F$84,0)))))))","v":0},null,null,null,null,"Basti",null,null,null,null,null,null,null,null,null,null,null,{"$f":"IF($H$78=\"Basti\",$T$78,IF($H$79=\"Basti\",$T$79,IF($H$80=\"Basti\",$T$80,IF($H$81=\"Basti\",$T$81,IF($H$82=\"Basti\",$T$82,IF($H$83=\"Basti\",$T$83,IF($H$84=\"Basti\",$T$84,0)))))))","v":0},null,null,null,null,null,{"$f":"IF($H$78=\"Basti\",$Z$78,IF($H$79=\"Basti\",$Z$79,IF($H$80=\"Basti\",$Z$80,IF($H$81=\"Basti\",$Z$81,IF($H$82=\"Basti\",$Z$82,IF($H$83=\"Basti\",$Z$83,IF($H$84=\"Basti\",$Z$84,0)))))))","v":0},null,null,null,null,null,null,null,null,null,null,{"$f":"IF($H$78=\"Basti\",$AK$78,IF($H$79=\"Basti\",$AK$79,IF($H$80=\"Basti\",$AK$80,IF($H$81=\"Basti\",$AK$81,IF($H$82=\"Basti\",$AK$82,IF($H$83=\"Basti\",$AK$83,IF($H$84=\"Basti\",$AK$84,0)))))))","v":0},null,null,null,null,null,null,null,null,null,null,{"$f":"IF($H$78=\"Basti\",$AV$78,IF($H$79=\"Basti\",$AV$79,IF($H$80=\"Basti\",$AV$80,IF($H$81=\"Basti\",$AV$81,IF($H$82=\"Basti\",$AV$82,IF($H$83=\"Basti\",$AV$83,IF($H$84=\"Basti\",$AV$84,0)))))))","v":0},null,null,null,null,null,null,null,null,null,null,{"$f":"IF($H$78=\"Basti\",$BG$78,IF($H$79=\"Basti\",$BG$79,IF($H$80=\"Basti\",$BG$80,IF($H$81=\"Basti\",$BG$81,IF($H$82=\"Basti\",$BG$82,IF($H$83=\"Basti\",$BG$83,IF($H$84=\"Basti\",$BG$84,0)))))))","v":0},null,null,null,null,":",null,{"$f":"IF($H$78=\"Basti\",$BN$78,IF($H$79=\"Basti\",$BN$79,IF($H$80=\"Basti\",$BN$80,IF($H$81=\"Basti\",$BN$81,IF($H$82=\"Basti\",$BN$82,IF($H$83=\"Basti\",$BN$83,IF($H$84=\"Basti\",$BN$84,0)))))))","v":0},null,null,null,null,{"$f":"IF($H$78=\"Basti\",$BS$78,IF($H$79=\"Basti\",$BS$79,IF($H$80=\"Basti\",$BS$80,IF($H$81=\"Basti\",$BS$81,IF($H$82=\"Basti\",$BS$82,IF($H$83=\"Basti\",$BS$83,IF($H$84=\"Basti\",$BS$84,0)))))))","v":0},null,null,null,null,{"$f":"IF($H$78=\"Basti\",$BX$78,IF($H$79=\"Basti\",$BX$79,IF($H$80=\"Basti\",$BX$80,IF($H$81=\"Basti\",$BX$81,IF($H$82=\"Basti\",$BX$82,IF($H$83=\"Basti\",$BX$83,IF($H$84=\"Basti\",$BX$84,0)))))))","v":0}]
[null,null,{"$f":"IF($H$78=\"Christoph\",$F$78,IF($H$79=\"Christoph\",$F$79,IF($H$80=\"Christoph\",$F$80,IF($H$81=\"Christoph\",$F$81,IF($H$82=\"Christoph\",$F$82,IF($H$83=\"Christoph\",$F$83,IF($H$84=\"Christoph\",$F$84,0)))))))","v":2},null,null,null,null,"Christoph",null,null,null,null,null,null,null,null,null,null,null,{"$f":"IF($H$78=\"Christoph\",$T$78,IF($H$79=\"Christoph\",$T$79,IF($H$80=\"Christoph\",$T$80,IF($H$81=\"Christoph\",$T$81,IF($H$82=\"Christoph\",$T$82,IF($H$83=\"Christoph\",$T$83,IF($H$84=\"Christoph\",$T$84,0)))))))","v":8},null,null,null,null,null,{"$f":"IF($H$78=\"Christoph\",$Z$78,IF($H$79=\"Christoph\",$Z$79,IF($H$80=\"Christoph\",$Z$80,IF($H$81=\"Christoph\",$Z$81,IF($H$82=\"Christoph\",$Z$82,IF($H$83=\"Christoph\",$Z$83,IF($H$84=\"Christoph\",$Z$84,0)))))))","v":4},null,null,null,null,null,null,null,null,null,null,{"$f":"IF($H$78=\"Christoph\",$AK$78,IF($H$79=\"Christoph\",$AK$79,IF($H$80=\"Christoph\",$AK$80,IF($H$81=\"Christoph\",$AK$81,IF($H$82=\"Christoph\",$AK$82,IF($H$83=\"Christoph\",$AK$83,IF($H$84=\"Christoph\",$AK$84,0)))))))","v":3},null,null,null,null,null,null,null,null,null,null,{"$f":"IF($H$78=\"Christoph\",$AV$78,IF($H$79=\"Christoph\",$AV$79,IF($H$80=\"Christoph\",$AV$80,IF($H$81=\"Christoph\",$AV$81,IF($H$82=\"Christoph\",$AV$82,IF($H$83=\"Christoph\",$AV$83,IF($H$84=\"Christoph\",$AV$84,0)))))))","v":1},null,null,null,null,null,null,null,null,null,null,{"$f":"IF($H$78=\"Christoph\",$BG$78,IF($H$79=\"Christoph\",$BG$79,IF($H$80=\"Christoph\",$BG$80,IF($H$81=\"Christoph\",$BG$81,IF($H$82=\"Christoph\",$BG$82,IF($H$83=\"Christoph\",$BG$83,IF($H$84=\"Christoph\",$BG$84,0)))))))","v":12},null,null,null,null,":",null,{"$f":"IF($H$78=\"Christoph\",$BN$78,IF($H$79=\"Christoph\",$BN$79,IF($H$80=\"Christoph\",$BN$80,IF($H$81=\"Christoph\",$BN$81,IF($H$82=\"Christoph\",$BN$82,IF($H$83=\"Christoph\",$BN$83,IF($H$84=\"Christoph\",$BN$84,0)))))))","v":9},null,null,null,null,{"$f":"IF($H$78=\"Christoph\",$BS$78,IF($H$79=\"Christoph\",$BS$79,IF($H$80=\"Christoph\",$BS$80,IF($H$81=\"Christoph\",$BS$81,IF($H$82=\"Christoph\",$BS$82,IF($H$83=\"Christoph\",$BS$83,IF($H$84=\"Christoph\",$BS$84,0)))))))","v":3},null,null,null,null,{"$f":"IF($H$78=\"Christoph\",$BX$78,IF($H$79=\"Christoph\",$BX$79,IF($H$80=\"Christoph\",$BX$80,IF($H$81=\"Christoph\",$BX$81,IF($H$82=\"Christoph\",$BX$82,IF($H$83=\"Christoph\",$BX$83,IF($H$84=\"Christoph\",$BX$84,0)))))))","v":15}]
[null,null,{"$f":"IF($H$78=\"Jule\",$F$78,IF($H$79=\"Jule\",$F$79,IF($H$80=\"Jule\",$F$80,IF($H$81=\"Jule\",$F$81,IF($H$82=\"Jule\",$F$82,IF($H$83=\"Jule\",$F$83,IF($H$84=\"Jule\",$F$84,0)))))))","v":3},null,null,null,null,"Jule",null,null,null,null,null,null,null,null,null,null,null,{"$f":"IF($H$78=\"Jule\",$T$78,IF($H$79=\"Jule\",$T$79,IF($H$80=\"Jule\",$T$80,IF($H$81=\"Jule\",$T$81,IF($H$82=\"Jule\",$T$82,IF($H$83=\"Jule\",$T$83,IF($H$84=\"Jule\",$T$84,0)))))))","v":8},null,null,null,null,null,{"$f":"IF($H$78=\"Jule\",$Z$78,IF($H$79=\"Jule\",$Z$79,IF($H$80=\"Jule\",$Z$80,IF($H$81=\"Jule\",$Z$81,IF($H$82=\"Jule\",$Z$82,IF($H$83=\"Jule\",$Z$83,IF($H$84=\"Jule\",$Z$84,0)))))))","v":3},null,null,null,null,null,null,null,null,null,null,{"$f":"IF($H$78=\"Jule\",$AK$78,IF($H$79=\"Jule\",$AK$79,IF($H$80=\"Jule\",$AK$80,IF($H$81=\"Jule\",$AK$81,IF($H$82=\"Jule\",$AK$82,IF($H$83=\"Jule\",$AK$83,IF($H$84=\"Jule\",$AK$84,0)))))))","v":2},null,null,null,null,null,null,null,null,null,null,{"$f":"IF($H$78=\"Jule\",$AV$78,IF($H$79=\"Jule\",$AV$79,IF($H$80=\"Jule\",$AV$80,IF($H$81=\"Jule\",$AV$81,IF($H$82=\"Jule\",$AV$82,IF($H$83=\"Jule\",$AV$83,IF($H$84=\"Jule\",$AV$84,0)))))))","v":3},null,null,null,null,null,null,null,null,null,null,{"$f":"IF($H$78=\"Jule\",$BG$78,IF($H$79=\"Jule\",$BG$79,IF($H$80=\"Jule\",$BG$80,IF($H$81=\"Jule\",$BG$81,IF($H$82=\"Jule\",$BG$82,IF($H$83=\"Jule\",$BG$83,IF($H$84=\"Jule\",$BG$84,0)))))))","v":13},null,null,null,null,":",null,{"$f":"IF($H$78=\"Jule\",$BN$78,IF($H$79=\"Jule\",$BN$79,IF($H$80=\"Jule\",$BN$80,IF($H$81=\"Jule\",$BN$81,IF($H$82=\"Jule\",$BN$82,IF($H$83=\"Jule\",$BN$83,IF($H$84=\"Jule\",$BN$84,0)))))))","v":16},null,null,null,null,{"$f":"IF($H$78=\"Jule\",$BS$78,IF($H$79=\"Jule\",$BS$79,IF($H$80=\"Jule\",$BS$80,IF($H$81=\"Jule\",$BS$81,IF($H$82=\"Jule\",$BS$82,IF($H$83=\"Jule\",$BS$83,IF($H$84=\"Jule\",$BS$84,0)))))))","v":-3},null,null,null,null,{"$f":"IF($H$78=\"Jule\",$BX$78,IF($H$79=\"Jule\",$BX$79,IF($H$80=\"Jule\",$BX$80,IF($H$81=\"Jule\",$BX$81,IF($H$82=\"Jule\",$BX$82,IF($H$83=\"Jule\",$BX$83,IF($H$84=\"Jule\",$BX$84,0)))))))","v":11}]
[null,null,{"$f":"IF($H$78=\"Markus\",$F$78,IF($H$79=\"Markus\",$F$79,IF($H$80=\"Markus\",$F$80,IF($H$81=\"Markus\",$F$81,IF($H$82=\"Markus\",$F$82,IF($H$83=\"Markus\",$F$83,IF($H$84=\"Markus\",$F$84,0)))))))","v":1},null,null,null,null,"Markus",null,null,null,null,null,null,null,null,null,null,null,{"$f":"IF($H$78=\"Markus\",$T$78,IF($H$79=\"Markus\",$T$79,IF($H$80=\"Markus\",$T$80,IF($H$81=\"Markus\",$T$81,IF($H$82=\"Markus\",$T$82,IF($H$83=\"Markus\",$T$83,IF($H$84=\"Markus\",$T$84,0)))))))","v":8},null,null,null,null,null,{"$f":"IF($H$78=\"Markus\",$Z$78,IF($H$79=\"Markus\",$Z$79,IF($H$80=\"Markus\",$Z$80,IF($H$81=\"Markus\",$Z$81,IF($H$82=\"Markus\",$Z$82,IF($H$83=\"Markus\",$Z$83,IF($H$84=\"Markus\",$Z$84,0)))))))","v":4},null,null,null,null,null,null,null,null,null,null,{"$f":"IF($H$78=\"Markus\",$AK$78,IF($H$79=\"Markus\",$AK$79,IF($H$80=\"Markus\",$AK$80,IF($H$81=\"Markus\",$AK$81,IF($H$82=\"Markus\",$AK$82,IF($H$83=\"Markus\",$AK$83,IF($H$84=\"Markus\",$AK$84,0)))))))","v":3},null,null,null,null,null,null,null,null,null,null,{"$f":"IF($H$78=\"Markus\",$AV$78,IF($H$79=\"Markus\",$AV$79,IF($H$80=\"Markus\",$AV$80,IF($H$81=\"Markus\",$AV$81,IF($H$82=\"Markus\",$AV$82,IF($H$83=\"Markus\",$AV$83,IF($H$84=\"Markus\",$AV$84,0)))))))","v":1},null,null,null,null,null,null,null,null,null,null,{"$f":"IF($H$78=\"Markus\",$BG$78,IF($H$79=\"Markus\",$BG$79,IF($H$80=\"Markus\",$BG$80,IF($H$81=\"Markus\",$BG$81,IF($H$82=\"Markus\",$BG$82,IF($H$83=\"Markus\",$BG$83,IF($H$84=\"Markus\",$BG$84,0)))))))","v":17},null,null,null,null,":",null,{"$f":"IF($H$78=\"Markus\",$BN$78,IF($H$79=\"Markus\",$BN$79,IF($H$80=\"Markus\",$BN$80,IF($H$81=\"Markus\",$BN$81,IF($H$82=\"Markus\",$BN$82,IF($H$83=\"Markus\",$BN$83,IF($H$84=\"Markus\",$BN$84,0)))))))","v":14},null,null,null,null,{"$f":"IF($H$78=\"Markus\",$BS$78,IF($H$79=\"Markus\",$BS$79,IF($H$80=\"Markus\",$BS$80,IF($H$81=\"Markus\",$BS$81,IF($H$82=\"Markus\",$BS$82,IF($H$83=\"Markus\",$BS$83,IF($H$84=\"Markus\",$BS$84,0)))))))","v":3},null,null,null,null,{"$f":"IF($H$78=\"Markus\",$BX$78,IF($H$79=\"Markus\",$BX$79,IF($H$80=\"Markus\",$BX$80,IF($H$81=\"Markus\",$BX$81,IF($H$82=\"Markus\",$BX$82,IF($H$83=\"Markus\",$BX$83,IF($H$84=\"Markus\",$BX$84,0)))))))","v":15}]
[null,null,{"$f":"IF($H$78=\"Patrick\",$F$78,IF($H$79=\"Patrick\",$F$79,IF($H$80=\"Patrick\",$F$80,IF($H$81=\"Patrick\",$F$81,IF($H$82=\"Patrick\",$F$82,IF($H$83=\"Patrick\",$F$83,IF($H$84=\"Patrick\",$F$84,0)))))))","v":5},null,null,null,null,"Patrick",null,null,null,null,null,null,null,null,null,null,null,{"$f":"IF($H$78=\"Patrick\",$T$78,IF($H$79=\"Patrick\",$T$79,IF($H$80=\"Patrick\",$T$80,IF($H$81=\"Patrick\",$T$81,IF($H$82=\"Patrick\",$T$82,IF($H$83=\"Patrick\",$T$83,IF($H$84=\"Patrick\",$T$84,0)))))))","v":8},null,null,null,null,null,{"$f":"IF($H$78=\"Patrick\",$Z$78,IF($H$79=\"Patrick\",$Z$79,IF($H$80=\"Patrick\",$Z$80,IF($H$81=\"Patrick\",$Z$81,IF($H$82=\"Patrick\",$Z$82,IF($H$83=\"Patrick\",$Z$83,IF($H$84=\"Patrick\",$Z$84,0)))))))","v":0},null,null,null,null,null,null,null,null,null,null,{"$f":"IF($H$78=\"Patrick\",$AK$78,IF($H$79=\"Patrick\",$AK$79,IF($H$80=\"Patrick\",$AK$80,IF($H$81=\"Patrick\",$AK$81,IF($H$82=\"Patrick\",$AK$82,IF($H$83=\"Patrick\",$AK$83,IF($H$84=\"Patrick\",$AK$84,0)))))))","v":4},null,null,null,null,null,null,null,null,null,null,{"$f":"IF($H$78=\"Patrick\",$AV$78,IF($H$79=\"Patrick\",$AV$79,IF($H$80=\"Patrick\",$AV$80,IF($H$81=\"Patrick\",$AV$81,IF($H$82=\"Patrick\",$AV$82,IF($H$83=\"Patrick\",$AV$83,IF($H$84=\"Patrick\",$AV$84,0)))))))","v":4},null,null,null,null,null,null,null,null,null,null,{"$f":"IF($H$78=\"Patrick\",$BG$78,IF($H$79=\"Patrick\",$BG$79,IF($H$80=\"Patrick\",$BG$80,IF($H$81=\"Patrick\",$BG$81,IF($H$82=\"Patrick\",$BG$82,IF($H$83=\"Patrick\",$BG$83,IF($H$84=\"Patrick\",$BG$84,0)))))))","v":8},null,null,null,null,":",null,{"$f":"IF($H$78=\"Patrick\",$BN$78,IF($H$79=\"Patrick\",$BN$79,IF($H$80=\"Patrick\",$BN$80,IF($H$81=\"Patrick\",$BN$81,IF($H$82=\"Patrick\",$BN$82,IF($H$83=\"Patrick\",$BN$83,IF($H$84=\"Patrick\",$BN$84,0)))))))","v":13},null,null,null,null,{"$f":"IF($H$78=\"Patrick\",$BS$78,IF($H$79=\"Patrick\",$BS$79,IF($H$80=\"Patrick\",$BS$80,IF($H$81=\"Patrick\",$BS$81,IF($H$82=\"Patrick\",$BS$82,IF($H$83=\"Patrick\",$BS$83,IF($H$84=\"Patrick\",$BS$84,0)))))))","v":-5},null,null,null,null,{"$f":"IF($H$78=\"Patrick\",$BX$78,IF($H$79=\"Patrick\",$BX$79,IF($H$80=\"Patrick\",$BX$80,IF($H$81=\"Patrick\",$BX$81,IF($H$82=\"Patrick\",$BX$82,IF($H$83=\"Patrick\",$BX$83,IF($H$84=\"Patrick\",$BX$84,0)))))))","v":4}]
[null,null,{"$f":"IF($H$78=\"Ratze\",$F$78,IF($H$79=\"Ratze\",$F$79,IF($H$80=\"Ratze\",$F$80,IF($H$81=\"Ratze\",$F$81,IF($H$82=\"Ratze\",$F$82,IF($H$83=\"Ratze\",$F$83,IF($H$84=\"Ratze\",$F$84,0)))))))","v":4},null,null,null,null,"Ratze",null,null,null,null,null,null,null,null,null,null,null,{"$f":"IF($H$78=\"Ratze\",$T$78,IF($H$79=\"Ratze\",$T$79,IF($H$80=\"Ratze\",$T$80,IF($H$81=\"Ratze\",$T$81,IF($H$82=\"Ratze\",$T$82,IF($H$83=\"Ratze\",$T$83,IF($H$84=\"Ratze\",$T$84,0)))))))","v":8},null,null,null,null,null,{"$f":"IF($H$78=\"Ratze\",$Z$78,IF($H$79=\"Ratze\",$Z$79,IF($H$80=\"Ratze\",$Z$80,IF($H$81=\"Ratze\",$Z$81,IF($H$82=\"Ratze\",$Z$82,IF($H$83=\"Ratze\",$Z$83,IF($H$84=\"Ratze\",$Z$84,0)))))))","v":2},null,null,null,null,null,null,null,null,null,null,{"$f":"IF($H$78=\"Ratze\",$AK$78,IF($H$79=\"Ratze\",$AK$79,IF($H$80=\"Ratze\",$AK$80,IF($H$81=\"Ratze\",$AK$81,IF($H$82=\"Ratze\",$AK$82,IF($H$83=\"Ratze\",$AK$83,IF($H$84=\"Ratze\",$AK$84,0)))))))","v":2},null,null,null,null,null,null,null,null,null,null,{"$f":"IF($H$78=\"Ratze\",$AV$78,IF($H$79=\"Ratze\",$AV$79,IF($H$80=\"Ratze\",$AV$80,IF($H$81=\"Ratze\",$AV$81,IF($H$82=\"Ratze\",$AV$82,IF($H$83=\"Ratze\",$AV$83,IF($H$84=\"Ratze\",$AV$84,0)))))))","v":4},null,null,null,null,null,null,null,null,null,null,{"$f":"IF($H$78=\"Ratze\",$BG$78,IF($H$79=\"Ratze\",$BG$79,IF($H$80=\"Ratze\",$BG$80,IF($H$81=\"Ratze\",$BG$81,IF($H$82=\"Ratze\",$BG$82,IF($H$83=\"Ratze\",$BG$83,IF($H$84=\"Ratze\",$BG$84,0)))))))","v":13},null,null,null,null,":",null,{"$f":"IF($H$78=\"Ratze\",$BN$78,IF($H$79=\"Ratze\",$BN$79,IF($H$80=\"Ratze\",$BN$80,IF($H$81=\"Ratze\",$BN$81,IF($H$82=\"Ratze\",$BN$82,IF($H$83=\"Ratze\",$BN$83,IF($H$84=\"Ratze\",$BN$84,0)))))))","v":11},null,null,null,null,{"$f":"IF($H$78=\"Ratze\",$BS$78,IF($H$79=\"Ratze\",$BS$79,IF($H$80=\"Ratze\",$BS$80,IF($H$81=\"Ratze\",$BS$81,IF($H$82=\"Ratze\",$BS$82,IF($H$83=\"Ratze\",$BS$83,IF($H$84=\"Ratze\",$BS$84,0)))))))","v":2},null,null,null,null,{"$f":"IF($H$78=\"Ratze\",$BX$78,IF($H$79=\"Ratze\",$BX$79,IF($H$80=\"Ratze\",$BX$80,IF($H$81=\"Ratze\",$BX$81,IF($H$82=\"Ratze\",$BX$82,IF($H$83=\"Ratze\",$BX$83,IF($H$84=\"Ratze\",$BX$84,0)))))))","v":8}]
[null,null,{"$f":"IF($H$78=\"Schmiddi\",$F$78,IF($H$79=\"Schmiddi\",$F$79,IF($H$80=\"Schmiddi\",$F$80,IF($H$81=\"Schmiddi\",$F$81,IF($H$82=\"Schmiddi\",$F$82,IF($H$83=\"Schmiddi\",$F$83,IF($H$84=\"Schmiddi\",$F$84,0)))))))","v":0},null,null,null,null,"Schmiddi",null,null,null,null,null,null,null,null,null,null,null,{"$f":"IF($H$78=\"Schmiddi\",$T$78,IF($H$79=\"Schmiddi\",$T$79,IF($H$80=\"Schmiddi\",$T$80,IF($H$81=\"Schmiddi\",$T$81,IF($H$82=\"Schmiddi\",$T$82,IF($H$83=\"Schmiddi\",$T$83,IF($H$84=\"Schmiddi\",$T$84,0)))))))","v":0},null,null,null,null,null,{"$f":"IF($H$78=\"Schmiddi\",$Z$78,IF($H$79=\"Schmiddi\",$Z$79,IF($H$80=\"Schmiddi\",$Z$80,IF($H$81=\"Schmiddi\",$Z$81,IF($H$82=\"Schmiddi\",$Z$82,IF($H$83=\"Schmiddi\",$Z$83,IF($H$84=\"Schmiddi\",$Z$84,0)))))))","v":0},null,null,null,null,null,null,null,null,null,null,{"$f":"IF($H$78=\"Schmiddi\",$AK$78,IF($H$79=\"Schmiddi\",$AK$79,IF($H$80=\"Schmiddi\",$AK$80,IF($H$81=\"Schmiddi\",$AK$81,IF($H$82=\"Schmiddi\",$AK$82,IF($H$83=\"Schmiddi\",$AK$83,IF($H$84=\"Schmiddi\",$AK$84,0)))))))","v":0},null,null,null,null,null,null,null,null,null,null,{"$f":"IF($H$78=\"Schmiddi\",$AV$78,IF($H$79=\"Schmiddi\",$AV$79,IF($H$80=\"Schmiddi\",$AV$80,IF($H$81=\"Schmiddi\",$AV$81,IF($H$82=\"Schmiddi\",$AV$82,IF($H$83=\"Schmiddi\",$AV$83,IF($H$84=\"Schmiddi\",$AV$84,0)))))))","v":0},null,null,null,null,null,null,null,null,null,null,{"$f":"IF($H$78=\"Schmiddi\",$BG$78,IF($H$79=\"Schmiddi\",$BG$79,IF($H$80=\"Schmiddi\",$BG$80,IF($H$81=\"Schmiddi\",$BG$81,IF($H$82=\"Schmiddi\",$BG$82,IF($H$83=\"Schmiddi\",$BG$83,IF($H$84=\"Schmiddi\",$BG$84,0)))))))","v":0},null,null,null,null,":",null,{"$f":"IF($H$78=\"Schmiddi\",$BN$78,IF($H$79=\"Schmiddi\",$BN$79,IF($H$80=\"Schmiddi\",$BN$80,IF($H$81=\"Schmiddi\",$BN$81,IF($H$82=\"Schmiddi\",$BN$82,IF($H$83=\"Schmiddi\",$BN$83,IF($H$84=\"Schmiddi\",$BN$84,0)))))))","v":0},null,null,null,null,{"$f":"IF($H$78=\"Schmiddi\",$BS$78,IF($H$79=\"Schmiddi\",$BS$79,IF($H$80=\"Schmiddi\",$BS$80,IF($H$81=\"Schmiddi\",$BS$81,IF($H$82=\"Schmiddi\",$BS$82,IF($H$83=\"Schmiddi\",$BS$83,IF($H$84=\"Schmiddi\",$BS$84,0)))))))","v":0},null,null,null,null,{"$f":"IF($H$78=\"Schmiddi\",$BX$78,IF($H$79=\"Schmiddi\",$BX$79,IF($H$80=\"Schmiddi\",$BX$80,IF($H$81=\"Schmiddi\",$BX$81,IF($H$82=\"Schmiddi\",$BX$82,IF($H$83=\"Schmiddi\",$BX$83,IF($H$84=\"Schmiddi\",$BX$84,0)))))))","v":0}]

{"sheet":"20.1.","index":12,"n_rows":97,"n_cols":88,"rows_kept":97,"cut":false,"hidden":false,"merged":[[6,16,6,26],[6,27,6,37],[6,38,6,48],[6,49,6,59],[6,60,6,70],[6,71,6,81],[0,0,0,83],[1,1,1,82],[1,83,84,83],[2,1,2,82],[3,1,3,82],[4,1,7,1],[4,2,4,81],[4,82,7,82],[5,2,5,81],[6,2,6,15],[13,12,13,16],[13,18,13,22],[13,24,13,33],[13,35,13,67],[13,69,13,81],[14,2,14,81],[7,71,7,81],[8,1,8,82],[9,1,9,82],[10,1,10,82],[11,1,45,1],[11,2,11,81],[11,82,45,82],[12,2,12,81],[13,2,13,5],[13,7,13,10],[7,2,7,15],[7,16,7,26],[7,27,7,37],[7,38,7,48],[7,49,7,59],[7,60,7,70],[15,53,15,67],[15,68,29,68],[15,69,15,73],[15,74,15,76],[15,77,15,81],[16,7,16,10],[16,12,16,16],[16,18,16,22],[16,24,16,33],[16,35,16,49],[15,18,15,22],[15,23,29,23],[15,24,15,33],[15,34,29,34],[15,35,15,49],[15,50,15,52],[16,50,16,52],[15,7,15,10],[15,11,29,11],[15,12,15,16],[15,17,29,17],[18,7,18,10],[18,12,18,16],[18,18,18,22],[18,24,18,33],[18,35,18,49],[18,50,18,52],[20,7,20,10],[20,12,20,16],[20,18,20,22],[20,24,20,33],[20,35,20,49],[20,50,20,52],[22,7,22,10],[16,53,16,67],[16,69,16,73],[16,74,16,76],[16,77,16,81],[17,7,17,10],[17,12,17,16],[17,18,17,22],[17,24,17,33],[17,35,17,49],[17,50,17,52],[17,53,17,67],[17,69,17,73],[17,74,17,76],[17,77,17,81],[18,53,18,67],[18,69,18,73],[18,74,18,76],[18,77,18,81],[19,7,19,10],[19,12,19,16],[19,18,19,22],[19,24,19,33],[19,35,19,49],[19,50,19,52],[19,53,19,67],[19,69,19,73],[19,74,19,76],[19,77,19,81],[20,53,20,67],[20,69,20,73],[20,74,20,76],[20,77,20,81],[21,7,21,10],[21,12,21,16],[21,18,21,22],[21,24,21,33],[21,35,21,49],[21,50,21,52],[21,53,21,67],[21,69,21,73],[21,74,21,76],[21,77,21,81],[22,12,22,16],[22,18,22,22],[22,24,22,33],[22,35,22,49],[22,50,22,52],[22,53,22,67],[22,69,22,73],[22,74,22,76],[22,77,22,81],[23,77,23,81],[24,7,24,10],[24,12,24,16],[24,18,24,22],[24,24,24,33],[24,35,24,49],[24,50,24,52],[24,53,24,67],[24,69,24,73],[24,74,24,76],[24,77,24,81],[23,7,23,10],[23,12,23,16],[23,18,23,22],[23,24,23,33],[23,35,23,49],[23,50,23,52],[23,53,23,67],[23,69,23,73],[23,74,23,76],[25,77,25,81],[26,7,26,10],[26,12,26,16],[26,18,26,22],[26,24,26,33],[26,35,26,49],[26,50,26,52],[26,53,26,67],[26,69,26,73],[26,74,26,76],[26,77,26,81],[25,7,25,10],[25,12,25,16],[25,18,25,22],[25,24,25,33],[25,35,25,49],[25,50,25,52],[25,53,25,67],[25,69,25,73],[25,74,25,76],[27,77,27,81],[28,7,28,10],[28,12,28,16],[28,18,28,22],[28,24,28,33],[28,35,28,49],[28,50,28,52],[28,53,28,67],[28,69,28,73],[28,74,28,76],[28,77,28,81],[27,7,27,10],[27,12,27,16],[27,18,27,22],[27,24,27,33],[27,35,27,49],[27,50,27,52],[27,53,27,67],[27,69,27,73],[27,74,27,76],[29,7,29,10],[29,12,29,16],[29,18,29,22],[29,24,29,33],[29,35,29,49],[29,50,29,52],[29,53,29,67],[29,69,29,73],[29,74,29,76],[29,77,29,81],[30,2,30,81],[31,2,45,5],[31,6,45,6],[31,7,31,10],[31,11,45,11],[31,12,31,16],[15,2,29,5],[15,6,29,6],[31,69,31,73],[31,74,31,76],[31,77,31,81],[32,53,32,67],[32,69,32,73],[32,74,32,76],[32,77,32,81],[31,17,45,17],[31,18,31,22],[31,23,45,23],[31,24,31,33],[31,34,45,34],[31,35,31,49],[32,7,32,10],[32,12,32,16],[32,18,32,22],[32,24,32,33],[32,35,32,49],[32,50,32,52],[31,50,31,52],[31,53,31,67],[31,68,45,68],[33,53,33,67],[33,69,33,73],[43,69,43,73],[33,74,33,76],[33,77,33,81],[34,7,34,10],[34,12,34,16],[34,18,34,22],[34,24,34,33],[34,35,34,49],[34,50,34,52],[33,7,33,10],[33,12,33,16],[33,18,33,22],[33,24,33,33],[33,35,33,49],[33,50,33,52],[34,53,34,67],[34,69,34,73],[34,74,34,76],[34,77,34,81],[35,77,35,81],[36,7,36,10],[36,12,36,16],[36,18,36,22],[36,24,36,33],[36,35,36,49],[36,50,36,52],[36,53,36,67],[36,69,36,73],[36,74,36,76],[36,77,36,81],[35,7,35,10],[35,12,35,16],[35,18,35,22],[35,24,35,33],[35,35,35,49],[35,50,35,52],[35,53,35,67],[35,69,35,73],[35,74,35,76],[37,77,37,81],[38,7,38,10],[38,12,38,16],[38,18,38,22],[38,24,38,33],[38,35,38,49],[38,50,38,52],[38,53,38,67],[38,69,38,73],[38,74,38,76],[38,77,38,81],[37,7,37,10],[37,12,37,16],[37,18,37,22],[37,24,37,33],[37,35,37,49],[37,50,37,52],[37,53,37,67],[37,69,37,73],[37,74,37,76],[39,77,39,81],[40,7,40,10],[40,12,40,16],[40,18,40,22],[40,24,40,33],[40,35,40,49],[40,50,40,52],[40,53,40,67],[40,69,40,73],[40,74,40,76],[40,77,40,81],[39,7,39,10],[39,12,39,16],[39,18,39,22],[39,24,39,33],[39,35,39,49],[39,50,39,52],[39,53,39,67],[39,69,39,73],[39,74,39,76],[43,74,43,76],[41,77,41,81],[42,7,42,10],[42,12,42,16],[42,18,42,22],[42,24,42,33],[42,35,42,49],[42,50,42,52],[42,53,42,67],[42,69,42,73],[42,74,42,76],[42,77,42,81],[41,7,41,10],[41,12,41,16],[41,18,41,22],[41,24,41,33],[41,35,41,49],[41,50,41,52],[41,53,41,67],[41,69,41,73],[41,74,41,76],[60,1,60,82],[61,1,69,1],[61,2,61,81],[61,82,69,82],[62,2,62,81],[63,2,63,6],[43,77,43,81],[44,7,44,10],[44,12,44,16],[44,18,44,22],[44,24,44,33],[44,35,44,49],[44,50,44,52],[45,53,45,67],[45,69,45,73],[45,74,45,76],[45,77,45,81],[43,7,43,10],[43,12,43,16],[43,18,43,22],[43,24,43,33],[43,35,43,49],[43,50,43,52],[43,53,43,67],[46,1,46,82],[59,1,59,82],[44,53,44,67],[44,69,44,73],[44,74,44,76],[44,77,44,81],[45,7,45,10],[45,12,45,16],[45,18,45,22],[45,24,45,33],[45,35,45,49],[45,50,45,52],[63,7,63,18],[63,19,63,24],[63,25,63,35],[63,36,63,46],[63,47,63,57],[63,58,63,69],[63,70,63,74],[63,75,63,78],[63,79,63,81],[64,2,64,6],[64,7,64,18],[64,19,64,24],[64,25,64,35],[64,36,64,46],[64,79,64,81],[64,70,64,74],[64,75,64,78],[65,70,65,74],[65,75,65,78],[65,79,65,81],[64,47,64,57],[65,2,65,6],[65,7,65,18],[65,19,65,24],[64,58,64,62],[64,63,64,64],[64,65,64,69],[66,2,66,6],[66,7,66,18],[66,19,66,24],[66,25,66,35],[66,36,66,46],[66,47,66,57],[66,58,66,62],[66,63,66,64],[66,65,66,69],[66,70,66,74],[66,75,66,78],[66,79,66,81],[65,25,65,35],[65,36,65,46],[65,47,65,57],[65,58,65,62],[65,63,65,64],[65,65,65,69],[67,2,67,6],[67,7,67,18],[67,19,67,24],[67,25,67,35],[67,36,67,46],[67,79,67,81],[68,2,68,6],[68,7,68,18],[68,19,68,24],[68,25,68,35],[68,36,68,46],[68,47,68,57],[68,58,68,62],[68,63,68,64],[68,65,68,69],[67,47,67,57],[67,58,67,62],[67,63,67,64],[67,65,67,69],[67,70,67,74],[67,75,67,78],[68,70,68,74],[68,75,68,78],[68,79,68,81],[69,70,69,74],[69,75,69,78],[69,79,69,81],[70,2,70,6],[70,7,70,18],[70,19,70,24],[70,25,70,35],[70,36,70,46],[70,79,70,81],[70,47,70,57],[70,58,70,62],[70,63,70,64],[70,65,70,69],[70,70,70,74],[70,75,70,78],[69,2,69,6],[69,7,69,18],[69,19,69,24],[69,25,69,35],[69,36,69,46],[69,47,69,57],[69,58,69,62],[69,63,69,64],[69,65,69,69],[71,1,71,82],[72,1,72,82],[73,1,73,82],[74,1,82,1],[74,2,74,81],[74,82,82,82],[75,2,75,81],[76,2,76,6],[76,7,76,18],[76,75,76,81],[77,2,77,4],[77,5,77,6],[77,7,77,18],[77,19,77,24],[77,25,77,35],[77,36,77,46],[77,47,77,57],[77,58,77,62],[77,63,77,64],[76,19,76,24],[76,25,76,35],[76,36,76,46],[76,47,76,57],[76,58,76,69],[76,70,76,74],[77,65,77,69],[77,70,77,74],[77,75,77,81],[78,2,78,4],[78,5,78,6],[78,7,78,18],[78,19,78,24],[78,25,78,35],[78,36,78,46],[78,47,78,57],[78,58,78,62],[78,63,78,64],[78,65,78,69],[78,70,78,74],[78,75,78,81],[79,2,79,4],[79,5,79,6],[79,7,79,18],[79,19,79,24],[79,25,79,35],[79,75,79,81],[80,2,80,4],[80,5,80,6],[80,7,80,18],[80,19,80,24],[80,25,80,35],[80,36,80,46],[80,47,80,57],[80,58,80,62],[80,63,80,64],[79,36,79,46],[79,47,79,57],[79,58,79,62],[79,63,79,64],[79,65,79,69],[79,70,79,74],[80,65,80,69],[80,70,80,74],[80,75,80,81],[81,65,81,69],[81,70,81,74],[81,75,81,81],[82,2,82,4],[82,5,82,6],[82,7,82,18],[82,19,82,24],[82,25,82,35],[83,65,83,69],[83,70,83,74],[83,75,83,81],[81,2,81,4],[81,5,81,6],[81,7,81,18],[81,19,81,24],[81,25,81,35],[81,36,81,46],[81,47,81,57],[81,58,81,62],[81,63,81,64],[84,1,84,82],[85,1,85,82],[86,1,86,82],[82,75,82,81],[83,2,83,4],[83,5,83,6],[83,7,83,18],[83,19,83,24],[83,25,83,35],[83,36,83,46],[83,47,83,57],[83,58,83,62],[83,63,83,64],[82,36,82,46],[82,47,82,57],[82,58,82,62],[82,63,82,64],[82,65,82,69],[82,70,82,74],[87,1,96,1],[87,2,87,81],[87,82,96,82],[88,2,88,81],[89,2,89,6],[89,7,89,18],[89,19,89,24],[89,25,89,35],[89,36,89,46],[89,47,89,57],[89,58,89,69],[89,70,89,74],[89,75,89,81],[90,2,90,6],[90,7,90,18],[90,19,90,24],[90,25,90,35],[90,36,90,46],[90,47,90,57],[90,58,90,62],[92,2,92,6],[92,7,92,18],[92,19,92,24],[92,25,92,35],[92,36,92,46],[90,63,90,64],[90,65,90,69],[90,70,90,74],[90,75,90,81],[91,2,91,6],[91,7,91,18],[91,19,91,24],[91,25,91,35],[91,36,91,46],[91,47,91,57],[92,47,92,57],[92,58,92,62],[92,63,92,64],[92,65,92,69],[92,70,92,74],[92,75,92,81],[91,58,91,62],[91,63,91,64],[91,65,91,69],[91,70,91,74],[91,75,91,81],[94,2,94,6],[94,7,94,18],[94,19,94,24],[94,25,94,35],[94,36,94,46],[93,2,93,6],[93,7,93,18],[93,19,93,24],[93,25,93,35],[93,36,93,46],[94,47,94,57],[94,58,94,62],[94,63,94,64],[94,65,94,69],[94,70,94,74],[94,75,94,81],[93,58,93,62],[93,63,93,64],[93,65,93,69],[93,70,93,74],[93,75,93,81],[93,47,93,57],[97,1,97,82],[98,0,98,83],[96,47,96,57],[96,58,96,62],[96,63,96,64],[96,65,96,69],[96,70,96,74],[96,75,96,81],[95,58,95,62],[95,63,95,64],[95,65,95,69],[95,70,95,74],[95,75,95,81],[96,2,96,6],[96,7,96,18],[96,19,96,24],[96,25,96,35],[96,36,96,46],[95,2,95,6],[95,7,95,18],[95,19,95,24],[95,25,95,35],[95,36,95,46],[95,47,95,57]]}
[]
[null,{"$f":"\"Turnier am \" & MID(CELL(\"dateiname\",A1),SEARCH(\"]\",CELL(\"dateiname\",A1))+1,31)","v":"Turnier am 20.1."}]
[]
[]
[null,null,"Spielerliste"]
[]
[null,null,{"$f":"\" Spieler\"","v":" Spieler"},null,null,null,null,null,null,null,null,null,null,null,null,null,"Spieler 1",null,null,null,null,null,null,null,null,null,null,"Spieler 2",null,null,null,null,null,null,null,null,null,null,"Spieler 3",null,null,null,null,null,null,null,null,null,null,"Spieler 4",null,null,null,null,null,null,null,null,null,null,"Spieler 5",null,null,null,null,null,null,null,null,null,null,"Spieler 6"]
[null,null,{"$f":"\" Name\"","v":" Name"},null,null,null,null,null,null,null,null,null,null,null,null,null,"Markus",null,null,null,null,null,null,null,null,null,null,"Ratze",null,null,null,null,null,null,null,null,null,null,"Christoph",null,null,null,null,null,null,null,null,null,null,"Patrick",null,null,null,null,null,null,null,null,null,null,"Schmiddi",null,null,null,null,null,null,null,null,null,null,"Jule"]
[]
[]
[]
[null,null,"Spielplan"]
[]
[null,null,"00:12:00",null,null,null,null,"Spiel",null,null,null,null,"Datum",null,null,null,null,null,"Uhrzeit",null,null,null,null,null,"Austragungsort",null,null,null,null,null,null,null,null,null,null,"Paarung",null,null,null,null,null,null,null,null,null,null,null,null,null,null,null,null,null,null,null,null,null,null,null,null,null,null,null,null,null,null,null,null,null,"Ergebnis",null,null,null,null,null,null,null,null,null,null,null,null,null,null,"Spiele","SiegHeim","Unentschieden","SiegGast"]
[]
[null,null,"Hinrunde",null,null,null,null,1,null,null,null,null,{"$f":"MID(CELL(\"dateiname\",A1),SEARCH(\"]\",CELL(\"dateiname\",A1))+1,31)","v":"20.1."},null,null,null,null,null,"21:00:00",null,null,null,null,null,"Fernseher",null,null,null,null,null,null,null,null,null,null,{"$f":"$Q$8","v":"Markus"},null,null,null,null,null,null,null,null,null,null,null,null,null,null,":",null,null,{"$f":"$AB$8","v":"Ratze"},null,null,null,null,null,null,null,null,null,null,null,null,null,null,null,3,null,null,null,null,":",null,null,1,null,null,null,null,null,null,{"$f":"IF(AND(ISNUMBER(BR16),ISNUMBER(BZ16)),1,0)","v":1},{"$f":"IF(OR(ISBLANK(BR16),ISBLANK(BZ16)),0,IF(BR16>BZ16,1,0))","v":1},{"$f":"IF(OR(ISBLANK(BR16),ISBLANK(BZ16)),0,IF(BR16=BZ16,1,0))","v":0},{"$f":"IF(OR(ISBLANK(BR16),ISBLANK(BZ16)),0,IF(BR16<BZ16,1,0))","v":0}]
[null,null,null,null,null,null,null,{"$f":"H16+1","v":2},null,null,null,null,{"$f":"$M$16","v":"20.1."},null,null,null,null,null,{"$f":"S16","v":"21:00:00"},null,null,null,null,null,{"$f":"$Y$16","v":"Fernseher"},null,null,null,null,null,null,null,null,null,null,{"$f":"$AM$8","v":"Christoph"},null,null,null,null,null,null,null,null,null,null,null,null,null,null,":",null,null,{"$f":"$AX$8","v":"Patrick"},null,null,null,null,null,null,null,null,null,null,null,null,null,null,null,3,null,null,null,null,":",null,null,1,null,null,null,null,null,null,{"$f":"IF(AND(ISNUMBER(BR17),ISNUMBER(BZ17)),1,0)","v":1},{"$f":"IF(OR(ISBLANK(BR17),ISBLANK(BZ17)),0,IF(BR17>BZ17,1,0))","v":1},{"$f":"IF(OR(ISBLANK(BR17),ISBLANK(BZ17)),0,IF(BR17=BZ17,1,0))","v":0},{"$f":"IF(OR(ISBLANK(BR17),ISBLANK(BZ17)),0,IF(BR17<BZ17,1,0))","v":0}]
[null,null,null,null,null,null,null,{"$f":"H17+1","v":3},null,null,null,null,{"$f":"$M$16","v":"20.1."},null,null,null,null,null,{"$f":"S16","v":"21:00:00"},null,null,null,null,null,{"$f":"$Y$16","v":"Fernseher"},null,null,null,null,null,null,null,null,null,null,{"$f":"$BI$8","v":"Schmiddi"},null,null,null,null,null,null,null,null,null,null,null,null,null,null,":",null,null,{"$f":"$BT$8","v":"Jule"},null,null,null,null,null,null,null,null,null,null,null,null,null,null,null,2,null,null,null,null,":",null,null,2,null,null,null,null,null,null,1,0,1,0]
[null,null,null,null,null,null,null,{"$f":"H18+1","v":4},null,null,null,null,"20.1.",null,null,null,null,null,{"$f":"S16+$C$14","v":"21:12:00"},null,null,null,null,null,"Fernseher",null,null,null,null,null,null,null,null,null,null,{"$f":"$Q$8","v":"Markus"},null,null,null,null,null,null,null,null,null,null,null,null,null,null,":",null,null,{"$f":"$AM$8","v":"Christoph"},null,null,null,null,null,null,null,null,null,null,null,null,null,null,null,2,null,null,null,null,":",null,null,1,null,null,null,null,null,null,1,1,0,0]
[null,null,null,null,null,null,null,5,null,null,null,null,"20.1.",null,null,null,null,null,{"$f":"S17+$C$14","v":"21:12:00"},null,null,null,null,null,"Fernseher",null,null,null,null,null,null,null,null,null,null,{"$f":"$AB$8","v":"Ratze"},null,null,null,null,null,null,null,null,null,null,null,null,null,null,":",null,null,{"$f":"$BI$8","v":"Schmiddi"},null,null,null,null,null,null,null,null,null,null,null,null,null,null,null,1,null,null,null,null,":",null,null,2,null,null,null,null,null,null,1,0,0,1]
[null,null,null,null,null,null,null,6,null,null,null,null,"20.1.",null,null,null,null,null,{"$f":"S18+$C$14","v":"21:12:00"},null,null,null,null,null,"Fernseher",null,null,null,null,null,null,null,null,null,null,{"$f":"$AX$8","v":"Patrick"},null,null,null,null,null,null,null,null,null,null,null,null,null,null,":",null,null,{"$f":"$BT$8","v":"Jule"},null,null,null,null,null,null,null,null,null,null,null,null,null,null,null,1,null,null,null,null,":",null,null,1,null,null,null,null,null,null,1,0,1,0]
[null,null,null,null,null,null,null,{"$f":"H21+1","v":7},null,null,null,null,"20.1.",null,null,null,null,null,{"$f":"S19+$C$14","v":"21:24:00"},null,null,null,null,null,"Fernseher",null,null,null,null,null,null,null,null,null,null,{"$f":"$BI$8","v":"Schmiddi"},null,null,null,null,null,null,null,null,null,null,null,null,null,null,":",null,null,{"$f":"$Q$8","v":"Markus"},null,null,null,null,null,null,null,null,null,null,null,null,null,null,null,2,null,null,null,null,":",null,null,3,null,null,null,null,null,null,1,0,0,1]
[null,null,null,null,null,null,null,8,null,null,null,null,"20.1.",null,null,null,null,null,{"$f":"S20+$C$14","v":"21:24:00"},null,null,null,null,null,"Fernseher",null,null,null,null,null,null,null,null,null,null,{"$f":"$AB$8","v":"Ratze"},null,null,null,null,null,null,null,null,null,null,null,null,null,null,":",null,null,{"$f":"$AX$8","v":"Patrick"},null,null,null,null,null,null,null,null,null,null,null,null,null,null,null,1,null,null,null,null,":",null,null,2,null,null,null,null,null,null,1,0,0,1]
[null,null,null,null,null,null,null,9,null,null,null,null,"20.1.",null,null,null,null,null,"21:24:00",null,null,null,null,null,"Fernseher",null,null,null,null,null,null,null,null,null,null,{"$f":"$BT$8","v":"Jule"},null,null,null,null,null,null,null,null,null,null,null,null,null,null,":",null,null,{"$f":"$AM$8","v":"Christoph"},null,null,null,null,null,null,null,null,null,null,null,null,null,null,null,2,null,null,null,null,":",null,null,1,null,null,null,null,null,null,1,1,0,0]
[null,null,null,null,null,null,null,{"$f":"H24+1","v":10},null,null,null,null,"20.1.",null,null,null,null,null,{"$f":"S22+$C$14","v":"21:36:00"},null,null,null,null,null,"Fernseher",null,null,null,null,null,null,null,null,null,null,{"$f":"$Q$8","v":"Markus"},null,null,null,null,null,null,null,null,null,null,null,null,null,null,":",null,null,{"$f":"$AX$8","v":"Patrick"},null,null,null,null,null,null,null,null,null,null,null,null,null,null,null,3,null,null,null,null,":",null,null,1,null,null,null,null,null,null,1,1,0,0]
[null,null,null,null,null,null,null,11,null,null,null,null,"20.1.",null,null,null,null,null,"21:36:00",null,null,null,null,null,"Fernseher",null,null,null,null,null,null,null,null,null,null,{"$f":"$BT$8","v":"Jule"},null,null,null,null,null,null,null,null,null,null,null,null,null,null,":",null,null,{"$f":"$AB$8","v":"Ratze"},null,null,null,null,null,null,null,null,null,null,null,null,null,null,null,0,null,null,null,null,":",null,null,2,null,null,null,null,null,null,1,0,0,1]
[null,null,null,null,null,null,null,{"$f":"H26+1","v":12},null,null,null,null,"20.1.",null,null,null,null,null,{"$f":"S24+$C$14","v":"21:36:00"},null,null,null,null,null,"Fernseher",null,null,null,null,null,null,null,null,null,null,{"$f":"$AM$8","v":"Christoph"},null,null,null,null,null,null,null,null,null,null,null,null,null,null,":",null,null,{"$f":"$BI$8","v":"Schmiddi"},null,null,null,null,null,null,null,null,null,null,null,null,null,null,null,3,null,null,null,null,":",null,null,1,null,null,null,null,null,null,1,1,0,0]
[null,null,null,null,null,null,null,13,null,null,null,null,"20.1.",null,null,null,null,null,"21:48:00",null,null,null,null,null,"Fernseher",null,null,null,null,null,null,null,null,null,null,{"$f":"$BT$8","v":"Jule"},null,null,null,null,null,null,null,null,null,null,null,null,null,null,":",null,null,{"$f":"$Q$8","v":"Markus"},null,null,null,null,null,null,null,null,null,null,null,null,null,null,null,2,null,null,null,null,":",null,null,4,null,null,null,null,null,null,1,0,0,1]
[null,null,null,null,null,null,null,{"$f":"H28+1","v":14},null,null,null,null,"20.1.",null,null,null,null,null,{"$f":"S26+$C$14","v":"21:48:00"},null,null,null,null,null,"Fernseher",null,null,null,null,null,null,null,null,null,null,{"$f":"$AB$8","v":"Ratze"},null,null,null,null,null,null,null,null,null,null,null,null,null,null,":",null,null,{"$f":"$AM$8","v":"Christoph"},null,null,null,null,null,null,null,null,null,null,null,null,null,null,null,0,null,null,null,null,":",null,null,4,null,null,null,null,null,null,1,0,0,1]
[null,null,null,null,null,null,null,15,null,null,null,null,"20.1.",null,null,null,null,null,{"$f":"S27+$C$14","v":"21:48:00"},null,null,null,null,null,"Fernseher",null,null,null,null,null,null,null,null,null,null,{"$f":"$AX$8","v":"Patrick"},null,null,null,null,null,null,null,null,null,null,null,null,null,null,":",null,null,{"$f":"$BI$8","v":"Schmiddi"},null,null,null,null,null,null,null,null,null,null,null,null,null,null,null,3,null,null,null,null,":",null,null,0,null,null,null,null,null,null,1,1,0,0]
[]
[null,null,"Rückrunde",null,null,null,null,{"$f":"H30+1","v":16},null,null,null,null,{"$f":"$M$16","v":"20.1."},null,null,null,null,null,{"$f":"S30+$C$14","v":"22:00:00"},null,null,null,null,null,{"$f":"$Y$16","v":"Fernseher"},null,null,null,null,null,null,null,null,null,null,{"$f":"$AB$8","v":"Ratze"},null,null,null,null,null,null,null,null,null,null,null,null,null,null,":",null,null,{"$f":"$Q$8","v":"Markus"},null,null,null,null,null,null,null,null,null,null,null,null,null,null,null,3,null,null,null,null,":",null,null,0,null,null,null,null,null,null,{"$f":"IF(AND(ISNUMBER(BR32),ISNUMBER(BZ32)),1,0)","v":1},{"$f":"IF(OR(ISBLANK(BR32),ISBLANK(BZ32)),0,IF(BR32>BZ32,1,0))","v":1},{"$f":"IF(OR(ISBLANK(BR32),ISBLANK(BZ32)),0,IF(BR32=BZ32,1,0))","v":0},{"$f":"IF(OR(ISBLANK(BR32),ISBLANK(BZ32)),0,IF(BR32<BZ32,1,0))","v":0}]
[null,null,null,null,null,null,null,{"$f":"H32+1","v":17},null,null,null,null,"20.1.",null,null,null,null,null,{"$f":"S30+$C$14","v":"22:00:00"},null,null,null,null,null,"Fernseher",null,null,null,null,null,null,null,null,null,null,{"$f":"$AX$8","v":"Patrick"},null,null,null,null,null,null,null,null,null,null,null,null,null,null,":",null,null,{"$f":"$AM$8","v":"Christoph"},null,null,null,null,null,null,null,null,null,null,null,null,null,null,null,2,null,null,null,null,":",null,null,1,null,null,null,null,null,null,1,1,0,0]
[null,null,null,null,null,null,null,{"$f":"H33+1","v":18},null,null,null,null,"20.1.",null,null,null,null,null,{"$f":"S30+$C$14","v":"22:00:00"},null,null,null,null,null,"Fernseher",null,null,null,null,null,null,null,null,null,null,{"$f":"$BT$8","v":"Jule"},null,null,null,null,null,null,null,null,null,null,null,null,null,null,":",null,null,{"$f":"$BI$8","v":"Schmiddi"},null,null,null,null,null,null,null,null,null,null,null,null,null,null,null,4,null,null,null,null,":",null,null,2,null,null,null,null,null,null,1,1,0,0]
[null,null,null,null,null,null,null,{"$f":"H34+1","v":19},null,null,null,null,"20.1.",null,null,null,null,null,{"$f":"S32+$C$14","v":"22:12:00"},null,null,null,null,null,"Fernseher",null,null,null,null,null,null,null,null,null,null,{"$f":"$AM$8","v":"Christoph"},null,null,null,null,null,null,null,null,null,null,null,null,null,null,":",null,null,{"$f":"$Q$8","v":"Markus"},null,null,null,null,null,null,null,null,null,null,null,null,null,null,null,1,null,null,null,null,":",null,null,3,null,null,null,null,null,null,1,0,0,1]
[null,null,null,null,null,null,null,20,null,null,null,null,"20.1.",null,null,null,null,null,{"$f":"S33+$C$14","v":"22:12:00"},null,null,null,null,null,"Fernseher",null,null,null,null,null,null,null,null,null,null,{"$f":"$BI$8","v":"Schmiddi"},null,null,null,null,null,null,null,null,null,null,null,null,null,null,":",null,null,{"$f":"$AB$8","v":"Ratze"},null,null,null,null,null,null,null,null,null,null,null,null,null,null,null,3,null,null,null,null,":",null,null,4,null,null,null,null,null,null,1,0,0,1]
[null,null,null,null,null,null,null,21,null,null,null,null,"20.1.",null,null,null,null,null,{"$f":"S34+$C$14","v":"22:12:00"},null,null,null,null,null,"Fernseher",null,null,null,null,null,null,null,null,null,null,{"$f":"$BT$8","v":"Jule"},null,null,null,null,null,null,null,null,null,null,null,null,null,null,":",null,null,{"$f":"$AX$8","v":"Patrick"},null,null,null,null,null,null,null,null,null,null,null,null,null,null,null,0,null,null,null,null,":",null,null,1,null,null,null,null,null,null,1,0,0,1]
[null,null,null,null,null,null,null,{"$f":"H37+1","v":22},null,null,null,null,"20.1.",null,null,null,null,null,{"$f":"S35+$C$14","v":"22:24:00"},null,null,null,null,null,"Fernseher",null,null,null,null,null,null,null,null,null,null,{"$f":"$Q$8","v":"Markus"},null,null,null,null,null,null,null,null,null,null,null,null,null,null,":",null,null,{"$f":"$BI$8","v":"Schmiddi"},null,null,null,null,null,null,null,null,null,null,null,null,null,null,null,2,null,null,null,null,":",null,null,3,null,null,null,null,null,null,1,0,0,1]
[null,null,null,null,null,null,null,23,null,null,null,null,"20.1.",null,null,null,null,null,{"$f":"S36+$C$14","v":"22:24:00"},null,null,null,null,null,"Fernseher",null,null,null,null,null,null,null,null,null,null,{"$f":"$AX$8","v":"Patrick"},null,null,null,null,null,null,null,null,null,null,null,null,null,null,":",null,null,{"$f":"$AB$8","v":"Ratze"},null,null,null,null,null,null,null,null,null,null,null,null,null,null,null,0,null,null,null,null,":",null,null,2,null,null,null,null,null,null,1,0,0,1]
[null,null,null,null,null,null,null,24,null,null,null,null,"20.1.",null,null,null,null,null,"22:24:00",null,null,null,null,null,"Fernseher",null,null,null,null,null,null,null,null,null,null,{"$f":"$AM$8","v":"Christoph"},null,null,null,null,null,null,null,null,null,null,null,null,null,null,":",null,null,{"$f":"$BT$8","v":"Jule"},null,null,null,null,null,null,null,null,null,null,null,null,null,null,null,1,null,null,null,null,":",null,null,3,null,null,null,null,null,null,1,0,0,1]
[null,null,null,null,null,null,null,{"$f":"H40+1","v":25},null,null,null,null,"20.1.",null,null,null,null,null,{"$f":"S38+$C$14","v":"22:36:00"},null,null,null,null,null,"Fernseher",null,null,null,null,null,null,null,null,null,null,{"$f":"$AX$8","v":"Patrick"},null,null,null,null,null,null,null,null,null,null,null,null,null,null,":",null,null,{"$f":"$Q$8","v":"Markus"},null,null,null,null,null,null,null,null,null,null,null,null,null,null,null,1,null,null,null,null,":",null,null,2,null,null,null,null,null,null,1,0,0,1]
[null,null,null,null,null,null,null,26,null,null,null,null,"20.1.",null,null,null,null,null,"22:36:00",null,null,null,null,null,"Fernseher",null,null,null,null,null,null,null,null,null,null,{"$f":"$AB$8","v":"Ratze"},null,null,null,null,null,null,null,null,null,null,null,null,null,null,":",null,null,{"$f":"$BT$8","v":"Jule"},null,null,null,null,null,null,null,null,null,null,null,null,null,null,null,1,null,null,null,null,":",null,null,2,null,null,null,null,null,null,1,0,0,1]
[null,null,null,null,null,null,null,{"$f":"H42+1","v":27},null,null,null,null,"20.1.",null,null,null,null,null,{"$f":"S40+$C$14","v":"22:36:00"},null,null,null,null,null,"Fernseher",null,null,null,null,null,null,null,null,null,null,{"$f":"$BI$8","v":"Schmiddi"},null,null,null,null,null,null,null,null,null,null,null,null,null,null,":",null,null,{"$f":"$AM$8","v":"Christoph"},null,null,null,null,null,null,null,null,null,null,null,null,null,null,null,2,null,null,null,null,":",null,null,4,null,null,null,null,null,null,1,0,0,1]
[null,null,null,null,null,null,null,28,null,null,null,null,"20.1.",null,null,null,null,null,"22:48:00",null,null,null,null,null,"Fernseher",null,null,null,null,null,null,null,null,null,null,{"$f":"$Q$8","v":"Markus"},null,null,null,null,null,null,null,null,null,null,null,null,null,null,":",null,null,{"$f":"$BT$8","v":"Jule"},null,null,null,null,null,null,null,null,null,null,null,null,null,null,null,1,null,null,null,null,":",null,null,1,null,null,null,null,null,null,1,0,1,0]
[null,null,null,null,null,null,null,{"$f":"H44+1","v":29},null,null,null,null,"20.1.",null,null,null,null,null,{"$f":"S42+$C$14","v":"22:48:00"},null,null,null,null,null,"Fernseher",null,null,null,null,null,null,null,null,null,null,{"$f":"$AM$8","v":"Christoph"},null,null,null,null,null,null,null,null,null,null,null,null,null,null,":",null,null,{"$f":"$AB$8","v":"Ratze"},null,null,null,null,null,null,null,null,null,null,null,null,null,null,null,1,null,null,null,null,":",null,null,4,null,null,null,null,null,null,1,0,0,1]
[null,null,null,null,null,null,null,30,null,null,null,null,"20.1.",null,null,null,null,null,{"$f":"S43+$C$14","v":"22:48:00"},null,null,null,null,null,"Fernseher",null,null,null,null,null,null,null,null,null,null,{"$f":"$BI$8","v":"Schmiddi"},null,null,null,null,null,null,null,null,null,null,null,null,null,null,":",null,null,{"$f":"$AX$8","v":"Patrick"},null,null,null,null,null,null,null,null,null,null,null,null,null,null,null,1,null,null,null,null,":",null,null,7,null,null,null,null,null,null,1,0,0,1]
[]
[]
[]
[]
[]
[]
[]
[]
[]
[]
[]
[]
[]
[]
[]
[null,null,"Tabelle (unsortiert)"]
[]
[null,null,"Rang",null,null,null,null,"Spieler",null,null,null,null,null,null,null,null,null,null,null,"Spiele",null,null,null,null,null,"Siege",null,null,null,null,null,null,null,null,null,null,"Unentschieden",null,null,null,null,null,null,null,null,null,null,"Niederlagen",null,null,null,null,null,null,null,null,null,null,"Tore",null,null,null,null,null,null,null,null,null,null,null,"+/-",null,null,null,null,"Punkte",null,null,null,"HS"]
[null,null,{"$f":"IF(T65=0,0,RANK(BX65,$BX$65:$CA$70,0))","v":1},null,null,null,null,{"$f":"$Q$8","v":"Markus"},null,null,null,null,null,null,null,null,null,null,null,{"$f":"CG16+CG19+CG22+CG25+CG28+CG32+CG35+CG38+CG41+CG44","v":10},null,null,null,null,null,{"$f":"CH16+CH19+CJ22+CH25+CJ28+CJ32+CJ35+CH38+CJ41+CH44","v":7},null,null,null,null,null,null,null,null,null,null,{"$f":"CI16+CI19+CI22+CI25+CI28+CI32+CI35+CI38+CI41+CI44","v":1},null,null,null,null,null,null,null,null,null,null,{"$f":"CJ16+CJ19+CH22+CJ25+CH28+CH32+CH35+CJ38+CH41+CJ44","v":2},null,null,null,null,null,null,null,null,null,null,{"$f":"BR16+BR19+BZ22+BR25+BZ28+BZ32+BZ35+BR38+BZ41+BR44","v":23},null,null,null,null,":",null,{"$f":"BZ16+BZ19+BR22+BZ25+BR28+BR32+BR35+BZ38+BR41+BZ44","v":16},null,null,null,null,{"$f":"BG65-BN65","v":7},null,null,null,null,{"$f":"(Z65*3)+AK65","v":22},null,null,null,{"$f":"BX65+ROW()/1000","v":22.065000000000001}]
[null,null,3,null,null,null,null,{"$f":"$AB$8","v":"Ratze"},null,null,null,null,null,null,null,null,null,null,null,{"$f":"CG16+CG20+CG23+CG26+CG29+CG32+CG36+CG39+CG42+CG45","v":10},null,null,null,null,null,{"$f":"CJ16+CH20+CH23+CJ26+CH29+CH32+CJ36+CJ39+CH42+CJ45","v":5},null,null,null,null,null,null,null,null,null,null,{"$f":"CI16+CI20+CI23+CI26+CI29+CI32+CI36+CI39+CI42+CI45","v":0},null,null,null,null,null,null,null,null,null,null,{"$f":"CH16+CJ20+CJ23+CH26+CJ29+CJ32+CH36+CH39+CJ42+CH45","v":5},null,null,null,null,null,null,null,null,null,null,{"$f":"BZ16+BR20+BR23+BZ26+BR29+BR32+BZ36+BZ39+BR42+BZ45","v":19},null,null,null,null,":",null,{"$f":"BR16+BZ20+BZ23+BR26+BZ29+BZ32+BR36+BR39+BZ42+BR45","v":17},null,null,null,null,2,null,null,null,null,15,null,null,null,15.066000000000001]
[null,null,5,null,null,null,null,{"$f":"$AM$8","v":"Christoph"},null,null,null,null,null,null,null,null,null,null,null,{"$f":"CG17+CG19+CG24+CG27+CG29+CG33+CG35+CG40+CG43+CG45","v":10},null,null,null,null,null,{"$f":"CH17+CJ19+CJ24+CH27+CJ29+CJ33+CH35+CH40+CJ43+CH45","v":4},null,null,null,null,null,null,null,null,null,null,{"$f":"CI17+CI19+CI24+CI27+CI29+CI33+CI35+CI40+CI43+CI45","v":0},null,null,null,null,null,null,null,null,null,null,{"$f":"CJ17+CH19+CH24+CJ27+CH29+CH33+CJ35+CJ40+CH43+CJ45","v":6},null,null,null,null,null,null,null,null,null,null,{"$f":"BR17+BZ19+BZ24+BR27+BZ29+BZ33+BR35+BR40+BZ43+BR45","v":20},null,null,null,null,":",null,{"$f":"BZ17+BR19+BR24+BZ27+BR29+BR33+BZ35+BZ40+BR43+BZ45","v":20},null,null,null,null,0,null,null,null,null,12,null,null,null,12.067]
[null,null,2,null,null,null,null,{"$f":"$AX$8","v":"Patrick"},null,null,null,null,null,null,null,null,null,null,null,{"$f":"CG17+CG21+CG23+CG25+CG30+CG33+CG37+CG39+CG41+CG46","v":10},null,null,null,null,null,{"$f":"CJ17+CH21+CJ23+CJ25+CH30+CH33+CJ37+CH39+CH41+CJ46","v":5},null,null,null,null,null,null,null,null,null,null,{"$f":"CI17+CI21+CI23+CI25+CI30+CI33+CI37+CI39+CI41+CI46","v":1},null,null,null,null,null,null,null,null,null,null,{"$f":"CH17+CJ21+CH23+CH25+CJ30+CJ33+CH37+CJ39+CJ41+CH46","v":4},null,null,null,null,null,null,null,null,null,null,{"$f":"BZ17+BR21+BZ23+BZ25+BR30+BR33+BZ37+BR39+BR41+BZ46","v":19},null,null,null,null,":",null,{"$f":"BR17+BZ21+BR23+BR25+BZ30+BZ33+BR37+BZ39+BZ41+BR46","v":14},null,null,null,null,5,null,null,null,null,16,null,null,null,16.068000000000001]
[null,null,6,null,null,null,null,{"$f":"$BI$8","v":"Schmiddi"},null,null,null,null,null,null,null,null,null,null,null,{"$f":"CG18+CG20+CG22+CG27+CG30+CG34+CG36+CG38+CG43+CG46","v":10},null,null,null,null,null,{"$f":"CH18+CJ20+CH22+CJ27+CJ30+CJ34+CH36+CJ38+CH43+CH46","v":2},null,null,null,null,null,null,null,null,null,null,{"$f":"CI18+CI20+CI22+CI27+CI30+CI34+CI36+CI38+CI43+CI46","v":1},null,null,null,null,null,null,null,null,null,null,{"$f":"CJ18+CH20+CJ22+CH27+CH30+CH34+CJ36+CH38+CJ43+CJ46","v":7},null,null,null,null,null,null,null,null,null,null,{"$f":"BR18+BZ20+BR22+BZ27+BZ30+BZ34+BR36+BZ38+BR43+BR46","v":18},null,null,null,null,":",null,{"$f":"BZ18+BR20+BZ22+BR27+BR30+BR34+BZ36+BR38+BZ43+BZ46","v":33},null,null,null,null,-15,null,null,null,null,7,null,null,null,7.069]
[null,null,3,null,null,null,null,{"$f":"BT8","v":"Jule"},null,null,null,null,null,null,null,null,null,null,null,{"$f":"CG18+CG21+CG24+CG26+CG28+CG34+CG37+CG40+CG42+CG44","v":10},null,null,null,null,null,{"$f":"CJ18+CJ21+CH24+CH26+CH28+CH34+CH37+CJ40+CJ42+CJ44","v":4},null,null,null,null,null,null,null,null,null,null,{"$f":"CI18+CI21+CI24+CI26+CI28+CI34+CI37+CI40+CI42+CI44","v":3},null,null,null,null,null,null,null,null,null,null,{"$f":"CH18+CH21+CJ24+CJ26+CJ28+CJ34+CJ37+CH40+CH42+CH44","v":3},null,null,null,null,null,null,null,null,null,null,{"$f":"BZ18+BZ21+BR24+BR26+BR28+BR34+BR37+BZ40+BZ42+BZ44","v":17},null,null,null,null,":",null,{"$f":"BR18+BR21+BZ24+BZ26+BZ28+BZ34+BZ37+BR40+BR42+BR44","v":16},null,null,null,null,1,null,null,null,null,15,null,null,null,15.07]
[null,null,null,null,null,null,null,"Spieler 7",null,null,null,null,null,null,null,null,null,null,null,0,null,null,null,null,null,0,null,null,null,null,null,null,null,null,null,null,0,null,null,null,null,null,null,null,null,null,null,0,null,null,null,null,null,null,null,null,null,null,0,null,null,null,null,":",null,0,null,null,null,null,0,null,null,null,null,0,null,null,null,0]
[]
[]
[]
[null,null,"Tabelle"]
[]
[null,null,"Rang",null,null,null,null,"Spieler",null,null,null,null,null,null,null,null,null,null,null,"Spiele",null,null,null,null,null,"Siege",null,null,null,null,null,null,null,null,null,null,"Unentschieden",null,null,null,null,null,null,null,null,null,null,"Niederlagen",null,null,null,null,null,null,null,null,null,null,"Tore",null,null,null,null,null,null,null,null,null,null,null,"+/-",null,null,null,null,"Punkte"]
[null,null,{"$f":"INDEX($C$65:$C$70,MATCH(LARGE($CB$65:$CB$70,ROW(A1)),$CB$65:$CB$70,0),1)","v":1},null,null,1,null,{"$f":"INDEX($H$65:$H$70,MATCH(LARGE($CB$65:$CB$70,ROW(A1)),$CB$65:$CB$70,0),1)","v":"Markus"},null,null,null,null,null,null,null,null,null,null,null,{"$f":"INDEX($T$65:$T$70,MATCH(LARGE($CB$65:$CB$70,ROW(A1)),$CB$65:$CB$70,0),1)","v":10},null,null,null,null,null,{"$f":"INDEX($Z$65:$Z$70,MATCH(LARGE($CB$65:$CB$70,ROW(A1)),$CB$65:$CB$70,0),1)","v":7},null,null,null,null,null,null,null,null,null,null,{"$f":"INDEX($AK$65:$AK$70,MATCH(LARGE($CB$65:$CB$70,ROW(A1)),$CB$65:$CB$70,0),1)","v":1},null,null,null,null,null,null,null,null,null,null,{"$f":"INDEX($AV$65:$AV$70,MATCH(LARGE($CB$65:$CB$70,ROW(A1)),$CB$65:$CB$70,0),1)","v":2},null,null,null,null,null,null,null,null,null,null,{"$f":"INDEX($BG$65:$BG$70,MATCH(LARGE($CB$65:$CB$70,ROW(A1)),$CB$65:$CB$70,0),1)","v":23},null,null,null,null,":",null,{"$f":"INDEX($BN$65:$BN$70,MATCH(LARGE($CB$65:$CB$70,ROW(A1)),$CB$65:$CB$70,0),1)","v":16},null,null,null,null,{"$f":"INDEX($BS$65:$BS$70,MATCH(LARGE($CB$65:$CB$70,ROW(A1)),$CB$65:$CB$70,0),1)","v":7},null,null,null,null,{"$f":"INDEX($BX$65:$BX$70,MATCH(LARGE($CB$65:$CB$70,ROW(A1)),$CB$65:$CB$70,0),1)","v":22}]
[null,null,2,null,null,2,null,"Patrick",null,null,null,null,null,null,null,null,null,null,null,10,null,null,null,null,null,5,null,null,null,null,null,null,null,null,null,null,1,null,null,null,null,null,null,null,null,null,null,4,null,null,null,null,null,null,null,null,null,null,19,null,null,null,null,":",null,14,null,null,null,null,5,null,null,null,null,16]
[null,null,3,null,null,4,null,"Jule",null,null,null,null,null,null,null,null,null,null,null,10,null,null,null,null,null,4,null,null,null,null,null,null,null,null,null,null,3,null,null,null,null,null,null,null,null,null,null,3,null,null,null,null,null,null,null,null,null,null,17,null,null,null,null,":",null,16,null,null,null,null,1,null,null,null,null,15]
[null,null,3,null,null,3,null,"Ratze",null,null,null,null,null,null,null,null,null,null,null,10,null,null,null,null,null,5,null,null,null,null,null,null,null,null,null,null,0,null,null,null,null,null,null,null,null,null,null,5,null,null,null,null,null,null,null,null,null,null,19,null,null,null,null,":",null,17,null,null,null,null,2,null,null,null,null,15]
[null,null,5,null,null,5,null,"Christoph",null,null,null,null,null,null,null,null,null,null,null,10,null,null,null,null,null,4,null,null,null,null,null,null,null,null,null,null,0,null,null,null,null,null,null,null,null,null,null,6,null,null,null,null,null,null,null,null,null,null,20,null,null,null,null,":",null,20,null,null,null,null,0,null,null,null,null,12]
[null,null,6,null,null,6,null,"Schmiddi",null,null,null,null,null,null,null,null,null,null,null,10,null,null,null,null,null,2,null,null,null,null,null,null,null,null,null,null,1,null,null,null,null,null,null,null,null,null,null,7,null,null,null,null,null,null,null,null,null,null,18,null,null,null,null,":",null,33,null,null,null,null,-15,null,null,null,null,7]
[null,null,"---",null,null,"---",null,"Spieler 7",null,null,null,null,null,null,null,null,null,null,null,0,null,null,null,null,null,0,null,null,null,null,null,null,null,null,null,null,0,null,null,null,null,null,null,null,null,null,null,0,null,null,null,null,null,null,null,null,null,null,0,null,null,null,null,":",null,0,null,null,null,null,0,null,null,null,null,0]
[]
[]
[]
[null,null,"Tabelle (nach Alphabet)"]
[]
[null,null,"Rang",null,null,null,null,"Spieler",null,null,null,null,null,null,null,null,null,null,null,"Spiele",null,null,null,null,null,"Siege",null,null,null,null,null,null,null,null,null,null,"Unentschieden",null,null,null,null,null,null,null,null,null,null,"Niederlagen",null,null,null,null,null,null,null,null,null,null,"Tore",null,null,null,null,null,null,null,null,null,null,null,"+/-",null,null,null,null,"Punkte"]
[null,null,{"$f":"IF($H$78=\"Basti\",$F$78,IF($H$79=\"Basti\",$F$79,IF($H$80=\"Basti\",$F$80,IF($H$81=\"Basti\",$F$81,IF($H$82=\"Basti\",$F$82,IF($H$83=\"Basti\",$F$83,IF($H$84=\"Basti\",$F$84,0)))))))","v":0},null,null,null,null,"Basti",null,null,null,null,null,null,null,null,null,null,null,{"$f":"IF($H$78=\"Basti\",$T$78,IF($H$79=\"Basti\",$T$79,IF($H$80=\"Basti\",$T$80,IF($H$81=\"Basti\",$T$81,IF($H$82=\"Basti\",$T$82,IF($H$83=\"Basti\",$T$83,IF($H$84=\"Basti\",$T$84,0)))))))","v":0},null,null,null,null,null,{"$f":"IF($H$78=\"Basti\",$Z$78,IF($H$79=\"Basti\",$Z$79,IF($H$80=\"Basti\",$Z$80,IF($H$81=\"Basti\",$Z$81,IF($H$82=\"Basti\",$Z$82,IF($H$83=\"Basti\",$Z$83,IF($H$84=\"Basti\",$Z$84,0)))))))","v":0},null,null,null,null,null,null,null,null,null,null,{"$f":"IF($H$78=\"Basti\",$AK$78,IF($H$79=\"Basti\",$AK$79,IF($H$80=\"Basti\",$AK$80,IF($H$81=\"Basti\",$AK$81,IF($H$82=\"Basti\",$AK$82,IF($H$83=\"Basti\",$AK$83,IF($H$84=\"Basti\",$AK$84,0)))))))","v":0},null,null,null,null,null,null,null,null,null,null,{"$f":"IF($H$78=\"Basti\",$AV$78,IF($H$79=\"Basti\",$AV$79,IF($H$80=\"Basti\",$AV$80,IF($H$81=\"Basti\",$AV$81,IF($H$82=\"Basti\",$AV$82,IF($H$83=\"Basti\",$AV$83,IF($H$84=\"Basti\",$AV$84,0)))))))","v":0},null,null,null,null,null,null,null,null,null,null,{"$f":"IF($H$78=\"Basti\",$BG$78,IF($H$79=\"Basti\",$BG$79,IF($H$80=\"Basti\",$BG$80,IF($H$81=\"Basti\",$BG$81,IF($H$82=\"Basti\",$BG$82,IF($H$83=\"Basti\",$BG$83,IF($H$84=\"Basti\",$BG$84,0)))))))","v":0},null,null,null,null,":",null,{"$f":"IF($H$78=\"Basti\",$BN$78,IF($H$79=\"Basti\",$BN$79,IF($H$80=\"Basti\",$BN$80,IF($H$81=\"Basti\",$BN$81,IF($H$82=\"Basti\",$BN$82,IF($H$83=\"Basti\",$BN$83,IF($H$84=\"Basti\",$BN$84,0)))))))","v":0},null,null,null,null,{"$f":"IF($H$78=\"Basti\",$BS$78,IF($H$79=\"Basti\",$BS$79,IF($H$80=\"Basti\",$BS$80,IF($H$81=\"Basti\",$BS$81,IF($H$82=\"Basti\",$BS$82,IF($H$83=\"Basti\",$BS$83,IF($H$84=\"Basti\",$BS$84,0)))))))","v":0},null,null,null,null,{"$f":"IF($H$78=\"Basti\",$BX$78,IF($H$79=\"Basti\",$BX$79,IF($H$80=\"Basti\",$BX$80,IF($H$81=\"Basti\",$BX$81,IF($H$82=\"Basti\",$BX$82,IF($H$83=\"Basti\",$BX$83,IF($H$84=\"Basti\",$BX$84,0)))))))","v":0}]
[null,null,{"$f":"IF($H$78=\"Christoph\",$F$78,IF($H$79=\"Christoph\",$F$79,IF($H$80=\"Christoph\",$F$80,IF($H$81=\"Christoph\",$F$81,IF($H$82=\"Christoph\",$F$82,IF($H$83=\"Christoph\",$F$83,IF($H$84=\"Christoph\",$F$84,0)))))))","v":5},null,null,null,null,"Christoph",null,null,null,null,null,null,null,null,null,null,null,{"$f":"IF($H$78=\"Christoph\",$T$78,IF($H$79=\"Christoph\",$T$79,IF($H$80=\"Christoph\",$T$80,IF($H$81=\"Christoph\",$T$81,IF($H$82=\"Christoph\",$T$82,IF($H$83=\"Christoph\",$T$83,IF($H$84=\"Christoph\",$T$84,0)))))))","v":10},null,null,null,null,null,{"$f":"IF($H$78=\"Christoph\",$Z$78,IF($H$79=\"Christoph\",$Z$79,IF($H$80=\"Christoph\",$Z$80,IF($H$81=\"Christoph\",$Z$81,IF($H$82=\"Christoph\",$Z$82,IF($H$83=\"Christoph\",$Z$83,IF($H$84=\"Christoph\",$Z$84,0)))))))","v":4},null,null,null,null,null,null,null,null,null,null,{"$f":"IF($H$78=\"Christoph\",$AK$78,IF($H$79=\"Christoph\",$AK$79,IF($H$80=\"Christoph\",$AK$80,IF($H$81=\"Christoph\",$AK$81,IF($H$82=\"Christoph\",$AK$82,IF($H$83=\"Christoph\",$AK$83,IF($H$84=\"Christoph\",$AK$84,0)))))))","v":0},null,null,null,null,null,null,null,null,null,null,{"$f":"IF($H$78=\"Christoph\",$AV$78,IF($H$79=\"Christoph\",$AV$79,IF($H$80=\"Christoph\",$AV$80,IF($H$81=\"Christoph\",$AV$81,IF($H$82=\"Christoph\",$AV$82,IF($H$83=\"Christoph\",$AV$83,IF($H$84=\"Christoph\",$AV$84,0)))))))","v":6},null,null,null,null,null,null,null,null,null,null,{"$f":"IF($H$78=\"Christoph\",$BG$78,IF($H$79=\"Christoph\",$BG$79,IF($H$80=\"Christoph\",$BG$80,IF($H$81=\"Christoph\",$BG$81,IF($H$82=\"Christoph\",$BG$82,IF($H$83=\"Christoph\",$BG$83,IF($H$84=\"Christoph\",$BG$84,0)))))))","v":20},null,null,null,null,":",null,{"$f":"IF($H$78=\"Christoph\",$BN$78,IF($H$79=\"Christoph\",$BN$79,IF($H$80=\"Christoph\",$BN$80,IF($H$81=\"Christoph\",$BN$81,IF($H$82=\"Christoph\",$BN$82,IF($H$83=\"Christoph\",$BN$83,IF($H$84=\"Christoph\",$BN$84,0)))))))","v":20},null,null,null,null,{"$f":"IF($H$78=\"Christoph\",$BS$78,IF($H$79=\"Christoph\",$BS$79,IF($H$80=\"Christoph\",$BS$80,IF($H$81=\"Christoph\",$BS$81,IF($H$82=\"Christoph\",$BS$82,IF($H$83=\"Christoph\",$BS$83,IF($H$84=\"Christoph\",$BS$84,0)))))))","v":0},null,null,null,null,{"$f":"IF($H$78=\"Christoph\",$BX$78,IF($H$79=\"Christoph\",$BX$79,IF($H$80=\"Christoph\",$BX$80,IF($H$81=\"Christoph\",$BX$81,IF($H$82=\"Christoph\",$BX$82,IF($H$83=\"Christoph\",$BX$83,IF($H$84=\"Christoph\",$BX$84,0)))))))","v":12}]
[null,null,{"$f":"IF($H$78=\"Jule\",$F$78,IF($H$79=\"Jule\",$F$79,IF($H$80=\"Jule\",$F$80,IF($H$81=\"Jule\",$F$81,IF($H$82=\"Jule\",$F$82,IF($H$83=\"Jule\",$F$83,IF($H$84=\"Jule\",$F$84,0)))))))","v":4},null,null,null,null,"Jule",null,null,null,null,null,null,null,null,null,null,null,{"$f":"IF($H$78=\"Jule\",$T$78,IF($H$79=\"Jule\",$T$79,IF($H$80=\"Jule\",$T$80,IF($H$81=\"Jule\",$T$81,IF($H$82=\"Jule\",$T$82,IF($H$83=\"Jule\",$T$83,IF($H$84=\"Jule\",$T$84,0)))))))","v":10},null,null,null,null,null,{"$f":"IF($H$78=\"Jule\",$Z$78,IF($H$79=\"Jule\",$Z$79,IF($H$80=\"Jule\",$Z$80,IF($H$81=\"Jule\",$Z$81,IF($H$82=\"Jule\",$Z$82,IF($H$83=\"Jule\",$Z$83,IF($H$84=\"Jule\",$Z$84,0)))))))","v":4},null,null,null,null,null,null,null,null,null,null,{"$f":"IF($H$78=\"Jule\",$AK$78,IF($H$79=\"Jule\",$AK$79,IF($H$80=\"Jule\",$AK$80,IF($H$81=\"Jule\",$AK$81,IF($H$82=\"Jule\",$AK$82,IF($H$83=\"Jule\",$AK$83,IF($H$84=\"Jule\",$AK$84,0)))))))","v":3},null,null,null,null,null,null,null,null,null,null,{"$f":"IF($H$78=\"Jule\",$AV$78,IF($H$79=\"Jule\",$AV$79,IF($H$80=\"Jule\",$AV$80,IF($H$81=\"Jule\",$AV$81,IF($H$82=\"Jule\",$AV$82,IF($H$83=\"Jule\",$AV$83,IF($H$84=\"Jule\",$AV$84,0)))))))","v":3},null,null,null,null,null,null,null,null,null,null,{"$f":"IF($H$78=\"Jule\",$BG$78,IF($H$79=\"Jule\",$BG$79,IF($H$80=\"Jule\",$BG$80,IF($H$81=\"Jule\",$BG$81,IF($H$82=\"Jule\",$BG$82,IF($H$83=\"Jule\",$BG$83,IF($H$84=\"Jule\",$BG$84,0)))))))","v":17},null,null,null,null,":",null,{"$f":"IF($H$78=\"Jule\",$BN$78,IF($H$79=\"Jule\",$BN$79,IF($H$80=\"Jule\",$BN$80,IF($H$81=\"Jule\",$BN$81,IF($H$82=\"Jule\",$BN$82,IF($H$83=\"Jule\",$BN$83,IF($H$84=\"Jule\",$BN$84,0)))))))","v":16},null,null,null,null,{"$f":"IF($H$78=\"Jule\",$BS$78,IF($H$79=\"Jule\",$BS$79,IF($H$80=\"Jule\",$BS$80,IF($H$81=\"Jule\",$BS$81,IF($H$82=\"Jule\",$BS$82,IF($H$83=\"Jule\",$BS$83,IF($H$84=\"Jule\",$BS$84,0)))))))","v":1},null,null,null,null,{"$f":"IF($H$78=\"Jule\",$BX$78,IF($H$79=\"Jule\",$BX$79,IF($H$80=\"Jule\",$BX$80,IF($H$81=\"Jule\",$BX$81,IF($H$82=\"Jule\",$BX$82,IF($H$83=\"Jule\",$BX$83,IF($H$84=\"Jule\",$BX$84,0)))))))","v":15}]
[null,null,{"$f":"IF($H$78=\"Markus\",$F$78,IF($H$79=\"Markus\",$F$79,IF($H$80=\"Markus\",$F$80,IF($H$81=\"Markus\",$F$81,IF($H$82=\"Markus\",$F$82,IF($H$83=\"Markus\",$F$83,IF($H$84=\"Markus\",$F$84,0)))))))","v":1},null,null,null,null,"Markus",null,null,null,null,null,null,null,null,null,null,null,{"$f":"IF($H$78=\"Markus\",$T$78,IF($H$79=\"Markus\",$T$79,IF($H$80=\"Markus\",$T$80,IF($H$81=\"Markus\",$T$81,IF($H$82=\"Markus\",$T$82,IF($H$83=\"Markus\",$T$83,IF($H$84=\"Markus\",$T$84,0)))))))","v":10},null,null,null,null,null,{"$f":"IF($H$78=\"Markus\",$Z$78,IF($H$79=\"Markus\",$Z$79,IF($H$80=\"Markus\",$Z$80,IF($H$81=\"Markus\",$Z$81,IF($H$82=\"Markus\",$Z$82,IF($H$83=\"Markus\",$Z$83,IF($H$84=\"Markus\",$Z$84,0)))))))","v":7},null,null,null,null,null,null,null,null,null,null,{"$f":"IF($H$78=\"Markus\",$AK$78,IF($H$79=\"Markus\",$AK$79,IF($H$80=\"Markus\",$AK$80,IF($H$81=\"Markus\",$AK$81,IF($H$82=\"Markus\",$AK$82,IF($H$83=\"Markus\",$AK$83,IF($H$84=\"Markus\",$AK$84,0)))))))","v":1},null,null,null,null,null,null,null,null,null,null,{"$f":"IF($H$78=\"Markus\",$AV$78,IF($H$79=\"Markus\",$AV$79,IF($H$80=\"Markus\",$AV$80,IF($H$81=\"Markus\",$AV$81,IF($H$82=\"Markus\",$AV$82,IF($H$83=\"Markus\",$AV$83,IF($H$84=\"Markus\",$AV$84,0)))))))","v":2},null,null,null,null,null,null,null,null,null,null,{"$f":"IF($H$78=\"Markus\",$BG$78,IF($H$79=\"Markus\",$BG$79,IF($H$80=\"Markus\",$BG$80,IF($H$81=\"Markus\",$BG$81,IF($H$82=\"Markus\",$BG$82,IF($H$83=\"Markus\",$BG$83,IF($H$84=\"Markus\",$BG$84,0)))))))","v":23},null,null,null,null,":",null,{"$f":"IF($H$78=\"Markus\",$BN$78,IF($H$79=\"Markus\",$BN$79,IF($H$80=\"Markus\",$BN$80,IF($H$81=\"Markus\",$BN$81,IF($H$82=\"Markus\",$BN$82,IF($H$83=\"Markus\",$BN$83,IF($H$84=\"Markus\",$BN$84,0)))))))","v":16},null,null,null,null,{"$f":"IF($H$78=\"Markus\",$BS$78,IF($H$79=\"Markus\",$BS$79,IF($H$80=\"Markus\",$BS$80,IF($H$81=\"Markus\",$BS$81,IF($H$82=\"Markus\",$BS$82,IF($H$83=\"Markus\",$BS$83,IF($H$84=\"Markus\",$BS$84,0)))))))","v":7},null,null,null,null,{"$f":"IF($H$78=\"Markus\",$BX$78,IF($H$79=\"Markus\",$BX$79,IF($H$80=\"Markus\",$BX$80,IF($H$81=\"Markus\",$BX$81,IF($H$82=\"Markus\",$BX$82,IF($H$83=\"Markus\",$BX$83,IF($H$84=\"Markus\",$BX$84,0)))))))","v":22}]
[null,null,{"$f":"IF($H$78=\"Patrick\",$F$78,IF($H$79=\"Patrick\",$F$79,IF($H$80=\"Patrick\",$F$80,IF($H$81=\"Patrick\",$F$81,IF($H$82=\"Patrick\",$F$82,IF($H$83=\"Patrick\",$F$83,IF($H$84=\"Patrick\",$F$84,0)))))))","v":2},null,null,null,null,"Patrick",null,null,null,null,null,null,null,null,null,null,null,{"$f":"IF($H$78=\"Patrick\",$T$78,IF($H$79=\"Patrick\",$T$79,IF($H$80=\"Patrick\",$T$80,IF($H$81=\"Patrick\",$T$81,IF($H$82=\"Patrick\",$T$82,IF($H$83=\"Patrick\",$T$83,IF($H$84=\"Patrick\",$T$84,0)))))))","v":10},null,null,null,null,null,{"$f":"IF($H$78=\"Patrick\",$Z$78,IF($H$79=\"Patrick\",$Z$79,IF($H$80=\"Patrick\",$Z$80,IF($H$81=\"Patrick\",$Z$81,IF($H$82=\"Patrick\",$Z$82,IF($H$83=\"Patrick\",$Z$83,IF($H$84=\"Patrick\",$Z$84,0)))))))","v":5},null,null,null,null,null,null,null,null,null,null,{"$f":"IF($H$78=\"Patrick\",$AK$78,IF($H$79=\"Patrick\",$AK$79,IF($H$80=\"Patrick\",$AK$80,IF($H$81=\"Patrick\",$AK$81,IF($H$82=\"Patrick\",$AK$82,IF($H$83=\"Patrick\",$AK$83,IF($H$84=\"Patrick\",$AK$84,0)))))))","v":1},null,null,null,null,null,null,null,null,null,null,{"$f":"IF($H$78=\"Patrick\",$AV$78,IF($H$79=\"Patrick\",$AV$79,IF($H$80=\"Patrick\",$AV$80,IF($H$81=\"Patrick\",$AV$81,IF($H$82=\"Patrick\",$AV$82,IF($H$83=\"Patrick\",$AV$83,IF($H$84=\"Patrick\",$AV$84,0)))))))","v":4},null,null,null,null,null,null,null,null,null,null,{"$f":"IF($H$78=\"Patrick\",$BG$78,IF($H$79=\"Patrick\",$BG$79,IF($H$80=\"Patrick\",$BG$80,IF($H$81=\"Patrick\",$BG$81,IF($H$82=\"Patrick\",$BG$82,IF($H$83=\"Patrick\",$BG$83,IF($H$84=\"Patrick\",$BG$84,0)))))))","v":19},null,null,null,null,":",null,{"$f":"IF($H$78=\"Patrick\",$BN$78,IF($H$79=\"Patrick\",$BN$79,IF($H$80=\"Patrick\",$BN$80,IF($H$81=\"Patrick\",$BN$81,IF($H$82=\"Patrick\",$BN$82,IF($H$83=\"Patrick\",$BN$83,IF($H$84=\"Patrick\",$BN$84,0)))))))","v":14},null,null,null,null,{"$f":"IF($H$78=\"Patrick\",$BS$78,IF($H$79=\"Patrick\",$BS$79,IF($H$80=\"Patrick\",$BS$80,IF($H$81=\"Patrick\",$BS$81,IF($H$82=\"Patrick\",$BS$82,IF($H$83=\"Patrick\",$BS$83,IF($H$84=\"Patrick\",$BS$84,0)))))))","v":5},null,null,null,null,{"$f":"IF($H$78=\"Patrick\",$BX$78,IF($H$79=\"Patrick\",$BX$79,IF($H$80=\"Patrick\",$BX$80,IF($H$81=\"Patrick\",$BX$81,IF($H$82=\"Patrick\",$BX$82,IF($H$83=\"Patrick\",$BX$83,IF($H$84=\"Patrick\",$BX$84,0)))))))","v":16}]
[null,null,{"$f":"IF($H$78=\"Ratze\",$F$78,IF($H$79=\"Ratze\",$F$79,IF($H$80=\"Ratze\",$F$80,IF($H$81=\"Ratze\",$F$81,IF($H$82=\"Ratze\",$F$82,IF($H$83=\"Ratze\",$F$83,IF($H$84=\"Ratze\",$F$84,0)))))))","v":3},null,null,null,null,"Ratze",null,null,null,null,null,null,null,null,null,null,null,{"$f":"IF($H$78=\"Ratze\",$T$78,IF($H$79=\"Ratze\",$T$79,IF($H$80=\"Ratze\",$T$80,IF($H$81=\"Ratze\",$T$81,IF($H$82=\"Ratze\",$T$82,IF($H$83=\"Ratze\",$T$83,IF($H$84=\"Ratze\",$T$84,0)))))))","v":10},null,null,null,null,null,{"$f":"IF($H$78=\"Ratze\",$Z$78,IF($H$79=\"Ratze\",$Z$79,IF($H$80=\"Ratze\",$Z$80,IF($H$81=\"Ratze\",$Z$81,IF($H$82=\"Ratze\",$Z$82,IF($H$83=\"Ratze\",$Z$83,IF($H$84=\"Ratze\",$Z$84,0)))))))","v":5},null,null,null,null,null,null,null,null,null,null,{"$f":"IF($H$78=\"Ratze\",$AK$78,IF($H$79=\"Ratze\",$AK$79,IF($H$80=\"Ratze\",$AK$80,IF($H$81=\"Ratze\",$AK$81,IF($H$82=\"Ratze\",$AK$82,IF($H$83=\"Ratze\",$AK$83,IF($H$84=\"Ratze\",$AK$84,0)))))))","v":0},null,null,null,null,null,null,null,null,null,null,{"$f":"IF($H$78=\"Ratze\",$AV$78,IF($H$79=\"Ratze\",$AV$79,IF($H$80=\"Ratze\",$AV$80,IF($H$81=\"Ratze\",$AV$81,IF($H$82=\"Ratze\",$AV$82,IF($H$83=\"Ratze\",$AV$83,IF($H$84=\"Ratze\",$AV$84,0)))))))","v":5},null,null,null,null,null,null,null,null,null,null,{"$f":"IF($H$78=\"Ratze\",$BG$78,IF($H$79=\"Ratze\",$BG$79,IF($H$80=\"Ratze\",$BG$80,IF($H$81=\"Ratze\",$BG$81,IF($H$82=\"Ratze\",$BG$82,IF($H$83=\"Ratze\",$BG$83,IF($H$84=\"Ratze\",$BG$84,0)))))))","v":19},null,null,null,null,":",null,{"$f":"IF($H$78=\"Ratze\",$BN$78,IF($H$79=\"Ratze\",$BN$79,IF($H$80=\"Ratze\",$BN$80,IF($H$81=\"Ratze\",$BN$81,IF($H$82=\"Ratze\",$BN$82,IF($H$83=\"Ratze\",$BN$83,IF($H$84=\"Ratze\",$BN$84,0)))))))","v":17},null,null,null,null,{"$f":"IF($H$78=\"Ratze\",$BS$78,IF($H$79=\"Ratze\",$BS$79,IF($H$80=\"Ratze\",$BS$80,IF($H$81=\"Ratze\",$BS$81,IF($H$82=\"Ratze\",$BS$82,IF($H$83=\"Ratze\",$BS$83,IF($H$84=\"Ratze\",$BS$84,0)))))))","v":2},null,null,null,null,{"$f":"IF($H$78=\"Ratze\",$BX$78,IF($H$79=\"Ratze\",$BX$79,IF($H$80=\"Ratze\",$BX$80,IF($H$81=\"Ratze\",$BX$81,IF($H$82=\"Ratze\",$BX$82,IF($H$83=\"Ratze\",$BX$83,IF($H$84=\"Ratze\",$BX$84,0)))))))","v":15}]
[null,null,{"$f":"IF($H$78=\"Schmiddi\",$F$78,IF($H$79=\"Schmiddi\",$F$79,IF($H$80=\"Schmiddi\",$F$80,IF($H$81=\"Schmiddi\",$F$81,IF($H$82=\"Schmiddi\",$F$82,IF($H$83=\"Schmiddi\",$F$83,IF($H$84=\"Schmiddi\",$F$84,0)))))))","v":6},null,null,null,null,"Schmiddi",null,null,null,null,null,null,null,null,null,null,null,{"$f":"IF($H$78=\"Schmiddi\",$T$78,IF($H$79=\"Schmiddi\",$T$79,IF($H$80=\"Schmiddi\",$T$80,IF($H$81=\"Schmiddi\",$T$81,IF($H$82=\"Schmiddi\",$T$82,IF($H$83=\"Schmiddi\",$T$83,IF($H$84=\"Schmiddi\",$T$84,0)))))))","v":10},null,null,null,null,null,{"$f":"IF($H$78=\"Schmiddi\",$Z$78,IF($H$79=\"Schmiddi\",$Z$79,IF($H$80=\"Schmiddi\",$Z$80,IF($H$81=\"Schmiddi\",$Z$81,IF($H$82=\"Schmiddi\",$Z$82,IF($H$83=\"Schmiddi\",$Z$83,IF($H$84=\"Schmiddi\",$Z$84,0)))))))","v":2},null,null,null,null,null,null,null,null,null,null,{"$f":"IF($H$78=\"Schmiddi\",$AK$78,IF($H$79=\"Schmiddi\",$AK$79,IF($H$80=\"Schmiddi\",$AK$80,IF($H$81=\"Schmiddi\",$AK$81,IF($H$82=\"Schmiddi\",$AK$82,IF($H$83=\"Schmiddi\",$AK$83,IF($H$84=\"Schmiddi\",$AK$84,0)))))))","v":1},null,null,null,null,null,null,null,null,null,null,{"$f":"IF($H$78=\"Schmiddi\",$AV$78,IF($H$79=\"Schmiddi\",$AV$79,IF($H$80=\"Schmiddi\",$AV$80,IF($H$81=\"Schmiddi\",$AV$81,IF($H$82=\"Schmiddi\",$AV$82,IF($H$83=\"Schmiddi\",$AV$83,IF($H$84=\"Schmiddi\",$AV$84,0)))))))","v":7},null,null,null,null,null,null,null,null,null,null,{"$f":"IF($H$78=\"Schmiddi\",$BG$78,IF($H$79=\"Schmiddi\",$BG$79,IF($H$80=\"Schmiddi\",$BG$80,IF($H$81=\"Schmiddi\",$BG$81,IF($H$82=\"Schmiddi\",$BG$82,IF($H$83=\"Schmiddi\",$BG$83,IF($H$84=\"Schmiddi\",$BG$84,0)))))))","v":18},null,null,null,null,":",null,{"$f":"IF($H$78=\"Schmiddi\",$BN$78,IF($H$79=\"Schmiddi\",$BN$79,IF($H$80=\"Schmiddi\",$BN$80,IF($H$81=\"Schmiddi\",$BN$81,IF($H$82=\"Schmiddi\",$BN$82,IF($H$83=\"Schmiddi\",$BN$83,IF($H$84=\"Schmiddi\",$BN$84,0)))))))","v":33},null,null,null,null,{"$f":"IF($H$78=\"Schmiddi\",$BS$78,IF($H$79=\"Schmiddi\",$BS$79,IF($H$80=\"Schmiddi\",$BS$80,IF($H$81=\"Schmiddi\",$BS$81,IF($H$82=\"Schmiddi\",$BS$82,IF($H$83=\"Schmiddi\",$BS$83,IF($H$84=\"Schmiddi\",$BS$84,0)))))))","v":-15},null,null,null,null,{"$f":"IF($H$78=\"Schmiddi\",$BX$78,IF($H$79=\"Schmiddi\",$BX$79,IF($H$80=\"Schmiddi\",$BX$80,IF($H$81=\"Schmiddi\",$BX$81,IF($H$82=\"Schmiddi\",$BX$82,IF($H$83=\"Schmiddi\",$BX$83,IF($H$84=\"Schmiddi\",$BX$84,0)))))))","v":7}]

{"sheet":"27.1.","index":13,"n_rows":97,"n_cols":88,"rows_kept":97,"cut":false,"hidden":false,"merged":[[98,0,98,83],[96,58,96,62],[96,63,96,64],[96,65,96,69],[96,70,96,74],[96,75,96,81],[97,1,97,82],[96,2,96,6],[96,7,96,18],[96,19,96,24],[96,25,96,35],[96,36,96,46],[96,47,96,57],[95,47,95,57],[95,58,95,62],[95,63,95,64],[95,65,95,69],[95,70,95,74],[95,75,95,81],[94,58,94,62],[94,63,94,64],[94,65,94,69],[94,70,94,74],[94,75,94,81],[94,47,94,57],[95,2,95,6],[95,7,95,18],[95,19,95,24],[95,25,95,35],[95,36,95,46],[94,2,94,6],[94,7,94,18],[94,19,94,24],[94,25,94,35],[94,36,94,46],[93,47,93,57],[93,58,93,62],[93,63,93,64],[93,65,93,69],[93,70,93,74],[93,75,93,81],[92,58,92,62],[92,63,92,64],[92,65,92,69],[92,70,92,74],[92,75,92,81],[92,47,92,57],[93,2,93,6],[93,7,93,18],[93,19,93,24],[93,25,93,35],[93,36,93,46],[92,2,92,6],[92,7,92,18],[92,19,92,24],[92,25,92,35],[92,36,92,46],[90,25,90,35],[90,36,90,46],[91,47,91,57],[91,58,91,62],[91,63,91,64],[91,65,91,69],[91,70,91,74],[91,75,91,81],[90,58,90,62],[90,63,90,64],[90,65,90,69],[90,70,90,74],[90,75,90,81],[90,47,90,57],[89,25,89,35],[89,36,89,46],[89,47,89,57],[89,58,89,69],[89,70,89,74],[89,75,89,81],[84,1,84,82],[85,1,85,82],[86,1,86,82],[87,1,96,1],[87,2,87,81],[87,82,96,82],[88,2,88,81],[89,2,89,6],[89,7,89,18],[89,19,89,24],[91,2,91,6],[91,7,91,18],[91,19,91,24],[91,25,91,35],[91,36,91,46],[90,2,90,6],[90,7,90,18],[90,19,90,24],[83,47,83,57],[83,58,83,62],[83,63,83,64],[83,65,83,69],[83,70,83,74],[83,75,83,81],[82,58,82,62],[82,63,82,64],[82,65,82,69],[82,70,82,74],[82,75,82,81],[82,47,82,57],[83,7,83,18],[83,19,83,24],[83,25,83,35],[83,36,83,46],[82,7,82,18],[82,19,82,24],[82,25,82,35],[82,36,82,46],[82,2,82,4],[82,5,82,6],[83,2,83,4],[83,5,83,6],[76,70,76,74],[77,70,77,74],[77,2,77,4],[77,5,77,6],[78,2,78,4],[78,5,78,6],[79,2,79,4],[79,5,79,6],[80,2,80,4],[80,5,80,6],[79,7,79,18],[79,19,79,24],[79,25,79,35],[79,36,79,46],[79,47,79,57],[79,63,79,64],[79,65,79,69],[79,70,79,74],[80,7,80,18],[80,19,80,24],[80,25,80,35],[80,36,80,46],[80,47,80,57],[79,58,79,62],[78,75,78,81],[81,7,81,18],[81,19,81,24],[81,25,81,35],[81,36,81,46],[81,47,81,57],[81,58,81,62],[81,2,81,4],[81,5,81,6],[79,75,79,81],[81,63,81,64],[81,65,81,69],[81,70,81,74],[81,75,81,81],[80,58,80,62],[80,63,80,64],[80,65,80,69],[80,70,80,74],[80,75,80,81],[78,7,78,18],[78,19,78,24],[78,25,78,35],[78,36,78,46],[78,47,78,57],[78,58,78,62],[78,63,78,64],[78,65,78,69],[78,70,78,74],[71,1,71,82],[72,1,72,82],[73,1,73,82],[74,1,80,1],[74,2,74,81],[74,82,80,82],[75,2,75,81],[76,2,76,6],[76,7,76,18],[76,75,76,81],[77,7,77,18],[77,19,77,24],[77,25,77,35],[77,36,77,46],[77,47,77,57],[77,58,77,62],[77,63,77,64],[77,65,77,69],[76,19,76,24],[76,25,76,35],[76,36,76,46],[76,47,76,57],[76,58,76,69],[77,75,77,81],[69,70,69,74],[69,75,69,78],[69,79,69,81],[70,2,70,6],[70,7,70,18],[70,19,70,24],[70,25,70,35],[70,36,70,46],[70,79,70,81],[70,47,70,57],[70,58,70,62],[70,63,70,64],[70,65,70,69],[70,70,70,74],[70,75,70,78],[69,2,69,6],[69,7,69,18],[69,19,69,24],[69,25,69,35],[69,36,69,46],[69,47,69,57],[69,58,69,62],[69,63,69,64],[69,65,69,69],[67,2,67,6],[67,7,67,18],[67,19,67,24],[67,25,67,35],[67,36,67,46],[67,79,67,81],[68,2,68,6],[68,7,68,18],[68,19,68,24],[68,25,68,35],[68,36,68,46],[68,47,68,57],[68,58,68,62],[68,63,68,64],[68,65,68,69],[67,47,67,57],[67,58,67,62],[67,63,67,64],[67,65,67,69],[67,70,67,74],[67,75,67,78],[68,70,68,74],[68,75,68,78],[68,79,68,81],[64,70,64,74],[64,75,64,78],[65,70,65,74],[65,75,65,78],[65,79,65,81],[66,2,66,6],[66,7,66,18],[66,19,66,24],[66,25,66,35],[66,36,66,46],[66,47,66,57],[66,58,66,62],[66,63,66,64],[66,65,66,69],[66,70,66,74],[66,75,66,78],[66,79,66,81],[65,25,65,35],[65,36,65,46],[65,47,65,57],[65,58,65,62],[65,63,65,64],[65,65,65,69],[64,47,64,57],[64,58,64,62],[64,63,64,64],[64,65,64,69],[60,1,60,82],[61,1,67,1],[61,2,61,81],[61,82,67,82],[62,2,62,81],[63,2,63,6],[63,7,63,18],[63,19,63,24],[63,25,63,35],[63,36,63,46],[63,47,63,57],[63,58,63,69],[63,70,63,74],[63,75,63,78],[63,79,63,81],[64,2,64,6],[64,7,64,18],[64,19,64,24],[64,25,64,35],[64,36,64,46],[64,79,64,81],[65,2,65,6],[65,7,65,18],[65,19,65,24],[27,77,27,81],[28,1,28,82],[59,1,59,82],[26,53,26,67],[26,69,26,73],[26,74,26,76],[26,77,26,81],[27,7,27,10],[27,12,27,16],[27,18,27,22],[27,24,27,33],[27,35,27,49],[27,50,27,52],[26,7,26,10],[26,12,26,16],[26,18,26,22],[26,24,26,33],[26,35,26,49],[26,50,26,52],[27,53,27,67],[27,69,27,73],[27,74,27,76],[23,50,23,52],[22,50,22,52],[22,53,22,67],[22,68,27,68],[24,53,24,67],[24,69,24,73],[24,74,24,76],[24,77,24,81],[25,53,25,67],[25,69,25,73],[25,74,25,76],[25,77,25,81],[25,7,25,10],[25,12,25,16],[25,18,25,22],[25,24,25,33],[25,35,25,49],[25,50,25,52],[24,7,24,10],[24,12,24,16],[24,18,24,22],[24,24,24,33],[24,35,24,49],[24,50,24,52],[21,2,21,81],[22,2,27,5],[22,6,27,6],[22,7,22,10],[22,11,27,11],[22,12,22,16],[22,69,22,73],[22,74,22,76],[22,77,22,81],[23,53,23,67],[23,69,23,73],[23,74,23,76],[23,77,23,81],[22,17,27,17],[22,18,22,22],[22,23,27,23],[22,24,22,33],[22,34,27,34],[22,35,22,49],[23,7,23,10],[23,12,23,16],[23,18,23,22],[23,24,23,33],[23,35,23,49],[20,7,20,10],[20,12,20,16],[20,18,20,22],[20,24,20,33],[20,35,20,49],[20,50,20,52],[20,53,20,67],[20,69,20,73],[20,74,20,76],[15,23,20,23],[15,24,15,33],[15,34,20,34],[15,35,15,49],[16,7,16,10],[16,12,16,16],[16,18,16,22],[16,24,16,33],[16,35,16,49],[18,7,18,10],[18,12,18,16],[18,18,18,22],[18,24,18,33],[18,35,18,49],[18,50,18,52],[17,7,17,10],[17,12,17,16],[17,18,17,22],[17,24,17,33],[17,35,17,49],[17,50,17,52],[15,12,15,16],[15,69,15,73],[15,74,15,76],[15,77,15,81],[16,53,16,67],[16,50,16,52],[15,50,15,52],[15,53,15,67],[15,68,20,68],[17,53,17,67],[17,69,17,73],[17,74,17,76],[17,77,17,81],[18,53,18,67],[18,69,18,73],[18,74,18,76],[18,77,18,81],[19,50,19,52],[19,53,19,67],[19,69,19,73],[19,74,19,76],[19,77,19,81],[20,77,20,81],[0,0,0,83],[1,1,1,82],[1,83,97,83],[2,1,2,82],[3,1,3,82],[4,1,7,1],[4,2,4,81],[4,82,7,82],[5,2,5,81],[6,2,6,13],[6,14,6,30],[6,31,6,47],[6,48,6,64],[6,65,6,81],[7,2,7,13],[7,14,7,30],[7,31,7,47],[7,48,7,64],[7,65,7,81],[19,7,19,10],[19,12,19,16],[19,18,19,22],[19,24,19,33],[19,35,19,49],[8,1,8,82],[9,1,9,82],[10,1,10,82],[11,1,27,1],[11,2,11,81],[16,69,16,73],[16,74,16,76],[16,77,16,81],[15,17,20,17],[15,18,15,22],[11,82,27,82],[12,2,12,81],[13,2,13,5],[13,7,13,10],[13,12,13,16],[13,18,13,22],[13,24,13,33],[13,35,13,67],[13,69,13,81],[14,2,14,81],[15,2,20,5],[15,6,20,6],[15,7,15,10],[15,11,20,11]]}
[]
[null,{"$f":"\"Turnier am \" & MID(CELL(\"dateiname\",A1),SEARCH(\"]\",CELL(\"dateiname\",A1))+1,31)","v":"Turnier am 27.1."}]
[]
[]
[null,null,"Spielerliste"]
[]
[null,null,{"$f":"\" Spieler\"","v":" Spieler"},null,null,null,null,null,null,null,null,null,null,null,"Spieler 1",null,null,null,null,null,null,null,null,null,null,null,null,null,null,null,null,"Spieler 2",null,null,null,null,null,null,null,null,null,null,null,null,null,null,null,null,"Spieler 3",null,null,null,null,null,null,null,null,null,null,null,null,null,null,null,null,"Spieler 4"]
[null,null,{"$f":"\" Name\"","v":" Name"},null,null,null,null,null,null,null,null,null,null,null,"Ratze",null,null,null,null,null,null,null,null,null,null,null,null,null,null,null,null,"Christoph",null,null,null,null,null,null,null,null,null,null,null,null,null,null,null,null,"Markus",null,null,null,null,null,null,null,null,null,null,null,null,null,null,null,null,"Patrick"]
[]
[]
[]
[null,null,"Spielplan"]
[]
[null,null,"00:12:00",null,null,null,null,"Spiel",null,null,null,null,"Datum",null,null,null,null,null,"Uhrzeit",null,null,null,null,null,"Austragungsort",null,null,null,null,null,null,null,null,null,null,"Paarung",null,null,null,null,null,null,null,null,null,null,null,null,null,null,null,null,null,null,null,null,null,null,null,null,null,null,null,null,null,null,null,null,null,"Ergebnis",null,null,null,null,null,null,null,null,null,null,null,null,null,null,"Spiele","SiegHeim","Unentschieden","SiegGast"]
[]
[null,null,"Hinrunde",null,null,null,null,1,null,null,null,null,{"$f":"MID(CELL(\"dateiname\",A1),SEARCH(\"]\",CELL(\"dateiname\",A1))+1,31)","v":"27.1."},null,null,null,null,null,"21:00:00",null,null,null,null,null,"Fernseher (links)",null,null,null,null,null,null,null,null,null,null,{"$f":"$O$8","v":"Ratze"},null,null,null,null,null,null,null,null,null,null,null,null,null,null,":",null,null,{"$f":"$AF$8","v":"Christoph"},null,null,null,null,null,null,null,null,null,null,null,null,null,null,null,1,null,null,null,null,":",null,null,0,null,null,null,null,null,null,{"$f":"IF(AND(ISNUMBER(BR16),ISNUMBER(BZ16)),1,0)","v":1},{"$f":"IF(OR(ISBLANK(BR16),ISBLANK(BZ16)),0,IF(BR16>BZ16,1,0))","v":1},{"$f":"IF(OR(ISBLANK(BR16),ISBLANK(BZ16)),0,IF(BR16=BZ16,1,0))","v":0},{"$f":"IF(OR(ISBLANK(BR16),ISBLANK(BZ16)),0,IF(BR16<BZ16,1,0))","v":0}]
[null,null,null,null,null,null,null,{"$f":"H16+1","v":2},null,null,null,null,{"$f":"$M$16","v":"27.1."},null,null,null,null,null,{"$f":"S16","v":"21:00:00"},null,null,null,null,null,"Fernseher (rechts)",null,null,null,null,null,null,null,null,null,null,{"$f":"$AW$8","v":"Markus"},null,null,null,null,null,null,null,null,null,null,null,null,null,null,":",null,null,{"$f":"$BN$8","v":"Patrick"},null,null,null,null,null,null,null,null,null,null,null,null,null,null,null,2,null,null,null,null,":",null,null,2,null,null,null,null,null,null,{"$f":"IF(AND(ISNUMBER(BR17),ISNUMBER(BZ17)),1,0)","v":1},{"$f":"IF(OR(ISBLANK(BR17),ISBLANK(BZ17)),0,IF(BR17>BZ17,1,0))","v":0},{"$f":"IF(OR(ISBLANK(BR17),ISBLANK(BZ17)),0,IF(BR17=BZ17,1,0))","v":1},{"$f":"IF(OR(ISBLANK(BR17),ISBLANK(BZ17)),0,IF(BR17<BZ17,1,0))","v":0}]
[null,null,null,null,null,null,null,{"$f":"H17+1","v":3},null,null,null,null,{"$f":"$M$16","v":"27.1."},null,null,null,null,null,{"$f":"S16+$C$14","v":"21:12:00"},null,null,null,null,null,{"$f":"$Y$16","v":"Fernseher (links)"},null,null,null,null,null,null,null,null,null,null,{"$f":"$O$8","v":"Ratze"},null,null,null,null,null,null,null,null,null,null,null,null,null,null,":",null,null,{"$f":"$AW$8","v":"Markus"},null,null,null,null,null,null,null,null,null,null,null,null,null,null,null,2,null,null,null,null,":",null,null,0,null,null,null,null,null,null,1,1,0,0]
[null,null,null,null,null,null,null,{"$f":"H18+1","v":4},null,null,null,null,"27.1.",null,null,null,null,null,{"$f":"S17+$C$14","v":"21:12:00"},null,null,null,null,null,{"$f":"$Y$17","v":"Fernseher (rechts)"},null,null,null,null,null,null,null,null,null,null,{"$f":"$AF$8","v":"Christoph"},null,null,null,null,null,null,null,null,null,null,null,null,null,null,":",null,null,{"$f":"$BN$8","v":"Patrick"},null,null,null,null,null,null,null,null,null,null,null,null,null,null,null,2,null,null,null,null,":",null,null,1,null,null,null,null,null,null,1,1,0,0]
[null,null,null,null,null,null,null,{"$f":"H19+1","v":5},null,null,null,null,"27.1.",null,null,null,null,null,{"$f":"S18+$C$14","v":"21:24:00"},null,null,null,null,null,{"$f":"$Y$16","v":"Fernseher (links)"},null,null,null,null,null,null,null,null,null,null,{"$f":"$BN$8","v":"Patrick"},null,null,null,null,null,null,null,null,null,null,null,null,null,null,":",null,null,{"$f":"$O$8","v":"Ratze"},null,null,null,null,null,null,null,null,null,null,null,null,null,null,null,2,null,null,null,null,":",null,null,3,null,null,null,null,null,null,1,0,0,1]
[null,null,null,null,null,null,null,{"$f":"H20+1","v":6},null,null,null,null,"27.1.",null,null,null,null,null,{"$f":"S19+$C$14","v":"21:24:00"},null,null,null,null,null,{"$f":"$Y$17","v":"Fernseher (rechts)"},null,null,null,null,null,null,null,null,null,null,{"$f":"$AF$8","v":"Christoph"},null,null,null,null,null,null,null,null,null,null,null,null,null,null,":",null,null,{"$f":"$AW$8","v":"Markus"},null,null,null,null,null,null,null,null,null,null,null,null,null,null,null,0,null,null,null,null,":",null,null,2,null,null,null,null,null,null,1,0,0,1]
[]
[null,null,"Rückrunde",null,null,null,null,{"$f":"H21+1","v":7},null,null,null,null,{"$f":"$M$16","v":"27.1."},null,null,null,null,null,{"$f":"S20+$C$14","v":"21:36:00"},null,null,null,null,null,{"$f":"$Y$17","v":"Fernseher (rechts)"},null,null,null,null,null,null,null,null,null,null,{"$f":"$AF$8","v":"Christoph"},null,null,null,null,null,null,null,null,null,null,null,null,null,null,":",null,null,{"$f":"$O$8","v":"Ratze"},null,null,null,null,null,null,null,null,null,null,null,null,null,null,null,3,null,null,null,null,":",null,null,3,null,null,null,null,null,null,{"$f":"IF(AND(ISNUMBER(BR23),ISNUMBER(BZ23)),1,0)","v":1},{"$f":"IF(OR(ISBLANK(BR23),ISBLANK(BZ23)),0,IF(BR23>BZ23,1,0))","v":0},{"$f":"IF(OR(ISBLANK(BR23),ISBLANK(BZ23)),0,IF(BR23=BZ23,1,0))","v":1},{"$f":"IF(OR(ISBLANK(BR23),ISBLANK(BZ23)),0,IF(BR23<BZ23,1,0))","v":0}]
[null,null,null,null,null,null,null,{"$f":"H23+1","v":8},null,null,null,null,"27.1.",null,null,null,null,null,{"$f":"S21+$C$14","v":"21:36:00"},null,null,null,null,null,{"$f":"$Y$16","v":"Fernseher (links)"},null,null,null,null,null,null,null,null,null,null,{"$f":"$BN$8","v":"Patrick"},null,null,null,null,null,null,null,null,null,null,null,null,null,null,":",null,null,{"$f":"$AW$8","v":"Markus"},null,null,null,null,null,null,null,null,null,null,null,null,null,null,null,1,null,null,null,null,":",null,null,3,null,null,null,null,null,null,1,0,0,1]
[null,null,null,null,null,null,null,{"$f":"H24+1","v":9},null,null,null,null,"27.1.",null,null,null,null,null,{"$f":"S23+$C$14","v":"21:48:00"},null,null,null,null,null,{"$f":"$Y$17","v":"Fernseher (rechts)"},null,null,null,null,null,null,null,null,null,null,{"$f":"$AW$8","v":"Markus"},null,null,null,null,null,null,null,null,null,null,null,null,null,null,":",null,null,{"$f":"$O$8","v":"Ratze"},null,null,null,null,null,null,null,null,null,null,null,null,null,null,null,1,null,null,null,null,":",null,null,5,null,null,null,null,null,null,1,0,0,1]
[null,null,null,null,null,null,null,{"$f":"H25+1","v":10},null,null,null,null,"27.1.",null,null,null,null,null,{"$f":"S24+$C$14","v":"21:48:00"},null,null,null,null,null,{"$f":"$Y$16","v":"Fernseher (links)"},null,null,null,null,null,null,null,null,null,null,{"$f":"$BN$8","v":"Patrick"},null,null,null,null,null,null,null,null,null,null,null,null,null,null,":",null,null,{"$f":"$AF$8","v":"Christoph"},null,null,null,null,null,null,null,null,null,null,null,null,null,null,null,5,null,null,null,null,":",null,null,2,null,null,null,null,null,null,1,1,0,0]
[null,null,null,null,null,null,null,{"$f":"H26+1","v":11},null,null,null,null,"27.1.",null,null,null,null,null,{"$f":"S25+$C$14","v":"22:00:00"},null,null,null,null,null,{"$f":"$Y$17","v":"Fernseher (rechts)"},null,null,null,null,null,null,null,null,null,null,{"$f":"$O$8","v":"Ratze"},null,null,null,null,null,null,null,null,null,null,null,null,null,null,":",null,null,{"$f":"$BN$8","v":"Patrick"},null,null,null,null,null,null,null,null,null,null,null,null,null,null,null,0,null,null,null,null,":",null,null,4,null,null,null,null,null,null,1,0,0,1]
[null,null,null,null,null,null,null,{"$f":"H27+1","v":12},null,null,null,null,"27.1.",null,null,null,null,null,{"$f":"S26+$C$14","v":"22:00:00"},null,null,null,null,null,{"$f":"$Y$16","v":"Fernseher (links)"},null,null,null,null,null,null,null,null,null,null,{"$f":"$AW$8","v":"Markus"},null,null,null,null,null,null,null,null,null,null,null,null,null,null,":",null,null,{"$f":"$AF$8","v":"Christoph"},null,null,null,null,null,null,null,null,null,null,null,null,null,null,null,5,null,null,null,null,":",null,null,1,null,null,null,null,null,null,1,1,0,0]
[]
[]
[]
[]
[]
[]
[]
[]
[]
[]
[]
[]
[]
[]
[]
[]
[]
[]
[]
[]
[]
[]
[]
[]
[]
[]
[]
[]
[]
[]
[]
[]
[]
[null,null,"Tabelle (unsortiert)"]
[]
[null,null,"Rang",null,null,null,null,"Spieler",null,null,null,null,null,null,null,null,null,null,null,"Spiele",null,null,null,null,null,"Siege",null,null,null,null,null,null,null,null,null,null,"Unentschieden",null,null,null,null,null,null,null,null,null,null,"Niederlagen",null,null,null,null,null,null,null,null,null,null,"Tore",null,null,null,null,null,null,null,null,null,null,null,"+/-",null,null,null,null,"Punkte",null,null,null,"HS"]
[null,null,{"$f":"IF(T65=0,0,RANK(BX65,$BX$65:$CA$68,0))","v":1},null,null,null,null,{"$f":"$O$8","v":"Ratze"},null,null,null,null,null,null,null,null,null,null,null,{"$f":"CG16+CG18+CG20+CG23+CG25+CG27","v":6},null,null,null,null,null,{"$f":"CH16+CH18+CJ20+CJ23+CJ25+CH27","v":4},null,null,null,null,null,null,null,null,null,null,{"$f":"CI16+CI18+CI20+CI23+CI25+CI27","v":1},null,null,null,null,null,null,null,null,null,null,{"$f":"CJ16+CJ18+CH20+CH23+CH25+CJ27","v":1},null,null,null,null,null,null,null,null,null,null,{"$f":"BR16+BR18+BZ20+BZ23+BZ25+BR27","v":14},null,null,null,null,":",null,{"$f":"BZ16+BZ18+BR20+BR23+BR25+BZ27","v":10},null,null,null,null,{"$f":"BG65-BN65","v":4},null,null,null,null,{"$f":"(Z65*3)+AK65","v":13},null,null,null,{"$f":"BX65+ROW()/1000","v":13.065}]
[null,null,{"$f":"IF(T66=0,0,RANK(BX66,$BX$65:$CA$68,0))","v":4},null,null,null,null,{"$f":"$AF$8","v":"Christoph"},null,null,null,null,null,null,null,null,null,null,null,{"$f":"CG16+CG19+CG21+CG23+CG26+CG28","v":6},null,null,null,null,null,{"$f":"CJ16+CH19+CH21+CH23+CJ26+CJ28","v":1},null,null,null,null,null,null,null,null,null,null,{"$f":"CI16+CI19+CI21+CI23+CI26+CI28","v":1},null,null,null,null,null,null,null,null,null,null,{"$f":"CH16+CJ19+CJ21+CJ23+CH26+CH28","v":4},null,null,null,null,null,null,null,null,null,null,{"$f":"BZ16+BR19+BR21+BR23+BZ26+BZ28","v":8},null,null,null,null,":",null,{"$f":"BR16+BZ19+BZ21+BZ23+BR26+BR28","v":17},null,null,null,null,{"$f":"BG66-BN66","v":-9},null,null,null,null,{"$f":"(Z66*3)+AK66","v":4},null,null,null,{"$f":"BX66+ROW()/1000","v":4.0659999999999998}]
[null,null,{"$f":"IF(T67=0,0,RANK(BX67,$BX$65:$CA$68,0))","v":2},null,null,null,null,{"$f":"$AW$8","v":"Markus"},null,null,null,null,null,null,null,null,null,null,null,{"$f":"CG17+CG18+CG21+CG24+CG25+CG28","v":6},null,null,null,null,null,{"$f":"CH17+CJ18+CJ21+CJ24+CH25+CH28","v":3},null,null,null,null,null,null,null,null,null,null,{"$f":"CI17+CI18+CI21+CI24+CI25+CI28","v":1},null,null,null,null,null,null,null,null,null,null,{"$f":"CJ17+CH18+CH21+CH24+CJ25+CJ28","v":2},null,null,null,null,null,null,null,null,null,null,{"$f":"BR17+BZ18+BZ21+BZ24+BR25+BR28","v":13},null,null,null,null,":",null,{"$f":"BZ17+BR18+BR21+BR24+BZ25+BZ28","v":11},null,null,null,null,{"$f":"BG67-BN67","v":2},null,null,null,null,{"$f":"(Z67*3)+AK67","v":10},null,null,null,{"$f":"BX67+ROW()/1000","v":10.067}]
[null,null,{"$f":"IF(T68=0,0,RANK(BX68,$BX$65:$CA$68,0))","v":3},null,null,null,null,{"$f":"$BN$8","v":"Patrick"},null,null,null,null,null,null,null,null,null,null,null,{"$f":"CG17+CG19+CG20+CG24+CG26+CG27","v":6},null,null,null,null,null,{"$f":"CJ17+CJ19+CH20+CH24+CH26+CJ27","v":2},null,null,null,null,null,null,null,null,null,null,{"$f":"CI17+CI19+CI20+CI24+CI26+CI27","v":1},null,null,null,null,null,null,null,null,null,null,{"$f":"CH17+CH19+CJ20+CJ24+CJ26+CH27","v":3},null,null,null,null,null,null,null,null,null,null,{"$f":"BZ17+BZ19+BR20+BR24+BR26+BZ27","v":15},null,null,null,null,":",null,{"$f":"BR17+BR19+BZ20+BZ24+BZ26+BR27","v":12},null,null,null,null,{"$f":"BG68-BN68","v":3},null,null,null,null,{"$f":"(Z68*3)+AK68","v":7},null,null,null,{"$f":"BX68+ROW()/1000","v":7.0679999999999996}]
[null,null,null,null,null,null,null,"Spieler 5",null,null,null,null,null,null,null,null,null,null,null,0,null,null,null,null,null,0,null,null,null,null,null,null,null,null,null,null,0,null,null,null,null,null,null,null,null,null,null,0,null,null,null,null,null,null,null,null,null,null,0,null,null,null,null,":",null,0,null,null,null,null,0,null,null,null,null,0,null,null,null,0]
[null,null,null,null,null,null,null,"Spieler 6",null,null,null,null,null,null,null,null,null,null,null,0,null,null,null,null,null,0,null,null,null,null,null,null,null,null,null,null,0,null,null,null,null,null,null,null,null,null,null,0,null,null,null,null,null,null,null,null,null,null,0,null,null,null,null,":",null,0,null,null,null,null,0,null,null,null,null,0,null,null,null,0]
[null,null,null,null,null,null,null,"Spieler 7",null,null,null,null,null,null,null,null,null,null,null,0,null,null,null,null,null,0,null,null,null,null,null,null,null,null,null,null,0,null,null,null,null,null,null,null,null,null,null,0,null,null,null,null,null,null,null,null,null,null,0,null,null,null,null,":",null,0,null,null,null,null,0,null,null,null,null,0,null,null,null,0]
[]
[]
[]
[null,null,"Tabelle"]
[]
[null,null,"Rang",null,null,null,null,"Spieler",null,null,null,null,null,null,null,null,null,null,null,"Spiele",null,null,null,null,null,"Siege",null,null,null,null,null,null,null,null,null,null,"Unentschieden",null,null,null,null,null,null,null,null,null,null,"Niederlagen",null,null,null,null,null,null,null,null,null,null,"Tore",null,null,null,null,null,null,null,null,null,null,null,"+/-",null,null,null,null,"Punkte"]
[null,null,{"$f":"INDEX($C$65:$C$68,MATCH(LARGE($CB$65:$CB$68,ROW(A1)),$CB$65:$CB$68,0),1)","v":1},null,null,1,null,{"$f":"INDEX($H$65:$H$68,MATCH(LARGE($CB$65:$CB$68,ROW(A1)),$CB$65:$CB$68,0),1)","v":"Ratze"},null,null,null,null,null,null,null,null,null,null,null,{"$f":"INDEX($T$65:$T$68,MATCH(LARGE($CB$65:$CB$68,ROW(A1)),$CB$65:$CB$68,0),1)","v":6},null,null,null,null,null,{"$f":"INDEX($Z$65:$Z$68,MATCH(LARGE($CB$65:$CB$68,ROW(A1)),$CB$65:$CB$68,0),1)","v":4},null,null,null,null,null,null,null,null,null,null,{"$f":"INDEX($AK$65:$AK$68,MATCH(LARGE($CB$65:$CB$68,ROW(A1)),$CB$65:$CB$68,0),1)","v":1},null,null,null,null,null,null,null,null,null,null,{"$f":"INDEX($AV$65:$AV$68,MATCH(LARGE($CB$65:$CB$68,ROW(A1)),$CB$65:$CB$68,0),1)","v":1},null,null,null,null,null,null,null,null,null,null,{"$f":"INDEX($BG$65:$BG$68,MATCH(LARGE($CB$65:$CB$68,ROW(A1)),$CB$65:$CB$68,0),1)","v":14},null,null,null,null,":",null,{"$f":"INDEX($BN$65:$BN$68,MATCH(LARGE($CB$65:$CB$68,ROW(A1)),$CB$65:$CB$68,0),1)","v":10},null,null,null,null,{"$f":"INDEX($BS$65:$BS$68,MATCH(LARGE($CB$65:$CB$68,ROW(A1)),$CB$65:$CB$68,0),1)","v":4},null,null,null,null,{"$f":"INDEX($BX$65:$BX$68,MATCH(LARGE($CB$65:$CB$68,ROW(A1)),$CB$65:$CB$68,0),1)","v":13}]
[null,null,{"$f":"INDEX($C$65:$C$68,MATCH(LARGE($CB$65:$CB$68,ROW(A2)),$CB$65:$CB$68,0),1)","v":2},null,null,2,null,{"$f":"INDEX($H$65:$H$68,MATCH(LARGE($CB$65:$CB$68,ROW(A2)),$CB$65:$CB$68,0),1)","v":"Markus"},null,null,null,null,null,null,null,null,null,null,null,{"$f":"INDEX($T$65:$T$68,MATCH(LARGE($CB$65:$CB$68,ROW(A2)),$CB$65:$CB$68,0),1)","v":6},null,null,null,null,null,{"$f":"INDEX($Z$65:$Z$68,MATCH(LARGE($CB$65:$CB$68,ROW(A2)),$CB$65:$CB$68,0),1)","v":3},null,null,null,null,null,null,null,null,null,null,{"$f":"INDEX($AK$65:$AK$68,MATCH(LARGE($CB$65:$CB$68,ROW(A2)),$CB$65:$CB$68,0),1)","v":1},null,null,null,null,null,null,null,null,null,null,{"$f":"INDEX($AV$65:$AV$68,MATCH(LARGE($CB$65:$CB$68,ROW(A2)),$CB$65:$CB$68,0),1)","v":2},null,null,null,null,null,null,null,null,null,null,{"$f":"INDEX($BG$65:$BG$68,MATCH(LARGE($CB$65:$CB$68,ROW(A2)),$CB$65:$CB$68,0),1)","v":13},null,null,null,null,":",null,{"$f":"INDEX($BN$65:$BN$68,MATCH(LARGE($CB$65:$CB$68,ROW(A2)),$CB$65:$CB$68,0),1)","v":11},null,null,null,null,{"$f":"INDEX($BS$65:$BS$68,MATCH(LARGE($CB$65:$CB$68,ROW(A2)),$CB$65:$CB$68,0),1)","v":2},null,null,null,null,{"$f":"INDEX($BX$65:$BX$68,MATCH(LARGE($CB$65:$CB$68,ROW(A2)),$CB$65:$CB$68,0),1)","v":10}]
[null,null,{"$f":"INDEX($C$65:$C$68,MATCH(LARGE($CB$65:$CB$68,ROW(A3)),$CB$65:$CB$68,0),1)","v":3},null,null,3,null,{"$f":"INDEX($H$65:$H$68,MATCH(LARGE($CB$65:$CB$68,ROW(A3)),$CB$65:$CB$68,0),1)","v":"Patrick"},null,null,null,null,null,null,null,null,null,null,null,{"$f":"INDEX($T$65:$T$68,MATCH(LARGE($CB$65:$CB$68,ROW(A3)),$CB$65:$CB$68,0),1)","v":6},null,null,null,null,null,{"$f":"INDEX($Z$65:$Z$68,MATCH(LARGE($CB$65:$CB$68,ROW(A3)),$CB$65:$CB$68,0),1)","v":2},null,null,null,null,null,null,null,null,null,null,{"$f":"INDEX($AK$65:$AK$68,MATCH(LARGE($CB$65:$CB$68,ROW(A3)),$CB$65:$CB$68,0),1)","v":1},null,null,null,null,null,null,null,null,null,null,{"$f":"INDEX($AV$65:$AV$68,MATCH(LARGE($CB$65:$CB$68,ROW(A3)),$CB$65:$CB$68,0),1)","v":3},null,null,null,null,null,null,null,null,null,null,{"$f":"INDEX($BG$65:$BG$68,MATCH(LARGE($CB$65:$CB$68,ROW(A3)),$CB$65:$CB$68,0),1)","v":15},null,null,null,null,":",null,{"$f":"INDEX($BN$65:$BN$68,MATCH(LARGE($CB$65:$CB$68,ROW(A3)),$CB$65:$CB$68,0),1)","v":12},null,null,null,null,{"$f":"INDEX($BS$65:$BS$68,MATCH(LARGE($CB$65:$CB$68,ROW(A3)),$CB$65:$CB$68,0),1)","v":3},null,null,null,null,{"$f":"INDEX($BX$65:$BX$68,MATCH(LARGE($CB$65:$CB$68,ROW(A3)),$CB$65:$CB$68,0),1)","v":7}]
[null,null,{"$f":"INDEX($C$65:$C$68,MATCH(LARGE($CB$65:$CB$68,ROW(A4)),$CB$65:$CB$68,0),1)","v":4},null,null,4,null,{"$f":"INDEX($H$65:$H$68,MATCH(LARGE($CB$65:$CB$68,ROW(A4)),$CB$65:$CB$68,0),1)","v":"Christoph"},null,null,null,null,null,null,null,null,null,null,null,{"$f":"INDEX($T$65:$T$68,MATCH(LARGE($CB$65:$CB$68,ROW(A4)),$CB$65:$CB$68,0),1)","v":6},null,null,null,null,null,{"$f":"INDEX($Z$65:$Z$68,MATCH(LARGE($CB$65:$CB$68,ROW(A4)),$CB$65:$CB$68,0),1)","v":1},null,null,null,null,null,null,null,null,null,null,{"$f":"INDEX($AK$65:$AK$68,MATCH(LARGE($CB$65:$CB$68,ROW(A4)),$CB$65:$CB$68,0),1)","v":1},null,null,null,null,null,null,null,null,null,null,{"$f":"INDEX($AV$65:$AV$68,MATCH(LARGE($CB$65:$CB$68,ROW(A4)),$CB$65:$CB$68,0),1)","v":4},null,null,null,null,null,null,null,null,null,null,{"$f":"INDEX($BG$65:$BG$68,MATCH(LARGE($CB$65:$CB$68,ROW(A4)),$CB$65:$CB$68,0),1)","v":8},null,null,null,null,":",null,{"$f":"INDEX($BN$65:$BN$68,MATCH(LARGE($CB$65:$CB$68,ROW(A4)),$CB$65:$CB$68,0),1)","v":17},null,null,null,null,{"$f":"INDEX($BS$65:$BS$68,MATCH(LARGE($CB$65:$CB$68,ROW(A4)),$CB$65:$CB$68,0),1)","v":-9},null,null,null,null,{"$f":"INDEX($BX$65:$BX$68,MATCH(LARGE($CB$65:$CB$68,ROW(A4)),$CB$65:$CB$68,0),1)","v":4}]
[null,null,"---",null,null,"---",null,"Spieler 5",null,null,null,null,null,null,null,null,null,null,null,0,null,null,null,null,null,0,null,null,null,null,null,null,null,null,null,null,0,null,null,null,null,null,null,null,null,null,null,0,null,null,null,null,null,null,null,null,null,null,0,null,null,null,null,":",null,0,null,null,null,null,0,null,null,null,null,0]
[null,null,"---",null,null,"---",null,"Spieler 6",null,null,null,null,null,null,null,null,null,null,null,0,null,null,null,null,null,0,null,null,null,null,null,null,null,null,null,null,0,null,null,null,null,null,null,null,null,null,null,0,null,null,null,null,null,null,null,null,null,null,0,null,null,null,null,":",null,0,null,null,null,null,0,null,null,null,null,0]
[null,null,"---",null,null,"---",null,"Spieler 7",null,null,null,null,null,null,null,null,null,null,null,0,null,null,null,null,null,0,null,null,null,null,null,null,null,null,null,null,0,null,null,null,null,null,null,null,null,null,null,0,null,null,null,null,null,null,null,null,null,null,0,null,null,null,null,":",null,0,null,null,null,null,0,null,null,null,null,0]
[]
[]
[]
[null,null,"Tabelle (nach Alphabet)"]
[]
[null,null,"Rang",null,null,null,null,"Spieler",null,null,null,null,null,null,null,null,null,null,null,"Spiele",null,null,null,null,null,"Siege",null,null,null,null,null,null,null,null,null,null,"Unentschieden",null,null,null,null,null,null,null,null,null,null,"Niederlagen",null,null,null,null,null,null,null,null,null,null,"Tore",null,null,null,null,null,null,null,null,null,null,null,"+/-",null,null,null,null,"Punkte"]
[null,null,{"$f":"IF($H$78=\"Basti\",$F$78,IF($H$79=\"Basti\",$F$79,IF($H$80=\"Basti\",$F$80,IF($H$81=\"Basti\",$F$81,IF($H$82=\"Basti\",$F$82,IF($H$83=\"Basti\",$F$83,IF($H$84=\"Basti\",$F$84,0)))))))","v":0},null,null,null,null,"Basti",null,null,null,null,null,null,null,null,null,null,null,{"$f":"IF($H$78=\"Basti\",$T$78,IF($H$79=\"Basti\",$T$79,IF($H$80=\"Basti\",$T$80,IF($H$81=\"Basti\",$T$81,IF($H$82=\"Basti\",$T$82,IF($H$83=\"Basti\",$T$83,IF($H$84=\"Basti\",$T$84,0)))))))","v":0},null,null,null,null,null,{"$f":"IF($H$78=\"Basti\",$Z$78,IF($H$79=\"Basti\",$Z$79,IF($H$80=\"Basti\",$Z$80,IF($H$81=\"Basti\",$Z$81,IF($H$82=\"Basti\",$Z$82,IF($H$83=\"Basti\",$Z$83,IF($H$84=\"Basti\",$Z$84,0)))))))","v":0},null,null,null,null,null,null,null,null,null,null,{"$f":"IF($H$78=\"Basti\",$AK$78,IF($H$79=\"Basti\",$AK$79,IF($H$80=\"Basti\",$AK$80,IF($H$81=\"Basti\",$AK$81,IF($H$82=\"Basti\",$AK$82,IF($H$83=\"Basti\",$AK$83,IF($H$84=\"Basti\",$AK$84,0)))))))","v":0},null,null,null,null,null,null,null,null,null,null,{"$f":"IF($H$78=\"Basti\",$AV$78,IF($H$79=\"Basti\",$AV$79,IF($H$80=\"Basti\",$AV$80,IF($H$81=\"Basti\",$AV$81,IF($H$82=\"Basti\",$AV$82,IF($H$83=\"Basti\",$AV$83,IF($H$84=\"Basti\",$AV$84,0)))))))","v":0},null,null,null,null,null,null,null,null,null,null,{"$f":"IF($H$78=\"Basti\",$BG$78,IF($H$79=\"Basti\",$BG$79,IF($H$80=\"Basti\",$BG$80,IF($H$81=\"Basti\",$BG$81,IF($H$82=\"Basti\",$BG$82,IF($H$83=\"Basti\",$BG$83,IF($H$84=\"Basti\",$BG$84,0)))))))","v":0},null,null,null,null,":",null,{"$f":"IF($H$78=\"Basti\",$BN$78,IF($H$79=\"Basti\",$BN$79,IF($H$80=\"Basti\",$BN$80,IF($H$81=\"Basti\",$BN$81,IF($H$82=\"Basti\",$BN$82,IF($H$83=\"Basti\",$BN$83,IF($H$84=\"Basti\",$BN$84,0)))))))","v":0},null,null,null,null,{"$f":"IF($H$78=\"Basti\",$BS$78,IF($H$79=\"Basti\",$BS$79,IF($H$80=\"Basti\",$BS$80,IF($H$81=\"Basti\",$BS$81,IF($H$82=\"Basti\",$BS$82,IF($H$83=\"Basti\",$BS$83,IF($H$84=\"Basti\",$BS$84,0)))))))","v":0},null,null,null,null,{"$f":"IF($H$78=\"Basti\",$BX$78,IF($H$79=\"Basti\",$BX$79,IF($H$80=\"Basti\",$BX$80,IF($H$81=\"Basti\",$BX$81,IF($H$82=\"Basti\",$BX$82,IF($H$83=\"Basti\",$BX$83,IF($H$84=\"Basti\",$BX$84,0)))))))","v":0}]
[null,null,{"$f":"IF($H$78=\"Christoph\",$F$78,IF($H$79=\"Christoph\",$F$79,IF($H$80=\"Christoph\",$F$80,IF($H$81=\"Christoph\",$F$81,IF($H$82=\"Christoph\",$F$82,IF($H$83=\"Christoph\",$F$83,IF($H$84=\"Christoph\",$F$84,0)))))))","v":4},null,null,null,null,"Christoph",null,null,null,null,null,null,null,null,null,null,null,{"$f":"IF($H$78=\"Christoph\",$T$78,IF($H$79=\"Christoph\",$T$79,IF($H$80=\"Christoph\",$T$80,IF($H$81=\"Christoph\",$T$81,IF($H$82=\"Christoph\",$T$82,IF($H$83=\"Christoph\",$T$83,IF($H$84=\"Christoph\",$T$84,0)))))))","v":6},null,null,null,null,null,{"$f":"IF($H$78=\"Christoph\",$Z$78,IF($H$79=\"Christoph\",$Z$79,IF($H$80=\"Christoph\",$Z$80,IF($H$81=\"Christoph\",$Z$81,IF($H$82=\"Christoph\",$Z$82,IF($H$83=\"Christoph\",$Z$83,IF($H$84=\"Christoph\",$Z$84,0)))))))","v":1},null,null,null,null,null,null,null,null,null,null,{"$f":"IF($H$78=\"Christoph\",$AK$78,IF($H$79=\"Christoph\",$AK$79,IF($H$80=\"Christoph\",$AK$80,IF($H$81=\"Christoph\",$AK$81,IF($H$82=\"Christoph\",$AK$82,IF($H$83=\"Christoph\",$AK$83,IF($H$84=\"Christoph\",$AK$84,0)))))))","v":1},null,null,null,null,null,null,null,null,null,null,{"$f":"IF($H$78=\"Christoph\",$AV$78,IF($H$79=\"Christoph\",$AV$79,IF($H$80=\"Christoph\",$AV$80,IF($H$81=\"Christoph\",$AV$81,IF($H$82=\"Christoph\",$AV$82,IF($H$83=\"Christoph\",$AV$83,IF($H$84=\"Christoph\",$AV$84,0)))))))","v":4},null,null,null,null,null,null,null,null,null,null,{"$f":"IF($H$78=\"Christoph\",$BG$78,IF($H$79=\"Christoph\",$BG$79,IF($H$80=\"Christoph\",$BG$80,IF($H$81=\"Christoph\",$BG$81,IF($H$82=\"Christoph\",$BG$82,IF($H$83=\"Christoph\",$BG$83,IF($H$84=\"Christoph\",$BG$84,0)))))))","v":8},null,null,null,null,":",null,{"$f":"IF($H$78=\"Christoph\",$BN$78,IF($H$79=\"Christoph\",$BN$79,IF($H$80=\"Christoph\",$BN$80,IF($H$81=\"Christoph\",$BN$81,IF($H$82=\"Christoph\",$BN$82,IF($H$83=\"Christoph\",$BN$83,IF($H$84=\"Christoph\",$BN$84,0)))))))","v":17},null,null,null,null,{"$f":"IF($H$78=\"Christoph\",$BS$78,IF($H$79=\"Christoph\",$BS$79,IF($H$80=\"Christoph\",$BS$80,IF($H$81=\"Christoph\",$BS$81,IF($H$82=\"Christoph\",$BS$82,IF($H$83=\"Christoph\",$BS$83,IF($H$84=\"Christoph\",$BS$84,0)))))))","v":-9},null,null,null,null,{"$f":"IF($H$78=\"Christoph\",$BX$78,IF($H$79=\"Christoph\",$BX$79,IF($H$80=\"Christoph\",$BX$80,IF($H$81=\"Christoph\",$BX$81,IF($H$82=\"Christoph\",$BX$82,IF($H$83=\"Christoph\",$BX$83,IF($H$84=\"Christoph\",$BX$84,0)))))))","v":4}]
[null,null,{"$f":"IF($H$78=\"Jule\",$F$78,IF($H$79=\"Jule\",$F$79,IF($H$80=\"Jule\",$F$80,IF($H$81=\"Jule\",$F$81,IF($H$82=\"Jule\",$F$82,IF($H$83=\"Jule\",$F$83,IF($H$84=\"Jule\",$F$84,0)))))))","v":0},null,null,null,null,"Jule",null,null,null,null,null,null,null,null,null,null,null,{"$f":"IF($H$78=\"Jule\",$T$78,IF($H$79=\"Jule\",$T$79,IF($H$80=\"Jule\",$T$80,IF($H$81=\"Jule\",$T$81,IF($H$82=\"Jule\",$T$82,IF($H$83=\"Jule\",$T$83,IF($H$84=\"Jule\",$T$84,0)))))))","v":0},null,null,null,null,null,{"$f":"IF($H$78=\"Jule\",$Z$78,IF($H$79=\"Jule\",$Z$79,IF($H$80=\"Jule\",$Z$80,IF($H$81=\"Jule\",$Z$81,IF($H$82=\"Jule\",$Z$82,IF($H$83=\"Jule\",$Z$83,IF($H$84=\"Jule\",$Z$84,0)))))))","v":0},null,null,null,null,null,null,null,null,null,null,{"$f":"IF($H$78=\"Jule\",$AK$78,IF($H$79=\"Jule\",$AK$79,IF($H$80=\"Jule\",$AK$80,IF($H$81=\"Jule\",$AK$81,IF($H$82=\"Jule\",$AK$82,IF($H$83=\"Jule\",$AK$83,IF($H$84=\"Jule\",$AK$84,0)))))))","v":0},null,null,null,null,null,null,null,null,null,null,{"$f":"IF($H$78=\"Jule\",$AV$78,IF($H$79=\"Jule\",$AV$79,IF($H$80=\"Jule\",$AV$80,IF($H$81=\"Jule\",$AV$81,IF($H$82=\"Jule\",$AV$82,IF($H$83=\"Jule\",$AV$83,IF($H$84=\"Jule\",$AV$84,0)))))))","v":0},null,null,null,null,null,null,null,null,null,null,{"$f":"IF($H$78=\"Jule\",$BG$78,IF($H$79=\"Jule\",$BG$79,IF($H$80=\"Jule\",$BG$80,IF($H$81=\"Jule\",$BG$81,IF($H$82=\"Jule\",$BG$82,IF($H$83=\"Jule\",$BG$83,IF($H$84=\"Jule\",$BG$84,0)))))))","v":0},null,null,null,null,":",null,{"$f":"IF($H$78=\"Jule\",$BN$78,IF($H$79=\"Jule\",$BN$79,IF($H$80=\"Jule\",$BN$80,IF($H$81=\"Jule\",$BN$81,IF($H$82=\"Jule\",$BN$82,IF($H$83=\"Jule\",$BN$83,IF($H$84=\"Jule\",$BN$84,0)))))))","v":0},null,null,null,null,{"$f":"IF($H$78=\"Jule\",$BS$78,IF($H$79=\"Jule\",$BS$79,IF($H$80=\"Jule\",$BS$80,IF($H$81=\"Jule\",$BS$81,IF($H$82=\"Jule\",$BS$82,IF($H$83=\"Jule\",$BS$83,IF($H$84=\"Jule\",$BS$84,0)))))))","v":0},null,null,null,null,{"$f":"IF($H$78=\"Jule\",$BX$78,IF($H$79=\"Jule\",$BX$79,IF($H$80=\"Jule\",$BX$80,IF($H$81=\"Jule\",$BX$81,IF($H$82=\"Jule\",$BX$82,IF($H$83=\"Jule\",$BX$83,IF($H$84=\"Jule\",$BX$84,0)))))))","v":0}]
[null,null,{"$f":"IF($H$78=\"Markus\",$F$78,IF($H$79=\"Markus\",$F$79,IF($H$80=\"Markus\",$F$80,IF($H$81=\"Markus\",$F$81,IF($H$82=\"Markus\",$F$82,IF($H$83=\"Markus\",$F$83,IF($H$84=\"Markus\",$F$84,0)))))))","v":2},null,null,null,null,"Markus",null,null,null,null,null,null,null,null,null,null,null,{"$f":"IF($H$78=\"Markus\",$T$78,IF($H$79=\"Markus\",$T$79,IF($H$80=\"Markus\",$T$80,IF($H$81=\"Markus\",$T$81,IF($H$82=\"Markus\",$T$82,IF($H$83=\"Markus\",$T$83,IF($H$84=\"Markus\",$T$84,0)))))))","v":6},null,null,null,null,null,{"$f":"IF($H$78=\"Markus\",$Z$78,IF($H$79=\"Markus\",$Z$79,IF($H$80=\"Markus\",$Z$80,IF($H$81=\"Markus\",$Z$81,IF($H$82=\"Markus\",$Z$82,IF($H$83=\"Markus\",$Z$83,IF($H$84=\"Markus\",$Z$84,0)))))))","v":3},null,null,null,null,null,null,null,null,null,null,{"$f":"IF($H$78=\"Markus\",$AK$78,IF($H$79=\"Markus\",$AK$79,IF($H$80=\"Markus\",$AK$80,IF($H$81=\"Markus\",$AK$81,IF($H$82=\"Markus\",$AK$82,IF($H$83=\"Markus\",$AK$83,IF($H$84=\"Markus\",$AK$84,0)))))))","v":1},null,null,null,null,null,null,null,null,null,null,{"$f":"IF($H$78=\"Markus\",$AV$78,IF($H$79=\"Markus\",$AV$79,IF($H$80=\"Markus\",$AV$80,IF($H$81=\"Markus\",$AV$81,IF($H$82=\"Markus\",$AV$82,IF($H$83=\"Markus\",$AV$83,IF($H$84=\"Markus\",$AV$84,0)))))))","v":2},null,null,null,null,null,null,null,null,null,null,{"$f":"IF($H$78=\"Markus\",$BG$78,IF($H$79=\"Markus\",$BG$79,IF($H$80=\"Markus\",$BG$80,IF($H$81=\"Markus\",$BG$81,IF($H$82=\"Markus\",$BG$82,IF($H$83=\"Markus\",$BG$83,IF($H$84=\"Markus\",$BG$84,0)))))))","v":13},null,null,null,null,":",null,{"$f":"IF($H$78=\"Markus\",$BN$78,IF($H$79=\"Markus\",$BN$79,IF($H$80=\"Markus\",$BN$80,IF($H$81=\"Markus\",$BN$81,IF($H$82=\"Markus\",$BN$82,IF($H$83=\"Markus\",$BN$83,IF($H$84=\"Markus\",$BN$84,0)))))))","v":11},null,null,null,null,{"$f":"IF($H$78=\"Markus\",$BS$78,IF($H$79=\"Markus\",$BS$79,IF($H$80=\"Markus\",$BS$80,IF($H$81=\"Markus\",$BS$81,IF($H$82=\"Markus\",$BS$82,IF($H$83=\"Markus\",$BS$83,IF($H$84=\"Markus\",$BS$84,0)))))))","v":2},null,null,null,null,{"$f":"IF($H$78=\"Markus\",$BX$78,IF($H$79=\"Markus\",$BX$79,IF($H$80=\"Markus\",$BX$80,IF($H$81=\"Markus\",$BX$81,IF($H$82=\"Markus\",$BX$82,IF($H$83=\"Markus\",$BX$83,IF($H$84=\"Markus\",$BX$84,0)))))))","v":10}]
[null,null,{"$f":"IF($H$78=\"Patrick\",$F$78,IF($H$79=\"Patrick\",$F$79,IF($H$80=\"Patrick\",$F$80,IF($H$81=\"Patrick\",$F$81,IF($H$82=\"Patrick\",$F$82,IF($H$83=\"Patrick\",$F$83,IF($H$84=\"Patrick\",$F$84,0)))))))","v":3},null,null,null,null,"Patrick",null,null,null,null,null,null,null,null,null,null,null,{"$f":"IF($H$78=\"Patrick\",$T$78,IF($H$79=\"Patrick\",$T$79,IF($H$80=\"Patrick\",$T$80,IF($H$81=\"Patrick\",$T$81,IF($H$82=\"Patrick\",$T$82,IF($H$83=\"Patrick\",$T$83,IF($H$84=\"Patrick\",$T$84,0)))))))","v":6},null,null,null,null,null,{"$f":"IF($H$78=\"Patrick\",$Z$78,IF($H$79=\"Patrick\",$Z$79,IF($H$80=\"Patrick\",$Z$80,IF($H$81=\"Patrick\",$Z$81,IF($H$82=\"Patrick\",$Z$82,IF($H$83=\"Patrick\",$Z$83,IF($H$84=\"Patrick\",$Z$84,0)))))))","v":2},null,null,null,null,null,null,null,null,null,null,{"$f":"IF($H$78=\"Patrick\",$AK$78,IF($H$79=\"Patrick\",$AK$79,IF($H$80=\"Patrick\",$AK$80,IF($H$81=\"Patrick\",$AK$81,IF($H$82=\"Patrick\",$AK$82,IF($H$83=\"Patrick\",$AK$83,IF($H$84=\"Patrick\",$AK$84,0)))))))","v":1},null,null,null,null,null,null,null,null,null,null,{"$f":"IF($H$78=\"Patrick\",$AV$78,IF($H$79=\"Patrick\",$AV$79,IF($H$80=\"Patrick\",$AV$80,IF($H$81=\"Patrick\",$AV$81,IF($H$82=\"Patrick\",$AV$82,IF($H$83=\"Patrick\",$AV$83,IF($H$84=\"Patrick\",$AV$84,0)))))))","v":3},null,null,null,null,null,null,null,null,null,null,{"$f":"IF($H$78=\"Patrick\",$BG$78,IF($H$79=\"Patrick\",$BG$79,IF($H$80=\"Patrick\",$BG$80,IF($H$81=\"Patrick\",$BG$81,IF($H$82=\"Patrick\",$BG$82,IF($H$83=\"Patrick\",$BG$83,IF($H$84=\"Patrick\",$BG$84,0)))))))","v":15},null,null,null,null,":",null,{"$f":"IF($H$78=\"Patrick\",$BN$78,IF($H$79=\"Patrick\",$BN$79,IF($H$80=\"Patrick\",$BN$80,IF($H$81=\"Patrick\",$BN$81,IF($H$82=\"Patrick\",$BN$82,IF($H$83=\"Patrick\",$BN$83,IF($H$84=\"Patrick\",$BN$84,0)))))))","v":12},null,null,null,null,{"$f":"IF($H$78=\"Patrick\",$BS$78,IF($H$79=\"Patrick\",$BS$79,IF($H$80=\"Patrick\",$BS$80,IF($H$81=\"Patrick\",$BS$81,IF($H$82=\"Patrick\",$BS$82,IF($H$83=\"Patrick\",$BS$83,IF($H$84=\"Patrick\",$BS$84,0)))))))","v":3},null,null,null,null,{"$f":"IF($H$78=\"Patrick\",$BX$78,IF($H$79=\"Patrick\",$BX$79,IF($H$80=\"Patrick\",$BX$80,IF($H$81=\"Patrick\",$BX$81,IF($H$82=\"Patrick\",$BX$82,IF($H$83=\"Patrick\",$BX$83,IF($H$84=\"Patrick\",$BX$84,0)))))))","v":7}]
[null,null,{"$f":"IF($H$78=\"Ratze\",$F$78,IF($H$79=\"Ratze\",$F$79,IF($H$80=\"Ratze\",$F$80,IF($H$81=\"Ratze\",$F$81,IF($H$82=\"Ratze\",$F$82,IF($H$83=\"Ratze\",$F$83,IF($H$84=\"Ratze\",$F$84,0)))))))","v":1},null,null,null,null,"Ratze",null,null,null,null,null,null,null,null,null,null,null,{"$f":"IF($H$78=\"Ratze\",$T$78,IF($H$79=\"Ratze\",$T$79,IF($H$80=\"Ratze\",$T$80,IF($H$81=\"Ratze\",$T$81,IF($H$82=\"Ratze\",$T$82,IF($H$83=\"Ratze\",$T$83,IF($H$84=\"Ratze\",$T$84,0)))))))","v":6},null,null,null,null,null,{"$f":"IF($H$78=\"Ratze\",$Z$78,IF($H$79=\"Ratze\",$Z$79,IF($H$80=\"Ratze\",$Z$80,IF($H$81=\"Ratze\",$Z$81,IF($H$82=\"Ratze\",$Z$82,IF($H$83=\"Ratze\",$Z$83,IF($H$84=\"Ratze\",$Z$84,0)))))))","v":4},null,null,null,null,null,null,null,null,null,null,{"$f":"IF($H$78=\"Ratze\",$AK$78,IF($H$79=\"Ratze\",$AK$79,IF($H$80=\"Ratze\",$AK$80,IF($H$81=\"Ratze\",$AK$81,IF($H$82=\"Ratze\",$AK$82,IF($H$83=\"Ratze\",$AK$83,IF($H$84=\"Ratze\",$AK$84,0)))))))","v":1},null,null,null,null,null,null,null,null,null,null,{"$f":"IF($H$78=\"Ratze\",$AV$78,IF($H$79=\"Ratze\",$AV$79,IF($H$80=\"Ratze\",$AV$80,IF($H$81=\"Ratze\",$AV$81,IF($H$82=\"Ratze\",$AV$82,IF($H$83=\"Ratze\",$AV$83,IF($H$84=\"Ratze\",$AV$84,0)))))))","v":1},null,null,null,null,null,null,null,null,null,null,{"$f":"IF($H$78=\"Ratze\",$BG$78,IF($H$79=\"Ratze\",$BG$79,IF($H$80=\"Ratze\",$BG$80,IF($H$81=\"Ratze\",$BG$81,IF($H$82=\"Ratze\",$BG$82,IF($H$83=\"Ratze\",$BG$83,IF($H$84=\"Ratze\",$BG$84,0)))))))","v":14},null,null,null,null,":",null,{"$f":"IF($H$78=\"Ratze\",$BN$78,IF($H$79=\"Ratze\",$BN$79,IF($H$80=\"Ratze\",$BN$80,IF($H$81=\"Ratze\",$BN$81,IF($H$82=\"Ratze\",$BN$82,IF($H$83=\"Ratze\",$BN$83,IF($H$84=\"Ratze\",$BN$84,0)))))))","v":10},null,null,null,null,{"$f":"IF($H$78=\"Ratze\",$BS$78,IF($H$79=\"Ratze\",$BS$79,IF($H$80=\"Ratze\",$BS$80,IF($H$81=\"Ratze\",$BS$81,IF($H$82=\"Ratze\",$BS$82,IF($H$83=\"Ratze\",$BS$83,IF($H$84=\"Ratze\",$BS$84,0)))))))","v":4},null,null,null,null,{"$f":"IF($H$78=\"Ratze\",$BX$78,IF($H$79=\"Ratze\",$BX$79,IF($H$80=\"Ratze\",$BX$80,IF($H$81=\"Ratze\",$BX$81,IF($H$82=\"Ratze\",$BX$82,IF($H$83=\"Ratze\",$BX$83,IF($H$84=\"Ratze\",$BX$84,0)))))))","v":13}]
[null,null,{"$f":"IF($H$78=\"Schmiddi\",$F$78,IF($H$79=\"Schmiddi\",$F$79,IF($H$80=\"Schmiddi\",$F$80,IF($H$81=\"Schmiddi\",$F$81,IF($H$82=\"Schmiddi\",$F$82,IF($H$83=\"Schmiddi\",$F$83,IF($H$84=\"Schmiddi\",$F$84,0)))))))","v":0},null,null,null,null,"Schmiddi",null,null,null,null,null,null,null,null,null,null,null,{"$f":"IF($H$78=\"Schmiddi\",$T$78,IF($H$79=\"Schmiddi\",$T$79,IF($H$80=\"Schmiddi\",$T$80,IF($H$81=\"Schmiddi\",$T$81,IF($H$82=\"Schmiddi\",$T$82,IF($H$83=\"Schmiddi\",$T$83,IF($H$84=\"Schmiddi\",$T$84,0)))))))","v":0},null,null,null,null,null,{"$f":"IF($H$78=\"Schmiddi\",$Z$78,IF($H$79=\"Schmiddi\",$Z$79,IF($H$80=\"Schmiddi\",$Z$80,IF($H$81=\"Schmiddi\",$Z$81,IF($H$82=\"Schmiddi\",$Z$82,IF($H$83=\"Schmiddi\",$Z$83,IF($H$84=\"Schmiddi\",$Z$84,0)))))))","v":0},null,null,null,null,null,null,null,null,null,null,{"$f":"IF($H$78=\"Schmiddi\",$AK$78,IF($H$79=\"Schmiddi\",$AK$79,IF($H$80=\"Schmiddi\",$AK$80,IF($H$81=\"Schmiddi\",$AK$81,IF($H$82=\"Schmiddi\",$AK$82,IF($H$83=\"Schmiddi\",$AK$83,IF($H$84=\"Schmiddi\",$AK$84,0)))))))","v":0},null,null,null,null,null,null,null,null,null,null,{"$f":"IF($H$78=\"Schmiddi\",$AV$78,IF($H$79=\"Schmiddi\",$AV$79,IF($H$80=\"Schmiddi\",$AV$80,IF($H$81=\"Schmiddi\",$AV$81,IF($H$82=\"Schmiddi\",$AV$82,IF($H$83=\"Schmiddi\",$AV$83,IF($H$84=\"Schmiddi\",$AV$84,0)))))))","v":0},null,null,null,null,null,null,null,null,null,null,{"$f":"IF($H$78=\"Schmiddi\",$BG$78,IF($H$79=\"Schmiddi\",$BG$79,IF($H$80=\"Schmiddi\",$BG$80,IF($H$81=\"Schmiddi\",$BG$81,IF($H$82=\"Schmiddi\",$BG$82,IF($H$83=\"Schmiddi\",$BG$83,IF($H$84=\"Schmiddi\",$BG$84,0)))))))","v":0},null,null,null,null,":",null,{"$f":"IF($H$78=\"Schmiddi\",$BN$78,IF($H$79=\"Schmiddi\",$BN$79,IF($H$80=\"Schmiddi\",$BN$80,IF($H$81=\"Schmiddi\",$BN$81,IF($H$82=\"Schmiddi\",$BN$82,IF($H$83=\"Schmiddi\",$BN$83,IF($H$84=\"Schmiddi\",$BN$84,0)))))))","v":0},null,null,null,null,{"$f":"IF($H$78=\"Schmiddi\",$BS$78,IF($H$79=\"Schmiddi\",$BS$79,IF($H$80=\"Schmiddi\",$BS$80,IF($H$81=\"Schmiddi\",$BS$81,IF($H$82=\"Schmiddi\",$BS$82,IF($H$83=\"Schmiddi\",$BS$83,IF($H$84=\"Schmiddi\",$BS$84,0)))))))","v":0},null,null,null,null,{"$f":"IF($H$78=\"Schmiddi\",$BX$78,IF($H$79=\"Schmiddi\",$BX$79,IF($H$80=\"Schmiddi\",$BX$80,IF($H$81=\"Schmiddi\",$BX$81,IF($H$82=\"Schmiddi\",$BX$82,IF($H$83=\"Schmiddi\",$BX$83,IF($H$84=\"Schmiddi\",$BX$84,0)))))))","v":0}]

{"sheet":"7.2.","index":14,"n_rows":97,"n_cols":88,"rows_kept":97,"cut":false,"hidden":false,"merged":[[6,16,6,26],[6,27,6,37],[6,38,6,48],[6,49,6,59],[6,60,6,70],[6,71,6,81],[0,0,0,83],[1,1,1,82],[1,83,84,83],[2,1,2,82],[3,1,3,82],[4,1,7,1],[4,2,4,81],[4,82,7,82],[5,2,5,81],[6,2,6,15],[13,12,13,16],[13,18,13,22],[13,24,13,33],[13,35,13,67],[13,69,13,81],[14,2,14,81],[7,71,7,81],[8,1,8,82],[9,1,9,82],[10,1,10,82],[11,1,45,1],[11,2,11,81],[11,82,45,82],[12,2,12,81],[13,2,13,5],[13,7,13,10],[7,2,7,15],[7,16,7,26],[7,27,7,37],[7,38,7,48],[7,49,7,59],[7,60,7,70],[15,53,15,67],[15,68,29,68],[15,69,15,73],[15,74,15,76],[15,77,15,81],[16,7,16,10],[16,12,16,16],[16,18,16,22],[16,24,16,33],[16,35,16,49],[15,18,15,22],[15,23,29,23],[15,24,15,33],[15,34,29,34],[15,35,15,49],[15,50,15,52],[16,50,16,52],[15,7,15,10],[15,11,29,11],[15,12,15,16],[15,17,29,17],[18,7,18,10],[18,12,18,16],[18,18,18,22],[18,24,18,33],[18,35,18,49],[18,50,18,52],[20,7,20,10],[20,12,20,16],[20,18,20,22],[20,24,20,33],[20,35,20,49],[20,50,20,52],[22,7,22,10],[16,53,16,67],[16,69,16,73],[16,74,16,76],[16,77,16,81],[17,7,17,10],[17,12,17,16],[17,18,17,22],[17,24,17,33],[17,35,17,49],[17,50,17,52],[17,53,17,67],[17,69,17,73],[17,74,17,76],[17,77,17,81],[18,53,18,67],[18,69,18,73],[18,74,18,76],[18,77,18,81],[19,7,19,10],[19,12,19,16],[19,18,19,22],[19,24,19,33],[19,35,19,49],[19,50,19,52],[19,53,19,67],[19,69,19,73],[19,74,19,76],[19,77,19,81],[20,53,20,67],[20,69,20,73],[20,74,20,76],[20,77,20,81],[21,7,21,10],[21,12,21,16],[21,18,21,22],[21,24,21,33],[21,35,21,49],[21,50,21,52],[21,53,21,67],[21,69,21,73],[21,74,21,76],[21,77,21,81],[22,12,22,16],[22,18,22,22],[22,24,22,33],[22,35,22,49],[22,50,22,52],[22,53,22,67],[22,69,22,73],[22,74,22,76],[22,77,22,81],[23,77,23,81],[24,7,24,10],[24,12,24,16],[24,18,24,22],[24,24,24,33],[24,35,24,49],[24,50,24,52],[24,53,24,67],[24,69,24,73],[24,74,24,76],[24,77,24,81],[23,7,23,10],[23,12,23,16],[23,18,23,22],[23,24,23,33],[23,35,23,49],[23,50,23,52],[23,53,23,67],[23,69,23,73],[23,74,23,76],[25,77,25,81],[26,7,26,10],[26,12,26,16],[26,18,26,22],[26,24,26,33],[26,35,26,49],[26,50,26,52],[26,53,26,67],[26,69,26,73],[26,74,26,76],[26,77,26,81],[25,7,25,10],[25,12,25,16],[25,18,25,22],[25,24,25,33],[25,35,25,49],[25,50,25,52],[25,53,25,67],[25,69,25,73],[25,74,25,76],[27,77,27,81],[28,7,28,10],[28,12,28,16],[28,18,28,22],[28,24,28,33],[28,35,28,49],[28,50,28,52],[28,53,28,67],[28,69,28,73],[28,74,28,76],[28,77,28,81],[27,7,27,10],[27,12,27,16],[27,18,27,22],[27,24,27,33],[27,35,27,49],[27,50,27,52],[27,53,27,67],[27,69,27,73],[27,74,27,76],[29,7,29,10],[29,12,29,16],[29,18,29,22],[29,24,29,33],[29,35,29,49],[29,50,29,52],[29,53,29,67],[29,69,29,73],[29,74,29,76],[29,77,29,81],[30,2,30,81],[31,2,45,5],[31,6,45,6],[31,7,31,10],[31,11,45,11],[31,12,31,16],[15,2,29,5],[15,6,29,6],[31,69,31,73],[31,74,31,76],[31,77,31,81],[32,53,32,67],[32,69,32,73],[32,74,32,76],[32,77,32,81],[31,17,45,17],[31,18,31,22],[31,23,45,23],[31,24,31,33],[31,34,45,34],[31,35,31,49],[32,7,32,10],[32,12,32,16],[32,18,32,22],[32,24,32,33],[32,35,32,49],[32,50,32,52],[31,50,31,52],[31,53,31,67],[31,68,45,68],[33,53,33,67],[33,69,33,73],[43,69,43,73],[33,74,33,76],[33,77,33,81],[34,7,34,10],[34,12,34,16],[34,18,34,22],[34,24,34,33],[34,35,34,49],[34,50,34,52],[33,7,33,10],[33,12,33,16],[33,18,33,22],[33,24,33,33],[33,35,33,49],[33,50,33,52],[34,53,34,67],[34,69,34,73],[34,74,34,76],[34,77,34,81],[35,77,35,81],[36,7,36,10],[36,12,36,16],[36,18,36,22],[36,24,36,33],[36,35,36,49],[36,50,36,52],[36,53,36,67],[36,69,36,73],[36,74,36,76],[36,77,36,81],[35,7,35,10],[35,12,35,16],[35,18,35,22],[35,24,35,33],[35,35,35,49],[35,50,35,52],[35,53,35,67],[35,69,35,73],[35,74,35,76],[37,77,37,81],[38,7,38,10],[38,12,38,16],[38,18,38,22],[38,24,38,33],[38,35,38,49],[38,50,38,52],[38,53,38,67],[38,69,38,73],[38,74,38,76],[38,77,38,81],[37,7,37,10],[37,12,37,16],[37,18,37,22],[37,24,37,33],[37,35,37,49],[37,50,37,52],[37,53,37,67],[37,69,37,73],[37,74,37,76],[39,77,39,81],[40,7,40,10],[40,12,40,16],[40,18,40,22],[40,24,40,33],[40,35,40,49],[40,50,40,52],[40,53,40,67],[40,69,40,73],[40,74,40,76],[40,77,40,81],[39,7,39,10],[39,12,39,16],[39,18,39,22],[39,24,39,33],[39,35,39,49],[39,50,39,52],[39,53,39,67],[39,69,39,73],[39,74,39,76],[43,74,43,76],[41,77,41,81],[42,7,42,10],[42,12,42,16],[42,18,42,22],[42,24,42,33],[42,35,42,49],[42,50,42,52],[42,53,42,67],[42,69,42,73],[42,74,42,76],[42,77,42,81],[41,7,41,10],[41,12,41,16],[41,18,41,22],[41,24,41,33],[41,35,41,49],[41,50,41,52],[41,53,41,67],[41,69,41,73],[41,74,41,76],[60,1,60,82],[61,1,69,1],[61,2,61,81],[61,82,69,82],[62,2,62,81],[63,2,63,6],[43,77,43,81],[44,7,44,10],[44,12,44,16],[44,18,44,22],[44,24,44,33],[44,35,44,49],[44,50,44,52],[45,53,45,67],[45,69,45,73],[45,74,45,76],[45,77,45,81],[43,7,43,10],[43,12,43,16],[43,18,43,22],[43,24,43,33],[43,35,43,49],[43,50,43,52],[43,53,43,67],[46,1,46,82],[59,1,59,82],[44,53,44,67],[44,69,44,73],[44,74,44,76],[44,77,44,81],[45,7,45,10],[45,12,45,16],[45,18,45,22],[45,24,45,33],[45,35,45,49],[45,50,45,52],[63,7,63,18],[63,19,63,24],[63,25,63,35],[63,36,63,46],[63,47,63,57],[63,58,63,69],[63,70,63,74],[63,75,63,78],[63,79,63,81],[64,2,64,6],[64,7,64,18],[64,19,64,24],[64,25,64,35],[64,36,64,46],[64,79,64,81],[64,70,64,74],[64,75,64,78],[65,70,65,74],[65,75,65,78],[65,79,65,81],[64,47,64,57],[65,2,65,6],[65,7,65,18],[65,19,65,24],[64,58,64,62],[64,63,64,64],[64,65,64,69],[66,2,66,6],[66,7,66,18],[66,19,66,24],[66,25,66,35],[66,36,66,46],[66,47,66,57],[66,58,66,62],[66,63,66,64],[66,65,66,69],[66,70,66,74],[66,75,66,78],[66,79,66,81],[65,25,65,35],[65,36,65,46],[65,47,65,57],[65,58,65,62],[65,63,65,64],[65,65,65,69],[67,2,67,6],[67,7,67,18],[67,19,67,24],[67,25,67,35],[67,36,67,46],[67,79,67,81],[68,2,68,6],[68,7,68,18],[68,19,68,24],[68,25,68,35],[68,36,68,46],[68,47,68,57],[68,58,68,62],[68,63,68,64],[68,65,68,69],[67,47,67,57],[67,58,67,62],[67,63,67,64],[67,65,67,69],[67,70,67,74],[67,75,67,78],[68,70,68,74],[68,75,68,78],[68,79,68,81],[69,70,69,74],[69,75,69,78],[69,79,69,81],[70,2,70,6],[70,7,70,18],[70,19,70,24],[70,25,70,35],[70,36,70,46],[70,79,70,81],[70,47,70,57],[70,58,70,62],[70,63,70,64],[70,65,70,69],[70,70,70,74],[70,75,70,78],[69,2,69,6],[69,7,69,18],[69,19,69,24],[69,25,69,35],[69,36,69,46],[69,47,69,57],[69,58,69,62],[69,63,69,64],[69,65,69,69],[71,1,71,82],[72,1,72,82],[73,1,73,82],[74,1,82,1],[74,2,74,81],[74,82,82,82],[75,2,75,81],[76,2,76,6],[76,7,76,18],[76,75,76,81],[77,2,77,4],[77,5,77,6],[77,7,77,18],[77,19,77,24],[77,25,77,35],[77,36,77,46],[77,47,77,57],[77,58,77,62],[77,63,77,64],[76,19,76,24],[76,25,76,35],[76,36,76,46],[76,47,76,57],[76,58,76,69],[76,70,76,74],[77,65,77,69],[77,70,77,74],[77,75,77,81],[78,2,78,4],[78,5,78,6],[78,7,78,18],[78,19,78,24],[78,25,78,35],[78,36,78,46],[78,47,78,57],[78,58,78,62],[78,63,78,64],[78,65,78,69],[78,70,78,74],[78,75,78,81],[79,2,79,4],[79,5,79,6],[79,7,79,18],[79,19,79,24],[79,25,79,35],[79,75,79,81],[80,2,80,4],[80,5,80,6],[80,7,80,18],[80,19,80,24],[80,25,80,35],[80,36,80,46],[80,47,80,57],[80,58,80,62],[80,63,80,64],[79,36,79,46],[79,47,79,57],[79,58,79,62],[79,63,79,64],[79,65,79,69],[79,70,79,74],[80,65,80,69],[80,70,80,74],[80,75,80,81],[81,65,81,69],[81,70,81,74],[81,75,81,81],[82,2,82,4],[82,5,82,6],[82,7,82,18],[82,19,82,24],[82,25,82,35],[83,65,83,69],[83,70,83,74],[83,75,83,81],[81,2,81,4],[81,5,81,6],[81,7,81,18],[81,19,81,24],[81,25,81,35],[81,36,81,46],[81,47,81,57],[81,58,81,62],[81,63,81,64],[84,1,84,82],[85,1,85,82],[86,1,86,82],[82,75,82,81],[83,2,83,4],[83,5,83,6],[83,7,83,18],[83,19,83,24],[83,25,83,35],[83,36,83,46],[83,47,83,57],[83,58,83,62],[83,63,83,64],[82,36,82,46],[82,47,82,57],[82,58,82,62],[82,63,82,64],[82,65,82,69],[82,70,82,74],[87,1,96,1],[87,2,87,81],[87,82,96,82],[88,2,88,81],[89,2,89,6],[89,7,89,18],[89,19,89,24],[89,25,89,35],[89,36,89,46],[89,47,89,57],[89,58,89,69],[89,70,89,74],[89,75,89,81],[90,2,90,6],[90,7,90,18],[90,19,90,24],[90,25,90,35],[90,36,90,46],[90,47,90,57],[90,58,90,62],[92,2,92,6],[92,7,92,18],[92,19,92,24],[92,25,92,35],[92,36,92,46],[90,63,90,64],[90,65,90,69],[90,70,90,74],[90,75,90,81],[91,2,91,6],[91,7,91,18],[91,19,91,24],[91,25,91,35],[91,36,91,46],[91,47,91,57],[92,47,92,57],[92,58,92,62],[92,63,92,64],[92,65,92,69],[92,70,92,74],[92,75,92,81],[91,58,91,62],[91,63,91,64],[91,65,91,69],[91,70,91,74],[91,75,91,81],[94,2,94,6],[94,7,94,18],[94,19,94,24],[94,25,94,35],[94,36,94,46],[93,2,93,6],[93,7,93,18],[93,19,93,24],[93,25,93,35],[93,36,93,46],[94,47,94,57],[94,58,94,62],[94,63,94,64],[94,65,94,69],[94,70,94,74],[94,75,94,81],[93,58,93,62],[93,63,93,64],[93,65,93,69],[93,70,93,74],[93,75,93,81],[93,47,93,57],[97,1,97,82],[98,0,98,83],[96,47,96,57],[96,58,96,62],[96,63,96,64],[96,65,96,69],[96,70,96,74],[96,75,96,81],[95,58,95,62],[95,63,95,64],[95,65,95,69],[95,70,95,74],[95,75,95,81],[96,2,96,6],[96,7,96,18],[96,19,96,24],[96,25,96,35],[96,36,96,46],[95,2,95,6],[95,7,95,18],[95,19,95,24],[95,25,95,35],[95,36,95,46],[95,47,95,57]]}
[]
[null,{"$f":"\"Turnier am \" & MID(CELL(\"dateiname\",A1),SEARCH(\"]\",CELL(\"dateiname\",A1))+1,31)","v":"Turnier am 7.2."}]
[]
[]
[null,null,"Spielerliste"]
[]
[null,null,{"$f":"\" Spieler\"","v":" Spieler"},null,null,null,null,null,null,null,null,null,null,null,null,null,"Spieler 1",null,null,null,null,null,null,null,null,null,null,"Spieler 2",null,null,null,null,null,null,null,null,null,null,"Spieler 3",null,null,null,null,null,null,null,null,null,null,"Spieler 4",null,null,null,null,null,null,null,null,null,null,"Spieler 5",null,null,null,null,null,null,null,null,null,null,"Spieler 6"]
[null,null,{"$f":"\" Name\"","v":" Name"},null,null,null,null,null,null,null,null,null,null,null,null,null,"Christoph",null,null,null,null,null,null,null,null,null,null,"Ratze",null,null,null,null,null,null,null,null,null,null,"Jule",null,null,null,null,null,null,null,null,null,null,"Schmiddi",null,null,null,null,null,null,null,null,null,null,"Markus",null,null,null,null,null,null,null,null,null,null,"Patrick"]
[]
[]
[]
[null,null,"Spielplan"]
[]
[null,null,"00:12:00",null,null,null,null,"Spiel",null,null,null,null,"Datum",null,null,null,null,null,"Uhrzeit",null,null,null,null,null,"Austragungsort",null,null,null,null,null,null,null,null,null,null,"Paarung",null,null,null,null,null,null,null,null,null,null,null,null,null,null,null,null,null,null,null,null,null,null,null,null,null,null,null,null,null,null,null,null,null,"Ergebnis",null,null,null,null,null,null,null,null,null,null,null,null,null,null,"Spiele","SiegHeim","Unentschieden","SiegGast"]
[]
[null,null,"Hinrunde",null,null,null,null,1,null,null,null,null,{"$f":"MID(CELL(\"dateiname\",A1),SEARCH(\"]\",CELL(\"dateiname\",A1))+1,31)","v":"7.2."},null,null,null,null,null,"21:00:00",null,null,null,null,null,"Fernseher",null,null,null,null,null,null,null,null,null,null,{"$f":"$Q$8","v":"Christoph"},null,null,null,null,null,null,null,null,null,null,null,null,null,null,":",null,null,{"$f":"$AB$8","v":"Ratze"},null,null,null,null,null,null,null,null,null,null,null,null,null,null,null,0,null,null,null,null,":",null,null,3,null,null,null,null,null,null,{"$f":"IF(AND(ISNUMBER(BR16),ISNUMBER(BZ16)),1,0)","v":1},{"$f":"IF(OR(ISBLANK(BR16),ISBLANK(BZ16)),0,IF(BR16>BZ16,1,0))","v":0},{"$f":"IF(OR(ISBLANK(BR16),ISBLANK(BZ16)),0,IF(BR16=BZ16,1,0))","v":0},{"$f":"IF(OR(ISBLANK(BR16),ISBLANK(BZ16)),0,IF(BR16<BZ16,1,0))","v":1}]
[null,null,null,null,null,null,null,{"$f":"H16+1","v":2},null,null,null,null,{"$f":"$M$16","v":"7.2."},null,null,null,null,null,{"$f":"S16","v":"21:00:00"},null,null,null,null,null,{"$f":"$Y$16","v":"Fernseher"},null,null,null,null,null,null,null,null,null,null,{"$f":"$AM$8","v":"Jule"},null,null,null,null,null,null,null,null,null,null,null,null,null,null,":",null,null,{"$f":"$AX$8","v":"Schmiddi"},null,null,null,null,null,null,null,null,null,null,null,null,null,null,null,4,null,null,null,null,":",null,null,1,null,null,null,null,null,null,{"$f":"IF(AND(ISNUMBER(BR17),ISNUMBER(BZ17)),1,0)","v":1},{"$f":"IF(OR(ISBLANK(BR17),ISBLANK(BZ17)),0,IF(BR17>BZ17,1,0))","v":1},{"$f":"IF(OR(ISBLANK(BR17),ISBLANK(BZ17)),0,IF(BR17=BZ17,1,0))","v":0},{"$f":"IF(OR(ISBLANK(BR17),ISBLANK(BZ17)),0,IF(BR17<BZ17,1,0))","v":0}]
[null,null,null,null,null,null,null,{"$f":"H17+1","v":3},null,null,null,null,{"$f":"$M$16","v":"7.2."},null,null,null,null,null,{"$f":"S16","v":"21:00:00"},null,null,null,null,null,{"$f":"$Y$16","v":"Fernseher"},null,null,null,null,null,null,null,null,null,null,{"$f":"$BI$8","v":"Markus"},null,null,null,null,null,null,null,null,null,null,null,null,null,null,":",null,null,{"$f":"$BT$8","v":"Patrick"},null,null,null,null,null,null,null,null,null,null,null,null,null,null,null,2,null,null,null,null,":",null,null,3,null,null,null,null,null,null,1,0,0,1]
[null,null,null,null,null,null,null,{"$f":"H18+1","v":4},null,null,null,null,"7.2.",null,null,null,null,null,{"$f":"S16+$C$14","v":"21:12:00"},null,null,null,null,null,"Fernseher",null,null,null,null,null,null,null,null,null,null,{"$f":"$Q$8","v":"Christoph"},null,null,null,null,null,null,null,null,null,null,null,null,null,null,":",null,null,{"$f":"$AM$8","v":"Jule"},null,null,null,null,null,null,null,null,null,null,null,null,null,null,null,1,null,null,null,null,":",null,null,1,null,null,null,null,null,null,1,0,1,0]
[null,null,null,null,null,null,null,5,null,null,null,null,"7.2.",null,null,null,null,null,{"$f":"S17+$C$14","v":"21:12:00"},null,null,null,null,null,"Fernseher",null,null,null,null,null,null,null,null,null,null,{"$f":"$AB$8","v":"Ratze"},null,null,null,null,null,null,null,null,null,null,null,null,null,null,":",null,null,{"$f":"$BI$8","v":"Markus"},null,null,null,null,null,null,null,null,null,null,null,null,null,null,null,1,null,null,null,null,":",null,null,2,null,null,null,null,null,null,1,0,0,1]
[null,null,null,null,null,null,null,6,null,null,null,null,"7.2.",null,null,null,null,null,{"$f":"S18+$C$14","v":"21:12:00"},null,null,null,null,null,"Fernseher",null,null,null,null,null,null,null,null,null,null,{"$f":"$AX$8","v":"Schmiddi"},null,null,null,null,null,null,null,null,null,null,null,null,null,null,":",null,null,{"$f":"$BT$8","v":"Patrick"},null,null,null,null,null,null,null,null,null,null,null,null,null,null,null,3,null,null,null,null,":",null,null,4,null,null,null,null,null,null,1,0,0,1]
[null,null,null,null,null,null,null,{"$f":"H21+1","v":7},null,null,null,null,"7.2.",null,null,null,null,null,{"$f":"S19+$C$14","v":"21:24:00"},null,null,null,null,null,"Fernseher",null,null,null,null,null,null,null,null,null,null,{"$f":"$BI$8","v":"Markus"},null,null,null,null,null,null,null,null,null,null,null,null,null,null,":",null,null,{"$f":"$Q$8","v":"Christoph"},null,null,null,null,null,null,null,null,null,null,null,null,null,null,null,4,null,null,null,null,":",null,null,3,null,null,null,null,null,null,1,1,0,0]
[null,null,null,null,null,null,null,8,null,null,null,null,"7.2.",null,null,null,null,null,{"$f":"S20+$C$14","v":"21:24:00"},null,null,null,null,null,"Fernseher",null,null,null,null,null,null,null,null,null,null,{"$f":"$AB$8","v":"Ratze"},null,null,null,null,null,null,null,null,null,null,null,null,null,null,":",null,null,{"$f":"$AX$8","v":"Schmiddi"},null,null,null,null,null,null,null,null,null,null,null,null,null,null,null,2,null,null,null,null,":",null,null,1,null,null,null,null,null,null,1,1,0,0]
[null,null,null,null,null,null,null,9,null,null,null,null,"7.2.",null,null,null,null,null,"21:24:00",null,null,null,null,null,"Fernseher",null,null,null,null,null,null,null,null,null,null,{"$f":"$BT$8","v":"Patrick"},null,null,null,null,null,null,null,null,null,null,null,null,null,null,":",null,null,{"$f":"$AM$8","v":"Jule"},null,null,null,null,null,null,null,null,null,null,null,null,null,null,null,4,null,null,null,null,":",null,null,1,null,null,null,null,null,null,1,1,0,0]
[null,null,null,null,null,null,null,{"$f":"H24+1","v":10},null,null,null,null,"7.2.",null,null,null,null,null,{"$f":"S22+$C$14","v":"21:36:00"},null,null,null,null,null,"Fernseher",null,null,null,null,null,null,null,null,null,null,{"$f":"$Q$8","v":"Christoph"},null,null,null,null,null,null,null,null,null,null,null,null,null,null,":",null,null,{"$f":"$AX$8","v":"Schmiddi"},null,null,null,null,null,null,null,null,null,null,null,null,null,null,null,1,null,null,null,null,":",null,null,2,null,null,null,null,null,null,1,0,0,1]
[null,null,null,null,null,null,null,11,null,null,null,null,"7.2.",null,null,null,null,null,"21:36:00",null,null,null,null,null,"Fernseher",null,null,null,null,null,null,null,null,null,null,{"$f":"$BT$8","v":"Patrick"},null,null,null,null,null,null,null,null,null,null,null,null,null,null,":",null,null,{"$f":"$AB$8","v":"Ratze"},null,null,null,null,null,null,null,null,null,null,null,null,null,null,null,2,null,null,null,null,":",null,null,3,null,null,null,null,null,null,1,0,0,1]
[null,null,null,null,null,null,null,{"$f":"H26+1","v":12},null,null,null,null,"7.2.",null,null,null,null,null,{"$f":"S24+$C$14","v":"21:36:00"},null,null,null,null,null,"Fernseher",null,null,null,null,null,null,null,null,null,null,{"$f":"$AM$8","v":"Jule"},null,null,null,null,null,null,null,null,null,null,null,null,null,null,":",null,null,{"$f":"$BI$8","v":"Markus"},null,null,null,null,null,null,null,null,null,null,null,null,null,null,null,3,null,null,null,null,":",null,null,3,null,null,null,null,null,null,1,0,1,0]
[null,null,null,null,null,null,null,13,null,null,null,null,"7.2.",null,null,null,null,null,"21:48:00",null,null,null,null,null,"Fernseher",null,null,null,null,null,null,null,null,null,null,{"$f":"$BT$8","v":"Patrick"},null,null,null,null,null,null,null,null,null,null,null,null,null,null,":",null,null,{"$f":"$Q$8","v":"Christoph"},null,null,null,null,null,null,null,null,null,null,null,null,null,null,null,4,null,null,null,null,":",null,null,1,null,null,null,null,null,null,1,1,0,0]
[null,null,null,null,null,null,null,{"$f":"H28+1","v":14},null,null,null,null,"7.2.",null,null,null,null,null,{"$f":"S26+$C$14","v":"21:48:00"},null,null,null,null,null,"Fernseher",null,null,null,null,null,null,null,null,null,null,{"$f":"$AB$8","v":"Ratze"},null,null,null,null,null,null,null,null,null,null,null,null,null,null,":",null,null,{"$f":"$AM$8","v":"Jule"},null,null,null,null,null,null,null,null,null,null,null,null,null,null,null,0,null,null,null,null,":",null,null,2,null,null,null,null,null,null,1,0,0,1]
[null,null,null,null,null,null,null,15,null,null,null,null,"7.2.",null,null,null,null,null,{"$f":"S27+$C$14","v":"21:48:00"},null,null,null,null,null,"Fernseher",null,null,null,null,null,null,null,null,null,null,{"$f":"$AX$8","v":"Schmiddi"},null,null,null,null,null,null,null,null,null,null,null,null,null,null,":",null,null,{"$f":"$BI$8","v":"Markus"},null,null,null,null,null,null,null,null,null,null,null,null,null,null,null,1,null,null,null,null,":",null,null,3,null,null,null,null,null,null,1,0,0,1]
[]
[null,null,"Rückrunde",null,null,null,null,{"$f":"H30+1","v":16},null,null,null,null,{"$f":"$M$16","v":"7.2."},null,null,null,null,null,{"$f":"S30+$C$14","v":"22:00:00"},null,null,null,null,null,{"$f":"$Y$16","v":"Fernseher"},null,null,null,null,null,null,null,null,null,null,{"$f":"$AB$8","v":"Ratze"},null,null,null,null,null,null,null,null,null,null,null,null,null,null,":",null,null,{"$f":"$Q$8","v":"Christoph"},null,null,null,null,null,null,null,null,null,null,null,null,null,null,null,1,null,null,null,null,":",null,null,2,null,null,null,null,null,null,{"$f":"IF(AND(ISNUMBER(BR32),ISNUMBER(BZ32)),1,0)","v":1},{"$f":"IF(OR(ISBLANK(BR32),ISBLANK(BZ32)),0,IF(BR32>BZ32,1,0))","v":0},{"$f":"IF(OR(ISBLANK(BR32),ISBLANK(BZ32)),0,IF(BR32=BZ32,1,0))","v":0},{"$f":"IF(OR(ISBLANK(BR32),ISBLANK(BZ32)),0,IF(BR32<BZ32,1,0))","v":1}]
[null,null,null,null,null,null,null,{"$f":"H32+1","v":17},null,null,null,null,"7.2.",null,null,null,null,null,{"$f":"S30+$C$14","v":"22:00:00"},null,null,null,null,null,"Fernseher",null,null,null,null,null,null,null,null,null,null,{"$f":"$AX$8","v":"Schmiddi"},null,null,null,null,null,null,null,null,null,null,null,null,null,null,":",null,null,{"$f":"$AM$8","v":"Jule"},null,null,null,null,null,null,null,null,null,null,null,null,null,null,null,4,null,null,null,null,":",null,null,4,null,null,null,null,null,null,1,0,1,0]
[null,null,null,null,null,null,null,{"$f":"H33+1","v":18},null,null,null,null,"7.2.",null,null,null,null,null,{"$f":"S30+$C$14","v":"22:00:00"},null,null,null,null,null,"Fernseher",null,null,null,null,null,null,null,null,null,null,{"$f":"$BT$8","v":"Patrick"},null,null,null,null,null,null,null,null,null,null,null,null,null,null,":",null,null,{"$f":"$BI$8","v":"Markus"},null,null,null,null,null,null,null,null,null,null,null,null,null,null,null,3,null,null,null,null,":",null,null,0,null,null,null,null,null,null,1,1,0,0]
[null,null,null,null,null,null,null,{"$f":"H34+1","v":19},null,null,null,null,"7.2.",null,null,null,null,null,{"$f":"S32+$C$14","v":"22:12:00"},null,null,null,null,null,"Fernseher",null,null,null,null,null,null,null,null,null,null,{"$f":"$AM$8","v":"Jule"},null,null,null,null,null,null,null,null,null,null,null,null,null,null,":",null,null,{"$f":"$Q$8","v":"Christoph"},null,null,null,null,null,null,null,null,null,null,null,null,null,null,null,3,null,null,null,null,":",null,null,1,null,null,null,null,null,null,1,1,0,0]
[null,null,null,null,null,null,null,20,null,null,null,null,"7.2.",null,null,null,null,null,{"$f":"S33+$C$14","v":"22:12:00"},null,null,null,null,null,"Fernseher",null,null,null,null,null,null,null,null,null,null,{"$f":"$BI$8","v":"Markus"},null,null,null,null,null,null,null,null,null,null,null,null,null,null,":",null,null,{"$f":"$AB$8","v":"Ratze"},null,null,null,null,null,null,null,null,null,null,null,null,null,null,null,3,null,null,null,null,":",null,null,3,null,null,null,null,null,null,1,0,1,0]
[null,null,null,null,null,null,null,21,null,null,null,null,"7.2.",null,null,null,null,null,{"$f":"S34+$C$14","v":"22:12:00"},null,null,null,null,null,"Fernseher",null,null,null,null,null,null,null,null,null,null,{"$f":"$BT$8","v":"Patrick"},null,null,null,null,null,null,null,null,null,null,null,null,null,null,":",null,null,{"$f":"$AX$8","v":"Schmiddi"},null,null,null,null,null,null,null,null,null,null,null,null,null,null,null,2,null,null,null,null,":",null,null,2,null,null,null,null,null,null,1,0,1,0]
[null,null,null,null,null,null,null,{"$f":"H37+1","v":22},null,null,null,null,"7.2.",null,null,null,null,null,{"$f":"S35+$C$14","v":"22:24:00"},null,null,null,null,null,"Fernseher",null,null,null,null,null,null,null,null,null,null,{"$f":"$Q$8","v":"Christoph"},null,null,null,null,null,null,null,null,null,null,null,null,null,null,":",null,null,{"$f":"$BI$8","v":"Markus"},null,null,null,null,null,null,null,null,null,null,null,null,null,null,null,1,null,null,null,null,":",null,null,4,null,null,null,null,null,null,1,0,0,1]
[null,null,null,null,null,null,null,23,null,null,null,null,"7.2.",null,null,null,null,null,{"$f":"S36+$C$14","v":"22:24:00"},null,null,null,null,null,"Fernseher",null,null,null,null,null,null,null,null,null,null,{"$f":"$AX$8","v":"Schmiddi"},null,null,null,null,null,null,null,null,null,null,null,null,null,null,":",null,null,{"$f":"$AB$8","v":"Ratze"},null,null,null,null,null,null,null,null,null,null,null,null,null,null,null,2,null,null,null,null,":",null,null,6,null,null,null,null,null,null,1,0,0,1]
[null,null,null,null,null,null,null,24,null,null,null,null,"7.2.",null,null,null,null,null,"22:24:00",null,null,null,null,null,"Fernseher",null,null,null,null,null,null,null,null,null,null,{"$f":"$AM$8","v":"Jule"},null,null,null,null,null,null,null,null,null,null,null,null,null,null,":",null,null,{"$f":"$BT$8","v":"Patrick"},null,null,null,null,null,null,null,null,null,null,null,null,null,null,null,0,null,null,null,null,":",null,null,2,null,null,null,null,null,null,1,0,0,1]
[null,null,null,null,null,null,null,{"$f":"H40+1","v":25},null,null,null,null,"7.2.",null,null,null,null,null,{"$f":"S38+$C$14","v":"22:36:00"},null,null,null,null,null,"Fernseher",null,null,null,null,null,null,null,null,null,null,{"$f":"$AX$8","v":"Schmiddi"},null,null,null,null,null,null,null,null,null,null,null,null,null,null,":",null,null,{"$f":"$Q$8","v":"Christoph"},null,null,null,null,null,null,null,null,null,null,null,null,null,null,null,1,null,null,null,null,":",null,null,3,null,null,null,null,null,null,1,0,0,1]
[null,null,null,null,null,null,null,26,null,null,null,null,"7.2.",null,null,null,null,null,"22:36:00",null,null,null,null,null,"Fernseher",null,null,null,null,null,null,null,null,null,null,{"$f":"$AB$8","v":"Ratze"},null,null,null,null,null,null,null,null,null,null,null,null,null,null,":",null,null,{"$f":"$BT$8","v":"Patrick"},null,null,null,null,null,null,null,null,null,null,null,null,null,null,null,1,null,null,null,null,":",null,null,0,null,null,null,null,null,null,1,1,0,0]
[null,null,null,null,null,null,null,{"$f":"H42+1","v":27},null,null,null,null,"7.2.",null,null,null,null,null,{"$f":"S40+$C$14","v":"22:36:00"},null,null,null,null,null,"Fernseher",null,null,null,null,null,null,null,null,null,null,{"$f":"$BI$8","v":"Markus"},null,null,null,null,null,null,null,null,null,null,null,null,null,null,":",null,null,{"$f":"$AM$8","v":"Jule"},null,null,null,null,null,null,null,null,null,null,null,null,null,null,null,3,null,null,null,null,":",null,null,0,null,null,null,null,null,null,1,1,0,0]
[null,null,null,null,null,null,null,28,null,null,null,null,"7.2.",null,null,null,null,null,"22:48:00",null,null,null,null,null,"Fernseher",null,null,null,null,null,null,null,null,null,null,{"$f":"$Q$8","v":"Christoph"},null,null,null,null,null,null,null,null,null,null,null,null,null,null,":",null,null,{"$f":"$BT$8","v":"Patrick"},null,null,null,null,null,null,null,null,null,null,null,null,null,null,null,0,null,null,null,null,":",null,null,5,null,null,null,null,null,null,1,0,0,1]
[null,null,null,null,null,null,null,{"$f":"H44+1","v":29},null,null,null,null,"7.2.",null,null,null,null,null,{"$f":"S42+$C$14","v":"22:48:00"},null,null,null,null,null,"Fernseher",null,null,null,null,null,null,null,null,null,null,{"$f":"$AM$8","v":"Jule"},null,null,null,null,null,null,null,null,null,null,null,null,null,null,":",null,null,{"$f":"$AB$8","v":"Ratze"},null,null,null,null,null,null,null,null,null,null,null,null,null,null,null,4,null,null,null,null,":",null,null,3,null,null,null,null,null,null,1,1,0,0]
[null,null,null,null,null,null,null,30,null,null,null,null,"7.2.",null,null,null,null,null,{"$f":"S43+$C$14","v":"22:48:00"},null,null,null,null,null,"Fernseher",null,null,null,null,null,null,null,null,null,null,{"$f":"$BI$8","v":"Markus"},null,null,null,null,null,null,null,null,null,null,null,null,null,null,":",null,null,{"$f":"$AX$8","v":"Schmiddi"},null,null,null,null,null,null,null,null,null,null,null,null,null,null,null,5,null,null,null,null,":",null,null,2,null,null,null,null,null,null,1,1,0,0]
[]
[]
[]
[]
[]
[]
[]
[]
[]
[]
[]
[]
[]
[]
[]
[null,null,"Tabelle (unsortiert)"]
[]
[null,null,"Rang",null,null,null,null,"Spieler",null,null,null,null,null,null,null,null,null,null,null,"Spiele",null,null,null,null,null,"Siege",null,null,null,null,null,null,null,null,null,null,"Unentschieden",null,null,null,null,null,null,null,null,null,null,"Niederlagen",null,null,null,null,null,null,null,null,null,null,"Tore",null,null,null,null,null,null,null,null,null,null,null,"+/-",null,null,null,null,"Punkte",null,null,null,"HS"]
[null,null,{"$f":"IF(T65=0,0,RANK(BX65,$BX$65:$CA$70,0))","v":5},null,null,null,null,{"$f":"$Q$8","v":"Christoph"},null,null,null,null,null,null,null,null,null,null,null,{"$f":"CG16+CG19+CG22+CG25+CG28+CG32+CG35+CG38+CG41+CG44","v":10},null,null,null,null,null,{"$f":"CH16+CH19+CJ22+CH25+CJ28+CJ32+CJ35+CH38+CJ41+CH44","v":2},null,null,null,null,null,null,null,null,null,null,{"$f":"CI16+CI19+CI22+CI25+CI28+CI32+CI35+CI38+CI41+CI44","v":1},null,null,null,null,null,null,null,null,null,null,{"$f":"CJ16+CJ19+CH22+CJ25+CH28+CH32+CH35+CJ38+CH41+CJ44","v":7},null,null,null,null,null,null,null,null,null,null,{"$f":"BR16+BR19+BZ22+BR25+BZ28+BZ32+BZ35+BR38+BZ41+BR44","v":13},null,null,null,null,":",null,{"$f":"BZ16+BZ19+BR22+BZ25+BR28+BR32+BR35+BZ38+BR41+BZ44","v":28},null,null,null,null,{"$f":"BG65-BN65","v":-15},null,null,null,null,{"$f":"(Z65*3)+AK65","v":7},null,null,null,{"$f":"BX65+ROW()/1000","v":7.0650000000000004}]
[null,null,3,null,null,null,null,{"$f":"$AB$8","v":"Ratze"},null,null,null,null,null,null,null,null,null,null,null,{"$f":"CG16+CG20+CG23+CG26+CG29+CG32+CG36+CG39+CG42+CG45","v":10},null,null,null,null,null,{"$f":"CJ16+CH20+CH23+CJ26+CH29+CH32+CJ36+CJ39+CH42+CJ45","v":5},null,null,null,null,null,null,null,null,null,null,{"$f":"CI16+CI20+CI23+CI26+CI29+CI32+CI36+CI39+CI42+CI45","v":1},null,null,null,null,null,null,null,null,null,null,{"$f":"CH16+CJ20+CJ23+CH26+CJ29+CJ32+CH36+CH39+CJ42+CH45","v":4},null,null,null,null,null,null,null,null,null,null,{"$f":"BZ16+BR20+BR23+BZ26+BR29+BR32+BZ36+BZ39+BR42+BZ45","v":23},null,null,null,null,":",null,{"$f":"BR16+BZ20+BZ23+BR26+BZ29+BZ32+BR36+BR39+BZ42+BR45","v":18},null,null,null,null,5,null,null,null,null,16,null,null,null,16.065999999999999]
[null,null,4,null,null,null,null,{"$f":"$AM$8","v":"Jule"},null,null,null,null,null,null,null,null,null,null,null,{"$f":"CG17+CG19+CG24+CG27+CG29+CG33+CG35+CG40+CG43+CG45","v":10},null,null,null,null,null,{"$f":"CH17+CJ19+CJ24+CH27+CJ29+CJ33+CH35+CH40+CJ43+CH45","v":4},null,null,null,null,null,null,null,null,null,null,{"$f":"CI17+CI19+CI24+CI27+CI29+CI33+CI35+CI40+CI43+CI45","v":3},null,null,null,null,null,null,null,null,null,null,{"$f":"CJ17+CH19+CH24+CJ27+CH29+CH33+CJ35+CJ40+CH43+CJ45","v":3},null,null,null,null,null,null,null,null,null,null,{"$f":"BR17+BZ19+BZ24+BR27+BZ29+BZ33+BR35+BR40+BZ43+BR45","v":22},null,null,null,null,":",null,{"$f":"BZ17+BR19+BR24+BZ27+BR29+BR33+BZ35+BZ40+BR43+BZ45","v":22},null,null,null,null,0,null,null,null,null,15,null,null,null,15.067]
[null,null,6,null,null,null,null,{"$f":"$AX$8","v":"Schmiddi"},null,null,null,null,null,null,null,null,null,null,null,{"$f":"CG17+CG21+CG23+CG25+CG30+CG33+CG37+CG39+CG41+CG46","v":10},null,null,null,null,null,{"$f":"CJ17+CH21+CJ23+CJ25+CH30+CH33+CJ37+CH39+CH41+CJ46","v":1},null,null,null,null,null,null,null,null,null,null,{"$f":"CI17+CI21+CI23+CI25+CI30+CI33+CI37+CI39+CI41+CI46","v":2},null,null,null,null,null,null,null,null,null,null,{"$f":"CH17+CJ21+CH23+CH25+CJ30+CJ33+CH37+CJ39+CJ41+CH46","v":7},null,null,null,null,null,null,null,null,null,null,{"$f":"BZ17+BR21+BZ23+BZ25+BR30+BR33+BZ37+BR39+BR41+BZ46","v":19},null,null,null,null,":",null,{"$f":"BR17+BZ21+BR23+BR25+BZ30+BZ33+BR37+BZ39+BZ41+BR46","v":34},null,null,null,null,-15,null,null,null,null,5,null,null,null,5.0679999999999996]
[null,null,2,null,null,null,null,{"$f":"$BI$8","v":"Markus"},null,null,null,null,null,null,null,null,null,null,null,{"$f":"CG18+CG20+CG22+CG27+CG30+CG34+CG36+CG38+CG43+CG46","v":10},null,null,null,null,null,{"$f":"CH18+CJ20+CH22+CJ27+CJ30+CJ34+CH36+CJ38+CH43+CH46","v":6},null,null,null,null,null,null,null,null,null,null,{"$f":"CI18+CI20+CI22+CI27+CI30+CI34+CI36+CI38+CI43+CI46","v":2},null,null,null,null,null,null,null,null,null,null,{"$f":"CJ18+CH20+CJ22+CH27+CH30+CH34+CJ36+CH38+CJ43+CJ46","v":2},null,null,null,null,null,null,null,null,null,null,{"$f":"BR18+BZ20+BR22+BZ27+BZ30+BZ34+BR36+BZ38+BR43+BR46","v":29},null,null,null,null,":",null,{"$f":"BZ18+BR20+BZ22+BR27+BR30+BR34+BZ36+BR38+BZ43+BZ46","v":20},null,null,null,null,9,null,null,null,null,20,null,null,null,20.068999999999999]
[null,null,1,null,null,null,null,{"$f":"BT8","v":"Patrick"},null,null,null,null,null,null,null,null,null,null,null,{"$f":"CG18+CG21+CG24+CG26+CG28+CG34+CG37+CG40+CG42+CG44","v":10},null,null,null,null,null,{"$f":"CJ18+CJ21+CH24+CH26+CH28+CH34+CH37+CJ40+CJ42+CJ44","v":7},null,null,null,null,null,null,null,null,null,null,{"$f":"CI18+CI21+CI24+CI26+CI28+CI34+CI37+CI40+CI42+CI44","v":1},null,null,null,null,null,null,null,null,null,null,{"$f":"CH18+CH21+CJ24+CJ26+CJ28+CJ34+CJ37+CH40+CH42+CH44","v":2},null,null,null,null,null,null,null,null,null,null,{"$f":"BZ18+BZ21+BR24+BR26+BR28+BR34+BR37+BZ40+BZ42+BZ44","v":29},null,null,null,null,":",null,{"$f":"BR18+BR21+BZ24+BZ26+BZ28+BZ34+BZ37+BR40+BR42+BR44","v":13},null,null,null,null,16,null,null,null,null,22,null,null,null,22.07]
[null,null,null,null,null,null,null,"Spieler 7",null,null,null,null,null,null,null,null,null,null,null,0,null,null,null,null,null,0,null,null,null,null,null,null,null,null,null,null,0,null,null,null,null,null,null,null,null,null,null,0,null,null,null,null,null,null,null,null,null,null,0,null,null,null,null,":",null,0,null,null,null,null,0,null,null,null,null,0,null,null,null,0]
[]
[]
[]
[null,null,"Tabelle"]
[]
[null,null,"Rang",null,null,null,null,"Spieler",null,null,null,null,null,null,null,null,null,null,null,"Spiele",null,null,null,null,null,"Siege",null,null,null,null,null,null,null,null,null,null,"Unentschieden",null,null,null,null,null,null,null,null,null,null,"Niederlagen",null,null,null,null,null,null,null,null,null,null,"Tore",null,null,null,null,null,null,null,null,null,null,null,"+/-",null,null,null,null,"Punkte"]
[null,null,{"$f":"INDEX($C$65:$C$70,MATCH(LARGE($CB$65:$CB$70,ROW(A1)),$CB$65:$CB$70,0),1)","v":1},null,null,1,null,{"$f":"INDEX($H$65:$H$70,MATCH(LARGE($CB$65:$CB$70,ROW(A1)),$CB$65:$CB$70,0),1)","v":"Patrick"},null,null,null,null,null,null,null,null,null,null,null,{"$f":"INDEX($T$65:$T$70,MATCH(LARGE($CB$65:$CB$70,ROW(A1)),$CB$65:$CB$70,0),1)","v":10},null,null,null,null,null,{"$f":"INDEX($Z$65:$Z$70,MATCH(LARGE($CB$65:$CB$70,ROW(A1)),$CB$65:$CB$70,0),1)","v":7},null,null,null,null,null,null,null,null,null,null,{"$f":"INDEX($AK$65:$AK$70,MATCH(LARGE($CB$65:$CB$70,ROW(A1)),$CB$65:$CB$70,0),1)","v":1},null,null,null,null,null,null,null,null,null,null,{"$f":"INDEX($AV$65:$AV$70,MATCH(LARGE($CB$65:$CB$70,ROW(A1)),$CB$65:$CB$70,0),1)","v":2},null,null,null,null,null,null,null,null,null,null,{"$f":"INDEX($BG$65:$BG$70,MATCH(LARGE($CB$65:$CB$70,ROW(A1)),$CB$65:$CB$70,0),1)","v":29},null,null,null,null,":",null,{"$f":"INDEX($BN$65:$BN$70,MATCH(LARGE($CB$65:$CB$70,ROW(A1)),$CB$65:$CB$70,0),1)","v":13},null,null,null,null,{"$f":"INDEX($BS$65:$BS$70,MATCH(LARGE($CB$65:$CB$70,ROW(A1)),$CB$65:$CB$70,0),1)","v":16},null,null,null,null,{"$f":"INDEX($BX$65:$BX$70,MATCH(LARGE($CB$65:$CB$70,ROW(A1)),$CB$65:$CB$70,0),1)","v":22}]
[null,null,2,null,null,2,null,"Markus",null,null,null,null,null,null,null,null,null,null,null,10,null,null,null,null,null,6,null,null,null,null,null,null,null,null,null,null,2,null,null,null,null,null,null,null,null,null,null,2,null,null,null,null,null,null,null,null,null,null,29,null,null,null,null,":",null,20,null,null,null,null,9,null,null,null,null,20]
[null,null,3,null,null,3,null,"Ratze",null,null,null,null,null,null,null,null,null,null,null,10,null,null,null,null,null,5,null,null,null,null,null,null,null,null,null,null,1,null,null,null,null,null,null,null,null,null,null,4,null,null,null,null,null,null,null,null,null,null,23,null,null,null,null,":",null,18,null,null,null,null,5,null,null,null,null,16]
[null,null,4,null,null,4,null,"Jule",null,null,null,null,null,null,null,null,null,null,null,10,null,null,null,null,null,4,null,null,null,null,null,null,null,null,null,null,3,null,null,null,null,null,null,null,null,null,null,3,null,null,null,null,null,null,null,null,null,null,22,null,null,null,null,":",null,22,null,null,null,null,0,null,null,null,null,15]
[null,null,5,null,null,5,null,"Christoph",null,null,null,null,null,null,null,null,null,null,null,10,null,null,null,null,null,2,null,null,null,null,null,null,null,null,null,null,1,null,null,null,null,null,null,null,null,null,null,7,null,null,null,null,null,null,null,null,null,null,13,null,null,null,null,":",null,28,null,null,null,null,-15,null,null,null,null,7]
[null,null,6,null,null,6,null,"Schmiddi",null,null,null,null,null,null,null,null,null,null,null,10,null,null,null,null,null,1,null,null,null,null,null,null,null,null,null,null,2,null,null,null,null,null,null,null,null,null,null,7,null,null,null,null,null,null,null,null,null,null,19,null,null,null,null,":",null,34,null,null,null,null,-15,null,null,null,null,5]
[null,null,"---",null,null,"---",null,"Spieler 7",null,null,null,null,null,null,null,null,null,null,null,0,null,null,null,null,null,0,null,null,null,null,null,null,null,null,null,null,0,null,null,null,null,null,null,null,null,null,null,0,null,null,null,null,null,null,null,null,null,null,0,null,null,null,null,":",null,0,null,null,null,null,0,null,null,null,null,0]
[]
[]
[]
[null,null,"Tabelle (nach Alphabet)"]
[]
[null,null,"Rang",null,null,null,null,"Spieler",null,null,null,null,null,null,null,null,null,null,null,"Spiele",null,null,null,null,null,"Siege",null,null,null,null,null,null,null,null,null,null,"Unentschieden",null,null,null,null,null,null,null,null,null,null,"Niederlagen",null,null,null,null,null,null,null,null,null,null,"Tore",null,null,null,null,null,null,null,null,null,null,null,"+/-",null,null,null,null,"Punkte"]
[null,null,{"$f":"IF($H$78=\"Basti\",$F$78,IF($H$79=\"Basti\",$F$79,IF($H$80=\"Basti\",$F$80,IF($H$81=\"Basti\",$F$81,IF($H$82=\"Basti\",$F$82,IF($H$83=\"Basti\",$F$83,IF($H$84=\"Basti\",$F$84,0)))))))","v":0},null,null,null,null,"Basti",null,null,null,null,null,null,null,null,null,null,null,{"$f":"IF($H$78=\"Basti\",$T$78,IF($H$79=\"Basti\",$T$79,IF($H$80=\"Basti\",$T$80,IF($H$81=\"Basti\",$T$81,IF($H$82=\"Basti\",$T$82,IF($H$83=\"Basti\",$T$83,IF($H$84=\"Basti\",$T$84,0)))))))","v":0},null,null,null,null,null,{"$f":"IF($H$78=\"Basti\",$Z$78,IF($H$79=\"Basti\",$Z$79,IF($H$80=\"Basti\",$Z$80,IF($H$81=\"Basti\",$Z$81,IF($H$82=\"Basti\",$Z$82,IF($H$83=\"Basti\",$Z$83,IF($H$84=\"Basti\",$Z$84,0)))))))","v":0},null,null,null,null,null,null,null,null,null,null,{"$f":"IF($H$78=\"Basti\",$AK$78,IF($H$79=\"Basti\",$AK$79,IF($H$80=\"Basti\",$AK$80,IF($H$81=\"Basti\",$AK$81,IF($H$82=\"Basti\",$AK$82,IF($H$83=\"Basti\",$AK$83,IF($H$84=\"Basti\",$AK$84,0)))))))","v":0},null,null,null,null,null,null,null,null,null,null,{"$f":"IF($H$78=\"Basti\",$AV$78,IF($H$79=\"Basti\",$AV$79,IF($H$80=\"Basti\",$AV$80,IF($H$81=\"Basti\",$AV$81,IF($H$82=\"Basti\",$AV$82,IF($H$83=\"Basti\",$AV$83,IF($H$84=\"Basti\",$AV$84,0)))))))","v":0},null,null,null,null,null,null,null,null,null,null,{"$f":"IF($H$78=\"Basti\",$BG$78,IF($H$79=\"Basti\",$BG$79,IF($H$80=\"Basti\",$BG$80,IF($H$81=\"Basti\",$BG$81,IF($H$82=\"Basti\",$BG$82,IF($H$83=\"Basti\",$BG$83,IF($H$84=\"Basti\",$BG$84,0)))))))","v":0},null,null,null,null,":",null,{"$f":"IF($H$78=\"Basti\",$BN$78,IF($H$79=\"Basti\",$BN$79,IF($H$80=\"Basti\",$BN$80,IF($H$81=\"Basti\",$BN$81,IF($H$82=\"Basti\",$BN$82,IF($H$83=\"Basti\",$BN$83,IF($H$84=\"Basti\",$BN$84,0)))))))","v":0},null,null,null,null,{"$f":"IF($H$78=\"Basti\",$BS$78,IF($H$79=\"Basti\",$BS$79,IF($H$80=\"Basti\",$BS$80,IF($H$81=\"Basti\",$BS$81,IF($H$82=\"Basti\",$BS$82,IF($H$83=\"Basti\",$BS$83,IF($H$84=\"Basti\",$BS$84,0)))))))","v":0},null,null,null,null,{"$f":"IF($H$78=\"Basti\",$BX$78,IF($H$79=\"Basti\",$BX$79,IF($H$80=\"Basti\",$BX$80,IF($H$81=\"Basti\",$BX$81,IF($H$82=\"Basti\",$BX$82,IF($H$83=\"Basti\",$BX$83,IF($H$84=\"Basti\",$BX$84,0)))))))","v":0}]
[null,null,{"$f":"IF($H$78=\"Christoph\",$F$78,IF($H$79=\"Christoph\",$F$79,IF($H$80=\"Christoph\",$F$80,IF($H$81=\"Christoph\",$F$81,IF($H$82=\"Christoph\",$F$82,IF($H$83=\"Christoph\",$F$83,IF($H$84=\"Christoph\",$F$84,0)))))))","v":5},null,null,null,null,"Christoph",null,null,null,null,null,null,null,null,null,null,null,{"$f":"IF($H$78=\"Christoph\",$T$78,IF($H$79=\"Christoph\",$T$79,IF($H$80=\"Christoph\",$T$80,IF($H$81=\"Christoph\",$T$81,IF($H$82=\"Christoph\",$T$82,IF($H$83=\"Christoph\",$T$83,IF($H$84=\"Christoph\",$T$84,0)))))))","v":10},null,null,null,null,null,{"$f":"IF($H$78=\"Christoph\",$Z$78,IF($H$79=\"Christoph\",$Z$79,IF($H$80=\"Christoph\",$Z$80,IF($H$81=\"Christoph\",$Z$81,IF($H$82=\"Christoph\",$Z$82,IF($H$83=\"Christoph\",$Z$83,IF($H$84=\"Christoph\",$Z$84,0)))))))","v":2},null,null,null,null,null,null,null,null,null,null,{"$f":"IF($H$78=\"Christoph\",$AK$78,IF($H$79=\"Christoph\",$AK$79,IF($H$80=\"Christoph\",$AK$80,IF($H$81=\"Christoph\",$AK$81,IF($H$82=\"Christoph\",$AK$82,IF($H$83=\"Christoph\",$AK$83,IF($H$84=\"Christoph\",$AK$84,0)))))))","v":1},null,null,null,null,null,null,null,null,null,null,{"$f":"IF($H$78=\"Christoph\",$AV$78,IF($H$79=\"Christoph\",$AV$79,IF($H$80=\"Christoph\",$AV$80,IF($H$81=\"Christoph\",$AV$81,IF($H$82=\"Christoph\",$AV$82,IF($H$83=\"Christoph\",$AV$83,IF($H$84=\"Christoph\",$AV$84,0)))))))","v":7},null,null,null,null,null,null,null,null,null,null,{"$f":"IF($H$78=\"Christoph\",$BG$78,IF($H$79=\"Christoph\",$BG$79,IF($H$80=\"Christoph\",$BG$80,IF($H$81=\"Christoph\",$BG$81,IF($H$82=\"Christoph\",$BG$82,IF($H$83=\"Christoph\",$BG$83,IF($H$84=\"Christoph\",$BG$84,0)))))))","v":13},null,null,null,null,":",null,{"$f":"IF($H$78=\"Christoph\",$BN$78,IF($H$79=\"Christoph\",$BN$79,IF($H$80=\"Christoph\",$BN$80,IF($H$81=\"Christoph\",$BN$81,IF($H$82=\"Christoph\",$BN$82,IF($H$83=\"Christoph\",$BN$83,IF($H$84=\"Christoph\",$BN$84,0)))))))","v":28},null,null,null,null,{"$f":"IF($H$78=\"Christoph\",$BS$78,IF($H$79=\"Christoph\",$BS$79,IF($H$80=\"Christoph\",$BS$80,IF($H$81=\"Christoph\",$BS$81,IF($H$82=\"Christoph\",$BS$82,IF($H$83=\"Christoph\",$BS$83,IF($H$84=\"Christoph\",$BS$84,0)))))))","v":-15},null,null,null,null,{"$f":"IF($H$78=\"Christoph\",$BX$78,IF($H$79=\"Christoph\",$BX$79,IF($H$80=\"Christoph\",$BX$80,IF($H$81=\"Christoph\",$BX$81,IF($H$82=\"Christoph\",$BX$82,IF($H$83=\"Christoph\",$BX$83,IF($H$84=\"Christoph\",$BX$84,0)))))))","v":7}]
[null,null,{"$f":"IF($H$78=\"Jule\",$F$78,IF($H$79=\"Jule\",$F$79,IF($H$80=\"Jule\",$F$80,IF($H$81=\"Jule\",$F$81,IF($H$82=\"Jule\",$F$82,IF($H$83=\"Jule\",$F$83,IF($H$84=\"Jule\",$F$84,0)))))))","v":4},null,null,null,null,"Jule",null,null,null,null,null,null,null,null,null,null,null,{"$f":"IF($H$78=\"Jule\",$T$78,IF($H$79=\"Jule\",$T$79,IF($H$80=\"Jule\",$T$80,IF($H$81=\"Jule\",$T$81,IF($H$82=\"Jule\",$T$82,IF($H$83=\"Jule\",$T$83,IF($H$84=\"Jule\",$T$84,0)))))))","v":10},null,null,null,null,null,{"$f":"IF($H$78=\"Jule\",$Z$78,IF($H$79=\"Jule\",$Z$79,IF($H$80=\"Jule\",$Z$80,IF($H$81=\"Jule\",$Z$81,IF($H$82=\"Jule\",$Z$82,IF($H$83=\"Jule\",$Z$83,IF($H$84=\"Jule\",$Z$84,0)))))))","v":4},null,null,null,null,null,null,null,null,null,null,{"$f":"IF($H$78=\"Jule\",$AK$78,IF($H$79=\"Jule\",$AK$79,IF($H$80=\"Jule\",$AK$80,IF($H$81=\"Jule\",$AK$81,IF($H$82=\"Jule\",$AK$82,IF($H$83=\"Jule\",$AK$83,IF($H$84=\"Jule\",$AK$84,0)))))))","v":3},null,null,null,null,null,null,null,null,null,null,{"$f":"IF($H$78=\"Jule\",$AV$78,IF($H$79=\"Jule\",$AV$79,IF($H$80=\"Jule\",$AV$80,IF($H$81=\"Jule\",$AV$81,IF($H$82=\"Jule\",$AV$82,IF($H$83=\"Jule\",$AV$83,IF($H$84=\"Jule\",$AV$84,0)))))))","v":3},null,null,null,null,null,null,null,null,null,null,{"$f":"IF($H$78=\"Jule\",$BG$78,IF($H$79=\"Jule\",$BG$79,IF($H$80=\"Jule\",$BG$80,IF($H$81=\"Jule\",$BG$81,IF($H$82=\"Jule\",$BG$82,IF($H$83=\"Jule\",$BG$83,IF($H$84=\"Jule\",$BG$84,0)))))))","v":22},null,null,null,null,":",null,{"$f":"IF($H$78=\"Jule\",$BN$78,IF($H$79=\"Jule\",$BN$79,IF($H$80=\"Jule\",$BN$80,IF($H$81=\"Jule\",$BN$81,IF($H$82=\"Jule\",$BN$82,IF($H$83=\"Jule\",$BN$83,IF($H$84=\"Jule\",$BN$84,0)))))))","v":22},null,null,null,null,{"$f":"IF($H$78=\"Jule\",$BS$78,IF($H$79=\"Jule\",$BS$79,IF($H$80=\"Jule\",$BS$80,IF($H$81=\"Jule\",$BS$81,IF($H$82=\"Jule\",$BS$82,IF($H$83=\"Jule\",$BS$83,IF($H$84=\"Jule\",$BS$84,0)))))))","v":0},null,null,null,null,{"$f":"IF($H$78=\"Jule\",$BX$78,IF($H$79=\"Jule\",$BX$79,IF($H$80=\"Jule\",$BX$80,IF($H$81=\"Jule\",$BX$81,IF($H$82=\"Jule\",$BX$82,IF($H$83=\"Jule\",$BX$83,IF($H$84=\"Jule\",$BX$84,0)))))))","v":15}]
[null,null,{"$f":"IF($H$78=\"Markus\",$F$78,IF($H$79=\"Markus\",$F$79,IF($H$80=\"Markus\",$F$80,IF($H$81=\"Markus\",$F$81,IF($H$82=\"Markus\",$F$82,IF($H$83=\"Markus\",$F$83,IF($H$84=\"Markus\",$F$84,0)))))))","v":2},null,null,null,null,"Markus",null,null,null,null,null,null,null,null,null,null,null,{"$f":"IF($H$78=\"Markus\",$T$78,IF($H$79=\"Markus\",$T$79,IF($H$80=\"Markus\",$T$80,IF($H$81=\"Markus\",$T$81,IF($H$82=\"Markus\",$T$82,IF($H$83=\"Markus\",$T$83,IF($H$84=\"Markus\",$T$84,0)))))))","v":10},null,null,null,null,null,{"$f":"IF($H$78=\"Markus\",$Z$78,IF($H$79=\"Markus\",$Z$79,IF($H$80=\"Markus\",$Z$80,IF($H$81=\"Markus\",$Z$81,IF($H$82=\"Markus\",$Z$82,IF($H$83=\"Markus\",$Z$83,IF($H$84=\"Markus\",$Z$84,0)))))))","v":6},null,null,null,null,null,null,null,null,null,null,{"$f":"IF($H$78=\"Markus\",$AK$78,IF($H$79=\"Markus\",$AK$79,IF($H$80=\"Markus\",$AK$80,IF($H$81=\"Markus\",$AK$81,IF($H$82=\"Markus\",$AK$82,IF($H$83=\"Markus\",$AK$83,IF($H$84=\"Markus\",$AK$84,0)))))))","v":2},null,null,null,null,null,null,null,null,null,null,{"$f":"IF($H$78=\"Markus\",$AV$78,IF($H$79=\"Markus\",$AV$79,IF($H$80=\"Markus\",$AV$80,IF($H$81=\"Markus\",$AV$81,IF($H$82=\"Markus\",$AV$82,IF($H$83=\"Markus\",$AV$83,IF($H$84=\"Markus\",$AV$84,0)))))))","v":2},null,null,null,null,null,null,null,null,null,null,{"$f":"IF($H$78=\"Markus\",$BG$78,IF($H$79=\"Markus\",$BG$79,IF($H$80=\"Markus\",$BG$80,IF($H$81=\"Markus\",$BG$81,IF($H$82=\"Markus\",$BG$82,IF($H$83=\"Markus\",$BG$83,IF($H$84=\"Markus\",$BG$84,0)))))))","v":29},null,null,null,null,":",null,{"$f":"IF($H$78=\"Markus\",$BN$78,IF($H$79=\"Markus\",$BN$79,IF($H$80=\"Markus\",$BN$80,IF($H$81=\"Markus\",$BN$81,IF($H$82=\"Markus\",$BN$82,IF($H$83=\"Markus\",$BN$83,IF($H$84=\"Markus\",$BN$84,0)))))))","v":20},null,null,null,null,{"$f":"IF($H$78=\"Markus\",$BS$78,IF($H$79=\"Markus\",$BS$79,IF($H$80=\"Markus\",$BS$80,IF($H$81=\"Markus\",$BS$81,IF($H$82=\"Markus\",$BS$82,IF($H$83=\"Markus\",$BS$83,IF($H$84=\"Markus\",$BS$84,0)))))))","v":9},null,null,null,null,{"$f":"IF($H$78=\"Markus\",$BX$78,IF($H$79=\"Markus\",$BX$79,IF($H$80=\"Markus\",$BX$80,IF($H$81=\"Markus\",$BX$81,IF($H$82=\"Markus\",$BX$82,IF($H$83=\"Markus\",$BX$83,IF($H$84=\"Markus\",$BX$84,0)))))))","v":20}]
[null,null,{"$f":"IF($H$78=\"Patrick\",$F$78,IF($H$79=\"Patrick\",$F$79,IF($H$80=\"Patrick\",$F$80,IF($H$81=\"Patrick\",$F$81,IF($H$82=\"Patrick\",$F$82,IF($H$83=\"Patrick\",$F$83,IF($H$84=\"Patrick\",$F$84,0)))))))","v":1},null,null,null,null,"Patrick",null,null,null,null,null,null,null,null,null,null,null,{"$f":"IF($H$78=\"Patrick\",$T$78,IF($H$79=\"Patrick\",$T$79,IF($H$80=\"Patrick\",$T$80,IF($H$81=\"Patrick\",$T$81,IF($H$82=\"Patrick\",$T$82,IF($H$83=\"Patrick\",$T$83,IF($H$84=\"Patrick\",$T$84,0)))))))","v":10},null,null,null,null,null,{"$f":"IF($H$78=\"Patrick\",$Z$78,IF($H$79=\"Patrick\",$Z$79,IF($H$80=\"Patrick\",$Z$80,IF($H$81=\"Patrick\",$Z$81,IF($H$82=\"Patrick\",$Z$82,IF($H$83=\"Patrick\",$Z$83,IF($H$84=\"Patrick\",$Z$84,0)))))))","v":7},null,null,null,null,null,null,null,null,null,null,{"$f":"IF($H$78=\"Patrick\",$AK$78,IF($H$79=\"Patrick\",$AK$79,IF($H$80=\"Patrick\",$AK$80,IF($H$81=\"Patrick\",$AK$81,IF($H$82=\"Patrick\",$AK$82,IF($H$83=\"Patrick\",$AK$83,IF($H$84=\"Patrick\",$AK$84,0)))))))","v":1},null,null,null,null,null,null,null,null,null,null,{"$f":"IF($H$78=\"Patrick\",$AV$78,IF($H$79=\"Patrick\",$AV$79,IF($H$80=\"Patrick\",$AV$80,IF($H$81=\"Patrick\",$AV$81,IF($H$82=\"Patrick\",$AV$82,IF($H$83=\"Patrick\",$AV$83,IF($H$84=\"Patrick\",$AV$84,0)))))))","v":2},null,null,null,null,null,null,null,null,null,null,{"$f":"IF($H$78=\"Patrick\",$BG$78,IF($H$79=\"Patrick\",$BG$79,IF($H$80=\"Patrick\",$BG$80,IF($H$81=\"Patrick\",$BG$81,IF($H$82=\"Patrick\",$BG$82,IF($H$83=\"Patrick\",$BG$83,IF($H$84=\"Patrick\",$BG$84,0)))))))","v":29},null,null,null,null,":",null,{"$f":"IF($H$78=\"Patrick\",$BN$78,IF($H$79=\"Patrick\",$BN$79,IF($H$80=\"Patrick\",$BN$80,IF($H$81=\"Patrick\",$BN$81,IF($H$82=\"Patrick\",$BN$82,IF($H$83=\"Patrick\",$BN$83,IF($H$84=\"Patrick\",$BN$84,0)))))))","v":13},null,null,null,null,{"$f":"IF($H$78=\"Patrick\",$BS$78,IF($H$79=\"Patrick\",$BS$79,IF($H$80=\"Patrick\",$BS$80,IF($H$81=\"Patrick\",$BS$81,IF($H$82=\"Patrick\",$BS$82,IF($H$83=\"Patrick\",$BS$83,IF($H$84=\"Patrick\",$BS$84,0)))))))","v":16},null,null,null,null,{"$f":"IF($H$78=\"Patrick\",$BX$78,IF($H$79=\"Patrick\",$BX$79,IF($H$80=\"Patrick\",$BX$80,IF($H$81=\"Patrick\",$BX$81,IF($H$82=\"Patrick\",$BX$82,IF($H$83=\"Patrick\",$BX$83,IF($H$84=\"Patrick\",$BX$84,0)))))))","v":22}]
[null,null,{"$f":"IF($H$78=\"Ratze\",$F$78,IF($H$79=\"Ratze\",$F$79,IF($H$80=\"Ratze\",$F$80,IF($H$81=\"Ratze\",$F$81,IF($H$82=\"Ratze\",$F$82,IF($H$83=\"Ratze\",$F$83,IF($H$84=\"Ratze\",$F$84,0)))))))","v":3},null,null,null,null,"Ratze",null,null,null,null,null,null,null,null,null,null,null,{"$f":"IF($H$78=\"Ratze\",$T$78,IF($H$79=\"Ratze\",$T$79,IF($H$80=\"Ratze\",$T$80,IF($H$81=\"Ratze\",$T$81,IF($H$82=\"Ratze\",$T$82,IF($H$83=\"Ratze\",$T$83,IF($H$84=\"Ratze\",$T$84,0)))))))","v":10},null,null,null,null,null,{"$f":"IF($H$78=\"Ratze\",$Z$78,IF($H$79=\"Ratze\",$Z$79,IF($H$80=\"Ratze\",$Z$80,IF($H$81=\"Ratze\",$Z$81,IF($H$82=\"Ratze\",$Z$82,IF($H$83=\"Ratze\",$Z$83,IF($H$84=\"Ratze\",$Z$84,0)))))))","v":5},null,null,null,null,null,null,null,null,null,null,{"$f":"IF($H$78=\"Ratze\",$AK$78,IF($H$79=\"Ratze\",$AK$79,IF($H$80=\"Ratze\",$AK$80,IF($H$81=\"Ratze\",$AK$81,IF($H$82=\"Ratze\",$AK$82,IF($H$83=\"Ratze\",$AK$83,IF($H$84=\"Ratze\",$AK$84,0)))))))","v":1},null,null,null,null,null,null,null,null,null,null,{"$f":"IF($H$78=\"Ratze\",$AV$78,IF($H$79=\"Ratze\",$AV$79,IF($H$80=\"Ratze\",$AV$80,IF($H$81=\"Ratze\",$AV$81,IF($H$82=\"Ratze\",$AV$82,IF($H$83=\"Ratze\",$AV$83,IF($H$84=\"Ratze\",$AV$84,0)))))))","v":4},null,null,null,null,null,null,null,null,null,null,{"$f":"IF($H$78=\"Ratze\",$BG$78,IF($H$79=\"Ratze\",$BG$79,IF($H$80=\"Ratze\",$BG$80,IF($H$81=\"Ratze\",$BG$81,IF($H$82=\"Ratze\",$BG$82,IF($H$83=\"Ratze\",$BG$83,IF($H$84=\"Ratze\",$BG$84,0)))))))","v":23},null,null,null,null,":",null,{"$f":"IF($H$78=\"Ratze\",$BN$78,IF($H$79=\"Ratze\",$BN$79,IF($H$80=\"Ratze\",$BN$80,IF($H$81=\"Ratze\",$BN$81,IF($H$82=\"Ratze\",$BN$82,IF($H$83=\"Ratze\",$BN$83,IF($H$84=\"Ratze\",$BN$84,0)))))))","v":18},null,null,null,null,{"$f":"IF($H$78=\"Ratze\",$BS$78,IF($H$79=\"Ratze\",$BS$79,IF($H$80=\"Ratze\",$BS$80,IF($H$81=\"Ratze\",$BS$81,IF($H$82=\"Ratze\",$BS$82,IF($H$83=\"Ratze\",$BS$83,IF($H$84=\"Ratze\",$BS$84,0)))))))","v":5},null,null,null,null,{"$f":"IF($H$78=\"Ratze\",$BX$78,IF($H$79=\"Ratze\",$BX$79,IF($H$80=\"Ratze\",$BX$80,IF($H$81=\"Ratze\",$BX$81,IF($H$82=\"Ratze\",$BX$82,IF($H$83=\"Ratze\",$BX$83,IF($H$84=\"Ratze\",$BX$84,0)))))))","v":16}]
[null,null,{"$f":"IF($H$78=\"Schmiddi\",$F$78,IF($H$79=\"Schmiddi\",$F$79,IF($H$80=\"Schmiddi\",$F$80,IF($H$81=\"Schmiddi\",$F$81,IF($H$82=\"Schmiddi\",$F$82,IF($H$83=\"Schmiddi\",$F$83,IF($H$84=\"Schmiddi\",$F$84,0)))))))","v":6},null,null,null,null,"Schmiddi",null,null,null,null,null,null,null,null,null,null,null,{"$f":"IF($H$78=\"Schmiddi\",$T$78,IF($H$79=\"Schmiddi\",$T$79,IF($H$80=\"Schmiddi\",$T$80,IF($H$81=\"Schmiddi\",$T$81,IF($H$82=\"Schmiddi\",$T$82,IF($H$83=\"Schmiddi\",$T$83,IF($H$84=\"Schmiddi\",$T$84,0)))))))","v":10},null,null,null,null,null,{"$f":"IF($H$78=\"Schmiddi\",$Z$78,IF($H$79=\"Schmiddi\",$Z$79,IF($H$80=\"Schmiddi\",$Z$80,IF($H$81=\"Schmiddi\",$Z$81,IF($H$82=\"Schmiddi\",$Z$82,IF($H$83=\"Schmiddi\",$Z$83,IF($H$84=\"Schmiddi\",$Z$84,0)))))))","v":1},null,null,null,null,null,null,null,null,null,null,{"$f":"IF($H$78=\"Schmiddi\",$AK$78,IF($H$79=\"Schmiddi\",$AK$79,IF($H$80=\"Schmiddi\",$AK$80,IF($H$81=\"Schmiddi\",$AK$81,IF($H$82=\"Schmiddi\",$AK$82,IF($H$83=\"Schmiddi\",$AK$83,IF($H$84=\"Schmiddi\",$AK$84,0)))))))","v":2},null,null,null,null,null,null,null,null,null,null,{"$f":"IF($H$78=\"Schmiddi\",$AV$78,IF($H$79=\"Schmiddi\",$AV$79,IF($H$80=\"Schmiddi\",$AV$80,IF($H$81=\"Schmiddi\",$AV$81,IF($H$82=\"Schmiddi\",$AV$82,IF($H$83=\"Schmiddi\",$AV$83,IF($H$84=\"Schmiddi\",$AV$84,0)))))))","v":7},null,null,null,null,null,null,null,null,null,null,{"$f":"IF($H$78=\"Schmiddi\",$BG$78,IF($H$79=\"Schmiddi\",$BG$79,IF($H$80=\"Schmiddi\",$BG$80,IF($H$81=\"Schmiddi\",$BG$81,IF($H$82=\"Schmiddi\",$BG$82,IF($H$83=\"Schmiddi\",$BG$83,IF($H$84=\"Schmiddi\",$BG$84,0)))))))","v":19},null,null,null,null,":",null,{"$f":"IF($H$78=\"Schmiddi\",$BN$78,IF($H$79=\"Schmiddi\",$BN$79,IF($H$80=\"Schmiddi\",$BN$80,IF($H$81=\"Schmiddi\",$BN$81,IF($H$82=\"Schmiddi\",$BN$82,IF($H$83=\"Schmiddi\",$BN$83,IF($H$84=\"Schmiddi\",$BN$84,0)))))))","v":34},null,null,null,null,{"$f":"IF($H$78=\"Schmiddi\",$BS$78,IF($H$79=\"Schmiddi\",$BS$79,IF($H$80=\"Schmiddi\",$BS$80,IF($H$81=\"Schmiddi\",$BS$81,IF($H$82=\"Schmiddi\",$BS$82,IF($H$83=\"Schmiddi\",$BS$83,IF($H$84=\"Schmiddi\",$BS$84,0)))))))","v":-15},null,null,null,null,{"$f":"IF($H$78=\"Schmiddi\",$BX$78,IF($H$79=\"Schmiddi\",$BX$79,IF($H$80=\"Schmiddi\",$BX$80,IF($H$81=\"Schmiddi\",$BX$81,IF($H$82=\"Schmiddi\",$BX$82,IF($H$83=\"Schmiddi\",$BX$83,IF($H$84=\"Schmiddi\",$BX$84,0)))))))","v":5}]

{"sheet":"3.3.","index":15,"n_rows":97,"n_cols":88,"rows_kept":97,"cut":false,"hidden":false,"merged":[[6,16,6,26],[6,27,6,37],[6,38,6,48],[6,49,6,59],[6,60,6,70],[6,71,6,81],[0,0,0,83],[1,1,1,82],[1,83,84,83],[2,1,2,82],[3,1,3,82],[4,1,7,1],[4,2,4,81],[4,82,7,82],[5,2,5,81],[6,2,6,15],[13,12,13,16],[13,18,13,22],[13,24,13,33],[13,35,13,67],[13,69,13,81],[14,2,14,81],[7,71,7,81],[8,1,8,82],[9,1,9,82],[10,1,10,82],[11,1,45,1],[11,2,11,81],[11,82,45,82],[12,2,12,81],[13,2,13,5],[13,7,13,10],[7,2,7,15],[7,16,7,26],[7,27,7,37],[7,38,7,48],[7,49,7,59],[7,60,7,70],[15,53,15,67],[15,68,29,68],[15,69,15,73],[15,74,15,76],[15,77,15,81],[16,7,16,10],[16,12,16,16],[16,18,16,22],[16,24,16,33],[16,35,16,49],[15,18,15,22],[15,23,29,23],[15,24,15,33],[15,34,29,34],[15,35,15,49],[15,50,15,52],[16,50,16,52],[15,7,15,10],[15,11,29,11],[15,12,15,16],[15,17,29,17],[18,7,18,10],[18,12,18,16],[18,18,18,22],[18,24,18,33],[18,35,18,49],[18,50,18,52],[20,7,20,10],[20,12,20,16],[20,18,20,22],[20,24,20,33],[20,35,20,49],[20,50,20,52],[22,7,22,10],[16,53,16,67],[16,69,16,73],[16,74,16,76],[16,77,16,81],[17,7,17,10],[17,12,17,16],[17,18,17,22],[17,24,17,33],[17,35,17,49],[17,50,17,52],[17,53,17,67],[17,69,17,73],[17,74,17,76],[17,77,17,81],[18,53,18,67],[18,69,18,73],[18,74,18,76],[18,77,18,81],[19,7,19,10],[19,12,19,16],[19,18,19,22],[19,24,19,33],[19,35,19,49],[19,50,19,52],[19,53,19,67],[19,69,19,73],[19,74,19,76],[19,77,19,81],[20,53,20,67],[20,69,20,73],[20,74,20,76],[20,77,20,81],[21,7,21,10],[21,12,21,16],[21,18,21,22],[21,24,21,33],[21,35,21,49],[21,50,21,52],[21,53,21,67],[21,69,21,73],[21,74,21,76],[21,77,21,81],[22,12,22,16],[22,18,22,22],[22,24,22,33],[22,35,22,49],[22,50,22,52],[22,53,22,67],[22,69,22,73],[22,74,22,76],[22,77,22,81],[23,77,23,81],[24,7,24,10],[24,12,24,16],[24,18,24,22],[24,24,24,33],[24,35,24,49],[24,50,24,52],[24,53,24,67],[24,69,24,73],[24,74,24,76],[24,77,24,81],[23,7,23,10],[23,12,23,16],[23,18,23,22],[23,24,23,33],[23,35,23,49],[23,50,23,52],[23,53,23,67],[23,69,23,73],[23,74,23,76],[25,77,25,81],[26,7,26,10],[26,12,26,16],[26,18,26,22],[26,24,26,33],[26,35,26,49],[26,50,26,52],[26,53,26,67],[26,69,26,73],[26,74,26,76],[26,77,26,81],[25,7,25,10],[25,12,25,16],[25,18,25,22],[25,24,25,33],[25,35,25,49],[25,50,25,52],[25,53,25,67],[25,69,25,73],[25,74,25,76],[27,77,27,81],[28,7,28,10],[28,12,28,16],[28,18,28,22],[28,24,28,33],[28,35,28,49],[28,50,28,52],[28,53,28,67],[28,69,28,73],[28,74,28,76],[28,77,28,81],[27,7,27,10],[27,12,27,16],[27,18,27,22],[27,24,27,33],[27,35,27,49],[27,50,27,52],[27,53,27,67],[27,69,27,73],[27,74,27,76],[29,7,29,10],[29,12,29,16],[29,18,29,22],[29,24,29,33],[29,35,29,49],[29,50,29,52],[29,53,29,67],[29,69,29,73],[29,74,29,76],[29,77,29,81],[30,2,30,81],[31,2,45,5],[31,6,45,6],[31,7,31,10],[31,11,45,11],[31,12,31,16],[15,2,29,5],[15,6,29,6],[31,69,31,73],[31,74,31,76],[31,77,31,81],[32,53,32,67],[32,69,32,73],[32,74,32,76],[32,77,32,81],[31,17,45,17],[31,18,31,22],[31,23,45,23],[31,24,31,33],[31,34,45,34],[31,35,31,49],[32,7,32,10],[32,12,32,16],[32,18,32,22],[32,24,32,33],[32,35,32,49],[32,50,32,52],[31,50,31,52],[31,53,31,67],[31,68,45,68],[33,53,33,67],[33,69,33,73],[43,69,43,73],[33,74,33,76],[33,77,33,81],[34,7,34,10],[34,12,34,16],[34,18,34,22],[34,24,34,33],[34,35,34,49],[34,50,34,52],[33,7,33,10],[33,12,33,16],[33,18,33,22],[33,24,33,33],[33,35,33,49],[33,50,33,52],[34,53,34,67],[34,69,34,73],[34,74,34,76],[34,77,34,81],[35,77,35,81],[36,7,36,10],[36,12,36,16],[36,18,36,22],[36,24,36,33],[36,35,36,49],[36,50,36,52],[36,53,36,67],[36,69,36,73],[36,74,36,76],[36,77,36,81],[35,7,35,10],[35,12,35,16],[35,18,35,22],[35,24,35,33],[35,35,35,49],[35,50,35,52],[35,53,35,67],[35,69,35,73],[35,74,35,76],[37,77,37,81],[38,7,38,10],[38,12,38,16],[38,18,38,22],[38,24,38,33],[38,35,38,49],[38,50,38,52],[38,53,38,67],[38,69,38,73],[38,74,38,76],[38,77,38,81],[37,7,37,10],[37,12,37,16],[37,18,37,22],[37,24,37,33],[37,35,37,49],[37,50,37,52],[37,53,37,67],[37,69,37,73],[37,74,37,76],[39,77,39,81],[40,7,40,10],[40,12,40,16],[40,18,40,22],[40,24,40,33],[40,35,40,49],[40,50,40,52],[40,53,40,67],[40,69,40,73],[40,74,40,76],[40,77,40,81],[39,7,39,10],[39,12,39,16],[39,18,39,22],[39,24,39,33],[39,35,39,49],[39,50,39,52],[39,53,39,67],[39,69,39,73],[39,74,39,76],[43,74,43,76],[41,77,41,81],[42,7,42,10],[42,12,42,16],[42,18,42,22],[42,24,42,33],[42,35,42,49],[42,50,42,52],[42,53,42,67],[42,69,42,73],[42,74,42,76],[42,77,42,81],[41,7,41,10],[41,12,41,16],[41,18,41,22],[41,24,41,33],[41,35,41,49],[41,50,41,52],[41,53,41,67],[41,69,41,73],[41,74,41,76],[60,1,60,82],[61,1,69,1],[61,2,61,81],[61,82,69,82],[62,2,62,81],[63,2,63,6],[43,77,43,81],[44,7,44,10],[44,12,44,16],[44,18,44,22],[44,24,44,33],[44,35,44,49],[44,50,44,52],[45,53,45,67],[45,69,45,73],[45,74,45,76],[45,77,45,81],[43,7,43,10],[43,12,43,16],[43,18,43,22],[43,24,43,33],[43,35,43,49],[43,50,43,52],[43,53,43,67],[46,1,46,82],[59,1,59,82],[44,53,44,67],[44,69,44,73],[44,74,44,76],[44,77,44,81],[45,7,45,10],[45,12,45,16],[45,18,45,22],[45,24,45,33],[45,35,45,49],[45,50,45,52],[63,7,63,18],[63,19,63,24],[63,25,63,35],[63,36,63,46],[63,47,63,57],[63,58,63,69],[63,70,63,74],[63,75,63,78],[63,79,63,81],[64,2,64,6],[64,7,64,18],[64,19,64,24],[64,25,64,35],[64,36,64,46],[64,79,64,81],[64,70,64,74],[64,75,64,78],[65,70,65,74],[65,75,65,78],[65,79,65,81],[64,47,64,57],[65,2,65,6],[65,7,65,18],[65,19,65,24],[64,58,64,62],[64,63,64,64],[64,65,64,69],[66,2,66,6],[66,7,66,18],[66,19,66,24],[66,25,66,35],[66,36,66,46],[66,47,66,57],[66,58,66,62],[66,63,66,64],[66,65,66,69],[66,70,66,74],[66,75,66,78],[66,79,66,81],[65,25,65,35],[65,36,65,46],[65,47,65,57],[65,58,65,62],[65,63,65,64],[65,65,65,69],[67,2,67,6],[67,7,67,18],[67,19,67,24],[67,25,67,35],[67,36,67,46],[67,79,67,81],[68,2,68,6],[68,7,68,18],[68,19,68,24],[68,25,68,35],[68,36,68,46],[68,47,68,57],[68,58,68,62],[68,63,68,64],[68,65,68,69],[67,47,67,57],[67,58,67,62],[67,63,67,64],[67,65,67,69],[67,70,67,74],[67,75,67,78],[68,70,68,74],[68,75,68,78],[68,79,68,81],[69,70,69,74],[69,75,69,78],[69,79,69,81],[70,2,70,6],[70,7,70,18],[70,19,70,24],[70,25,70,35],[70,36,70,46],[70,79,70,81],[70,47,70,57],[70,58,70,62],[70,63,70,64],[70,65,70,69],[70,70,70,74],[70,75,70,78],[69,2,69,6],[69,7,69,18],[69,19,69,24],[69,25,69,35],[69,36,69,46],[69,47,69,57],[69,58,69,62],[69,63,69,64],[69,65,69,69],[71,1,71,82],[72,1,72,82],[73,1,73,82],[74,1,82,1],[74,2,74,81],[74,82,82,82],[75,2,75,81],[76,2,76,6],[76,7,76,18],[76,75,76,81],[77,2,77,4],[77,5,77,6],[77,7,77,18],[77,19,77,24],[77,25,77,35],[77,36,77,46],[77,47,77,57],[77,58,77,62],[77,63,77,64],[76,19,76,24],[76,25,76,35],[76,36,76,46],[76,47,76,57],[76,58,76,69],[76,70,76,74],[77,65,77,69],[77,70,77,74],[77,75,77,81],[78,2,78,4],[78,5,78,6],[78,7,78,18],[78,19,78,24],[78,25,78,35],[78,36,78,46],[78,47,78,57],[78,58,78,62],[78,63,78,64],[78,65,78,69],[78,70,78,74],[78,75,78,81],[79,2,79,4],[79,5,79,6],[79,7,79,18],[79,19,79,24],[79,25,79,35],[79,75,79,81],[80,2,80,4],[80,5,80,6],[80,7,80,18],[80,19,80,24],[80,25,80,35],[80,36,80,46],[80,47,80,57],[80,58,80,62],[80,63,80,64],[79,36,79,46],[79,47,79,57],[79,58,79,62],[79,63,79,64],[79,65,79,69],[79,70,79,74],[80,65,80,69],[80,70,80,74],[80,75,80,81],[81,65,81,69],[81,70,81,74],[81,75,81,81],[82,2,82,4],[82,5,82,6],[82,7,82,18],[82,19,82,24],[82,25,82,35],[83,65,83,69],[83,70,83,74],[83,75,83,81],[81,2,81,4],[81,5,81,6],[81,7,81,18],[81,19,81,24],[81,25,81,35],[81,36,81,46],[81,47,81,57],[81,58,81,62],[81,63,81,64],[84,1,84,82],[85,1,85,82],[86,1,86,82],[82,75,82,81],[83,2,83,4],[83,5,83,6],[83,7,83,18],[83,19,83,24],[83,25,83,35],[83,36,83,46],[83,47,83,57],[83,58,83,62],[83,63,83,64],[82,36,82,46],[82,47,82,57],[82,58,82,62],[82,63,82,64],[82,65,82,69],[82,70,82,74],[87,1,96,1],[87,2,87,81],[87,82,96,82],[88,2,88,81],[89,2,89,6],[89,7,89,18],[89,19,89,24],[89,25,89,35],[89,36,89,46],[89,47,89,57],[89,58,89,69],[89,70,89,74],[89,75,89,81],[90,2,90,6],[90,7,90,18],[90,19,90,24],[90,25,90,35],[90,36,90,46],[90,47,90,57],[90,58,90,62],[92,2,92,6],[92,7,92,18],[92,19,92,24],[92,25,92,35],[92,36,92,46],[90,63,90,64],[90,65,90,69],[90,70,90,74],[90,75,90,81],[91,2,91,6],[91,7,91,18],[91,19,91,24],[91,25,91,35],[91,36,91,46],[91,47,91,57],[92,47,92,57],[92,58,92,62],[92,63,92,64],[92,65,92,69],[92,70,92,74],[92,75,92,81],[91,58,91,62],[91,63,91,64],[91,65,91,69],[91,70,91,74],[91,75,91,81],[94,2,94,6],[94,7,94,18],[94,19,94,24],[94,25,94,35],[94,36,94,46],[93,2,93,6],[93,7,93,18],[93,19,93,24],[93,25,93,35],[93,36,93,46],[94,47,94,57],[94,58,94,62],[94,63,94,64],[94,65,94,69],[94,70,94,74],[94,75,94,81],[93,58,93,62],[93,63,93,64],[93,65,93,69],[93,70,93,74],[93,75,93,81],[93,47,93,57],[97,1,97,82],[98,0,98,83],[96,47,96,57],[96,58,96,62],[96,63,96,64],[96,65,96,69],[96,70,96,74],[96,75,96,81],[95,58,95,62],[95,63,95,64],[95,65,95,69],[95,70,95,74],[95,75,95,81],[96,2,96,6],[96,7,96,18],[96,19,96,24],[96,25,96,35],[96,36,96,46],[95,2,95,6],[95,7,95,18],[95,19,95,24],[95,25,95,35],[95,36,95,46],[95,47,95,57]]}
[]
[null,{"$f":"\"Turnier am \" & MID(CELL(\"dateiname\",A1),SEARCH(\"]\",CELL(\"dateiname\",A1))+1,31)","v":"Turnier am 3.3."}]
[]
[]
[null,null,"Spielerliste"]
[]
[null,null,{"$f":"\" Spieler\"","v":" Spieler"},null,null,null,null,null,null,null,null,null,null,null,null,null,"Spieler 1",null,null,null,null,null,null,null,null,null,null,"Spieler 2",null,null,null,null,null,null,null,null,null,null,"Spieler 3",null,null,null,null,null,null,null,null,null,null,"Spieler 4",null,null,null,null,null,null,null,null,null,null,"Spieler 5",null,null,null,null,null,null,null,null,null,null,"Spieler 6"]
[null,null,{"$f":"\" Name\"","v":" Name"},null,null,null,null,null,null,null,null,null,null,null,null,null,"Patrick",null,null,null,null,null,null,null,null,null,null,"Jule",null,null,null,null,null,null,null,null,null,null,"Ratze",null,null,null,null,null,null,null,null,null,null,"Schmiddi",null,null,null,null,null,null,null,null,null,null,"Christoph",null,null,null,null,null,null,null,null,null,null,"Markus"]
[]
[]
[]
[null,null,"Spielplan"]
[]
[null,null,"00:12:00",null,null,null,null,"Spiel",null,null,null,null,"Datum",null,null,null,null,null,"Uhrzeit",null,null,null,null,null,"Austragungsort",null,null,null,null,null,null,null,null,null,null,"Paarung",null,null,null,null,null,null,null,null,null,null,null,null,null,null,null,null,null,null,null,null,null,null,null,null,null,null,null,null,null,null,null,null,null,"Ergebnis",null,null,null,null,null,null,null,null,null,null,null,null,null,null,"Spiele","SiegHeim","Unentschieden","SiegGast"]
[]
[null,null,"Hinrunde",null,null,null,null,1,null,null,null,null,{"$f":"MID(CELL(\"dateiname\",A1),SEARCH(\"]\",CELL(\"dateiname\",A1))+1,31)","v":"3.3."},null,null,null,null,null,"21:00:00",null,null,null,null,null,"Fernseher",null,null,null,null,null,null,null,null,null,null,{"$f":"$Q$8","v":"Patrick"},null,null,null,null,null,null,null,null,null,null,null,null,null,null,":",null,null,{"$f":"$AB$8","v":"Jule"},null,null,null,null,null,null,null,null,null,null,null,null,null,null,null,3,null,null,null,null,":",null,null,3,null,null,null,null,null,null,{"$f":"IF(AND(ISNUMBER(BR16),ISNUMBER(BZ16)),1,0)","v":1},{"$f":"IF(OR(ISBLANK(BR16),ISBLANK(BZ16)),0,IF(BR16>BZ16,1,0))","v":0},{"$f":"IF(OR(ISBLANK(BR16),ISBLANK(BZ16)),0,IF(BR16=BZ16,1,0))","v":1},{"$f":"IF(OR(ISBLANK(BR16),ISBLANK(BZ16)),0,IF(BR16<BZ16,1,0))","v":0}]
[null,null,null,null,null,null,null,{"$f":"H16+1","v":2},null,null,null,null,{"$f":"$M$16","v":"3.3."},null,null,null,null,null,{"$f":"S16","v":"21:00:00"},null,null,null,null,null,{"$f":"$Y$16","v":"Fernseher"},null,null,null,null,null,null,null,null,null,null,{"$f":"$AM$8","v":"Ratze"},null,null,null,null,null,null,null,null,null,null,null,null,null,null,":",null,null,{"$f":"$AX$8","v":"Schmiddi"},null,null,null,null,null,null,null,null,null,null,null,null,null,null,null,4,null,null,null,null,":",null,null,3,null,null,null,null,null,null,{"$f":"IF(AND(ISNUMBER(BR17),ISNUMBER(BZ17)),1,0)","v":1},{"$f":"IF(OR(ISBLANK(BR17),ISBLANK(BZ17)),0,IF(BR17>BZ17,1,0))","v":1},{"$f":"IF(OR(ISBLANK(BR17),ISBLANK(BZ17)),0,IF(BR17=BZ17,1,0))","v":0},{"$f":"IF(OR(ISBLANK(BR17),ISBLANK(BZ17)),0,IF(BR17<BZ17,1,0))","v":0}]
[null,null,null,null,null,null,null,{"$f":"H17+1","v":3},null,null,null,null,{"$f":"$M$16","v":"3.3."},null,null,null,null,null,{"$f":"S16","v":"21:00:00"},null,null,null,null,null,{"$f":"$Y$16","v":"Fernseher"},null,null,null,null,null,null,null,null,null,null,{"$f":"$BI$8","v":"Christoph"},null,null,null,null,null,null,null,null,null,null,null,null,null,null,":",null,null,{"$f":"$BT$8","v":"Markus"},null,null,null,null,null,null,null,null,null,null,null,null,null,null,null,4,null,null,null,null,":",null,null,3,null,null,null,null,null,null,1,1,0,0]
[null,null,null,null,null,null,null,{"$f":"H18+1","v":4},null,null,null,null,"3.3.",null,null,null,null,null,{"$f":"S16+$C$14","v":"21:12:00"},null,null,null,null,null,"Fernseher",null,null,null,null,null,null,null,null,null,null,{"$f":"$Q$8","v":"Patrick"},null,null,null,null,null,null,null,null,null,null,null,null,null,null,":",null,null,{"$f":"$AM$8","v":"Ratze"},null,null,null,null,null,null,null,null,null,null,null,null,null,null,null,4,null,null,null,null,":",null,null,1,null,null,null,null,null,null,1,1,0,0]
[null,null,null,null,null,null,null,5,null,null,null,null,"3.3.",null,null,null,null,null,{"$f":"S17+$C$14","v":"21:12:00"},null,null,null,null,null,"Fernseher",null,null,null,null,null,null,null,null,null,null,{"$f":"$AB$8","v":"Jule"},null,null,null,null,null,null,null,null,null,null,null,null,null,null,":",null,null,{"$f":"$BI$8","v":"Christoph"},null,null,null,null,null,null,null,null,null,null,null,null,null,null,null,3,null,null,null,null,":",null,null,1,null,null,null,null,null,null,1,1,0,0]
[null,null,null,null,null,null,null,6,null,null,null,null,"3.3.",null,null,null,null,null,{"$f":"S18+$C$14","v":"21:12:00"},null,null,null,null,null,"Fernseher",null,null,null,null,null,null,null,null,null,null,{"$f":"$AX$8","v":"Schmiddi"},null,null,null,null,null,null,null,null,null,null,null,null,null,null,":",null,null,{"$f":"$BT$8","v":"Markus"},null,null,null,null,null,null,null,null,null,null,null,null,null,null,null,3,null,null,null,null,":",null,null,2,null,null,null,null,null,null,1,1,0,0]
[null,null,null,null,null,null,null,{"$f":"H21+1","v":7},null,null,null,null,"3.3.",null,null,null,null,null,{"$f":"S19+$C$14","v":"21:24:00"},null,null,null,null,null,"Fernseher",null,null,null,null,null,null,null,null,null,null,{"$f":"$BI$8","v":"Christoph"},null,null,null,null,null,null,null,null,null,null,null,null,null,null,":",null,null,{"$f":"$Q$8","v":"Patrick"},null,null,null,null,null,null,null,null,null,null,null,null,null,null,null,2,null,null,null,null,":",null,null,3,null,null,null,null,null,null,1,0,0,1]
[null,null,null,null,null,null,null,8,null,null,null,null,"3.3.",null,null,null,null,null,{"$f":"S20+$C$14","v":"21:24:00"},null,null,null,null,null,"Fernseher",null,null,null,null,null,null,null,null,null,null,{"$f":"$AB$8","v":"Jule"},null,null,null,null,null,null,null,null,null,null,null,null,null,null,":",null,null,{"$f":"$AX$8","v":"Schmiddi"},null,null,null,null,null,null,null,null,null,null,null,null,null,null,null,2,null,null,null,null,":",null,null,4,null,null,null,null,null,null,1,0,0,1]
[null,null,null,null,null,null,null,9,null,null,null,null,"3.3.",null,null,null,null,null,"21:24:00",null,null,null,null,null,"Fernseher",null,null,null,null,null,null,null,null,null,null,{"$f":"$BT$8","v":"Markus"},null,null,null,null,null,null,null,null,null,null,null,null,null,null,":",null,null,{"$f":"$AM$8","v":"Ratze"},null,null,null,null,null,null,null,null,null,null,null,null,null,null,null,0,null,null,null,null,":",null,null,2,null,null,null,null,null,null,1,0,0,1]
[null,null,null,null,null,null,null,{"$f":"H24+1","v":10},null,null,null,null,"3.3.",null,null,null,null,null,{"$f":"S22+$C$14","v":"21:36:00"},null,null,null,null,null,"Fernseher",null,null,null,null,null,null,null,null,null,null,{"$f":"$Q$8","v":"Patrick"},null,null,null,null,null,null,null,null,null,null,null,null,null,null,":",null,null,{"$f":"$AX$8","v":"Schmiddi"},null,null,null,null,null,null,null,null,null,null,null,null,null,null,null,3,null,null,null,null,":",null,null,1,null,null,null,null,null,null,1,1,0,0]
[null,null,null,null,null,null,null,11,null,null,null,null,"3.3.",null,null,null,null,null,"21:36:00",null,null,null,null,null,"Fernseher",null,null,null,null,null,null,null,null,null,null,{"$f":"$BT$8","v":"Markus"},null,null,null,null,null,null,null,null,null,null,null,null,null,null,":",null,null,{"$f":"$AB$8","v":"Jule"},null,null,null,null,null,null,null,null,null,null,null,null,null,null,null,0,null,null,null,null,":",null,null,5,null,null,null,null,null,null,1,0,0,1]
[null,null,null,null,null,null,null,{"$f":"H26+1","v":12},null,null,null,null,"3.3.",null,null,null,null,null,{"$f":"S24+$C$14","v":"21:36:00"},null,null,null,null,null,"Fernseher",null,null,null,null,null,null,null,null,null,null,{"$f":"$AM$8","v":"Ratze"},null,null,null,null,null,null,null,null,null,null,null,null,null,null,":",null,null,{"$f":"$BI$8","v":"Christoph"},null,null,null,null,null,null,null,null,null,null,null,null,null,null,null,2,null,null,null,null,":",null,null,0,null,null,null,null,null,null,1,1,0,0]
[null,null,null,null,null,null,null,13,null,null,null,null,"3.3.",null,null,null,null,null,"21:48:00",null,null,null,null,null,"Fernseher",null,null,null,null,null,null,null,null,null,null,{"$f":"$BT$8","v":"Markus"},null,null,null,null,null,null,null,null,null,null,null,null,null,null,":",null,null,{"$f":"$Q$8","v":"Patrick"},null,null,null,null,null,null,null,null,null,null,null,null,null,null,null,4,null,null,null,null,":",null,null,3,null,null,null,null,null,null,1,1,0,0]
[null,null,null,null,null,null,null,{"$f":"H28+1","v":14},null,null,null,null,"3.3.",null,null,null,null,null,{"$f":"S26+$C$14","v":"21:48:00"},null,null,null,null,null,"Fernseher",null,null,null,null,null,null,null,null,null,null,{"$f":"$AB$8","v":"Jule"},null,null,null,null,null,null,null,null,null,null,null,null,null,null,":",null,null,{"$f":"$AM$8","v":"Ratze"},null,null,null,null,null,null,null,null,null,null,null,null,null,null,null,0,null,null,null,null,":",null,null,3,null,null,null,null,null,null,1,0,0,1]
[null,null,null,null,null,null,null,15,null,null,null,null,"3.3.",null,null,null,null,null,{"$f":"S27+$C$14","v":"21:48:00"},null,null,null,null,null,"Fernseher",null,null,null,null,null,null,null,null,null,null,{"$f":"$AX$8","v":"Schmiddi"},null,null,null,null,null,null,null,null,null,null,null,null,null,null,":",null,null,{"$f":"$BI$8","v":"Christoph"},null,null,null,null,null,null,null,null,null,null,null,null,null,null,null,4,null,null,null,null,":",null,null,5,null,null,null,null,null,null,1,0,0,1]
[]
[null,null,"Rückrunde",null,null,null,null,{"$f":"H30+1","v":16},null,null,null,null,{"$f":"$M$16","v":"3.3."},null,null,null,null,null,{"$f":"S30+$C$14","v":"22:00:00"},null,null,null,null,null,{"$f":"$Y$16","v":"Fernseher"},null,null,null,null,null,null,null,null,null,null,{"$f":"$AB$8","v":"Jule"},null,null,null,null,null,null,null,null,null,null,null,null,null,null,":",null,null,{"$f":"$Q$8","v":"Patrick"},null,null,null,null,null,null,null,null,null,null,null,null,null,null,null,3,null,null,null,null,":",null,null,3,null,null,null,null,null,null,{"$f":"IF(AND(ISNUMBER(BR32),ISNUMBER(BZ32)),1,0)","v":1},{"$f":"IF(OR(ISBLANK(BR32),ISBLANK(BZ32)),0,IF(BR32>BZ32,1,0))","v":0},{"$f":"IF(OR(ISBLANK(BR32),ISBLANK(BZ32)),0,IF(BR32=BZ32,1,0))","v":1},{"$f":"IF(OR(ISBLANK(BR32),ISBLANK(BZ32)),0,IF(BR32<BZ32,1,0))","v":0}]
[null,null,null,null,null,null,null,{"$f":"H32+1","v":17},null,null,null,null,"3.3.",null,null,null,null,null,{"$f":"S30+$C$14","v":"22:00:00"},null,null,null,null,null,"Fernseher",null,null,null,null,null,null,null,null,null,null,{"$f":"$AX$8","v":"Schmiddi"},null,null,null,null,null,null,null,null,null,null,null,null,null,null,":",null,null,{"$f":"$AM$8","v":"Ratze"},null,null,null,null,null,null,null,null,null,null,null,null,null,null,null,0,null,null,null,null,":",null,null,5,null,null,null,null,null,null,1,0,0,1]
[null,null,null,null,null,null,null,{"$f":"H33+1","v":18},null,null,null,null,"3.3.",null,null,null,null,null,{"$f":"S30+$C$14","v":"22:00:00"},null,null,null,null,null,"Fernseher",null,null,null,null,null,null,null,null,null,null,{"$f":"$BT$8","v":"Markus"},null,null,null,null,null,null,null,null,null,null,null,null,null,null,":",null,null,{"$f":"$BI$8","v":"Christoph"},null,null,null,null,null,null,null,null,null,null,null,null,null,null,null,2,null,null,null,null,":",null,null,1,null,null,null,null,null,null,1,1,0,0]
[null,null,null,null,null,null,null,{"$f":"H34+1","v":19},null,null,null,null,"3.3.",null,null,null,null,null,{"$f":"S32+$C$14","v":"22:12:00"},null,null,null,null,null,"Fernseher",null,null,null,null,null,null,null,null,null,null,{"$f":"$AM$8","v":"Ratze"},null,null,null,null,null,null,null,null,null,null,null,null,null,null,":",null,null,{"$f":"$Q$8","v":"Patrick"},null,null,null,null,null,null,null,null,null,null,null,null,null,null,null,2,null,null,null,null,":",null,null,2,null,null,null,null,null,null,1,0,1,0]
[null,null,null,null,null,null,null,20,null,null,null,null,"3.3.",null,null,null,null,null,{"$f":"S33+$C$14","v":"22:12:00"},null,null,null,null,null,"Fernseher",null,null,null,null,null,null,null,null,null,null,{"$f":"$BI$8","v":"Christoph"},null,null,null,null,null,null,null,null,null,null,null,null,null,null,":",null,null,{"$f":"$AB$8","v":"Jule"},null,null,null,null,null,null,null,null,null,null,null,null,null,null,null,2,null,null,null,null,":",null,null,3,null,null,null,null,null,null,1,0,0,1]
[null,null,null,null,null,null,null,21,null,null,null,null,"3.3.",null,null,null,null,null,{"$f":"S34+$C$14","v":"22:12:00"},null,null,null,null,null,"Fernseher",null,null,null,null,null,null,null,null,null,null,{"$f":"$BT$8","v":"Markus"},null,null,null,null,null,null,null,null,null,null,null,null,null,null,":",null,null,{"$f":"$AX$8","v":"Schmiddi"},null,null,null,null,null,null,null,null,null,null,null,null,null,null,null,7,null,null,null,null,":",null,null,0,null,null,null,null,null,null,1,1,0,0]
[null,null,null,null,null,null,null,{"$f":"H37+1","v":22},null,null,null,null,"3.3.",null,null,null,null,null,{"$f":"S35+$C$14","v":"22:24:00"},null,null,null,null,null,"Fernseher",null,null,null,null,null,null,null,null,null,null,{"$f":"$Q$8","v":"Patrick"},null,null,null,null,null,null,null,null,null,null,null,null,null,null,":",null,null,{"$f":"$BI$8","v":"Christoph"},null,null,null,null,null,null,null,null,null,null,null,null,null,null,null,4,null,null,null,null,":",null,null,0,null,null,null,null,null,null,1,1,0,0]
[null,null,null,null,null,null,null,23,null,null,null,null,"3.3.",null,null,null,null,null,{"$f":"S36+$C$14","v":"22:24:00"},null,null,null,null,null,"Fernseher",null,null,null,null,null,null,null,null,null,null,{"$f":"$AX$8","v":"Schmiddi"},null,null,null,null,null,null,null,null,null,null,null,null,null,null,":",null,null,{"$f":"$AB$8","v":"Jule"},null,null,null,null,null,null,null,null,null,null,null,null,null,null,null,0,null,null,null,null,":",null,null,2,null,null,null,null,null,null,1,0,0,1]
[null,null,null,null,null,null,null,24,null,null,null,null,"3.3.",null,null,null,null,null,"22:24:00",null,null,null,null,null,"Fernseher",null,null,null,null,null,null,null,null,null,null,{"$f":"$AM$8","v":"Ratze"},null,null,null,null,null,null,null,null,null,null,null,null,null,null,":",null,null,{"$f":"$BT$8","v":"Markus"},null,null,null,null,null,null,null,null,null,null,null,null,null,null,null,0,null,null,null,null,":",null,null,0,null,null,null,null,null,null,1,0,1,0]
[null,null,null,null,null,null,null,{"$f":"H40+1","v":25},null,null,null,null,"3.3.",null,null,null,null,null,{"$f":"S38+$C$14","v":"22:36:00"},null,null,null,null,null,"Fernseher",null,null,null,null,null,null,null,null,null,null,{"$f":"$AX$8","v":"Schmiddi"},null,null,null,null,null,null,null,null,null,null,null,null,null,null,":",null,null,{"$f":"$Q$8","v":"Patrick"},null,null,null,null,null,null,null,null,null,null,null,null,null,null,null,1,null,null,null,null,":",null,null,4,null,null,null,null,null,null,1,0,0,1]
[null,null,null,null,null,null,null,26,null,null,null,null,"3.3.",null,null,null,null,null,"22:36:00",null,null,null,null,null,"Fernseher",null,null,null,null,null,null,null,null,null,null,{"$f":"$AB$8","v":"Jule"},null,null,null,null,null,null,null,null,null,null,null,null,null,null,":",null,null,{"$f":"$BT$8","v":"Markus"},null,null,null,null,null,null,null,null,null,null,null,null,null,null,null,1,null,null,null,null,":",null,null,5,null,null,null,null,null,null,1,0,0,1]
[null,null,null,null,null,null,null,{"$f":"H42+1","v":27},null,null,null,null,"3.3.",null,null,null,null,null,{"$f":"S40+$C$14","v":"22:36:00"},null,null,null,null,null,"Fernseher",null,null,null,null,null,null,null,null,null,null,{"$f":"$BI$8","v":"Christoph"},null,null,null,null,null,null,null,null,null,null,null,null,null,null,":",null,null,{"$f":"$AM$8","v":"Ratze"},null,null,null,null,null,null,null,null,null,null,null,null,null,null,null,1,null,null,null,null,":",null,null,2,null,null,null,null,null,null,1,0,0,1]
[null,null,null,null,null,null,null,28,null,null,null,null,"3.3.",null,null,null,null,null,"22:48:00",null,null,null,null,null,"Fernseher",null,null,null,null,null,null,null,null,null,null,{"$f":"$Q$8","v":"Patrick"},null,null,null,null,null,null,null,null,null,null,null,null,null,null,":",null,null,{"$f":"$BT$8","v":"Markus"},null,null,null,null,null,null,null,null,null,null,null,null,null,null,null,1,null,null,null,null,":",null,null,2,null,null,null,null,null,null,1,0,0,1]
[null,null,null,null,null,null,null,{"$f":"H44+1","v":29},null,null,null,null,"3.3.",null,null,null,null,null,{"$f":"S42+$C$14","v":"22:48:00"},null,null,null,null,null,"Fernseher",null,null,null,null,null,null,null,null,null,null,{"$f":"$AM$8","v":"Ratze"},null,null,null,null,null,null,null,null,null,null,null,null,null,null,":",null,null,{"$f":"$AB$8","v":"Jule"},null,null,null,null,null,null,null,null,null,null,null,null,null,null,null,1,null,null,null,null,":",null,null,1,null,null,null,null,null,null,1,0,1,0]
[null,null,null,null,null,null,null,30,null,null,null,null,"3.3.",null,null,null,null,null,{"$f":"S43+$C$14","v":"22:48:00"},null,null,null,null,null,"Fernseher",null,null,null,null,null,null,null,null,null,null,{"$f":"$BI$8","v":"Christoph"},null,null,null,null,null,null,null,null,null,null,null,null,null,null,":",null,null,{"$f":"$AX$8","v":"Schmiddi"},null,null,null,null,null,null,null,null,null,null,null,null,null,null,null,3,null,null,null,null,":",null,null,6,null,null,null,null,null,null,1,0,0,1]
[]
[]
[]
[]
[]
[]
[]
[]
[]
[]
[]
[]
[]
[]
[]
[null,null,"Tabelle (unsortiert)"]
[]
[null,null,"Rang",null,null,null,null,"Spieler",null,null,null,null,null,null,null,null,null,null,null,"Spiele",null,null,null,null,null,"Siege",null,null,null,null,null,null,null,null,null,null,"Unentschieden",null,null,null,null,null,null,null,null,null,null,"Niederlagen",null,null,null,null,null,null,null,null,null,null,"Tore",null,null,null,null,null,null,null,null,null,null,null,"+/-",null,null,null,null,"Punkte",null,null,null,"HS"]
[null,null,{"$f":"IF(T65=0,0,RANK(BX65,$BX$65:$CA$70,0))","v":2},null,null,null,null,{"$f":"$Q$8","v":"Patrick"},null,null,null,null,null,null,null,null,null,null,null,{"$f":"CG16+CG19+CG22+CG25+CG28+CG32+CG35+CG38+CG41+CG44","v":10},null,null,null,null,null,{"$f":"CH16+CH19+CJ22+CH25+CJ28+CJ32+CJ35+CH38+CJ41+CH44","v":5},null,null,null,null,null,null,null,null,null,null,{"$f":"CI16+CI19+CI22+CI25+CI28+CI32+CI35+CI38+CI41+CI44","v":3},null,null,null,null,null,null,null,null,null,null,{"$f":"CJ16+CJ19+CH22+CJ25+CH28+CH32+CH35+CJ38+CH41+CJ44","v":2},null,null,null,null,null,null,null,null,null,null,{"$f":"BR16+BR19+BZ22+BR25+BZ28+BZ32+BZ35+BR38+BZ41+BR44","v":30},null,null,null,null,":",null,{"$f":"BZ16+BZ19+BR22+BZ25+BR28+BR32+BR35+BZ38+BR41+BZ44","v":19},null,null,null,null,{"$f":"BG65-BN65","v":11},null,null,null,null,{"$f":"(Z65*3)+AK65","v":18},null,null,null,{"$f":"BX65+ROW()/1000","v":18.065000000000001}]
[null,null,4,null,null,null,null,{"$f":"$AB$8","v":"Jule"},null,null,null,null,null,null,null,null,null,null,null,{"$f":"CG16+CG20+CG23+CG26+CG29+CG32+CG36+CG39+CG42+CG45","v":10},null,null,null,null,null,{"$f":"CJ16+CH20+CH23+CJ26+CH29+CH32+CJ36+CJ39+CH42+CJ45","v":4},null,null,null,null,null,null,null,null,null,null,{"$f":"CI16+CI20+CI23+CI26+CI29+CI32+CI36+CI39+CI42+CI45","v":3},null,null,null,null,null,null,null,null,null,null,{"$f":"CH16+CJ20+CJ23+CH26+CJ29+CJ32+CH36+CH39+CJ42+CH45","v":3},null,null,null,null,null,null,null,null,null,null,{"$f":"BZ16+BR20+BR23+BZ26+BR29+BR32+BZ36+BZ39+BR42+BZ45","v":23},null,null,null,null,":",null,{"$f":"BR16+BZ20+BZ23+BR26+BZ29+BZ32+BR36+BR39+BZ42+BR45","v":22},null,null,null,null,1,null,null,null,null,15,null,null,null,15.066000000000001]
[null,null,1,null,null,null,null,{"$f":"$AM$8","v":"Ratze"},null,null,null,null,null,null,null,null,null,null,null,{"$f":"CG17+CG19+CG24+CG27+CG29+CG33+CG35+CG40+CG43+CG45","v":10},null,null,null,null,null,{"$f":"CH17+CJ19+CJ24+CH27+CJ29+CJ33+CH35+CH40+CJ43+CH45","v":6},null,null,null,null,null,null,null,null,null,null,{"$f":"CI17+CI19+CI24+CI27+CI29+CI33+CI35+CI40+CI43+CI45","v":3},null,null,null,null,null,null,null,null,null,null,{"$f":"CJ17+CH19+CH24+CJ27+CH29+CH33+CJ35+CJ40+CH43+CJ45","v":1},null,null,null,null,null,null,null,null,null,null,{"$f":"BR17+BZ19+BZ24+BR27+BZ29+BZ33+BR35+BR40+BZ43+BR45","v":22},null,null,null,null,":",null,{"$f":"BZ17+BR19+BR24+BZ27+BR29+BR33+BZ35+BZ40+BR43+BZ45","v":11},null,null,null,null,11,null,null,null,null,21,null,null,null,21.067]
[null,null,5,null,null,null,null,{"$f":"$AX$8","v":"Schmiddi"},null,null,null,null,null,null,null,null,null,null,null,{"$f":"CG17+CG21+CG23+CG25+CG30+CG33+CG37+CG39+CG41+CG46","v":10},null,null,null,null,null,{"$f":"CJ17+CH21+CJ23+CJ25+CH30+CH33+CJ37+CH39+CH41+CJ46","v":3},null,null,null,null,null,null,null,null,null,null,{"$f":"CI17+CI21+CI23+CI25+CI30+CI33+CI37+CI39+CI41+CI46","v":0},null,null,null,null,null,null,null,null,null,null,{"$f":"CH17+CJ21+CH23+CH25+CJ30+CJ33+CH37+CJ39+CJ41+CH46","v":7},null,null,null,null,null,null,null,null,null,null,{"$f":"BZ17+BR21+BZ23+BZ25+BR30+BR33+BZ37+BR39+BR41+BZ46","v":22},null,null,null,null,":",null,{"$f":"BR17+BZ21+BR23+BR25+BZ30+BZ33+BR37+BZ39+BZ41+BR46","v":37},null,null,null,null,-15,null,null,null,null,9,null,null,null,9.0679999999999996]
[null,null,6,null,null,null,null,{"$f":"$BI$8","v":"Christoph"},null,null,null,null,null,null,null,null,null,null,null,{"$f":"CG18+CG20+CG22+CG27+CG30+CG34+CG36+CG38+CG43+CG46","v":10},null,null,null,null,null,{"$f":"CH18+CJ20+CH22+CJ27+CJ30+CJ34+CH36+CJ38+CH43+CH46","v":2},null,null,null,null,null,null,null,null,null,null,{"$f":"CI18+CI20+CI22+CI27+CI30+CI34+CI36+CI38+CI43+CI46","v":0},null,null,null,null,null,null,null,null,null,null,{"$f":"CJ18+CH20+CJ22+CH27+CH30+CH34+CJ36+CH38+CJ43+CJ46","v":8},null,null,null,null,null,null,null,null,null,null,{"$f":"BR18+BZ20+BR22+BZ27+BZ30+BZ34+BR36+BZ38+BR43+BR46","v":19},null,null,null,null,":",null,{"$f":"BZ18+BR20+BZ22+BR27+BR30+BR34+BZ36+BR38+BZ43+BZ46","v":32},null,null,null,null,-13,null,null,null,null,6,null,null,null,6.069]
[null,null,3,null,null,null,null,{"$f":"BT8","v":"Markus"},null,null,null,null,null,null,null,null,null,null,null,{"$f":"CG18+CG21+CG24+CG26+CG28+CG34+CG37+CG40+CG42+CG44","v":10},null,null,null,null,null,{"$f":"CJ18+CJ21+CH24+CH26+CH28+CH34+CH37+CJ40+CJ42+CJ44","v":5},null,null,null,null,null,null,null,null,null,null,{"$f":"CI18+CI21+CI24+CI26+CI28+CI34+CI37+CI40+CI42+CI44","v":1},null,null,null,null,null,null,null,null,null,null,{"$f":"CH18+CH21+CJ24+CJ26+CJ28+CJ34+CJ37+CH40+CH42+CH44","v":4},null,null,null,null,null,null,null,null,null,null,{"$f":"BZ18+BZ21+BR24+BR26+BR28+BR34+BR37+BZ40+BZ42+BZ44","v":25},null,null,null,null,":",null,{"$f":"BR18+BR21+BZ24+BZ26+BZ28+BZ34+BZ37+BR40+BR42+BR44","v":20},null,null,null,null,5,null,null,null,null,16,null,null,null,16.07]
[null,null,null,null,null,null,null,"Spieler 7",null,null,null,null,null,null,null,null,null,null,null,0,null,null,null,null,null,0,null,null,null,null,null,null,null,null,null,null,0,null,null,null,null,null,null,null,null,null,null,0,null,null,null,null,null,null,null,null,null,null,0,null,null,null,null,":",null,0,null,null,null,null,0,null,null,null,null,0,null,null,null,0]
[]
[]
[]
[null,null,"Tabelle"]
[]
[null,null,"Rang",null,null,null,null,"Spieler",null,null,null,null,null,null,null,null,null,null,null,"Spiele",null,null,null,null,null,"Siege",null,null,null,null,null,null,null,null,null,null,"Unentschieden",null,null,null,null,null,null,null,null,null,null,"Niederlagen",null,null,null,null,null,null,null,null,null,null,"Tore",null,null,null,null,null,null,null,null,null,null,null,"+/-",null,null,null,null,"Punkte"]
[null,null,{"$f":"INDEX($C$65:$C$70,MATCH(LARGE($CB$65:$CB$70,ROW(A1)),$CB$65:$CB$70,0),1)","v":1},null,null,1,null,{"$f":"INDEX($H$65:$H$70,MATCH(LARGE($CB$65:$CB$70,ROW(A1)),$CB$65:$CB$70,0),1)","v":"Ratze"},null,null,null,null,null,null,null,null,null,null,null,{"$f":"INDEX($T$65:$T$70,MATCH(LARGE($CB$65:$CB$70,ROW(A1)),$CB$65:$CB$70,0),1)","v":10},null,null,null,null,null,{"$f":"INDEX($Z$65:$Z$70,MATCH(LARGE($CB$65:$CB$70,ROW(A1)),$CB$65:$CB$70,0),1)","v":6},null,null,null,null,null,null,null,null,null,null,{"$f":"INDEX($AK$65:$AK$70,MATCH(LARGE($CB$65:$CB$70,ROW(A1)),$CB$65:$CB$70,0),1)","v":3},null,null,null,null,null,null,null,null,null,null,{"$f":"INDEX($AV$65:$AV$70,MATCH(LARGE($CB$65:$CB$70,ROW(A1)),$CB$65:$CB$70,0),1)","v":1},null,null,null,null,null,null,null,null,null,null,{"$f":"INDEX($BG$65:$BG$70,MATCH(LARGE($CB$65:$CB$70,ROW(A1)),$CB$65:$CB$70,0),1)","v":22},null,null,null,null,":",null,{"$f":"INDEX($BN$65:$BN$70,MATCH(LARGE($CB$65:$CB$70,ROW(A1)),$CB$65:$CB$70,0),1)","v":11},null,null,null,null,{"$f":"INDEX($BS$65:$BS$70,MATCH(LARGE($CB$65:$CB$70,ROW(A1)),$CB$65:$CB$70,0),1)","v":11},null,null,null,null,{"$f":"INDEX($BX$65:$BX$70,MATCH(LARGE($CB$65:$CB$70,ROW(A1)),$CB$65:$CB$70,0),1)","v":21}]
[null,null,2,null,null,2,null,"Patrick",null,null,null,null,null,null,null,null,null,null,null,10,null,null,null,null,null,5,null,null,null,null,null,null,null,null,null,null,3,null,null,null,null,null,null,null,null,null,null,2,null,null,null,null,null,null,null,null,null,null,30,null,null,null,null,":",null,19,null,null,null,null,11,null,null,null,null,18]
[null,null,3,null,null,3,null,"Markus",null,null,null,null,null,null,null,null,null,null,null,10,null,null,null,null,null,5,null,null,null,null,null,null,null,null,null,null,1,null,null,null,null,null,null,null,null,null,null,4,null,null,null,null,null,null,null,null,null,null,25,null,null,null,null,":",null,20,null,null,null,null,5,null,null,null,null,16]
[null,null,4,null,null,4,null,"Jule",null,null,null,null,null,null,null,null,null,null,null,10,null,null,null,null,null,4,null,null,null,null,null,null,null,null,null,null,3,null,null,null,null,null,null,null,null,null,null,3,null,null,null,null,null,null,null,null,null,null,23,null,null,null,null,":",null,22,null,null,null,null,1,null,null,null,null,15]
[null,null,5,null,null,5,null,"Schmiddi",null,null,null,null,null,null,null,null,null,null,null,10,null,null,null,null,null,3,null,null,null,null,null,null,null,null,null,null,0,null,null,null,null,null,null,null,null,null,null,7,null,null,null,null,null,null,null,null,null,null,22,null,null,null,null,":",null,37,null,null,null,null,-15,null,null,null,null,9]
[null,null,6,null,null,6,null,"Christoph",null,null,null,null,null,null,null,null,null,null,null,10,null,null,null,null,null,2,null,null,null,null,null,null,null,null,null,null,0,null,null,null,null,null,null,null,null,null,null,8,null,null,null,null,null,null,null,null,null,null,19,null,null,null,null,":",null,32,null,null,null,null,-13,null,null,null,null,6]
[null,null,"---",null,null,"---",null,"Spieler 7",null,null,null,null,null,null,null,null,null,null,null,0,null,null,null,null,null,0,null,null,null,null,null,null,null,null,null,null,0,null,null,null,null,null,null,null,null,null,null,0,null,null,null,null,null,null,null,null,null,null,0,null,null,null,null,":",null,0,null,null,null,null,0,null,null,null,null,0]
[]
[]
[]
[null,null,"Tabelle (nach Alphabet)"]
[]
[null,null,"Rang",null,null,null,null,"Spieler",null,null,null,null,null,null,null,null,null,null,null,"Spiele",null,null,null,null,null,"Siege",null,null,null,null,null,null,null,null,null,null,"Unentschieden",null,null,null,null,null,null,null,null,null,null,"Niederlagen",null,null,null,null,null,null,null,null,null,null,"Tore",null,null,null,null,null,null,null,null,null,null,null,"+/-",null,null,null,null,"Punkte"]
[null,null,{"$f":"IF($H$78=\"Basti\",$F$78,IF($H$79=\"Basti\",$F$79,IF($H$80=\"Basti\",$F$80,IF($H$81=\"Basti\",$F$81,IF($H$82=\"Basti\",$F$82,IF($H$83=\"Basti\",$F$83,IF($H$84=\"Basti\",$F$84,0)))))))","v":0},null,null,null,null,"Basti",null,null,null,null,null,null,null,null,null,null,null,{"$f":"IF($H$78=\"Basti\",$T$78,IF($H$79=\"Basti\",$T$79,IF($H$80=\"Basti\",$T$80,IF($H$81=\"Basti\",$T$81,IF($H$82=\"Basti\",$T$82,IF($H$83=\"Basti\",$T$83,IF($H$84=\"Basti\",$T$84,0)))))))","v":0},null,null,null,null,null,{"$f":"IF($H$78=\"Basti\",$Z$78,IF($H$79=\"Basti\",$Z$79,IF($H$80=\"Basti\",$Z$80,IF($H$81=\"Basti\",$Z$81,IF($H$82=\"Basti\",$Z$82,IF($H$83=\"Basti\",$Z$83,IF($H$84=\"Basti\",$Z$84,0)))))))","v":0},null,null,null,null,null,null,null,null,null,null,{"$f":"IF($H$78=\"Basti\",$AK$78,IF($H$79=\"Basti\",$AK$79,IF($H$80=\"Basti\",$AK$80,IF($H$81=\"Basti\",$AK$81,IF($H$82=\"Basti\",$AK$82,IF($H$83=\"Basti\",$AK$83,IF($H$84=\"Basti\",$AK$84,0)))))))","v":0},null,null,null,null,null,null,null,null,null,null,{"$f":"IF($H$78=\"Basti\",$AV$78,IF($H$79=\"Basti\",$AV$79,IF($H$80=\"Basti\",$AV$80,IF($H$81=\"Basti\",$AV$81,IF($H$82=\"Basti\",$AV$82,IF($H$83=\"Basti\",$AV$83,IF($H$84=\"Basti\",$AV$84,0)))))))","v":0},null,null,null,null,null,null,null,null,null,null,{"$f":"IF($H$78=\"Basti\",$BG$78,IF($H$79=\"Basti\",$BG$79,IF($H$80=\"Basti\",$BG$80,IF($H$81=\"Basti\",$BG$81,IF($H$82=\"Basti\",$BG$82,IF($H$83=\"Basti\",$BG$83,IF($H$84=\"Basti\",$BG$84,0)))))))","v":0},null,null,null,null,":",null,{"$f":"IF($H$78=\"Basti\",$BN$78,IF($H$79=\"Basti\",$BN$79,IF($H$80=\"Basti\",$BN$80,IF($H$81=\"Basti\",$BN$81,IF($H$82=\"Basti\",$BN$82,IF($H$83=\"Basti\",$BN$83,IF($H$84=\"Basti\",$BN$84,0)))))))","v":0},null,null,null,null,{"$f":"IF($H$78=\"Basti\",$BS$78,IF($H$79=\"Basti\",$BS$79,IF($H$80=\"Basti\",$BS$80,IF($H$81=\"Basti\",$BS$81,IF($H$82=\"Basti\",$BS$82,IF($H$83=\"Basti\",$BS$83,IF($H$84=\"Basti\",$BS$84,0)))))))","v":0},null,null,null,null,{"$f":"IF($H$78=\"Basti\",$BX$78,IF($H$79=\"Basti\",$BX$79,IF($H$80=\"Basti\",$BX$80,IF($H$81=\"Basti\",$BX$81,IF($H$82=\"Basti\",$BX$82,IF($H$83=\"Basti\",$BX$83,IF($H$84=\"Basti\",$BX$84,0)))))))","v":0}]
[null,null,{"$f":"IF($H$78=\"Christoph\",$F$78,IF($H$79=\"Christoph\",$F$79,IF($H$80=\"Christoph\",$F$80,IF($H$81=\"Christoph\",$F$81,IF($H$82=\"Christoph\",$F$82,IF($H$83=\"Christoph\",$F$83,IF($H$84=\"Christoph\",$F$84,0)))))))","v":6},null,null,null,null,"Christoph",null,null,null,null,null,null,null,null,null,null,null,{"$f":"IF($H$78=\"Christoph\",$T$78,IF($H$79=\"Christoph\",$T$79,IF($H$80=\"Christoph\",$T$80,IF($H$81=\"Christoph\",$T$81,IF($H$82=\"Christoph\",$T$82,IF($H$83=\"Christoph\",$T$83,IF($H$84=\"Christoph\",$T$84,0)))))))","v":10},null,null,null,null,null,{"$f":"IF($H$78=\"Christoph\",$Z$78,IF($H$79=\"Christoph\",$Z$79,IF($H$80=\"Christoph\",$Z$80,IF($H$81=\"Christoph\",$Z$81,IF($H$82=\"Christoph\",$Z$82,IF($H$83=\"Christoph\",$Z$83,IF($H$84=\"Christoph\",$Z$84,0)))))))","v":2},null,null,null,null,null,null,null,null,null,null,{"$f":"IF($H$78=\"Christoph\",$AK$78,IF($H$79=\"Christoph\",$AK$79,IF($H$80=\"Christoph\",$AK$80,IF($H$81=\"Christoph\",$AK$81,IF($H$82=\"Christoph\",$AK$82,IF($H$83=\"Christoph\",$AK$83,IF($H$84=\"Christoph\",$AK$84,0)))))))","v":0},null,null,null,null,null,null,null,null,null,null,{"$f":"IF($H$78=\"Christoph\",$AV$78,IF($H$79=\"Christoph\",$AV$79,IF($H$80=\"Christoph\",$AV$80,IF($H$81=\"Christoph\",$AV$81,IF($H$82=\"Christoph\",$AV$82,IF($H$83=\"Christoph\",$AV$83,IF($H$84=\"Christoph\",$AV$84,0)))))))","v":8},null,null,null,null,null,null,null,null,null,null,{"$f":"IF($H$78=\"Christoph\",$BG$78,IF($H$79=\"Christoph\",$BG$79,IF($H$80=\"Christoph\",$BG$80,IF($H$81=\"Christoph\",$BG$81,IF($H$82=\"Christoph\",$BG$82,IF($H$83=\"Christoph\",$BG$83,IF($H$84=\"Christoph\",$BG$84,0)))))))","v":19},null,null,null,null,":",null,{"$f":"IF($H$78=\"Christoph\",$BN$78,IF($H$79=\"Christoph\",$BN$79,IF($H$80=\"Christoph\",$BN$80,IF($H$81=\"Christoph\",$BN$81,IF($H$82=\"Christoph\",$BN$82,IF($H$83=\"Christoph\",$BN$83,IF($H$84=\"Christoph\",$BN$84,0)))))))","v":32},null,null,null,null,{"$f":"IF($H$78=\"Christoph\",$BS$78,IF($H$79=\"Christoph\",$BS$79,IF($H$80=\"Christoph\",$BS$80,IF($H$81=\"Christoph\",$BS$81,IF($H$82=\"Christoph\",$BS$82,IF($H$83=\"Christoph\",$BS$83,IF($H$84=\"Christoph\",$BS$84,0)))))))","v":-13},null,null,null,null,{"$f":"IF($H$78=\"Christoph\",$BX$78,IF($H$79=\"Christoph\",$BX$79,IF($H$80=\"Christoph\",$BX$80,IF($H$81=\"Christoph\",$BX$81,IF($H$82=\"Christoph\",$BX$82,IF($H$83=\"Christoph\",$BX$83,IF($H$84=\"Christoph\",$BX$84,0)))))))","v":6}]
[null,null,{"$f":"IF($H$78=\"Jule\",$F$78,IF($H$79=\"Jule\",$F$79,IF($H$80=\"Jule\",$F$80,IF($H$81=\"Jule\",$F$81,IF($H$82=\"Jule\",$F$82,IF($H$83=\"Jule\",$F$83,IF($H$84=\"Jule\",$F$84,0)))))))","v":4},null,null,null,null,"Jule",null,null,null,null,null,null,null,null,null,null,null,{"$f":"IF($H$78=\"Jule\",$T$78,IF($H$79=\"Jule\",$T$79,IF($H$80=\"Jule\",$T$80,IF($H$81=\"Jule\",$T$81,IF($H$82=\"Jule\",$T$82,IF($H$83=\"Jule\",$T$83,IF($H$84=\"Jule\",$T$84,0)))))))","v":10},null,null,null,null,null,{"$f":"IF($H$78=\"Jule\",$Z$78,IF($H$79=\"Jule\",$Z$79,IF($H$80=\"Jule\",$Z$80,IF($H$81=\"Jule\",$Z$81,IF($H$82=\"Jule\",$Z$82,IF($H$83=\"Jule\",$Z$83,IF($H$84=\"Jule\",$Z$84,0)))))))","v":4},null,null,null,null,null,null,null,null,null,null,{"$f":"IF($H$78=\"Jule\",$AK$78,IF($H$79=\"Jule\",$AK$79,IF($H$80=\"Jule\",$AK$80,IF($H$81=\"Jule\",$AK$81,IF($H$82=\"Jule\",$AK$82,IF($H$83=\"Jule\",$AK$83,IF($H$84=\"Jule\",$AK$84,0)))))))","v":3},null,null,null,null,null,null,null,null,null,null,{"$f":"IF($H$78=\"Jule\",$AV$78,IF($H$79=\"Jule\",$AV$79,IF($H$80=\"Jule\",$AV$80,IF($H$81=\"Jule\",$AV$81,IF($H$82=\"Jule\",$AV$82,IF($H$83=\"Jule\",$AV$83,IF($H$84=\"Jule\",$AV$84,0)))))))","v":3},null,null,null,null,null,null,null,null,null,null,{"$f":"IF($H$78=\"Jule\",$BG$78,IF($H$79=\"Jule\",$BG$79,IF($H$80=\"Jule\",$BG$80,IF($H$81=\"Jule\",$BG$81,IF($H$82=\"Jule\",$BG$82,IF($H$83=\"Jule\",$BG$83,IF($H$84=\"Jule\",$BG$84,0)))))))","v":23},null,null,null,null,":",null,{"$f":"IF($H$78=\"Jule\",$BN$78,IF($H$79=\"Jule\",$BN$79,IF($H$80=\"Jule\",$BN$80,IF($H$81=\"Jule\",$BN$81,IF($H$82=\"Jule\",$BN$82,IF($H$83=\"Jule\",$BN$83,IF($H$84=\"Jule\",$BN$84,0)))))))","v":22},null,null,null,null,{"$f":"IF($H$78=\"Jule\",$BS$78,IF($H$79=\"Jule\",$BS$79,IF($H$80=\"Jule\",$BS$80,IF($H$81=\"Jule\",$BS$81,IF($H$82=\"Jule\",$BS$82,IF($H$83=\"Jule\",$BS$83,IF($H$84=\"Jule\",$BS$84,0)))))))","v":1},null,null,null,null,{"$f":"IF($H$78=\"Jule\",$BX$78,IF($H$79=\"Jule\",$BX$79,IF($H$80=\"Jule\",$BX$80,IF($H$81=\"Jule\",$BX$81,IF($H$82=\"Jule\",$BX$82,IF($H$83=\"Jule\",$BX$83,IF($H$84=\"Jule\",$BX$84,0)))))))","v":15}]
[null,null,{"$f":"IF($H$78=\"Markus\",$F$78,IF($H$79=\"Markus\",$F$79,IF($H$80=\"Markus\",$F$80,IF($H$81=\"Markus\",$F$81,IF($H$82=\"Markus\",$F$82,IF($H$83=\"Markus\",$F$83,IF($H$84=\"Markus\",$F$84,0)))))))","v":3},null,null,null,null,"Markus",null,null,null,null,null,null,null,null,null,null,null,{"$f":"IF($H$78=\"Markus\",$T$78,IF($H$79=\"Markus\",$T$79,IF($H$80=\"Markus\",$T$80,IF($H$81=\"Markus\",$T$81,IF($H$82=\"Markus\",$T$82,IF($H$83=\"Markus\",$T$83,IF($H$84=\"Markus\",$T$84,0)))))))","v":10},null,null,null,null,null,{"$f":"IF($H$78=\"Markus\",$Z$78,IF($H$79=\"Markus\",$Z$79,IF($H$80=\"Markus\",$Z$80,IF($H$81=\"Markus\",$Z$81,IF($H$82=\"Markus\",$Z$82,IF($H$83=\"Markus\",$Z$83,IF($H$84=\"Markus\",$Z$84,0)))))))","v":5},null,null,null,null,null,null,null,null,null,null,{"$f":"IF($H$78=\"Markus\",$AK$78,IF($H$79=\"Markus\",$AK$79,IF($H$80=\"Markus\",$AK$80,IF($H$81=\"Markus\",$AK$81,IF($H$82=\"Markus\",$AK$82,IF($H$83=\"Markus\",$AK$83,IF($H$84=\"Markus\",$AK$84,0)))))))","v":1},null,null,null,null,null,null,null,null,null,null,{"$f":"IF($H$78=\"Markus\",$AV$78,IF($H$79=\"Markus\",$AV$79,IF($H$80=\"Markus\",$AV$80,IF($H$81=\"Markus\",$AV$81,IF($H$82=\"Markus\",$AV$82,IF($H$83=\"Markus\",$AV$83,IF($H$84=\"Markus\",$AV$84,0)))))))","v":4},null,null,null,null,null,null,null,null,null,null,{"$f":"IF($H$78=\"Markus\",$BG$78,IF($H$79=\"Markus\",$BG$79,IF($H$80=\"Markus\",$BG$80,IF($H$81=\"Markus\",$BG$81,IF($H$82=\"Markus\",$BG$82,IF($H$83=\"Markus\",$BG$83,IF($H$84=\"Markus\",$BG$84,0)))))))","v":25},null,null,null,null,":",null,{"$f":"IF($H$78=\"Markus\",$BN$78,IF($H$79=\"Markus\",$BN$79,IF($H$80=\"Markus\",$BN$80,IF($H$81=\"Markus\",$BN$81,IF($H$82=\"Markus\",$BN$82,IF($H$83=\"Markus\",$BN$83,IF($H$84=\"Markus\",$BN$84,0)))))))","v":20},null,null,null,null,{"$f":"IF($H$78=\"Markus\",$BS$78,IF($H$79=\"Markus\",$BS$79,IF($H$80=\"Markus\",$BS$80,IF($H$81=\"Markus\",$BS$81,IF($H$82=\"Markus\",$BS$82,IF($H$83=\"Markus\",$BS$83,IF($H$84=\"Markus\",$BS$84,0)))))))","v":5},null,null,null,null,{"$f":"IF($H$78=\"Markus\",$BX$78,IF($H$79=\"Markus\",$BX$79,IF($H$80=\"Markus\",$BX$80,IF($H$81=\"Markus\",$BX$81,IF($H$82=\"Markus\",$BX$82,IF($H$83=\"Markus\",$BX$83,IF($H$84=\"Markus\",$BX$84,0)))))))","v":16}]
[null,null,{"$f":"IF($H$78=\"Patrick\",$F$78,IF($H$79=\"Patrick\",$F$79,IF($H$80=\"Patrick\",$F$80,IF($H$81=\"Patrick\",$F$81,IF($H$82=\"Patrick\",$F$82,IF($H$83=\"Patrick\",$F$83,IF($H$84=\"Patrick\",$F$84,0)))))))","v":2},null,null,null,null,"Patrick",null,null,null,null,null,null,null,null,null,null,null,{"$f":"IF($H$78=\"Patrick\",$T$78,IF($H$79=\"Patrick\",$T$79,IF($H$80=\"Patrick\",$T$80,IF($H$81=\"Patrick\",$T$81,IF($H$82=\"Patrick\",$T$82,IF($H$83=\"Patrick\",$T$83,IF($H$84=\"Patrick\",$T$84,0)))))))","v":10},null,null,null,null,null,{"$f":"IF($H$78=\"Patrick\",$Z$78,IF($H$79=\"Patrick\",$Z$79,IF($H$80=\"Patrick\",$Z$80,IF($H$81=\"Patrick\",$Z$81,IF($H$82=\"Patrick\",$Z$82,IF($H$83=\"Patrick\",$Z$83,IF($H$84=\"Patrick\",$Z$84,0)))))))","v":5},null,null,null,null,null,null,null,null,null,null,{"$f":"IF($H$78=\"Patrick\",$AK$78,IF($H$79=\"Patrick\",$AK$79,IF($H$80=\"Patrick\",$AK$80,IF($H$81=\"Patrick\",$AK$81,IF($H$82=\"Patrick\",$AK$82,IF($H$83=\"Patrick\",$AK$83,IF($H$84=\"Patrick\",$AK$84,0)))))))","v":3},null,null,null,null,null,null,null,null,null,null,{"$f":"IF($H$78=\"Patrick\",$AV$78,IF($H$79=\"Patrick\",$AV$79,IF($H$80=\"Patrick\",$AV$80,IF($H$81=\"Patrick\",$AV$81,IF($H$82=\"Patrick\",$AV$82,IF($H$83=\"Patrick\",$AV$83,IF($H$84=\"Patrick\",$AV$84,0)))))))","v":2},null,null,null,null,null,null,null,null,null,null,{"$f":"IF($H$78=\"Patrick\",$BG$78,IF($H$79=\"Patrick\",$BG$79,IF($H$80=\"Patrick\",$BG$80,IF($H$81=\"Patrick\",$BG$81,IF($H$82=\"Patrick\",$BG$82,IF($H$83=\"Patrick\",$BG$83,IF($H$84=\"Patrick\",$BG$84,0)))))))","v":30},null,null,null,null,":",null,{"$f":"IF($H$78=\"Patrick\",$BN$78,IF($H$79=\"Patrick\",$BN$79,IF($H$80=\"Patrick\",$BN$80,IF($H$81=\"Patrick\",$BN$81,IF($H$82=\"Patrick\",$BN$82,IF($H$83=\"Patrick\",$BN$83,IF($H$84=\"Patrick\",$BN$84,0)))))))","v":19},null,null,null,null,{"$f":"IF($H$78=\"Patrick\",$BS$78,IF($H$79=\"Patrick\",$BS$79,IF($H$80=\"Patrick\",$BS$80,IF($H$81=\"Patrick\",$BS$81,IF($H$82=\"Patrick\",$BS$82,IF($H$83=\"Patrick\",$BS$83,IF($H$84=\"Patrick\",$BS$84,0)))))))","v":11},null,null,null,null,{"$f":"IF($H$78=\"Patrick\",$BX$78,IF($H$79=\"Patrick\",$BX$79,IF($H$80=\"Patrick\",$BX$80,IF($H$81=\"Patrick\",$BX$81,IF($H$82=\"Patrick\",$BX$82,IF($H$83=\"Patrick\",$BX$83,IF($H$84=\"Patrick\",$BX$84,0)))))))","v":18}]
[null,null,{"$f":"IF($H$78=\"Ratze\",$F$78,IF($H$79=\"Ratze\",$F$79,IF($H$80=\"Ratze\",$F$80,IF($H$81=\"Ratze\",$F$81,IF($H$82=\"Ratze\",$F$82,IF($H$83=\"Ratze\",$F$83,IF($H$84=\"Ratze\",$F$84,0)))))))","v":1},null,null,null,null,"Ratze",null,null,null,null,null,null,null,null,null,null,null,{"$f":"IF($H$78=\"Ratze\",$T$78,IF($H$79=\"Ratze\",$T$79,IF($H$80=\"Ratze\",$T$80,IF($H$81=\"Ratze\",$T$81,IF($H$82=\"Ratze\",$T$82,IF($H$83=\"Ratze\",$T$83,IF($H$84=\"Ratze\",$T$84,0)))))))","v":10},null,null,null,null,null,{"$f":"IF($H$78=\"Ratze\",$Z$78,IF($H$79=\"Ratze\",$Z$79,IF($H$80=\"Ratze\",$Z$80,IF($H$81=\"Ratze\",$Z$81,IF($H$82=\"Ratze\",$Z$82,IF($H$83=\"Ratze\",$Z$83,IF($H$84=\"Ratze\",$Z$84,0)))))))","v":6},null,null,null,null,null,null,null,null,null,null,{"$f":"IF($H$78=\"Ratze\",$AK$78,IF($H$79=\"Ratze\",$AK$79,IF($H$80=\"Ratze\",$AK$80,IF($H$81=\"Ratze\",$AK$81,IF($H$82=\"Ratze\",$AK$82,IF($H$83=\"Ratze\",$AK$83,IF($H$84=\"Ratze\",$AK$84,0)))))))","v":3},null,null,null,null,null,null,null,null,null,null,{"$f":"IF($H$78=\"Ratze\",$AV$78,IF($H$79=\"Ratze\",$AV$79,IF($H$80=\"Ratze\",$AV$80,IF($H$81=\"Ratze\",$AV$81,IF($H$82=\"Ratze\",$AV$82,IF($H$83=\"Ratze\",$AV$83,IF($H$84=\"Ratze\",$AV$84,0)))))))","v":1},null,null,null,null,null,null,null,null,null,null,{"$f":"IF($H$78=\"Ratze\",$BG$78,IF($H$79=\"Ratze\",$BG$79,IF($H$80=\"Ratze\",$BG$80,IF($H$81=\"Ratze\",$BG$81,IF($H$82=\"Ratze\",$BG$82,IF($H$83=\"Ratze\",$BG$83,IF($H$84=\"Ratze\",$BG$84,0)))))))","v":22},null,null,null,null,":",null,{"$f":"IF($H$78=\"Ratze\",$BN$78,IF($H$79=\"Ratze\",$BN$79,IF($H$80=\"Ratze\",$BN$80,IF($H$81=\"Ratze\",$BN$81,IF($H$82=\"Ratze\",$BN$82,IF($H$83=\"Ratze\",$BN$83,IF($H$84=\"Ratze\",$BN$84,0)))))))","v":11},null,null,null,null,{"$f":"IF($H$78=\"Ratze\",$BS$78,IF($H$79=\"Ratze\",$BS$79,IF($H$80=\"Ratze\",$BS$80,IF($H$81=\"Ratze\",$BS$81,IF($H$82=\"Ratze\",$BS$82,IF($H$83=\"Ratze\",$BS$83,IF($H$84=\"Ratze\",$BS$84,0)))))))","v":11},null,null,null,null,{"$f":"IF($H$78=\"Ratze\",$BX$78,IF($H$79=\"Ratze\",$BX$79,IF($H$80=\"Ratze\",$BX$80,IF($H$81=\"Ratze\",$BX$81,IF($H$82=\"Ratze\",$BX$82,IF($H$83=\"Ratze\",$BX$83,IF($H$84=\"Ratze\",$BX$84,0)))))))","v":21}]
[null,null,{"$f":"IF($H$78=\"Schmiddi\",$F$78,IF($H$79=\"Schmiddi\",$F$79,IF($H$80=\"Schmiddi\",$F$80,IF($H$81=\"Schmiddi\",$F$81,IF($H$82=\"Schmiddi\",$F$82,IF($H$83=\"Schmiddi\",$F$83,IF($H$84=\"Schmiddi\",$F$84,0)))))))","v":5},null,null,null,null,"Schmiddi",null,null,null,null,null,null,null,null,null,null,null,{"$f":"IF($H$78=\"Schmiddi\",$T$78,IF($H$79=\"Schmiddi\",$T$79,IF($H$80=\"Schmiddi\",$T$80,IF($H$81=\"Schmiddi\",$T$81,IF($H$82=\"Schmiddi\",$T$82,IF($H$83=\"Schmiddi\",$T$83,IF($H$84=\"Schmiddi\",$T$84,0)))))))","v":10},null,null,null,null,null,{"$f":"IF($H$78=\"Schmiddi\",$Z$78,IF($H$79=\"Schmiddi\",$Z$79,IF($H$80=\"Schmiddi\",$Z$80,IF($H$81=\"Schmiddi\",$Z$81,IF($H$82=\"Schmiddi\",$Z$82,IF($H$83=\"Schmiddi\",$Z$83,IF($H$84=\"Schmiddi\",$Z$84,0)))))))","v":3},null,null,null,null,null,null,null,null,null,null,{"$f":"IF($H$78=\"Schmiddi\",$AK$78,IF($H$79=\"Schmiddi\",$AK$79,IF($H$80=\"Schmiddi\",$AK$80,IF($H$81=\"Schmiddi\",$AK$81,IF($H$82=\"Schmiddi\",$AK$82,IF($H$83=\"Schmiddi\",$AK$83,IF($H$84=\"Schmiddi\",$AK$84,0)))))))","v":0},null,null,null,null,null,null,null,null,null,null,{"$f":"IF($H$78=\"Schmiddi\",$AV$78,IF($H$79=\"Schmiddi\",$AV$79,IF($H$80=\"Schmiddi\",$AV$80,IF($H$81=\"Schmiddi\",$AV$81,IF($H$82=\"Schmiddi\",$AV$82,IF($H$83=\"Schmiddi\",$AV$83,IF($H$84=\"Schmiddi\",$AV$84,0)))))))","v":7},null,null,null,null,null,null,null,null,null,null,{"$f":"IF($H$78=\"Schmiddi\",$BG$78,IF($H$79=\"Schmiddi\",$BG$79,IF($H$80=\"Schmiddi\",$BG$80,IF($H$81=\"Schmiddi\",$BG$81,IF($H$82=\"Schmiddi\",$BG$82,IF($H$83=\"Schmiddi\",$BG$83,IF($H$84=\"Schmiddi\",$BG$84,0)))))))","v":22},null,null,null,null,":",null,{"$f":"IF($H$78=\"Schmiddi\",$BN$78,IF($H$79=\"Schmiddi\",$BN$79,IF($H$80=\"Schmiddi\",$BN$80,IF($H$81=\"Schmiddi\",$BN$81,IF($H$82=\"Schmiddi\",$BN$82,IF($H$83=\"Schmiddi\",$BN$83,IF($H$84=\"Schmiddi\",$BN$84,0)))))))","v":37},null,null,null,null,{"$f":"IF($H$78=\"Schmiddi\",$BS$78,IF($H$79=\"Schmiddi\",$BS$79,IF($H$80=\"Schmiddi\",$BS$80,IF($H$81=\"Schmiddi\",$BS$81,IF($H$82=\"Schmiddi\",$BS$82,IF($H$83=\"Schmiddi\",$BS$83,IF($H$84=\"Schmiddi\",$BS$84,0)))))))","v":-15},null,null,null,null,{"$f":"IF($H$78=\"Schmiddi\",$BX$78,IF($H$79=\"Schmiddi\",$BX$79,IF($H$80=\"Schmiddi\",$BX$80,IF($H$81=\"Schmiddi\",$BX$81,IF($H$82=\"Schmiddi\",$BX$82,IF($H$83=\"Schmiddi\",$BX$83,IF($H$84=\"Schmiddi\",$BX$84,0)))))))","v":9}]

{"sheet":"11.3.","index":16,"n_rows":97,"n_cols":88,"rows_kept":97,"cut":false,"hidden":false,"merged":[[97,1,97,82],[98,0,98,83],[96,47,96,57],[96,58,96,62],[96,63,96,64],[96,65,96,69],[96,70,96,74],[96,75,96,81],[95,58,95,62],[95,63,95,64],[95,65,95,69],[95,70,95,74],[95,75,95,81],[96,2,96,6],[96,7,96,18],[96,19,96,24],[96,25,96,35],[96,36,96,46],[95,2,95,6],[95,7,95,18],[95,19,95,24],[95,25,95,35],[95,36,95,46],[95,47,95,57],[94,47,94,57],[94,58,94,62],[94,63,94,64],[94,65,94,69],[94,70,94,74],[94,75,94,81],[93,58,93,62],[93,63,93,64],[93,65,93,69],[93,70,93,74],[93,75,93,81],[93,47,93,57],[94,2,94,6],[94,7,94,18],[94,19,94,24],[94,25,94,35],[94,36,94,46],[93,2,93,6],[93,7,93,18],[93,19,93,24],[93,25,93,35],[93,36,93,46],[92,36,92,46],[90,63,90,64],[90,65,90,69],[90,70,90,74],[90,75,90,81],[91,2,91,6],[91,7,91,18],[91,19,91,24],[91,25,91,35],[91,36,91,46],[91,47,91,57],[92,47,92,57],[92,58,92,62],[92,63,92,64],[92,65,92,69],[92,70,92,74],[92,75,92,81],[91,58,91,62],[91,63,91,64],[91,65,91,69],[91,70,91,74],[91,75,91,81],[87,1,96,1],[87,2,87,81],[87,82,96,82],[88,2,88,81],[89,2,89,6],[89,7,89,18],[89,19,89,24],[89,25,89,35],[89,36,89,46],[89,47,89,57],[89,58,89,69],[89,70,89,74],[89,75,89,81],[90,2,90,6],[90,7,90,18],[90,19,90,24],[90,25,90,35],[90,36,90,46],[90,47,90,57],[90,58,90,62],[92,2,92,6],[92,7,92,18],[92,19,92,24],[92,25,92,35],[84,1,84,82],[85,1,85,82],[86,1,86,82],[82,75,82,81],[83,2,83,4],[83,5,83,6],[83,7,83,18],[83,19,83,24],[83,25,83,35],[83,36,83,46],[83,47,83,57],[83,58,83,62],[83,63,83,64],[82,36,82,46],[82,47,82,57],[82,58,82,62],[82,63,82,64],[82,65,82,69],[82,70,82,74],[81,65,81,69],[81,70,81,74],[81,75,81,81],[82,2,82,4],[82,5,82,6],[82,7,82,18],[82,19,82,24],[82,25,82,35],[83,65,83,69],[83,70,83,74],[83,75,83,81],[81,2,81,4],[81,5,81,6],[81,7,81,18],[81,19,81,24],[81,25,81,35],[81,36,81,46],[81,47,81,57],[81,58,81,62],[81,63,81,64],[79,2,79,4],[79,5,79,6],[79,7,79,18],[79,19,79,24],[79,25,79,35],[79,75,79,81],[80,2,80,4],[80,5,80,6],[80,7,80,18],[80,19,80,24],[80,25,80,35],[80,36,80,46],[80,47,80,57],[80,58,80,62],[80,63,80,64],[79,36,79,46],[79,47,79,57],[79,58,79,62],[79,63,79,64],[79,65,79,69],[79,70,79,74],[80,65,80,69],[80,70,80,74],[80,75,80,81],[76,70,76,74],[77,65,77,69],[77,70,77,74],[77,75,77,81],[78,2,78,4],[78,5,78,6],[78,7,78,18],[78,19,78,24],[78,25,78,35],[78,36,78,46],[78,47,78,57],[78,58,78,62],[78,63,78,64],[78,65,78,69],[78,70,78,74],[78,75,78,81],[71,1,71,82],[72,1,72,82],[73,1,73,82],[74,1,83,1],[74,2,74,81],[74,82,83,82],[75,2,75,81],[76,2,76,6],[76,7,76,18],[76,75,76,81],[77,2,77,4],[77,5,77,6],[77,7,77,18],[77,19,77,24],[77,25,77,35],[77,36,77,46],[77,47,77,57],[77,58,77,62],[77,63,77,64],[76,19,76,24],[76,25,76,35],[76,36,76,46],[76,47,76,57],[76,58,76,69],[69,70,69,74],[69,75,69,78],[69,79,69,81],[70,2,70,6],[70,7,70,18],[70,19,70,24],[70,25,70,35],[70,36,70,46],[70,79,70,81],[70,47,70,57],[70,58,70,62],[70,63,70,64],[70,65,70,69],[70,70,70,74],[70,75,70,78],[69,2,69,6],[69,7,69,18],[69,19,69,24],[69,25,69,35],[69,36,69,46],[69,47,69,57],[69,58,69,62],[69,63,69,64],[69,65,69,69],[67,2,67,6],[67,7,67,18],[67,19,67,24],[67,25,67,35],[67,36,67,46],[67,79,67,81],[68,2,68,6],[68,7,68,18],[68,19,68,24],[68,25,68,35],[68,36,68,46],[68,47,68,57],[68,58,68,62],[68,63,68,64],[68,65,68,69],[67,47,67,57],[67,58,67,62],[67,63,67,64],[67,65,67,69],[67,70,67,74],[67,75,67,78],[68,70,68,74],[68,75,68,78],[68,79,68,81],[64,70,64,74],[64,75,64,78],[65,70,65,74],[65,75,65,78],[65,79,65,81],[66,2,66,6],[66,7,66,18],[66,19,66,24],[66,25,66,35],[66,36,66,46],[66,47,66,57],[66,58,66,62],[66,63,66,64],[66,65,66,69],[66,70,66,74],[66,75,66,78],[66,79,66,81],[65,25,65,35],[65,36,65,46],[65,47,65,57],[65,58,65,62],[65,63,65,64],[65,65,65,69],[64,47,64,57],[64,58,64,62],[64,63,64,64],[64,65,64,69],[60,1,60,82],[61,1,68,1],[61,2,61,81],[61,82,68,82],[62,2,62,81],[63,2,63,6],[63,7,63,18],[63,19,63,24],[63,25,63,35],[63,36,63,46],[63,47,63,57],[63,58,63,69],[63,70,63,74],[63,75,63,78],[63,79,63,81],[64,2,64,6],[64,7,64,18],[64,19,64,24],[64,25,64,35],[64,36,64,46],[64,79,64,81],[65,2,65,6],[65,7,65,18],[65,19,65,24],[35,77,35,81],[36,1,36,82],[59,1,59,82],[34,53,34,67],[34,69,34,73],[34,74,34,76],[34,77,34,81],[35,7,35,10],[35,12,35,16],[35,18,35,22],[35,24,35,33],[35,35,35,49],[35,50,35,52],[34,7,34,10],[34,12,34,16],[34,18,34,22],[34,24,34,33],[34,35,34,49],[34,50,34,52],[35,53,35,67],[35,69,35,73],[35,74,35,76],[32,77,32,81],[33,7,33,10],[33,12,33,16],[33,18,33,22],[33,24,33,33],[33,35,33,49],[33,50,33,52],[33,53,33,67],[33,69,33,73],[33,74,33,76],[33,77,33,81],[32,7,32,10],[32,12,32,16],[32,18,32,22],[32,24,32,33],[32,35,32,49],[32,50,32,52],[32,53,32,67],[32,69,32,73],[32,74,32,76],[30,77,30,81],[31,7,31,10],[31,12,31,16],[31,18,31,22],[31,24,31,33],[31,35,31,49],[31,50,31,52],[31,53,31,67],[31,69,31,73],[31,74,31,76],[31,77,31,81],[30,7,30,10],[30,12,30,16],[30,18,30,22],[30,24,30,33],[30,35,30,49],[30,50,30,52],[30,53,30,67],[30,69,30,73],[30,74,30,76],[28,74,28,76],[28,77,28,81],[29,7,29,10],[29,12,29,16],[29,18,29,22],[29,24,29,33],[29,35,29,49],[29,50,29,52],[28,7,28,10],[28,12,28,16],[28,18,28,22],[28,24,28,33],[28,35,28,49],[28,50,28,52],[29,53,29,67],[29,69,29,73],[29,74,29,76],[29,77,29,81],[27,18,27,22],[27,24,27,33],[27,35,27,49],[27,50,27,52],[26,50,26,52],[26,53,26,67],[26,68,35,68],[28,53,28,67],[28,69,28,73],[24,77,24,81],[25,2,25,81],[26,2,35,5],[26,6,35,6],[26,7,26,10],[26,11,35,11],[26,12,26,16],[15,2,24,5],[15,6,24,6],[26,69,26,73],[26,74,26,76],[26,77,26,81],[27,53,27,67],[27,69,27,73],[27,74,27,76],[27,77,27,81],[26,17,35,17],[26,18,26,22],[26,23,35,23],[26,24,26,33],[26,34,35,34],[26,35,26,49],[27,7,27,10],[27,12,27,16],[24,7,24,10],[24,12,24,16],[24,18,24,22],[24,24,24,33],[24,35,24,49],[24,50,24,52],[24,53,24,67],[24,69,24,73],[24,74,24,76],[22,24,22,33],[22,35,22,49],[22,50,22,52],[22,53,22,67],[22,69,22,73],[22,74,22,76],[22,77,22,81],[23,7,23,10],[23,12,23,16],[23,18,23,22],[23,24,23,33],[23,35,23,49],[23,50,23,52],[23,53,23,67],[23,69,23,73],[23,74,23,76],[23,77,23,81],[20,53,20,67],[20,69,20,73],[20,74,20,76],[20,77,20,81],[21,7,21,10],[21,12,21,16],[21,18,21,22],[21,24,21,33],[21,35,21,49],[21,50,21,52],[21,53,21,67],[21,69,21,73],[21,74,21,76],[21,77,21,81],[18,53,18,67],[18,69,18,73],[18,74,18,76],[18,77,18,81],[19,7,19,10],[19,12,19,16],[19,18,19,22],[19,24,19,33],[19,35,19,49],[19,50,19,52],[19,53,19,67],[19,69,19,73],[19,74,19,76],[19,77,19,81],[16,53,16,67],[16,69,16,73],[16,74,16,76],[16,77,16,81],[17,7,17,10],[17,12,17,16],[17,18,17,22],[17,24,17,33],[17,35,17,49],[17,50,17,52],[17,53,17,67],[17,69,17,73],[17,74,17,76],[17,77,17,81],[15,24,15,33],[15,34,24,34],[15,35,15,49],[15,50,15,52],[16,50,16,52],[15,7,15,10],[15,11,24,11],[15,12,15,16],[15,17,24,17],[18,7,18,10],[18,12,18,16],[18,18,18,22],[18,24,18,33],[18,35,18,49],[18,50,18,52],[20,7,20,10],[20,12,20,16],[20,18,20,22],[20,24,20,33],[20,35,20,49],[20,50,20,52],[22,7,22,10],[22,12,22,16],[22,18,22,22],[13,69,13,81],[14,2,14,81],[7,68,7,81],[8,1,8,82],[9,1,9,82],[10,1,10,82],[11,1,35,1],[11,2,11,81],[11,82,35,82],[12,2,12,81],[13,2,13,5],[13,7,13,10],[15,53,15,67],[15,68,24,68],[15,69,15,73],[15,74,15,76],[15,77,15,81],[16,7,16,10],[16,12,16,16],[16,18,16,22],[16,24,16,33],[16,35,16,49],[15,18,15,22],[15,23,24,23],[0,0,0,83],[1,1,1,82],[1,83,97,83],[2,1,2,82],[3,1,3,82],[4,1,7,1],[4,2,4,81],[4,82,7,82],[5,2,5,81],[6,2,6,11],[6,12,6,25],[6,26,6,39],[6,40,6,53],[6,54,6,67],[6,68,6,81],[7,2,7,11],[7,12,7,25],[7,26,7,39],[7,40,7,53],[7,54,7,67],[13,12,13,16],[13,18,13,22],[13,24,13,33],[13,35,13,67]]}
[]
[null,{"$f":"\"Turnier am \" & MID(CELL(\"dateiname\",A1),SEARCH(\"]\",CELL(\"dateiname\",A1))+1,31)","v":"Turnier am 11.3."}]
[]
[]
[null,null,"Spielerliste"]
[]
[null,null,{"$f":"\" Spieler\"","v":" Spieler"},null,null,null,null,null,null,null,null,null,"Spieler 1",null,null,null,null,null,null,null,null,null,null,null,null,null,"Spieler 2",null,null,null,null,null,null,null,null,null,null,null,null,null,"Spieler 3",null,null,null,null,null,null,null,null,null,null,null,null,null,"Spieler 4",null,null,null,null,null,null,null,null,null,null,null,null,null,"Spieler 5"]
[null,null,{"$f":"\" Name\"","v":" Name"},null,null,null,null,null,null,null,null,null,"Ratze",null,null,null,null,null,null,null,null,null,null,null,null,null,"Christoph",null,null,null,null,null,null,null,null,null,null,null,null,null,"Schmiddi",null,null,null,null,null,null,null,null,null,null,null,null,null,"Jule",null,null,null,null,null,null,null,null,null,null,null,null,null,"Patrick"]
[]
[]
[]
[null,null,"Spielplan"]
[]
[null,null,"00:12:00",null,null,null,null,"Spiel",null,null,null,null,"Datum",null,null,null,null,null,"Uhrzeit",null,null,null,null,null,"Austragungsort",null,null,null,null,null,null,null,null,null,null,"Paarung",null,null,null,null,null,null,null,null,null,null,null,null,null,null,null,null,null,null,null,null,null,null,null,null,null,null,null,null,null,null,null,null,null,"Ergebnis",null,null,null,null,null,null,null,null,null,null,null,null,null,null,"Spiele","SiegHeim","Unentschieden","SiegGast"]
[]
[null,null,"Hinrunde",null,null,null,null,1,null,null,null,null,{"$f":"MID(CELL(\"dateiname\",A1),SEARCH(\"]\",CELL(\"dateiname\",A1))+1,31)","v":"11.3."},null,null,null,null,null,"21:00:00",null,null,null,null,null,"Fernseher",null,null,null,null,null,null,null,null,null,null,{"$f":"$M$8","v":"Ratze"},null,null,null,null,null,null,null,null,null,null,null,null,null,null,":",null,null,{"$f":"$AA$8","v":"Christoph"},null,null,null,null,null,null,null,null,null,null,null,null,null,null,null,4,null,null,null,null,":",null,null,0,null,null,null,null,null,null,{"$f":"IF(AND(ISNUMBER(BR16),ISNUMBER(BZ16)),1,0)","v":1},{"$f":"IF(OR(ISBLANK(BR16),ISBLANK(BZ16)),0,IF(BR16>BZ16,1,0))","v":1},{"$f":"IF(OR(ISBLANK(BR16),ISBLANK(BZ16)),0,IF(BR16=BZ16,1,0))","v":0},{"$f":"IF(OR(ISBLANK(BR16),ISBLANK(BZ16)),0,IF(BR16<BZ16,1,0))","v":0}]
[null,null,null,null,null,null,null,{"$f":"H16+1","v":2},null,null,null,null,{"$f":"$M$16","v":"11.3."},null,null,null,null,null,{"$f":"S16","v":"21:00:00"},null,null,null,null,null,"Fernseher",null,null,null,null,null,null,null,null,null,null,{"$f":"$AO$8","v":"Schmiddi"},null,null,null,null,null,null,null,null,null,null,null,null,null,null,":",null,null,{"$f":"$BC$8","v":"Jule"},null,null,null,null,null,null,null,null,null,null,null,null,null,null,null,2,null,null,null,null,":",null,null,1,null,null,null,null,null,null,{"$f":"IF(AND(ISNUMBER(BR17),ISNUMBER(BZ17)),1,0)","v":1},{"$f":"IF(OR(ISBLANK(BR17),ISBLANK(BZ17)),0,IF(BR17>BZ17,1,0))","v":1},{"$f":"IF(OR(ISBLANK(BR17),ISBLANK(BZ17)),0,IF(BR17=BZ17,1,0))","v":0},{"$f":"IF(OR(ISBLANK(BR17),ISBLANK(BZ17)),0,IF(BR17<BZ17,1,0))","v":0}]
[null,null,null,null,null,null,null,{"$f":"H17+1","v":3},null,null,null,null,{"$f":"$M$16","v":"11.3."},null,null,null,null,null,{"$f":"S16+$C$14","v":"21:12:00"},null,null,null,null,null,{"$f":"$Y$16","v":"Fernseher"},null,null,null,null,null,null,null,null,null,null,{"$f":"$BQ$8","v":"Patrick"},null,null,null,null,null,null,null,null,null,null,null,null,null,null,":",null,null,{"$f":"$M$8","v":"Ratze"},null,null,null,null,null,null,null,null,null,null,null,null,null,null,null,1,null,null,null,null,":",null,null,1,null,null,null,null,null,null,1,0,1,0]
[null,null,null,null,null,null,null,{"$f":"H18+1","v":4},null,null,null,null,"11.3.",null,null,null,null,null,"21:12:00",null,null,null,null,null,{"$f":"$Y$17","v":"Fernseher"},null,null,null,null,null,null,null,null,null,null,{"$f":"$AA$8","v":"Christoph"},null,null,null,null,null,null,null,null,null,null,null,null,null,null,":",null,null,{"$f":"$AO$8","v":"Schmiddi"},null,null,null,null,null,null,null,null,null,null,null,null,null,null,null,5,null,null,null,null,":",null,null,4,null,null,null,null,null,null,1,1,0,0]
[null,null,null,null,null,null,null,5,null,null,null,null,"11.3.",null,null,null,null,null,"21:24:00",null,null,null,null,null,{"$f":"$Y$16","v":"Fernseher"},null,null,null,null,null,null,null,null,null,null,{"$f":"$BC$8","v":"Jule"},null,null,null,null,null,null,null,null,null,null,null,null,null,null,":",null,null,{"$f":"$BQ$8","v":"Patrick"},null,null,null,null,null,null,null,null,null,null,null,null,null,null,null,0,null,null,null,null,":",null,null,2,null,null,null,null,null,null,1,0,0,1]
[null,null,null,null,null,null,null,6,null,null,null,null,"11.3.",null,null,null,null,null,"21:24:00",null,null,null,null,null,{"$f":"$Y$17","v":"Fernseher"},null,null,null,null,null,null,null,null,null,null,{"$f":"$M$8","v":"Ratze"},null,null,null,null,null,null,null,null,null,null,null,null,null,null,":",null,null,{"$f":"$AO$8","v":"Schmiddi"},null,null,null,null,null,null,null,null,null,null,null,null,null,null,null,3,null,null,null,null,":",null,null,1,null,null,null,null,null,null,1,1,0,0]
[null,null,null,null,null,null,null,7,null,null,null,null,"11.3.",null,null,null,null,null,"21:36:00",null,null,null,null,null,{"$f":"$Y$16","v":"Fernseher"},null,null,null,null,null,null,null,null,null,null,{"$f":"$AA$8","v":"Christoph"},null,null,null,null,null,null,null,null,null,null,null,null,null,null,":",null,null,{"$f":"$BC$8","v":"Jule"},null,null,null,null,null,null,null,null,null,null,null,null,null,null,null,1,null,null,null,null,":",null,null,2,null,null,null,null,null,null,1,0,0,1]
[null,null,null,null,null,null,null,8,null,null,null,null,"11.3.",null,null,null,null,null,"21:36:00",null,null,null,null,null,{"$f":"$Y$17","v":"Fernseher"},null,null,null,null,null,null,null,null,null,null,{"$f":"$AO$8","v":"Schmiddi"},null,null,null,null,null,null,null,null,null,null,null,null,null,null,":",null,null,{"$f":"$BQ$8","v":"Patrick"},null,null,null,null,null,null,null,null,null,null,null,null,null,null,null,3,null,null,null,null,":",null,null,4,null,null,null,null,null,null,1,0,0,1]
[null,null,null,null,null,null,null,9,null,null,null,null,"11.3.",null,null,null,null,null,"21:48:00",null,null,null,null,null,{"$f":"$Y$16","v":"Fernseher"},null,null,null,null,null,null,null,null,null,null,{"$f":"$BC$8","v":"Jule"},null,null,null,null,null,null,null,null,null,null,null,null,null,null,":",null,null,{"$f":"$M$8","v":"Ratze"},null,null,null,null,null,null,null,null,null,null,null,null,null,null,null,1,null,null,null,null,":",null,null,2,null,null,null,null,null,null,1,0,0,1]
[null,null,null,null,null,null,null,10,null,null,null,null,"11.3.",null,null,null,null,null,"21:48:00",null,null,null,null,null,{"$f":"$Y$17","v":"Fernseher"},null,null,null,null,null,null,null,null,null,null,{"$f":"$BQ$8","v":"Patrick"},null,null,null,null,null,null,null,null,null,null,null,null,null,null,":",null,null,{"$f":"$AA$8","v":"Christoph"},null,null,null,null,null,null,null,null,null,null,null,null,null,null,null,3,null,null,null,null,":",null,null,1,null,null,null,null,null,null,1,1,0,0]
[]
[null,null,"Rückrunde",null,null,null,null,{"$f":"H25+1","v":11},null,null,null,null,{"$f":"$M$16","v":"11.3."},null,null,null,null,null,{"$f":"S24+$C$14","v":"22:00:00"},null,null,null,null,null,{"$f":"$Y$17","v":"Fernseher"},null,null,null,null,null,null,null,null,null,null,{"$f":"$AA$8","v":"Christoph"},null,null,null,null,null,null,null,null,null,null,null,null,null,null,":",null,null,{"$f":"$M$8","v":"Ratze"},null,null,null,null,null,null,null,null,null,null,null,null,null,null,null,2,null,null,null,null,":",null,null,5,null,null,null,null,null,null,{"$f":"IF(AND(ISNUMBER(BR27),ISNUMBER(BZ27)),1,0)","v":1},{"$f":"IF(OR(ISBLANK(BR27),ISBLANK(BZ27)),0,IF(BR27>BZ27,1,0))","v":0},{"$f":"IF(OR(ISBLANK(BR27),ISBLANK(BZ27)),0,IF(BR27=BZ27,1,0))","v":0},{"$f":"IF(OR(ISBLANK(BR27),ISBLANK(BZ27)),0,IF(BR27<BZ27,1,0))","v":1}]
[null,null,null,null,null,null,null,{"$f":"H27+1","v":12},null,null,null,null,"11.3.",null,null,null,null,null,{"$f":"S25+$C$14","v":"22:00:00"},null,null,null,null,null,{"$f":"$Y$16","v":"Fernseher"},null,null,null,null,null,null,null,null,null,null,{"$f":"$BC$8","v":"Jule"},null,null,null,null,null,null,null,null,null,null,null,null,null,null,":",null,null,{"$f":"$AO$8","v":"Schmiddi"},null,null,null,null,null,null,null,null,null,null,null,null,null,null,null,3,null,null,null,null,":",null,null,2,null,null,null,null,null,null,1,1,0,0]
[null,null,null,null,null,null,null,{"$f":"H28+1","v":13},null,null,null,null,"11.3.",null,null,null,null,null,{"$f":"S27+$C$14","v":"22:12:00"},null,null,null,null,null,{"$f":"$Y$17","v":"Fernseher"},null,null,null,null,null,null,null,null,null,null,{"$f":"$M$8","v":"Ratze"},null,null,null,null,null,null,null,null,null,null,null,null,null,null,":",null,null,{"$f":"$BQ$8","v":"Patrick"},null,null,null,null,null,null,null,null,null,null,null,null,null,null,null,2,null,null,null,null,":",null,null,0,null,null,null,null,null,null,1,1,0,0]
[null,null,null,null,null,null,null,14,null,null,null,null,"11.3.",null,null,null,null,null,"22:12:00",null,null,null,null,null,{"$f":"$Y$16","v":"Fernseher"},null,null,null,null,null,null,null,null,null,null,{"$f":"$AO$8","v":"Schmiddi"},null,null,null,null,null,null,null,null,null,null,null,null,null,null,":",null,null,{"$f":"$AA$8","v":"Christoph"},null,null,null,null,null,null,null,null,null,null,null,null,null,null,null,4,null,null,null,null,":",null,null,3,null,null,null,null,null,null,1,1,0,0]
[null,null,null,null,null,null,null,15,null,null,null,null,"11.3.",null,null,null,null,null,"22:24:00",null,null,null,null,null,{"$f":"$Y$17","v":"Fernseher"},null,null,null,null,null,null,null,null,null,null,{"$f":"$BQ$8","v":"Patrick"},null,null,null,null,null,null,null,null,null,null,null,null,null,null,":",null,null,{"$f":"$BC$8","v":"Jule"},null,null,null,null,null,null,null,null,null,null,null,null,null,null,null,3,null,null,null,null,":",null,null,0,null,null,null,null,null,null,1,1,0,0]
[null,null,null,null,null,null,null,16,null,null,null,null,"11.3.",null,null,null,null,null,"22:24:00",null,null,null,null,null,{"$f":"$Y$16","v":"Fernseher"},null,null,null,null,null,null,null,null,null,null,{"$f":"$AO$8","v":"Schmiddi"},null,null,null,null,null,null,null,null,null,null,null,null,null,null,":",null,null,{"$f":"$M$8","v":"Ratze"},null,null,null,null,null,null,null,null,null,null,null,null,null,null,null,2,null,null,null,null,":",null,null,3,null,null,null,null,null,null,1,0,0,1]
[null,null,null,null,null,null,null,17,null,null,null,null,"11.3.",null,null,null,null,null,"22:36:00",null,null,null,null,null,{"$f":"$Y$17","v":"Fernseher"},null,null,null,null,null,null,null,null,null,null,{"$f":"$BC$8","v":"Jule"},null,null,null,null,null,null,null,null,null,null,null,null,null,null,":",null,null,{"$f":"$AA$8","v":"Christoph"},null,null,null,null,null,null,null,null,null,null,null,null,null,null,null,2,null,null,null,null,":",null,null,3,null,null,null,null,null,null,1,0,0,1]
[null,null,null,null,null,null,null,18,null,null,null,null,"11.3.",null,null,null,null,null,"22:36:00",null,null,null,null,null,{"$f":"$Y$16","v":"Fernseher"},null,null,null,null,null,null,null,null,null,null,{"$f":"$BQ$8","v":"Patrick"},null,null,null,null,null,null,null,null,null,null,null,null,null,null,":",null,null,{"$f":"$AO$8","v":"Schmiddi"},null,null,null,null,null,null,null,null,null,null,null,null,null,null,null,1,null,null,null,null,":",null,null,4,null,null,null,null,null,null,1,0,0,1]
[null,null,null,null,null,null,null,19,null,null,null,null,"11.3.",null,null,null,null,null,"22:48:00",null,null,null,null,null,{"$f":"$Y$17","v":"Fernseher"},null,null,null,null,null,null,null,null,null,null,{"$f":"$M$8","v":"Ratze"},null,null,null,null,null,null,null,null,null,null,null,null,null,null,":",null,null,{"$f":"$BC$8","v":"Jule"},null,null,null,null,null,null,null,null,null,null,null,null,null,null,null,2,null,null,null,null,":",null,null,0,null,null,null,null,null,null,1,1,0,0]
[null,null,null,null,null,null,null,20,null,null,null,null,"11.3.",null,null,null,null,null,"22:48:00",null,null,null,null,null,{"$f":"$Y$16","v":"Fernseher"},null,null,null,null,null,null,null,null,null,null,{"$f":"$AA$8","v":"Christoph"},null,null,null,null,null,null,null,null,null,null,null,null,null,null,":",null,null,{"$f":"$BQ$8","v":"Patrick"},null,null,null,null,null,null,null,null,null,null,null,null,null,null,null,1,null,null,null,null,":",null,null,1,null,null,null,null,null,null,1,0,1,0]
[]
[]
[]
[]
[]
[]
[]
[]
[]
[]
[]
[]
[]
[]
[]
[]
[]
[]
[]
[]
[]
[]
[]
[]
[]
[null,null,"Tabelle (unsortiert)"]
[]
[null,null,"Rang",null,null,null,null,"Spieler",null,null,null,null,null,null,null,null,null,null,null,"Spiele",null,null,null,null,null,"Siege",null,null,null,null,null,null,null,null,null,null,"Unentschieden",null,null,null,null,null,null,null,null,null,null,"Niederlagen",null,null,null,null,null,null,null,null,null,null,"Tore",null,null,null,null,null,null,null,null,null,null,null,"+/-",null,null,null,null,"Punkte",null,null,null,"HS"]
[null,null,{"$f":"IF(T65=0,0,RANK(BX65,$BX$65:$CA$69,0))","v":1},null,null,null,null,{"$f":"$M$8","v":"Ratze"},null,null,null,null,null,null,null,null,null,null,null,{"$f":"CG16+CG18+CG21+CG24+CG27+CG29+CG32+CG35","v":8},null,null,null,null,null,{"$f":"CH16+CJ18+CH21+CJ24+CJ27+CH29+CJ32+CH35","v":7},null,null,null,null,null,null,null,null,null,null,{"$f":"CI16+CI18+CI21+CI24+CI27+CI29+CI32+CI35","v":1},null,null,null,null,null,null,null,null,null,null,{"$f":"CJ16+CH18+CJ21+CH24+CH27+CJ29+CH32+CJ35","v":0},null,null,null,null,null,null,null,null,null,null,{"$f":"BR16+BZ18+BR21+BZ24+BZ27+BR29+BZ32+BR35","v":22},null,null,null,null,":",null,{"$f":"BZ16+BR18+BZ21+BR24+BR27+BZ29+BR32+BZ35","v":7},null,null,null,null,{"$f":"BG65-BN65","v":15},null,null,null,null,{"$f":"(Z65*3)+AK65","v":22},null,null,null,{"$f":"BX65+ROW()/1000","v":22.065000000000001}]
[null,null,{"$f":"IF(T66=0,0,RANK(BX66,$BX$65:$CA$69,0))","v":4},null,null,null,null,{"$f":"$AA$8","v":"Christoph"},null,null,null,null,null,null,null,null,null,null,null,{"$f":"CG16+CG19+CG22+CG25+CG27+CG30+CG33+CG36","v":8},null,null,null,null,null,{"$f":"CJ16+CH19+CH22+CJ25+CH27+CJ30+CJ33+CH36","v":2},null,null,null,null,null,null,null,null,null,null,{"$f":"CI16+CI19+CI22+CI25+CI27+CI30+CI33+CI36","v":1},null,null,null,null,null,null,null,null,null,null,{"$f":"CH16+CJ19+CJ22+CH25+CJ27+CH30+CH33+CJ36","v":5},null,null,null,null,null,null,null,null,null,null,{"$f":"BZ16+BR19+BR22+BZ25+BR27+BZ30+BZ33+BR36","v":16},null,null,null,":",":",null,{"$f":"BR16+BZ19+BZ22+BR25+BZ27+BR30+BR33+BZ36","v":25},null,null,null,null,{"$f":"BG66-BN66","v":-9},null,null,null,null,{"$f":"(Z66*3)+AK66","v":7},null,null,null,{"$f":"BX66+ROW()/1000","v":7.0659999999999998}]
[null,null,{"$f":"IF(T67=0,0,RANK(BX67,$BX$65:$CA$69,0))","v":3},null,null,null,null,{"$f":"$AO$8","v":"Schmiddi"},null,null,null,null,null,null,null,null,null,null,null,{"$f":"CG17+CG19+CG21+CG23+CG28+CG30+CG32+CG34","v":8},null,null,null,null,null,{"$f":"CH17+CJ19+CJ21+CH23+CJ28+CH30+CH32+CJ34","v":3},null,null,null,null,null,null,null,null,null,null,{"$f":"CI17+CI19+CI21+CI23+CI28+CI30+CI32+CI34","v":0},null,null,null,null,null,null,null,null,null,null,{"$f":"CJ17+CH19+CH21+CJ23+CH28+CJ30+CJ32+CH34","v":5},null,null,null,null,null,null,null,null,null,null,{"$f":"BR17+BZ19+BZ21+BR23+BZ28+BR30+BR32+BZ34","v":22},null,null,null,":",":",null,{"$f":"BZ17+BR19+BR21+BZ23+BR28+BZ30+BZ32+BR34","v":23},null,null,null,null,{"$f":"BG67-BN67","v":-1},null,null,null,null,{"$f":"(Z67*3)+AK67","v":9},null,null,null,{"$f":"BX67+ROW()/1000","v":9.0670000000000002}]
[null,null,{"$f":"IF(T68=0,0,RANK(BX68,$BX$65:$CA$69,0))","v":5},null,null,null,null,{"$f":"$BC$8","v":"Jule"},null,null,null,null,null,null,null,null,null,null,null,{"$f":"CG17+CG20+CG22+CG24+CG28+CG31+CG33+CG35","v":8},null,null,null,null,null,{"$f":"CJ17+CH20+CJ22+CH24+CH28+CJ31+CH33+CJ35","v":2},null,null,null,null,null,null,null,null,null,null,{"$f":"CI17+CI20+CI22+CI24+CI28+CI31+CI33+CI35","v":0},null,null,null,null,null,null,null,null,null,null,{"$f":"CH17+CJ20+CH22+CJ24+CJ28+CH31+CJ33+CH35","v":6},null,null,null,null,null,null,null,null,null,null,{"$f":"BZ17+BR20+BZ22+BR24+BR28+BZ31+BR33+BZ35","v":9},null,null,null,":",":",null,{"$f":"BR17+BZ20+BR22+BZ24+BZ28+BR31+BZ33+BR35","v":17},null,null,null,null,{"$f":"BG68-BN68","v":-8},null,null,null,null,{"$f":"(Z68*3)+AK68","v":6},null,null,null,{"$f":"BX68+ROW()/1000","v":6.0679999999999996}]
[null,null,{"$f":"IF(T69=0,0,RANK(BX69,$BX$65:$CA$69,0))","v":2},null,null,null,null,{"$f":"$BQ$8","v":"Patrick"},null,null,null,null,null,null,null,null,null,null,null,{"$f":"CG18+CG20+CG23+CG25+CG29+CG31+CG34+CG36","v":8},null,null,null,null,null,{"$f":"CH18+CJ20+CJ23+CH25+CJ29+CH31+CH34+CJ36","v":4},null,null,null,null,null,null,null,null,null,null,{"$f":"CI18+CI20+CI23+CI25+CI29+CI31+CI34+CI36","v":2},null,null,null,null,null,null,null,null,null,null,{"$f":"CJ18+CH20+CH23+CJ25+CH29+CJ31+CJ34+CH36","v":2},null,null,null,null,null,null,null,null,null,null,{"$f":"BR18+BZ20+BZ23+BR25+BZ29+BR31+BR34+BZ36","v":15},null,null,null,":",":",null,{"$f":"BZ18+BR20+BR23+BZ25+BR29+BZ31+BZ34+BR36","v":12},null,null,null,null,{"$f":"BG69-BN69","v":3},null,null,null,null,{"$f":"(Z69*3)+AK69","v":14},null,null,null,{"$f":"BX69+ROW()/1000","v":14.069000000000001}]
[null,null,null,null,null,null,null,"Spieler 6",null,null,null,null,null,null,null,null,null,null,null,0,null,null,null,null,null,0,null,null,null,null,null,null,null,null,null,null,0,null,null,null,null,null,null,null,null,null,null,0,null,null,null,null,null,null,null,null,null,null,0,null,null,null,null,":",null,0,null,null,null,null,0,null,null,null,null,0,null,null,null,0]
[null,null,null,null,null,null,null,"Spieler 7",null,null,null,null,null,null,null,null,null,null,null,0,null,null,null,null,null,0,null,null,null,null,null,null,null,null,null,null,0,null,null,null,null,null,null,null,null,null,null,0,null,null,null,null,null,null,null,null,null,null,0,null,null,null,null,":",null,0,null,null,null,null,0,null,null,null,null,0,null,null,null,0]
[]
[]
[]
[null,null,"Tabelle"]
[]
[null,null,"Rang",null,null,null,null,"Spieler",null,null,null,null,null,null,null,null,null,null,null,"Spiele",null,null,null,null,null,"Siege",null,null,null,null,null,null,null,null,null,null,"Unentschieden",null,null,null,null,null,null,null,null,null,null,"Niederlagen",null,null,null,null,null,null,null,null,null,null,"Tore",null,null,null,null,null,null,null,null,null,null,null,"+/-",null,null,null,null,"Punkte"]
[null,null,{"$f":"INDEX($C$65:$C$69,MATCH(LARGE($CB$65:$CB$69,ROW(A1)),$CB$65:$CB$69,0),1)","v":1},null,null,1,null,{"$f":"INDEX($H$65:$H$69,MATCH(LARGE($CB$65:$CB$69,ROW(A1)),$CB$65:$CB$69,0),1)","v":"Ratze"},null,null,null,null,null,null,null,null,null,null,null,{"$f":"INDEX($T$65:$T$69,MATCH(LARGE($CB$65:$CB$69,ROW(A1)),$CB$65:$CB$69,0),1)","v":8},null,null,null,null,null,{"$f":"INDEX($Z$65:$Z$69,MATCH(LARGE($CB$65:$CB$69,ROW(A1)),$CB$65:$CB$69,0),1)","v":7},null,null,null,null,null,null,null,null,null,null,{"$f":"INDEX($AK$65:$AK$69,MATCH(LARGE($CB$65:$CB$69,ROW(A1)),$CB$65:$CB$69,0),1)","v":1},null,null,null,null,null,null,null,null,null,null,{"$f":"INDEX($AV$65:$AV$69,MATCH(LARGE($CB$65:$CB$69,ROW(A1)),$CB$65:$CB$69,0),1)","v":0},null,null,null,null,null,null,null,null,null,null,{"$f":"INDEX($BG$65:$BG$69,MATCH(LARGE($CB$65:$CB$69,ROW(A1)),$CB$65:$CB$69,0),1)","v":22},null,null,null,null,":",null,{"$f":"INDEX($BN$65:$BN$69,MATCH(LARGE($CB$65:$CB$69,ROW(A1)),$CB$65:$CB$69,0),1)","v":7},null,null,null,null,{"$f":"INDEX($BS$65:$BS$69,MATCH(LARGE($CB$65:$CB$69,ROW(A1)),$CB$65:$CB$69,0),1)","v":15},null,null,null,null,{"$f":"INDEX($BX$65:$BX$69,MATCH(LARGE($CB$65:$CB$69,ROW(A1)),$CB$65:$CB$69,0),1)","v":22}]
[null,null,{"$f":"INDEX($C$65:$C$69,MATCH(LARGE($CB$65:$CB$69,ROW(A2)),$CB$65:$CB$69,0),1)","v":2},null,null,2,null,{"$f":"INDEX($H$65:$H$69,MATCH(LARGE($CB$65:$CB$69,ROW(A2)),$CB$65:$CB$69,0),1)","v":"Patrick"},null,null,null,null,null,null,null,null,null,null,null,{"$f":"INDEX($T$65:$T$69,MATCH(LARGE($CB$65:$CB$69,ROW(A2)),$CB$65:$CB$69,0),1)","v":8},null,null,null,null,null,{"$f":"INDEX($Z$65:$Z$69,MATCH(LARGE($CB$65:$CB$69,ROW(A2)),$CB$65:$CB$69,0),1)","v":4},null,null,null,null,null,null,null,null,null,null,{"$f":"INDEX($AK$65:$AK$69,MATCH(LARGE($CB$65:$CB$69,ROW(A2)),$CB$65:$CB$69,0),1)","v":2},null,null,null,null,null,null,null,null,null,null,{"$f":"INDEX($AV$65:$AV$69,MATCH(LARGE($CB$65:$CB$69,ROW(A2)),$CB$65:$CB$69,0),1)","v":2},null,null,null,null,null,null,null,null,null,null,{"$f":"INDEX($BG$65:$BG$69,MATCH(LARGE($CB$65:$CB$69,ROW(A2)),$CB$65:$CB$69,0),1)","v":15},null,null,null,null,":",null,{"$f":"INDEX($BN$65:$BN$69,MATCH(LARGE($CB$65:$CB$69,ROW(A2)),$CB$65:$CB$69,0),1)","v":12},null,null,null,null,{"$f":"INDEX($BS$65:$BS$69,MATCH(LARGE($CB$65:$CB$69,ROW(A2)),$CB$65:$CB$69,0),1)","v":3},null,null,null,null,{"$f":"INDEX($BX$65:$BX$69,MATCH(LARGE($CB$65:$CB$69,ROW(A2)),$CB$65:$CB$69,0),1)","v":14}]
[null,null,{"$f":"INDEX($C$65:$C$69,MATCH(LARGE($CB$65:$CB$69,ROW(A3)),$CB$65:$CB$69,0),1)","v":3},null,null,3,null,{"$f":"INDEX($H$65:$H$69,MATCH(LARGE($CB$65:$CB$69,ROW(A3)),$CB$65:$CB$69,0),1)","v":"Schmiddi"},null,null,null,null,null,null,null,null,null,null,null,{"$f":"INDEX($T$65:$T$69,MATCH(LARGE($CB$65:$CB$69,ROW(A3)),$CB$65:$CB$69,0),1)","v":8},null,null,null,null,null,{"$f":"INDEX($Z$65:$Z$69,MATCH(LARGE($CB$65:$CB$69,ROW(A3)),$CB$65:$CB$69,0),1)","v":3},null,null,null,null,null,null,null,null,null,null,{"$f":"INDEX($AK$65:$AK$69,MATCH(LARGE($CB$65:$CB$69,ROW(A3)),$CB$65:$CB$69,0),1)","v":0},null,null,null,null,null,null,null,null,null,null,{"$f":"INDEX($AV$65:$AV$69,MATCH(LARGE($CB$65:$CB$69,ROW(A3)),$CB$65:$CB$69,0),1)","v":5},null,null,null,null,null,null,null,null,null,null,{"$f":"INDEX($BG$65:$BG$69,MATCH(LARGE($CB$65:$CB$69,ROW(A3)),$CB$65:$CB$69,0),1)","v":22},null,null,null,null,":",null,{"$f":"INDEX($BN$65:$BN$69,MATCH(LARGE($CB$65:$CB$69,ROW(A3)),$CB$65:$CB$69,0),1)","v":23},null,null,null,null,{"$f":"INDEX($BS$65:$BS$69,MATCH(LARGE($CB$65:$CB$69,ROW(A3)),$CB$65:$CB$69,0),1)","v":-1},null,null,null,null,{"$f":"INDEX($BX$65:$BX$69,MATCH(LARGE($CB$65:$CB$69,ROW(A3)),$CB$65:$CB$69,0),1)","v":9}]
[null,null,{"$f":"INDEX($C$65:$C$69,MATCH(LARGE($CB$65:$CB$69,ROW(A4)),$CB$65:$CB$69,0),1)","v":4},null,null,4,null,{"$f":"INDEX($H$65:$H$69,MATCH(LARGE($CB$65:$CB$69,ROW(A4)),$CB$65:$CB$69,0),1)","v":"Christoph"},null,null,null,null,null,null,null,null,null,null,null,{"$f":"INDEX($T$65:$T$69,MATCH(LARGE($CB$65:$CB$69,ROW(A4)),$CB$65:$CB$69,0),1)","v":8},null,null,null,null,null,{"$f":"INDEX($Z$65:$Z$69,MATCH(LARGE($CB$65:$CB$69,ROW(A4)),$CB$65:$CB$69,0),1)","v":2},null,null,null,null,null,null,null,null,null,null,{"$f":"INDEX($AK$65:$AK$69,MATCH(LARGE($CB$65:$CB$69,ROW(A4)),$CB$65:$CB$69,0),1)","v":1},null,null,null,null,null,null,null,null,null,null,{"$f":"INDEX($AV$65:$AV$69,MATCH(LARGE($CB$65:$CB$69,ROW(A4)),$CB$65:$CB$69,0),1)","v":5},null,null,null,null,null,null,null,null,null,null,{"$f":"INDEX($BG$65:$BG$69,MATCH(LARGE($CB$65:$CB$69,ROW(A4)),$CB$65:$CB$69,0),1)","v":16},null,null,null,null,":",null,{"$f":"INDEX($BN$65:$BN$69,MATCH(LARGE($CB$65:$CB$69,ROW(A4)),$CB$65:$CB$69,0),1)","v":25},null,null,null,null,{"$f":"INDEX($BS$65:$BS$69,MATCH(LARGE($CB$65:$CB$69,ROW(A4)),$CB$65:$CB$69,0),1)","v":-9},null,null,null,null,{"$f":"INDEX($BX$65:$BX$69,MATCH(LARGE($CB$65:$CB$69,ROW(A4)),$CB$65:$CB$69,0),1)","v":7}]
[null,null,{"$f":"INDEX($C$65:$C$69,MATCH(LARGE($CB$65:$CB$69,ROW(A5)),$CB$65:$CB$69,0),1)","v":5},null,null,5,null,{"$f":"INDEX($H$65:$H$69,MATCH(LARGE($CB$65:$CB$69,ROW(A5)),$CB$65:$CB$69,0),1)","v":"Jule"},null,null,null,null,null,null,null,null,null,null,null,{"$f":"INDEX($T$65:$T$69,MATCH(LARGE($CB$65:$CB$69,ROW(A5)),$CB$65:$CB$69,0),1)","v":8},null,null,null,null,null,{"$f":"INDEX($Z$65:$Z$69,MATCH(LARGE($CB$65:$CB$69,ROW(A5)),$CB$65:$CB$69,0),1)","v":2},null,null,null,null,null,null,null,null,null,null,{"$f":"INDEX($AK$65:$AK$69,MATCH(LARGE($CB$65:$CB$69,ROW(A5)),$CB$65:$CB$69,0),1)","v":0},null,null,null,null,null,null,null,null,null,null,{"$f":"INDEX($AV$65:$AV$69,MATCH(LARGE($CB$65:$CB$69,ROW(A5)),$CB$65:$CB$69,0),1)","v":6},null,null,null,null,null,null,null,null,null,null,{"$f":"INDEX($BG$65:$BG$69,MATCH(LARGE($CB$65:$CB$69,ROW(A5)),$CB$65:$CB$69,0),1)","v":9},null,null,null,null,":",null,{"$f":"INDEX($BN$65:$BN$69,MATCH(LARGE($CB$65:$CB$69,ROW(A5)),$CB$65:$CB$69,0),1)","v":17},null,null,null,null,{"$f":"INDEX($BS$65:$BS$69,MATCH(LARGE($CB$65:$CB$69,ROW(A5)),$CB$65:$CB$69,0),1)","v":-8},null,null,null,null,{"$f":"INDEX($BX$65:$BX$69,MATCH(LARGE($CB$65:$CB$69,ROW(A5)),$CB$65:$CB$69,0),1)","v":6}]
[null,null,"---",null,null,"---",null,"Spieler 6",null,null,null,null,null,null,null,null,null,null,null,0,null,null,null,null,null,0,null,null,null,null,null,null,null,null,null,null,0,null,null,null,null,null,null,null,null,null,null,0,null,null,null,null,null,null,null,null,null,null,0,null,null,null,null,":",null,0,null,null,null,null,0,null,null,null,null,0]
[null,null,"---",null,null,"---",null,"Spieler 7",null,null,null,null,null,null,null,null,null,null,null,0,null,null,null,null,null,0,null,null,null,null,null,null,null,null,null,null,0,null,null,null,null,null,null,null,null,null,null,0,null,null,null,null,null,null,null,null,null,null,0,null,null,null,null,":",null,0,null,null,null,null,0,null,null,null,null,0]
[]
[]
[]
[null,null,"Tabelle (nach Alphabet)"]
[]
[null,null,"Rang",null,null,null,null,"Spieler",null,null,null,null,null,null,null,null,null,null,null,"Spiele",null,null,null,null,null,"Siege",null,null,null,null,null,null,null,null,null,null,"Unentschieden",null,null,null,null,null,null,null,null,null,null,"Niederlagen",null,null,null,null,null,null,null,null,null,null,"Tore",null,null,null,null,null,null,null,null,null,null,null,"+/-",null,null,null,null,"Punkte"]
[null,null,{"$f":"IF($H$78=\"Basti\",$F$78,IF($H$79=\"Basti\",$F$79,IF($H$80=\"Basti\",$F$80,IF($H$81=\"Basti\",$F$81,IF($H$82=\"Basti\",$F$82,IF($H$83=\"Basti\",$F$83,IF($H$84=\"Basti\",$F$84,0)))))))","v":0},null,null,null,null,"Basti",null,null,null,null,null,null,null,null,null,null,null,{"$f":"IF($H$78=\"Basti\",$T$78,IF($H$79=\"Basti\",$T$79,IF($H$80=\"Basti\",$T$80,IF($H$81=\"Basti\",$T$81,IF($H$82=\"Basti\",$T$82,IF($H$83=\"Basti\",$T$83,IF($H$84=\"Basti\",$T$84,0)))))))","v":0},null,null,null,null,null,{"$f":"IF($H$78=\"Basti\",$Z$78,IF($H$79=\"Basti\",$Z$79,IF($H$80=\"Basti\",$Z$80,IF($H$81=\"Basti\",$Z$81,IF($H$82=\"Basti\",$Z$82,IF($H$83=\"Basti\",$Z$83,IF($H$84=\"Basti\",$Z$84,0)))))))","v":0},null,null,null,null,null,null,null,null,null,null,{"$f":"IF($H$78=\"Basti\",$AK$78,IF($H$79=\"Basti\",$AK$79,IF($H$80=\"Basti\",$AK$80,IF($H$81=\"Basti\",$AK$81,IF($H$82=\"Basti\",$AK$82,IF($H$83=\"Basti\",$AK$83,IF($H$84=\"Basti\",$AK$84,0)))))))","v":0},null,null,null,null,null,null,null,null,null,null,{"$f":"IF($H$78=\"Basti\",$AV$78,IF($H$79=\"Basti\",$AV$79,IF($H$80=\"Basti\",$AV$80,IF($H$81=\"Basti\",$AV$81,IF($H$82=\"Basti\",$AV$82,IF($H$83=\"Basti\",$AV$83,IF($H$84=\"Basti\",$AV$84,0)))))))","v":0},null,null,null,null,null,null,null,null,null,null,{"$f":"IF($H$78=\"Basti\",$BG$78,IF($H$79=\"Basti\",$BG$79,IF($H$80=\"Basti\",$BG$80,IF($H$81=\"Basti\",$BG$81,IF($H$82=\"Basti\",$BG$82,IF($H$83=\"Basti\",$BG$83,IF($H$84=\"Basti\",$BG$84,0)))))))","v":0},null,null,null,null,":",null,{"$f":"IF($H$78=\"Basti\",$BN$78,IF($H$79=\"Basti\",$BN$79,IF($H$80=\"Basti\",$BN$80,IF($H$81=\"Basti\",$BN$81,IF($H$82=\"Basti\",$BN$82,IF($H$83=\"Basti\",$BN$83,IF($H$84=\"Basti\",$BN$84,0)))))))","v":0},null,null,null,null,{"$f":"IF($H$78=\"Basti\",$BS$78,IF($H$79=\"Basti\",$BS$79,IF($H$80=\"Basti\",$BS$80,IF($H$81=\"Basti\",$BS$81,IF($H$82=\"Basti\",$BS$82,IF($H$83=\"Basti\",$BS$83,IF($H$84=\"Basti\",$BS$84,0)))))))","v":0},null,null,null,null,{"$f":"IF($H$78=\"Basti\",$BX$78,IF($H$79=\"Basti\",$BX$79,IF($H$80=\"Basti\",$BX$80,IF($H$81=\"Basti\",$BX$81,IF($H$82=\"Basti\",$BX$82,IF($H$83=\"Basti\",$BX$83,IF($H$84=\"Basti\",$BX$84,0)))))))","v":0}]
[null,null,{"$f":"IF($H$78=\"Christoph\",$F$78,IF($H$79=\"Christoph\",$F$79,IF($H$80=\"Christoph\",$F$80,IF($H$81=\"Christoph\",$F$81,IF($H$82=\"Christoph\",$F$82,IF($H$83=\"Christoph\",$F$83,IF($H$84=\"Christoph\",$F$84,0)))))))","v":4},null,null,null,null,"Christoph",null,null,null,null,null,null,null,null,null,null,null,{"$f":"IF($H$78=\"Christoph\",$T$78,IF($H$79=\"Christoph\",$T$79,IF($H$80=\"Christoph\",$T$80,IF($H$81=\"Christoph\",$T$81,IF($H$82=\"Christoph\",$T$82,IF($H$83=\"Christoph\",$T$83,IF($H$84=\"Christoph\",$T$84,0)))))))","v":8},null,null,null,null,null,{"$f":"IF($H$78=\"Christoph\",$Z$78,IF($H$79=\"Christoph\",$Z$79,IF($H$80=\"Christoph\",$Z$80,IF($H$81=\"Christoph\",$Z$81,IF($H$82=\"Christoph\",$Z$82,IF($H$83=\"Christoph\",$Z$83,IF($H$84=\"Christoph\",$Z$84,0)))))))","v":2},null,null,null,null,null,null,null,null,null,null,{"$f":"IF($H$78=\"Christoph\",$AK$78,IF($H$79=\"Christoph\",$AK$79,IF($H$80=\"Christoph\",$AK$80,IF($H$81=\"Christoph\",$AK$81,IF($H$82=\"Christoph\",$AK$82,IF($H$83=\"Christoph\",$AK$83,IF($H$84=\"Christoph\",$AK$84,0)))))))","v":1},null,null,null,null,null,null,null,null,null,null,{"$f":"IF($H$78=\"Christoph\",$AV$78,IF($H$79=\"Christoph\",$AV$79,IF($H$80=\"Christoph\",$AV$80,IF($H$81=\"Christoph\",$AV$81,IF($H$82=\"Christoph\",$AV$82,IF($H$83=\"Christoph\",$AV$83,IF($H$84=\"Christoph\",$AV$84,0)))))))","v":5},null,null,null,null,null,null,null,null,null,null,{"$f":"IF($H$78=\"Christoph\",$BG$78,IF($H$79=\"Christoph\",$BG$79,IF($H$80=\"Christoph\",$BG$80,IF($H$81=\"Christoph\",$BG$81,IF($H$82=\"Christoph\",$BG$82,IF($H$83=\"Christoph\",$BG$83,IF($H$84=\"Christoph\",$BG$84,0)))))))","v":16},null,null,null,null,":",null,{"$f":"IF($H$78=\"Christoph\",$BN$78,IF($H$79=\"Christoph\",$BN$79,IF($H$80=\"Christoph\",$BN$80,IF($H$81=\"Christoph\",$BN$81,IF($H$82=\"Christoph\",$BN$82,IF($H$83=\"Christoph\",$BN$83,IF($H$84=\"Christoph\",$BN$84,0)))))))","v":25},null,null,null,null,{"$f":"IF($H$78=\"Christoph\",$BS$78,IF($H$79=\"Christoph\",$BS$79,IF($H$80=\"Christoph\",$BS$80,IF($H$81=\"Christoph\",$BS$81,IF($H$82=\"Christoph\",$BS$82,IF($H$83=\"Christoph\",$BS$83,IF($H$84=\"Christoph\",$BS$84,0)))))))","v":-9},null,null,null,null,{"$f":"IF($H$78=\"Christoph\",$BX$78,IF($H$79=\"Christoph\",$BX$79,IF($H$80=\"Christoph\",$BX$80,IF($H$81=\"Christoph\",$BX$81,IF($H$82=\"Christoph\",$BX$82,IF($H$83=\"Christoph\",$BX$83,IF($H$84=\"Christoph\",$BX$84,0)))))))","v":7}]
[null,null,{"$f":"IF($H$78=\"Jule\",$F$78,IF($H$79=\"Jule\",$F$79,IF($H$80=\"Jule\",$F$80,IF($H$81=\"Jule\",$F$81,IF($H$82=\"Jule\",$F$82,IF($H$83=\"Jule\",$F$83,IF($H$84=\"Jule\",$F$84,0)))))))","v":5},null,null,null,null,"Jule",null,null,null,null,null,null,null,null,null,null,null,{"$f":"IF($H$78=\"Jule\",$T$78,IF($H$79=\"Jule\",$T$79,IF($H$80=\"Jule\",$T$80,IF($H$81=\"Jule\",$T$81,IF($H$82=\"Jule\",$T$82,IF($H$83=\"Jule\",$T$83,IF($H$84=\"Jule\",$T$84,0)))))))","v":8},null,null,null,null,null,{"$f":"IF($H$78=\"Jule\",$Z$78,IF($H$79=\"Jule\",$Z$79,IF($H$80=\"Jule\",$Z$80,IF($H$81=\"Jule\",$Z$81,IF($H$82=\"Jule\",$Z$82,IF($H$83=\"Jule\",$Z$83,IF($H$84=\"Jule\",$Z$84,0)))))))","v":2},null,null,null,null,null,null,null,null,null,null,{"$f":"IF($H$78=\"Jule\",$AK$78,IF($H$79=\"Jule\",$AK$79,IF($H$80=\"Jule\",$AK$80,IF($H$81=\"Jule\",$AK$81,IF($H$82=\"Jule\",$AK$82,IF($H$83=\"Jule\",$AK$83,IF($H$84=\"Jule\",$AK$84,0)))))))","v":0},null,null,null,null,null,null,null,null,null,null,{"$f":"IF($H$78=\"Jule\",$AV$78,IF($H$79=\"Jule\",$AV$79,IF($H$80=\"Jule\",$AV$80,IF($H$81=\"Jule\",$AV$81,IF($H$82=\"Jule\",$AV$82,IF($H$83=\"Jule\",$AV$83,IF($H$84=\"Jule\",$AV$84,0)))))))","v":6},null,null,null,null,null,null,null,null,null,null,{"$f":"IF($H$78=\"Jule\",$BG$78,IF($H$79=\"Jule\",$BG$79,IF($H$80=\"Jule\",$BG$80,IF($H$81=\"Jule\",$BG$81,IF($H$82=\"Jule\",$BG$82,IF($H$83=\"Jule\",$BG$83,IF($H$84=\"Jule\",$BG$84,0)))))))","v":9},null,null,null,null,":",null,{"$f":"IF($H$78=\"Jule\",$BN$78,IF($H$79=\"Jule\",$BN$79,IF($H$80=\"Jule\",$BN$80,IF($H$81=\"Jule\",$BN$81,IF($H$82=\"Jule\",$BN$82,IF($H$83=\"Jule\",$BN$83,IF($H$84=\"Jule\",$BN$84,0)))))))","v":17},null,null,null,null,{"$f":"IF($H$78=\"Jule\",$BS$78,IF($H$79=\"Jule\",$BS$79,IF($H$80=\"Jule\",$BS$80,IF($H$81=\"Jule\",$BS$81,IF($H$82=\"Jule\",$BS$82,IF($H$83=\"Jule\",$BS$83,IF($H$84=\"Jule\",$BS$84,0)))))))","v":-8},null,null,null,null,{"$f":"IF($H$78=\"Jule\",$BX$78,IF($H$79=\"Jule\",$BX$79,IF($H$80=\"Jule\",$BX$80,IF($H$81=\"Jule\",$BX$81,IF($H$82=\"Jule\",$BX$82,IF($H$83=\"Jule\",$BX$83,IF($H$84=\"Jule\",$BX$84,0)))))))","v":6}]
[null,null,{"$f":"IF($H$78=\"Markus\",$F$78,IF($H$79=\"Markus\",$F$79,IF($H$80=\"Markus\",$F$80,IF($H$81=\"Markus\",$F$81,IF($H$82=\"Markus\",$F$82,IF($H$83=\"Markus\",$F$83,IF($H$84=\"Markus\",$F$84,0)))))))","v":0},null,null,null,null,"Markus",null,null,null,null,null,null,null,null,null,null,null,{"$f":"IF($H$78=\"Markus\",$T$78,IF($H$79=\"Markus\",$T$79,IF($H$80=\"Markus\",$T$80,IF($H$81=\"Markus\",$T$81,IF($H$82=\"Markus\",$T$82,IF($H$83=\"Markus\",$T$83,IF($H$84=\"Markus\",$T$84,0)))))))","v":0},null,null,null,null,null,{"$f":"IF($H$78=\"Markus\",$Z$78,IF($H$79=\"Markus\",$Z$79,IF($H$80=\"Markus\",$Z$80,IF($H$81=\"Markus\",$Z$81,IF($H$82=\"Markus\",$Z$82,IF($H$83=\"Markus\",$Z$83,IF($H$84=\"Markus\",$Z$84,0)))))))","v":0},null,null,null,null,null,null,null,null,null,null,{"$f":"IF($H$78=\"Markus\",$AK$78,IF($H$79=\"Markus\",$AK$79,IF($H$80=\"Markus\",$AK$80,IF($H$81=\"Markus\",$AK$81,IF($H$82=\"Markus\",$AK$82,IF($H$83=\"Markus\",$AK$83,IF($H$84=\"Markus\",$AK$84,0)))))))","v":0},null,null,null,null,null,null,null,null,null,null,{"$f":"IF($H$78=\"Markus\",$AV$78,IF($H$79=\"Markus\",$AV$79,IF($H$80=\"Markus\",$AV$80,IF($H$81=\"Markus\",$AV$81,IF($H$82=\"Markus\",$AV$82,IF($H$83=\"Markus\",$AV$83,IF($H$84=\"Markus\",$AV$84,0)))))))","v":0},null,null,null,null,null,null,null,null,null,null,{"$f":"IF($H$78=\"Markus\",$BG$78,IF($H$79=\"Markus\",$BG$79,IF($H$80=\"Markus\",$BG$80,IF($H$81=\"Markus\",$BG$81,IF($H$82=\"Markus\",$BG$82,IF($H$83=\"Markus\",$BG$83,IF($H$84=\"Markus\",$BG$84,0)))))))","v":0},null,null,null,null,":",null,{"$f":"IF($H$78=\"Markus\",$BN$78,IF($H$79=\"Markus\",$BN$79,IF($H$80=\"Markus\",$BN$80,IF($H$81=\"Markus\",$BN$81,IF($H$82=\"Markus\",$BN$82,IF($H$83=\"Markus\",$BN$83,IF($H$84=\"Markus\",$BN$84,0)))))))","v":0},null,null,null,null,{"$f":"IF($H$78=\"Markus\",$BS$78,IF($H$79=\"Markus\",$BS$79,IF($H$80=\"Markus\",$BS$80,IF($H$81=\"Markus\",$BS$81,IF($H$82=\"Markus\",$BS$82,IF($H$83=\"Markus\",$BS$83,IF($H$84=\"Markus\",$BS$84,0)))))))","v":0},null,null,null,null,{"$f":"IF($H$78=\"Markus\",$BX$78,IF($H$79=\"Markus\",$BX$79,IF($H$80=\"Markus\",$BX$80,IF($H$81=\"Markus\",$BX$81,IF($H$82=\"Markus\",$BX$82,IF($H$83=\"Markus\",$BX$83,IF($H$84=\"Markus\",$BX$84,0)))))))","v":0}]
[null,null,{"$f":"IF($H$78=\"Patrick\",$F$78,IF($H$79=\"Patrick\",$F$79,IF($H$80=\"Patrick\",$F$80,IF($H$81=\"Patrick\",$F$81,IF($H$82=\"Patrick\",$F$82,IF($H$83=\"Patrick\",$F$83,IF($H$84=\"Patrick\",$F$84,0)))))))","v":2},null,null,null,null,"Patrick",null,null,null,null,null,null,null,null,null,null,null,{"$f":"IF($H$78=\"Patrick\",$T$78,IF($H$79=\"Patrick\",$T$79,IF($H$80=\"Patrick\",$T$80,IF($H$81=\"Patrick\",$T$81,IF($H$82=\"Patrick\",$T$82,IF($H$83=\"Patrick\",$T$83,IF($H$84=\"Patrick\",$T$84,0)))))))","v":8},null,null,null,null,null,{"$f":"IF($H$78=\"Patrick\",$Z$78,IF($H$79=\"Patrick\",$Z$79,IF($H$80=\"Patrick\",$Z$80,IF($H$81=\"Patrick\",$Z$81,IF($H$82=\"Patrick\",$Z$82,IF($H$83=\"Patrick\",$Z$83,IF($H$84=\"Patrick\",$Z$84,0)))))))","v":4},null,null,null,null,null,null,null,null,null,null,{"$f":"IF($H$78=\"Patrick\",$AK$78,IF($H$79=\"Patrick\",$AK$79,IF($H$80=\"Patrick\",$AK$80,IF($H$81=\"Patrick\",$AK$81,IF($H$82=\"Patrick\",$AK$82,IF($H$83=\"Patrick\",$AK$83,IF($H$84=\"Patrick\",$AK$84,0)))))))","v":2},null,null,null,null,null,null,null,null,null,null,{"$f":"IF($H$78=\"Patrick\",$AV$78,IF($H$79=\"Patrick\",$AV$79,IF($H$80=\"Patrick\",$AV$80,IF($H$81=\"Patrick\",$AV$81,IF($H$82=\"Patrick\",$AV$82,IF($H$83=\"Patrick\",$AV$83,IF($H$84=\"Patrick\",$AV$84,0)))))))","v":2},null,null,null,null,null,null,null,null,null,null,{"$f":"IF($H$78=\"Patrick\",$BG$78,IF($H$79=\"Patrick\",$BG$79,IF($H$80=\"Patrick\",$BG$80,IF($H$81=\"Patrick\",$BG$81,IF($H$82=\"Patrick\",$BG$82,IF($H$83=\"Patrick\",$BG$83,IF($H$84=\"Patrick\",$BG$84,0)))))))","v":15},null,null,null,null,":",null,{"$f":"IF($H$78=\"Patrick\",$BN$78,IF($H$79=\"Patrick\",$BN$79,IF($H$80=\"Patrick\",$BN$80,IF($H$81=\"Patrick\",$BN$81,IF($H$82=\"Patrick\",$BN$82,IF($H$83=\"Patrick\",$BN$83,IF($H$84=\"Patrick\",$BN$84,0)))))))","v":12},null,null,null,null,{"$f":"IF($H$78=\"Patrick\",$BS$78,IF($H$79=\"Patrick\",$BS$79,IF($H$80=\"Patrick\",$BS$80,IF($H$81=\"Patrick\",$BS$81,IF($H$82=\"Patrick\",$BS$82,IF($H$83=\"Patrick\",$BS$83,IF($H$84=\"Patrick\",$BS$84,0)))))))","v":3},null,null,null,null,{"$f":"IF($H$78=\"Patrick\",$BX$78,IF($H$79=\"Patrick\",$BX$79,IF($H$80=\"Patrick\",$BX$80,IF($H$81=\"Patrick\",$BX$81,IF($H$82=\"Patrick\",$BX$82,IF($H$83=\"Patrick\",$BX$83,IF($H$84=\"Patrick\",$BX$84,0)))))))","v":14}]
[null,null,{"$f":"IF($H$78=\"Ratze\",$F$78,IF($H$79=\"Ratze\",$F$79,IF($H$80=\"Ratze\",$F$80,IF($H$81=\"Ratze\",$F$81,IF($H$82=\"Ratze\",$F$82,IF($H$83=\"Ratze\",$F$83,IF($H$84=\"Ratze\",$F$84,0)))))))","v":1},null,null,null,null,"Ratze",null,null,null,null,null,null,null,null,null,null,null,{"$f":"IF($H$78=\"Ratze\",$T$78,IF($H$79=\"Ratze\",$T$79,IF($H$80=\"Ratze\",$T$80,IF($H$81=\"Ratze\",$T$81,IF($H$82=\"Ratze\",$T$82,IF($H$83=\"Ratze\",$T$83,IF($H$84=\"Ratze\",$T$84,0)))))))","v":8},null,null,null,null,null,{"$f":"IF($H$78=\"Ratze\",$Z$78,IF($H$79=\"Ratze\",$Z$79,IF($H$80=\"Ratze\",$Z$80,IF($H$81=\"Ratze\",$Z$81,IF($H$82=\"Ratze\",$Z$82,IF($H$83=\"Ratze\",$Z$83,IF($H$84=\"Ratze\",$Z$84,0)))))))","v":7},null,null,null,null,null,null,null,null,null,null,{"$f":"IF($H$78=\"Ratze\",$AK$78,IF($H$79=\"Ratze\",$AK$79,IF($H$80=\"Ratze\",$AK$80,IF($H$81=\"Ratze\",$AK$81,IF($H$82=\"Ratze\",$AK$82,IF($H$83=\"Ratze\",$AK$83,IF($H$84=\"Ratze\",$AK$84,0)))))))","v":1},null,null,null,null,null,null,null,null,null,null,{"$f":"IF($H$78=\"Ratze\",$AV$78,IF($H$79=\"Ratze\",$AV$79,IF($H$80=\"Ratze\",$AV$80,IF($H$81=\"Ratze\",$AV$81,IF($H$82=\"Ratze\",$AV$82,IF($H$83=\"Ratze\",$AV$83,IF($H$84=\"Ratze\",$AV$84,0)))))))","v":0},null,null,null,null,null,null,null,null,null,null,{"$f":"IF($H$78=\"Ratze\",$BG$78,IF($H$79=\"Ratze\",$BG$79,IF($H$80=\"Ratze\",$BG$80,IF($H$81=\"Ratze\",$BG$81,IF($H$82=\"Ratze\",$BG$82,IF($H$83=\"Ratze\",$BG$83,IF($H$84=\"Ratze\",$BG$84,0)))))))","v":22},null,null,null,null,":",null,{"$f":"IF($H$78=\"Ratze\",$BN$78,IF($H$79=\"Ratze\",$BN$79,IF($H$80=\"Ratze\",$BN$80,IF($H$81=\"Ratze\",$BN$81,IF($H$82=\"Ratze\",$BN$82,IF($H$83=\"Ratze\",$BN$83,IF($H$84=\"Ratze\",$BN$84,0)))))))","v":7},null,null,null,null,{"$f":"IF($H$78=\"Ratze\",$BS$78,IF($H$79=\"Ratze\",$BS$79,IF($H$80=\"Ratze\",$BS$80,IF($H$81=\"Ratze\",$BS$81,IF($H$82=\"Ratze\",$BS$82,IF($H$83=\"Ratze\",$BS$83,IF($H$84=\"Ratze\",$BS$84,0)))))))","v":15},null,null,null,null,{"$f":"IF($H$78=\"Ratze\",$BX$78,IF($H$79=\"Ratze\",$BX$79,IF($H$80=\"Ratze\",$BX$80,IF($H$81=\"Ratze\",$BX$81,IF($H$82=\"Ratze\",$BX$82,IF($H$83=\"Ratze\",$BX$83,IF($H$84=\"Ratze\",$BX$84,0)))))))","v":22}]
[null,null,{"$f":"IF($H$78=\"Schmiddi\",$F$78,IF($H$79=\"Schmiddi\",$F$79,IF($H$80=\"Schmiddi\",$F$80,IF($H$81=\"Schmiddi\",$F$81,IF($H$82=\"Schmiddi\",$F$82,IF($H$83=\"Schmiddi\",$F$83,IF($H$84=\"Schmiddi\",$F$84,0)))))))","v":3},null,null,null,null,"Schmiddi",null,null,null,null,null,null,null,null,null,null,null,{"$f":"IF($H$78=\"Schmiddi\",$T$78,IF($H$79=\"Schmiddi\",$T$79,IF($H$80=\"Schmiddi\",$T$80,IF($H$81=\"Schmiddi\",$T$81,IF($H$82=\"Schmiddi\",$T$82,IF($H$83=\"Schmiddi\",$T$83,IF($H$84=\"Schmiddi\",$T$84,0)))))))","v":8},null,null,null,null,null,{"$f":"IF($H$78=\"Schmiddi\",$Z$78,IF($H$79=\"Schmiddi\",$Z$79,IF($H$80=\"Schmiddi\",$Z$80,IF($H$81=\"Schmiddi\",$Z$81,IF($H$82=\"Schmiddi\",$Z$82,IF($H$83=\"Schmiddi\",$Z$83,IF($H$84=\"Schmiddi\",$Z$84,0)))))))","v":3},null,null,null,null,null,null,null,null,null,null,{"$f":"IF($H$78=\"Schmiddi\",$AK$78,IF($H$79=\"Schmiddi\",$AK$79,IF($H$80=\"Schmiddi\",$AK$80,IF($H$81=\"Schmiddi\",$AK$81,IF($H$82=\"Schmiddi\",$AK$82,IF($H$83=\"Schmiddi\",$AK$83,IF($H$84=\"Schmiddi\",$AK$84,0)))))))","v":0},null,null,null,null,null,null,null,null,null,null,{"$f":"IF($H$78=\"Schmiddi\",$AV$78,IF($H$79=\"Schmiddi\",$AV$79,IF($H$80=\"Schmiddi\",$AV$80,IF($H$81=\"Schmiddi\",$AV$81,IF($H$82=\"Schmiddi\",$AV$82,IF($H$83=\"Schmiddi\",$AV$83,IF($H$84=\"Schmiddi\",$AV$84,0)))))))","v":5},null,null,null,null,null,null,null,null,null,null,{"$f":"IF($H$78=\"Schmiddi\",$BG$78,IF($H$79=\"Schmiddi\",$BG$79,IF($H$80=\"Schmiddi\",$BG$80,IF($H$81=\"Schmiddi\",$BG$81,IF($H$82=\"Schmiddi\",$BG$82,IF($H$83=\"Schmiddi\",$BG$83,IF($H$84=\"Schmiddi\",$BG$84,0)))))))","v":22},null,null,null,null,":",null,{"$f":"IF($H$78=\"Schmiddi\",$BN$78,IF($H$79=\"Schmiddi\",$BN$79,IF($H$80=\"Schmiddi\",$BN$80,IF($H$81=\"Schmiddi\",$BN$81,IF($H$82=\"Schmiddi\",$BN$82,IF($H$83=\"Schmiddi\",$BN$83,IF($H$84=\"Schmiddi\",$BN$84,0)))))))","v":23},null,null,null,null,{"$f":"IF($H$78=\"Schmiddi\",$BS$78,IF($H$79=\"Schmiddi\",$BS$79,IF($H$80=\"Schmiddi\",$BS$80,IF($H$81=\"Schmiddi\",$BS$81,IF($H$82=\"Schmiddi\",$BS$82,IF($H$83=\"Schmiddi\",$BS$83,IF($H$84=\"Schmiddi\",$BS$84,0)))))))","v":-1},null,null,null,null,{"$f":"IF($H$78=\"Schmiddi\",$BX$78,IF($H$79=\"Schmiddi\",$BX$79,IF($H$80=\"Schmiddi\",$BX$80,IF($H$81=\"Schmiddi\",$BX$81,IF($H$82=\"Schmiddi\",$BX$82,IF($H$83=\"Schmiddi\",$BX$83,IF($H$84=\"Schmiddi\",$BX$84,0)))))))","v":9}]

{"sheet":"25.3.","index":17,"n_rows":97,"n_cols":88,"rows_kept":97,"cut":false,"hidden":false,"merged":[[97,1,97,82],[98,0,98,83],[96,47,96,57],[96,58,96,62],[96,63,96,64],[96,65,96,69],[96,70,96,74],[96,75,96,81],[95,58,95,62],[95,63,95,64],[95,65,95,69],[95,70,95,74],[95,75,95,81],[96,2,96,6],[96,7,96,18],[96,19,96,24],[96,25,96,35],[96,36,96,46],[95,2,95,6],[95,7,95,18],[95,19,95,24],[95,25,95,35],[95,36,95,46],[95,47,95,57],[94,47,94,57],[94,58,94,62],[94,63,94,64],[94,65,94,69],[94,70,94,74],[94,75,94,81],[93,58,93,62],[93,63,93,64],[93,65,93,69],[93,70,93,74],[93,75,93,81],[93,47,93,57],[94,2,94,6],[94,7,94,18],[94,19,94,24],[94,25,94,35],[94,36,94,46],[93,2,93,6],[93,7,93,18],[93,19,93,24],[93,25,93,35],[93,36,93,46],[92,36,92,46],[90,63,90,64],[90,65,90,69],[90,70,90,74],[90,75,90,81],[91,2,91,6],[91,7,91,18],[91,19,91,24],[91,25,91,35],[91,36,91,46],[91,47,91,57],[92,47,92,57],[92,58,92,62],[92,63,92,64],[92,65,92,69],[92,70,92,74],[92,75,92,81],[91,58,91,62],[91,63,91,64],[91,65,91,69],[91,70,91,74],[91,75,91,81],[87,1,96,1],[87,2,87,81],[87,82,96,82],[88,2,88,81],[89,2,89,6],[89,7,89,18],[89,19,89,24],[89,25,89,35],[89,36,89,46],[89,47,89,57],[89,58,89,69],[89,70,89,74],[89,75,89,81],[90,2,90,6],[90,7,90,18],[90,19,90,24],[90,25,90,35],[90,36,90,46],[90,47,90,57],[90,58,90,62],[92,2,92,6],[92,7,92,18],[92,19,92,24],[92,25,92,35],[84,1,84,82],[85,1,85,82],[86,1,86,82],[82,75,82,81],[83,2,83,4],[83,5,83,6],[83,7,83,18],[83,19,83,24],[83,25,83,35],[83,36,83,46],[83,47,83,57],[83,58,83,62],[83,63,83,64],[82,36,82,46],[82,47,82,57],[82,58,82,62],[82,63,82,64],[82,65,82,69],[82,70,82,74],[81,65,81,69],[81,70,81,74],[81,75,81,81],[82,2,82,4],[82,5,82,6],[82,7,82,18],[82,19,82,24],[82,25,82,35],[83,65,83,69],[83,70,83,74],[83,75,83,81],[81,2,81,4],[81,5,81,6],[81,7,81,18],[81,19,81,24],[81,25,81,35],[81,36,81,46],[81,47,81,57],[81,58,81,62],[81,63,81,64],[79,2,79,4],[79,5,79,6],[79,7,79,18],[79,19,79,24],[79,25,79,35],[79,75,79,81],[80,2,80,4],[80,5,80,6],[80,7,80,18],[80,19,80,24],[80,25,80,35],[80,36,80,46],[80,47,80,57],[80,58,80,62],[80,63,80,64],[79,36,79,46],[79,47,79,57],[79,58,79,62],[79,63,79,64],[79,65,79,69],[79,70,79,74],[80,65,80,69],[80,70,80,74],[80,75,80,81],[76,70,76,74],[77,65,77,69],[77,70,77,74],[77,75,77,81],[78,2,78,4],[78,5,78,6],[78,7,78,18],[78,19,78,24],[78,25,78,35],[78,36,78,46],[78,47,78,57],[78,58,78,62],[78,63,78,64],[78,65,78,69],[78,70,78,74],[78,75,78,81],[71,1,71,82],[72,1,72,82],[73,1,73,82],[74,1,83,1],[74,2,74,81],[74,82,83,82],[75,2,75,81],[76,2,76,6],[76,7,76,18],[76,75,76,81],[77,2,77,4],[77,5,77,6],[77,7,77,18],[77,19,77,24],[77,25,77,35],[77,36,77,46],[77,47,77,57],[77,58,77,62],[77,63,77,64],[76,19,76,24],[76,25,76,35],[76,36,76,46],[76,47,76,57],[76,58,76,69],[69,70,69,74],[69,75,69,78],[69,79,69,81],[70,2,70,6],[70,7,70,18],[70,19,70,24],[70,25,70,35],[70,36,70,46],[70,79,70,81],[70,47,70,57],[70,58,70,62],[70,63,70,64],[70,65,70,69],[70,70,70,74],[70,75,70,78],[69,2,69,6],[69,7,69,18],[69,19,69,24],[69,25,69,35],[69,36,69,46],[69,47,69,57],[69,58,69,62],[69,63,69,64],[69,65,69,69],[67,2,67,6],[67,7,67,18],[67,19,67,24],[67,25,67,35],[67,36,67,46],[67,79,67,81],[68,2,68,6],[68,7,68,18],[68,19,68,24],[68,25,68,35],[68,36,68,46],[68,47,68,57],[68,58,68,62],[68,63,68,64],[68,65,68,69],[67,47,67,57],[67,58,67,62],[67,63,67,64],[67,65,67,69],[67,70,67,74],[67,75,67,78],[68,70,68,74],[68,75,68,78],[68,79,68,81],[64,70,64,74],[64,75,64,78],[65,70,65,74],[65,75,65,78],[65,79,65,81],[66,2,66,6],[66,7,66,18],[66,19,66,24],[66,25,66,35],[66,36,66,46],[66,47,66,57],[66,58,66,62],[66,63,66,64],[66,65,66,69],[66,70,66,74],[66,75,66,78],[66,79,66,81],[65,25,65,35],[65,36,65,46],[65,47,65,57],[65,58,65,62],[65,63,65,64],[65,65,65,69],[64,47,64,57],[64,58,64,62],[64,63,64,64],[64,65,64,69],[60,1,60,82],[61,1,68,1],[61,2,61,81],[61,82,68,82],[62,2,62,81],[63,2,63,6],[63,7,63,18],[63,19,63,24],[63,25,63,35],[63,36,63,46],[63,47,63,57],[63,58,63,69],[63,70,63,74],[63,75,63,78],[63,79,63,81],[64,2,64,6],[64,7,64,18],[64,19,64,24],[64,25,64,35],[64,36,64,46],[64,79,64,81],[65,2,65,6],[65,7,65,18],[65,19,65,24],[35,77,35,81],[36,1,36,82],[59,1,59,82],[34,53,34,67],[34,69,34,73],[34,74,34,76],[34,77,34,81],[35,7,35,10],[35,12,35,16],[35,18,35,22],[35,24,35,33],[35,35,35,49],[35,50,35,52],[34,7,34,10],[34,12,34,16],[34,18,34,22],[34,24,34,33],[34,35,34,49],[34,50,34,52],[35,53,35,67],[35,69,35,73],[35,74,35,76],[32,77,32,81],[33,7,33,10],[33,12,33,16],[33,18,33,22],[33,24,33,33],[33,35,33,49],[33,50,33,52],[33,53,33,67],[33,69,33,73],[33,74,33,76],[33,77,33,81],[32,7,32,10],[32,12,32,16],[32,18,32,22],[32,24,32,33],[32,35,32,49],[32,50,32,52],[32,53,32,67],[32,69,32,73],[32,74,32,76],[30,77,30,81],[31,7,31,10],[31,12,31,16],[31,18,31,22],[31,24,31,33],[31,35,31,49],[31,50,31,52],[31,53,31,67],[31,69,31,73],[31,74,31,76],[31,77,31,81],[30,7,30,10],[30,12,30,16],[30,18,30,22],[30,24,30,33],[30,35,30,49],[30,50,30,52],[30,53,30,67],[30,69,30,73],[30,74,30,76],[28,74,28,76],[28,77,28,81],[29,7,29,10],[29,12,29,16],[29,18,29,22],[29,24,29,33],[29,35,29,49],[29,50,29,52],[28,7,28,10],[28,12,28,16],[28,18,28,22],[28,24,28,33],[28,35,28,49],[28,50,28,52],[29,53,29,67],[29,69,29,73],[29,74,29,76],[29,77,29,81],[27,18,27,22],[27,24,27,33],[27,35,27,49],[27,50,27,52],[26,50,26,52],[26,53,26,67],[26,68,35,68],[28,53,28,67],[28,69,28,73],[24,77,24,81],[25,2,25,81],[26,2,35,5],[26,6,35,6],[26,7,26,10],[26,11,35,11],[26,12,26,16],[15,2,24,5],[15,6,24,6],[26,69,26,73],[26,74,26,76],[26,77,26,81],[27,53,27,67],[27,69,27,73],[27,74,27,76],[27,77,27,81],[26,17,35,17],[26,18,26,22],[26,23,35,23],[26,24,26,33],[26,34,35,34],[26,35,26,49],[27,7,27,10],[27,12,27,16],[24,7,24,10],[24,12,24,16],[24,18,24,22],[24,24,24,33],[24,35,24,49],[24,50,24,52],[24,53,24,67],[24,69,24,73],[24,74,24,76],[22,24,22,33],[22,35,22,49],[22,50,22,52],[22,53,22,67],[22,69,22,73],[22,74,22,76],[22,77,22,81],[23,7,23,10],[23,12,23,16],[23,18,23,22],[23,24,23,33],[23,35,23,49],[23,50,23,52],[23,53,23,67],[23,69,23,73],[23,74,23,76],[23,77,23,81],[20,53,20,67],[20,69,20,73],[20,74,20,76],[20,77,20,81],[21,7,21,10],[21,12,21,16],[21,18,21,22],[21,24,21,33],[21,35,21,49],[21,50,21,52],[21,53,21,67],[21,69,21,73],[21,74,21,76],[21,77,21,81],[18,53,18,67],[18,69,18,73],[18,74,18,76],[18,77,18,81],[19,7,19,10],[19,12,19,16],[19,18,19,22],[19,24,19,33],[19,35,19,49],[19,50,19,52],[19,53,19,67],[19,69,19,73],[19,74,19,76],[19,77,19,81],[16,53,16,67],[16,69,16,73],[16,74,16,76],[16,77,16,81],[17,7,17,10],[17,12,17,16],[17,18,17,22],[17,24,17,33],[17,35,17,49],[17,50,17,52],[17,53,17,67],[17,69,17,73],[17,74,17,76],[17,77,17,81],[15,24,15,33],[15,34,24,34],[15,35,15,49],[15,50,15,52],[16,50,16,52],[15,7,15,10],[15,11,24,11],[15,12,15,16],[15,17,24,17],[18,7,18,10],[18,12,18,16],[18,18,18,22],[18,24,18,33],[18,35,18,49],[18,50,18,52],[20,7,20,10],[20,12,20,16],[20,18,20,22],[20,24,20,33],[20,35,20,49],[20,50,20,52],[22,7,22,10],[22,12,22,16],[22,18,22,22],[13,69,13,81],[14,2,14,81],[7,68,7,81],[8,1,8,82],[9,1,9,82],[10,1,10,82],[11,1,35,1],[11,2,11,81],[11,82,35,82],[12,2,12,81],[13,2,13,5],[13,7,13,10],[15,53,15,67],[15,68,24,68],[15,69,15,73],[15,74,15,76],[15,77,15,81],[16,7,16,10],[16,12,16,16],[16,18,16,22],[16,24,16,33],[16,35,16,49],[15,18,15,22],[15,23,24,23],[0,0,0,83],[1,1,1,82],[1,83,97,83],[2,1,2,82],[3,1,3,82],[4,1,7,1],[4,2,4,81],[4,82,7,82],[5,2,5,81],[6,2,6,11],[6,12,6,25],[6,26,6,39],[6,40,6,53],[6,54,6,67],[6,68,6,81],[7,2,7,11],[7,12,7,25],[7,26,7,39],[7,40,7,53],[7,54,7,67],[13,12,13,16],[13,18,13,22],[13,24,13,33],[13,35,13,67]]}
[]
[null,{"$f":"\"Turnier am \" & MID(CELL(\"dateiname\",A1),SEARCH(\"]\",CELL(\"dateiname\",A1))+1,31)","v":"Turnier am 25.3."}]
[]
[]
[null,null,"Spielerliste"]
[]
[null,null,{"$f":"\" Spieler\"","v":" Spieler"},null,null,null,null,null,null,null,null,null,"Spieler 1",null,null,null,null,null,null,null,null,null,null,null,null,null,"Spieler 2",null,null,null,null,null,null,null,null,null,null,null,null,null,"Spieler 3",null,null,null,null,null,null,null,null,null,null,null,null,null,"Spieler 4",null,null,null,null,null,null,null,null,null,null,null,null,null,"Spieler 5"]
[null,null,{"$f":"\" Name\"","v":" Name"},null,null,null,null,null,null,null,null,null,"Christoph",null,null,null,null,null,null,null,null,null,null,null,null,null,"Patrick",null,null,null,null,null,null,null,null,null,null,null,null,null,"Markus",null,null,null,null,null,null,null,null,null,null,null,null,null,"Ratze",null,null,null,null,null,null,null,null,null,null,null,null,null,"Jule"]
[]
[]
[]
[null,null,"Spielplan"]
[]
[null,null,"00:12:00",null,null,null,null,"Spiel",null,null,null,null,"Datum",null,null,null,null,null,"Uhrzeit",null,null,null,null,null,"Austragungsort",null,null,null,null,null,null,null,null,null,null,"Paarung",null,null,null,null,null,null,null,null,null,null,null,null,null,null,null,null,null,null,null,null,null,null,null,null,null,null,null,null,null,null,null,null,null,"Ergebnis",null,null,null,null,null,null,null,null,null,null,null,null,null,null,"Spiele","SiegHeim","Unentschieden","SiegGast"]
[]
[null,null,"Hinrunde",null,null,null,null,1,null,null,null,null,{"$f":"MID(CELL(\"dateiname\",A1),SEARCH(\"]\",CELL(\"dateiname\",A1))+1,31)","v":"25.3."},null,null,null,null,null,"21:00:00",null,null,null,null,null,"Fernseher",null,null,null,null,null,null,null,null,null,null,{"$f":"$M$8","v":"Christoph"},null,null,null,null,null,null,null,null,null,null,null,null,null,null,":",null,null,{"$f":"$AA$8","v":"Patrick"},null,null,null,null,null,null,null,null,null,null,null,null,null,null,null,2,null,null,null,null,":",null,null,2,null,null,null,null,null,null,{"$f":"IF(AND(ISNUMBER(BR16),ISNUMBER(BZ16)),1,0)","v":1},{"$f":"IF(OR(ISBLANK(BR16),ISBLANK(BZ16)),0,IF(BR16>BZ16,1,0))","v":0},{"$f":"IF(OR(ISBLANK(BR16),ISBLANK(BZ16)),0,IF(BR16=BZ16,1,0))","v":1},{"$f":"IF(OR(ISBLANK(BR16),ISBLANK(BZ16)),0,IF(BR16<BZ16,1,0))","v":0}]
[null,null,null,null,null,null,null,{"$f":"H16+1","v":2},null,null,null,null,{"$f":"$M$16","v":"25.3."},null,null,null,null,null,{"$f":"S16","v":"21:00:00"},null,null,null,null,null,"Fernseher",null,null,null,null,null,null,null,null,null,null,{"$f":"$AO$8","v":"Markus"},null,null,null,null,null,null,null,null,null,null,null,null,null,null,":",null,null,{"$f":"$BC$8","v":"Ratze"},null,null,null,null,null,null,null,null,null,null,null,null,null,null,null,3,null,null,null,null,":",null,null,2,null,null,null,null,null,null,{"$f":"IF(AND(ISNUMBER(BR17),ISNUMBER(BZ17)),1,0)","v":1},{"$f":"IF(OR(ISBLANK(BR17),ISBLANK(BZ17)),0,IF(BR17>BZ17,1,0))","v":1},{"$f":"IF(OR(ISBLANK(BR17),ISBLANK(BZ17)),0,IF(BR17=BZ17,1,0))","v":0},{"$f":"IF(OR(ISBLANK(BR17),ISBLANK(BZ17)),0,IF(BR17<BZ17,1,0))","v":0}]
[null,null,null,null,null,null,null,{"$f":"H17+1","v":3},null,null,null,null,{"$f":"$M$16","v":"25.3."},null,null,null,null,null,{"$f":"S16+$C$14","v":"21:12:00"},null,null,null,null,null,{"$f":"$Y$16","v":"Fernseher"},null,null,null,null,null,null,null,null,null,null,{"$f":"$BQ$8","v":"Jule"},null,null,null,null,null,null,null,null,null,null,null,null,null,null,":",null,null,{"$f":"$M$8","v":"Christoph"},null,null,null,null,null,null,null,null,null,null,null,null,null,null,null,1,null,null,null,null,":",null,null,2,null,null,null,null,null,null,1,0,0,1]
[null,null,null,null,null,null,null,{"$f":"H18+1","v":4},null,null,null,null,"25.3.",null,null,null,null,null,"21:12:00",null,null,null,null,null,{"$f":"$Y$17","v":"Fernseher"},null,null,null,null,null,null,null,null,null,null,{"$f":"$AA$8","v":"Patrick"},null,null,null,null,null,null,null,null,null,null,null,null,null,null,":",null,null,{"$f":"$AO$8","v":"Markus"},null,null,null,null,null,null,null,null,null,null,null,null,null,null,null,3,null,null,null,null,":",null,null,2,null,null,null,null,null,null,1,1,0,0]
[null,null,null,null,null,null,null,5,null,null,null,null,"25.3.",null,null,null,null,null,"21:24:00",null,null,null,null,null,{"$f":"$Y$16","v":"Fernseher"},null,null,null,null,null,null,null,null,null,null,{"$f":"$BC$8","v":"Ratze"},null,null,null,null,null,null,null,null,null,null,null,null,null,null,":",null,null,{"$f":"$BQ$8","v":"Jule"},null,null,null,null,null,null,null,null,null,null,null,null,null,null,null,4,null,null,null,null,":",null,null,1,null,null,null,null,null,null,1,1,0,0]
[null,null,null,null,null,null,null,6,null,null,null,null,"25.3.",null,null,null,null,null,"21:24:00",null,null,null,null,null,{"$f":"$Y$17","v":"Fernseher"},null,null,null,null,null,null,null,null,null,null,{"$f":"$M$8","v":"Christoph"},null,null,null,null,null,null,null,null,null,null,null,null,null,null,":",null,null,{"$f":"$AO$8","v":"Markus"},null,null,null,null,null,null,null,null,null,null,null,null,null,null,null,3,null,null,null,null,":",null,null,3,null,null,null,null,null,null,1,0,1,0]
[null,null,null,null,null,null,null,7,null,null,null,null,"25.3.",null,null,null,null,null,"21:36:00",null,null,null,null,null,{"$f":"$Y$16","v":"Fernseher"},null,null,null,null,null,null,null,null,null,null,{"$f":"$AA$8","v":"Patrick"},null,null,null,null,null,null,null,null,null,null,null,null,null,null,":",null,null,{"$f":"$BC$8","v":"Ratze"},null,null,null,null,null,null,null,null,null,null,null,null,null,null,null,1,null,null,null,null,":",null,null,1,null,null,null,null,null,null,1,0,1,0]
[null,null,null,null,null,null,null,8,null,null,null,null,"25.3.",null,null,null,null,null,"21:36:00",null,null,null,null,null,{"$f":"$Y$17","v":"Fernseher"},null,null,null,null,null,null,null,null,null,null,{"$f":"$AO$8","v":"Markus"},null,null,null,null,null,null,null,null,null,null,null,null,null,null,":",null,null,{"$f":"$BQ$8","v":"Jule"},null,null,null,null,null,null,null,null,null,null,null,null,null,null,null,3,null,null,null,null,":",null,null,3,null,null,null,null,null,null,1,0,1,0]
[null,null,null,null,null,null,null,9,null,null,null,null,"25.3.",null,null,null,null,null,"21:48:00",null,null,null,null,null,{"$f":"$Y$16","v":"Fernseher"},null,null,null,null,null,null,null,null,null,null,{"$f":"$BC$8","v":"Ratze"},null,null,null,null,null,null,null,null,null,null,null,null,null,null,":",null,null,{"$f":"$M$8","v":"Christoph"},null,null,null,null,null,null,null,null,null,null,null,null,null,null,null,2,null,null,null,null,":",null,null,0,null,null,null,null,null,null,1,1,0,0]
[null,null,null,null,null,null,null,10,null,null,null,null,"25.3.",null,null,null,null,null,"21:48:00",null,null,null,null,null,{"$f":"$Y$17","v":"Fernseher"},null,null,null,null,null,null,null,null,null,null,{"$f":"$BQ$8","v":"Jule"},null,null,null,null,null,null,null,null,null,null,null,null,null,null,":",null,null,{"$f":"$AA$8","v":"Patrick"},null,null,null,null,null,null,null,null,null,null,null,null,null,null,null,4,null,null,null,null,":",null,null,5,null,null,null,null,null,null,1,0,0,1]
[]
[null,null,"Rückrunde",null,null,null,null,{"$f":"H25+1","v":11},null,null,null,null,{"$f":"$M$16","v":"25.3."},null,null,null,null,null,{"$f":"S24+$C$14","v":"22:00:00"},null,null,null,null,null,{"$f":"$Y$17","v":"Fernseher"},null,null,null,null,null,null,null,null,null,null,{"$f":"$AA$8","v":"Patrick"},null,null,null,null,null,null,null,null,null,null,null,null,null,null,":",null,null,{"$f":"$M$8","v":"Christoph"},null,null,null,null,null,null,null,null,null,null,null,null,null,null,null,2,null,null,null,null,":",null,null,1,null,null,null,null,null,null,{"$f":"IF(AND(ISNUMBER(BR27),ISNUMBER(BZ27)),1,0)","v":1},{"$f":"IF(OR(ISBLANK(BR27),ISBLANK(BZ27)),0,IF(BR27>BZ27,1,0))","v":1},{"$f":"IF(OR(ISBLANK(BR27),ISBLANK(BZ27)),0,IF(BR27=BZ27,1,0))","v":0},{"$f":"IF(OR(ISBLANK(BR27),ISBLANK(BZ27)),0,IF(BR27<BZ27,1,0))","v":0}]
[null,null,null,null,null,null,null,{"$f":"H27+1","v":12},null,null,null,null,"25.3.",null,null,null,null,null,{"$f":"S25+$C$14","v":"22:00:00"},null,null,null,null,null,{"$f":"$Y$16","v":"Fernseher"},null,null,null,null,null,null,null,null,null,null,{"$f":"$BC$8","v":"Ratze"},null,null,null,null,null,null,null,null,null,null,null,null,null,null,":",null,null,{"$f":"$AO$8","v":"Markus"},null,null,null,null,null,null,null,null,null,null,null,null,null,null,null,3,null,null,null,null,":",null,null,1,null,null,null,null,null,null,1,1,0,0]
[null,null,null,null,null,null,null,{"$f":"H28+1","v":13},null,null,null,null,"25.3.",null,null,null,null,null,{"$f":"S27+$C$14","v":"22:12:00"},null,null,null,null,null,{"$f":"$Y$17","v":"Fernseher"},null,null,null,null,null,null,null,null,null,null,{"$f":"$M$8","v":"Christoph"},null,null,null,null,null,null,null,null,null,null,null,null,null,null,":",null,null,{"$f":"$BQ$8","v":"Jule"},null,null,null,null,null,null,null,null,null,null,null,null,null,null,null,1,null,null,null,null,":",null,null,1,null,null,null,null,null,null,1,0,1,0]
[null,null,null,null,null,null,null,14,null,null,null,null,"25.3.",null,null,null,null,null,"22:12:00",null,null,null,null,null,{"$f":"$Y$16","v":"Fernseher"},null,null,null,null,null,null,null,null,null,null,{"$f":"$AO$8","v":"Markus"},null,null,null,null,null,null,null,null,null,null,null,null,null,null,":",null,null,{"$f":"$AA$8","v":"Patrick"},null,null,null,null,null,null,null,null,null,null,null,null,null,null,null,2,null,null,null,null,":",null,null,2,null,null,null,null,null,null,1,0,1,0]
[null,null,null,null,null,null,null,15,null,null,null,null,"25.3.",null,null,null,null,null,"22:24:00",null,null,null,null,null,{"$f":"$Y$17","v":"Fernseher"},null,null,null,null,null,null,null,null,null,null,{"$f":"$BQ$8","v":"Jule"},null,null,null,null,null,null,null,null,null,null,null,null,null,null,":",null,null,{"$f":"$BC$8","v":"Ratze"},null,null,null,null,null,null,null,null,null,null,null,null,null,null,null,2,null,null,null,null,":",null,null,3,null,null,null,null,null,null,1,0,0,1]
[null,null,null,null,null,null,null,16,null,null,null,null,"25.3.",null,null,null,null,null,"22:24:00",null,null,null,null,null,{"$f":"$Y$16","v":"Fernseher"},null,null,null,null,null,null,null,null,null,null,{"$f":"$AO$8","v":"Markus"},null,null,null,null,null,null,null,null,null,null,null,null,null,null,":",null,null,{"$f":"$M$8","v":"Christoph"},null,null,null,null,null,null,null,null,null,null,null,null,null,null,null,2,null,null,null,null,":",null,null,1,null,null,null,null,null,null,1,1,0,0]
[null,null,null,null,null,null,null,17,null,null,null,null,"25.3.",null,null,null,null,null,"22:36:00",null,null,null,null,null,{"$f":"$Y$17","v":"Fernseher"},null,null,null,null,null,null,null,null,null,null,{"$f":"$BC$8","v":"Ratze"},null,null,null,null,null,null,null,null,null,null,null,null,null,null,":",null,null,{"$f":"$AA$8","v":"Patrick"},null,null,null,null,null,null,null,null,null,null,null,null,null,null,null,3,null,null,null,null,":",null,null,2,null,null,null,null,null,null,1,1,0,0]
[null,null,null,null,null,null,null,18,null,null,null,null,"25.3.",null,null,null,null,null,"22:36:00",null,null,null,null,null,{"$f":"$Y$16","v":"Fernseher"},null,null,null,null,null,null,null,null,null,null,{"$f":"$BQ$8","v":"Jule"},null,null,null,null,null,null,null,null,null,null,null,null,null,null,":",null,null,{"$f":"$AO$8","v":"Markus"},null,null,null,null,null,null,null,null,null,null,null,null,null,null,null,3,null,null,null,null,":",null,null,1,null,null,null,null,null,null,1,1,0,0]
[null,null,null,null,null,null,null,19,null,null,null,null,"25.3.",null,null,null,null,null,"22:48:00",null,null,null,null,null,{"$f":"$Y$17","v":"Fernseher"},null,null,null,null,null,null,null,null,null,null,{"$f":"$M$8","v":"Christoph"},null,null,null,null,null,null,null,null,null,null,null,null,null,null,":",null,null,{"$f":"$BC$8","v":"Ratze"},null,null,null,null,null,null,null,null,null,null,null,null,null,null,null,2,null,null,null,null,":",null,null,2,null,null,null,null,null,null,1,0,1,0]
[null,null,null,null,null,null,null,20,null,null,null,null,"25.3.",null,null,null,null,null,"22:48:00",null,null,null,null,null,{"$f":"$Y$16","v":"Fernseher"},null,null,null,null,null,null,null,null,null,null,{"$f":"$AA$8","v":"Patrick"},null,null,null,null,null,null,null,null,null,null,null,null,null,null,":",null,null,{"$f":"$BQ$8","v":"Jule"},null,null,null,null,null,null,null,null,null,null,null,null,null,null,null,2,null,null,null,null,":",null,null,2,null,null,null,null,null,null,1,0,1,0]
[]
[]
[]
[]
[]
[]
[]
[]
[]
[]
[]
[]
[]
[]
[]
[]
[]
[]
[]
[]
[]
[]
[]
[]
[]
[null,null,"Tabelle (unsortiert)"]
[]
[null,null,"Rang",null,null,null,null,"Spieler",null,null,null,null,null,null,null,null,null,null,null,"Spiele",null,null,null,null,null,"Siege",null,null,null,null,null,null,null,null,null,null,"Unentschieden",null,null,null,null,null,null,null,null,null,null,"Niederlagen",null,null,null,null,null,null,null,null,null,null,"Tore",null,null,null,null,null,null,null,null,null,null,null,"+/-",null,null,null,null,"Punkte",null,null,null,"HS"]
[null,null,{"$f":"IF(T65=0,0,RANK(BX65,$BX$65:$CA$69,0))","v":4},null,null,null,null,{"$f":"$M$8","v":"Christoph"},null,null,null,null,null,null,null,null,null,null,null,{"$f":"CG16+CG18+CG21+CG24+CG27+CG29+CG32+CG35","v":8},null,null,null,null,null,{"$f":"CH16+CJ18+CH21+CJ24+CJ27+CH29+CJ32+CH35","v":1},null,null,null,null,null,null,null,null,null,null,{"$f":"CI16+CI18+CI21+CI24+CI27+CI29+CI32+CI35","v":4},null,null,null,null,null,null,null,null,null,null,{"$f":"CJ16+CH18+CJ21+CH24+CH27+CJ29+CH32+CJ35","v":3},null,null,null,null,null,null,null,null,null,null,{"$f":"BR16+BZ18+BR21+BZ24+BZ27+BR29+BZ32+BR35","v":12},null,null,null,null,":",null,{"$f":"BZ16+BR18+BZ21+BR24+BR27+BZ29+BR32+BZ35","v":15},null,null,null,null,{"$f":"BG65-BN65","v":-3},null,null,null,null,{"$f":"(Z65*3)+AK65","v":7},null,null,null,{"$f":"BX65+ROW()/1000","v":7.0650000000000004}]
[null,null,{"$f":"IF(T66=0,0,RANK(BX66,$BX$65:$CA$69,0))","v":2},null,null,null,null,{"$f":"$AA$8","v":"Patrick"},null,null,null,null,null,null,null,null,null,null,null,{"$f":"CG16+CG19+CG22+CG25+CG27+CG30+CG33+CG36","v":8},null,null,null,null,null,{"$f":"CJ16+CH19+CH22+CJ25+CH27+CJ30+CJ33+CH36","v":3},null,null,null,null,null,null,null,null,null,null,{"$f":"CI16+CI19+CI22+CI25+CI27+CI30+CI33+CI36","v":4},null,null,null,null,null,null,null,null,null,null,{"$f":"CH16+CJ19+CJ22+CH25+CJ27+CH30+CH33+CJ36","v":1},null,null,null,null,null,null,null,null,null,null,{"$f":"BZ16+BR19+BR22+BZ25+BR27+BZ30+BZ33+BR36","v":19},null,null,null,":",":",null,{"$f":"BR16+BZ19+BZ22+BR25+BZ27+BR30+BR33+BZ36","v":17},null,null,null,null,{"$f":"BG66-BN66","v":2},null,null,null,null,{"$f":"(Z66*3)+AK66","v":13},null,null,null,{"$f":"BX66+ROW()/1000","v":13.066000000000001}]
[null,null,{"$f":"IF(T67=0,0,RANK(BX67,$BX$65:$CA$69,0))","v":3},null,null,null,null,{"$f":"$AO$8","v":"Markus"},null,null,null,null,null,null,null,null,null,null,null,{"$f":"CG17+CG19+CG21+CG23+CG28+CG30+CG32+CG34","v":8},null,null,null,null,null,{"$f":"CH17+CJ19+CJ21+CH23+CJ28+CH30+CH32+CJ34","v":2},null,null,null,null,null,null,null,null,null,null,{"$f":"CI17+CI19+CI21+CI23+CI28+CI30+CI32+CI34","v":3},null,null,null,null,null,null,null,null,null,null,{"$f":"CJ17+CH19+CH21+CJ23+CH28+CJ30+CJ32+CH34","v":3},null,null,null,null,null,null,null,null,null,null,{"$f":"BR17+BZ19+BZ21+BR23+BZ28+BR30+BR32+BZ34","v":17},null,null,null,":",":",null,{"$f":"BZ17+BR19+BR21+BZ23+BR28+BZ30+BZ32+BR34","v":20},null,null,null,null,{"$f":"BG67-BN67","v":-3},null,null,null,null,{"$f":"(Z67*3)+AK67","v":9},null,null,null,{"$f":"BX67+ROW()/1000","v":9.0670000000000002}]
[null,null,{"$f":"IF(T68=0,0,RANK(BX68,$BX$65:$CA$69,0))","v":1},null,null,null,null,{"$f":"$BC$8","v":"Ratze"},null,null,null,null,null,null,null,null,null,null,null,{"$f":"CG17+CG20+CG22+CG24+CG28+CG31+CG33+CG35","v":8},null,null,null,null,null,{"$f":"CJ17+CH20+CJ22+CH24+CH28+CJ31+CH33+CJ35","v":5},null,null,null,null,null,null,null,null,null,null,{"$f":"CI17+CI20+CI22+CI24+CI28+CI31+CI33+CI35","v":2},null,null,null,null,null,null,null,null,null,null,{"$f":"CH17+CJ20+CH22+CJ24+CJ28+CH31+CJ33+CH35","v":1},null,null,null,null,null,null,null,null,null,null,{"$f":"BZ17+BR20+BZ22+BR24+BR28+BZ31+BR33+BZ35","v":20},null,null,null,":",":",null,{"$f":"BR17+BZ20+BR22+BZ24+BZ28+BR31+BZ33+BR35","v":12},null,null,null,null,{"$f":"BG68-BN68","v":8},null,null,null,null,{"$f":"(Z68*3)+AK68","v":17},null,null,null,{"$f":"BX68+ROW()/1000","v":17.068000000000001}]
[null,null,{"$f":"IF(T69=0,0,RANK(BX69,$BX$65:$CA$69,0))","v":5},null,null,null,null,{"$f":"$BQ$8","v":"Jule"},null,null,null,null,null,null,null,null,null,null,null,{"$f":"CG18+CG20+CG23+CG25+CG29+CG31+CG34+CG36","v":8},null,null,null,null,null,{"$f":"CH18+CJ20+CJ23+CH25+CJ29+CH31+CH34+CJ36","v":1},null,null,null,null,null,null,null,null,null,null,{"$f":"CI18+CI20+CI23+CI25+CI29+CI31+CI34+CI36","v":3},null,null,null,null,null,null,null,null,null,null,{"$f":"CJ18+CH20+CH23+CJ25+CH29+CJ31+CJ34+CH36","v":4},null,null,null,null,null,null,null,null,null,null,{"$f":"BR18+BZ20+BZ23+BR25+BZ29+BR31+BR34+BZ36","v":17},null,null,null,":",":",null,{"$f":"BZ18+BR20+BR23+BZ25+BR29+BZ31+BZ34+BR36","v":21},null,null,null,null,{"$f":"BG69-BN69","v":-4},null,null,null,null,{"$f":"(Z69*3)+AK69","v":6},null,null,null,{"$f":"BX69+ROW()/1000","v":6.069}]
[null,null,null,null,null,null,null,"Spieler 6",null,null,null,null,null,null,null,null,null,null,null,0,null,null,null,null,null,0,null,null,null,null,null,null,null,null,null,null,0,null,null,null,null,null,null,null,null,null,null,0,null,null,null,null,null,null,null,null,null,null,0,null,null,null,null,":",null,0,null,null,null,null,0,null,null,null,null,0,null,null,null,0]
[null,null,null,null,null,null,null,"Spieler 7",null,null,null,null,null,null,null,null,null,null,null,0,null,null,null,null,null,0,null,null,null,null,null,null,null,null,null,null,0,null,null,null,null,null,null,null,null,null,null,0,null,null,null,null,null,null,null,null,null,null,0,null,null,null,null,":",null,0,null,null,null,null,0,null,null,null,null,0,null,null,null,0]
[]
[]
[]
[null,null,"Tabelle"]
[]
[null,null,"Rang",null,null,null,null,"Spieler",null,null,null,null,null,null,null,null,null,null,null,"Spiele",null,null,null,null,null,"Siege",null,null,null,null,null,null,null,null,null,null,"Unentschieden",null,null,null,null,null,null,null,null,null,null,"Niederlagen",null,null,null,null,null,null,null,null,null,null,"Tore",null,null,null,null,null,null,null,null,null,null,null,"+/-",null,null,null,null,"Punkte"]
[null,null,{"$f":"INDEX($C$65:$C$69,MATCH(LARGE($CB$65:$CB$69,ROW(A1)),$CB$65:$CB$69,0),1)","v":1},null,null,1,null,{"$f":"INDEX($H$65:$H$69,MATCH(LARGE($CB$65:$CB$69,ROW(A1)),$CB$65:$CB$69,0),1)","v":"Ratze"},null,null,null,null,null,null,null,null,null,null,null,{"$f":"INDEX($T$65:$T$69,MATCH(LARGE($CB$65:$CB$69,ROW(A1)),$CB$65:$CB$69,0),1)","v":8},null,null,null,null,null,{"$f":"INDEX($Z$65:$Z$69,MATCH(LARGE($CB$65:$CB$69,ROW(A1)),$CB$65:$CB$69,0),1)","v":5},null,null,null,null,null,null,null,null,null,null,{"$f":"INDEX($AK$65:$AK$69,MATCH(LARGE($CB$65:$CB$69,ROW(A1)),$CB$65:$CB$69,0),1)","v":2},null,null,null,null,null,null,null,null,null,null,{"$f":"INDEX($AV$65:$AV$69,MATCH(LARGE($CB$65:$CB$69,ROW(A1)),$CB$65:$CB$69,0),1)","v":1},null,null,null,null,null,null,null,null,null,null,{"$f":"INDEX($BG$65:$BG$69,MATCH(LARGE($CB$65:$CB$69,ROW(A1)),$CB$65:$CB$69,0),1)","v":20},null,null,null,null,":",null,{"$f":"INDEX($BN$65:$BN$69,MATCH(LARGE($CB$65:$CB$69,ROW(A1)),$CB$65:$CB$69,0),1)","v":12},null,null,null,null,{"$f":"INDEX($BS$65:$BS$69,MATCH(LARGE($CB$65:$CB$69,ROW(A1)),$CB$65:$CB$69,0),1)","v":8},null,null,null,null,{"$f":"INDEX($BX$65:$BX$69,MATCH(LARGE($CB$65:$CB$69,ROW(A1)),$CB$65:$CB$69,0),1)","v":17}]
[null,null,{"$f":"INDEX($C$65:$C$69,MATCH(LARGE($CB$65:$CB$69,ROW(A2)),$CB$65:$CB$69,0),1)","v":2},null,null,2,null,{"$f":"INDEX($H$65:$H$69,MATCH(LARGE($CB$65:$CB$69,ROW(A2)),$CB$65:$CB$69,0),1)","v":"Patrick"},null,null,null,null,null,null,null,null,null,null,null,{"$f":"INDEX($T$65:$T$69,MATCH(LARGE($CB$65:$CB$69,ROW(A2)),$CB$65:$CB$69,0),1)","v":8},null,null,null,null,null,{"$f":"INDEX($Z$65:$Z$69,MATCH(LARGE($CB$65:$CB$69,ROW(A2)),$CB$65:$CB$69,0),1)","v":3},null,null,null,null,null,null,null,null,null,null,{"$f":"INDEX($AK$65:$AK$69,MATCH(LARGE($CB$65:$CB$69,ROW(A2)),$CB$65:$CB$69,0),1)","v":4},null,null,null,null,null,null,null,null,null,null,{"$f":"INDEX($AV$65:$AV$69,MATCH(LARGE($CB$65:$CB$69,ROW(A2)),$CB$65:$CB$69,0),1)","v":1},null,null,null,null,null,null,null,null,null,null,{"$f":"INDEX($BG$65:$BG$69,MATCH(LARGE($CB$65:$CB$69,ROW(A2)),$CB$65:$CB$69,0),1)","v":19},null,null,null,null,":",null,{"$f":"INDEX($BN$65:$BN$69,MATCH(LARGE($CB$65:$CB$69,ROW(A2)),$CB$65:$CB$69,0),1)","v":17},null,null,null,null,{"$f":"INDEX($BS$65:$BS$69,MATCH(LARGE($CB$65:$CB$69,ROW(A2)),$CB$65:$CB$69,0),1)","v":2},null,null,null,null,{"$f":"INDEX($BX$65:$BX$69,MATCH(LARGE($CB$65:$CB$69,ROW(A2)),$CB$65:$CB$69,0),1)","v":13}]
[null,null,{"$f":"INDEX($C$65:$C$69,MATCH(LARGE($CB$65:$CB$69,ROW(A3)),$CB$65:$CB$69,0),1)","v":3},null,null,3,null,{"$f":"INDEX($H$65:$H$69,MATCH(LARGE($CB$65:$CB$69,ROW(A3)),$CB$65:$CB$69,0),1)","v":"Markus"},null,null,null,null,null,null,null,null,null,null,null,{"$f":"INDEX($T$65:$T$69,MATCH(LARGE($CB$65:$CB$69,ROW(A3)),$CB$65:$CB$69,0),1)","v":8},null,null,null,null,null,{"$f":"INDEX($Z$65:$Z$69,MATCH(LARGE($CB$65:$CB$69,ROW(A3)),$CB$65:$CB$69,0),1)","v":2},null,null,null,null,null,null,null,null,null,null,{"$f":"INDEX($AK$65:$AK$69,MATCH(LARGE($CB$65:$CB$69,ROW(A3)),$CB$65:$CB$69,0),1)","v":3},null,null,null,null,null,null,null,null,null,null,{"$f":"INDEX($AV$65:$AV$69,MATCH(LARGE($CB$65:$CB$69,ROW(A3)),$CB$65:$CB$69,0),1)","v":3},null,null,null,null,null,null,null,null,null,null,{"$f":"INDEX($BG$65:$BG$69,MATCH(LARGE($CB$65:$CB$69,ROW(A3)),$CB$65:$CB$69,0),1)","v":17},null,null,null,null,":",null,{"$f":"INDEX($BN$65:$BN$69,MATCH(LARGE($CB$65:$CB$69,ROW(A3)),$CB$65:$CB$69,0),1)","v":20},null,null,null,null,{"$f":"INDEX($BS$65:$BS$69,MATCH(LARGE($CB$65:$CB$69,ROW(A3)),$CB$65:$CB$69,0),1)","v":-3},null,null,null,null,{"$f":"INDEX($BX$65:$BX$69,MATCH(LARGE($CB$65:$CB$69,ROW(A3)),$CB$65:$CB$69,0),1)","v":9}]
[null,null,{"$f":"INDEX($C$65:$C$69,MATCH(LARGE($CB$65:$CB$69,ROW(A4)),$CB$65:$CB$69,0),1)","v":4},null,null,4,null,{"$f":"INDEX($H$65:$H$69,MATCH(LARGE($CB$65:$CB$69,ROW(A4)),$CB$65:$CB$69,0),1)","v":"Christoph"},null,null,null,null,null,null,null,null,null,null,null,{"$f":"INDEX($T$65:$T$69,MATCH(LARGE($CB$65:$CB$69,ROW(A4)),$CB$65:$CB$69,0),1)","v":8},null,null,null,null,null,{"$f":"INDEX($Z$65:$Z$69,MATCH(LARGE($CB$65:$CB$69,ROW(A4)),$CB$65:$CB$69,0),1)","v":1},null,null,null,null,null,null,null,null,null,null,{"$f":"INDEX($AK$65:$AK$69,MATCH(LARGE($CB$65:$CB$69,ROW(A4)),$CB$65:$CB$69,0),1)","v":4},null,null,null,null,null,null,null,null,null,null,{"$f":"INDEX($AV$65:$AV$69,MATCH(LARGE($CB$65:$CB$69,ROW(A4)),$CB$65:$CB$69,0),1)","v":3},null,null,null,null,null,null,null,null,null,null,{"$f":"INDEX($BG$65:$BG$69,MATCH(LARGE($CB$65:$CB$69,ROW(A4)),$CB$65:$CB$69,0),1)","v":12},null,null,null,null,":",null,{"$f":"INDEX($BN$65:$BN$69,MATCH(LARGE($CB$65:$CB$69,ROW(A4)),$CB$65:$CB$69,0),1)","v":15},null,null,null,null,{"$f":"INDEX($BS$65:$BS$69,MATCH(LARGE($CB$65:$CB$69,ROW(A4)),$CB$65:$CB$69,0),1)","v":-3},null,null,null,null,{"$f":"INDEX($BX$65:$BX$69,MATCH(LARGE($CB$65:$CB$69,ROW(A4)),$CB$65:$CB$69,0),1)","v":7}]
[null,null,{"$f":"INDEX($C$65:$C$69,MATCH(LARGE($CB$65:$CB$69,ROW(A5)),$CB$65:$CB$69,0),1)","v":5},null,null,5,null,{"$f":"INDEX($H$65:$H$69,MATCH(LARGE($CB$65:$CB$69,ROW(A5)),$CB$65:$CB$69,0),1)","v":"Jule"},null,null,null,null,null,null,null,null,null,null,null,{"$f":"INDEX($T$65:$T$69,MATCH(LARGE($CB$65:$CB$69,ROW(A5)),$CB$65:$CB$69,0),1)","v":8},null,null,null,null,null,{"$f":"INDEX($Z$65:$Z$69,MATCH(LARGE($CB$65:$CB$69,ROW(A5)),$CB$65:$CB$69,0),1)","v":1},null,null,null,null,null,null,null,null,null,null,{"$f":"INDEX($AK$65:$AK$69,MATCH(LARGE($CB$65:$CB$69,ROW(A5)),$CB$65:$CB$69,0),1)","v":3},null,null,null,null,null,null,null,null,null,null,{"$f":"INDEX($AV$65:$AV$69,MATCH(LARGE($CB$65:$CB$69,ROW(A5)),$CB$65:$CB$69,0),1)","v":4},null,null,null,null,null,null,null,null,null,null,{"$f":"INDEX($BG$65:$BG$69,MATCH(LARGE($CB$65:$CB$69,ROW(A5)),$CB$65:$CB$69,0),1)","v":17},null,null,null,null,":",null,{"$f":"INDEX($BN$65:$BN$69,MATCH(LARGE($CB$65:$CB$69,ROW(A5)),$CB$65:$CB$69,0),1)","v":21},null,null,null,null,{"$f":"INDEX($BS$65:$BS$69,MATCH(LARGE($CB$65:$CB$69,ROW(A5)),$CB$65:$CB$69,0),1)","v":-4},null,null,null,null,{"$f":"INDEX($BX$65:$BX$69,MATCH(LARGE($CB$65:$CB$69,ROW(A5)),$CB$65:$CB$69,0),1)","v":6}]
[null,null,"---",null,null,"---",null,"Spieler 6",null,null,null,null,null,null,null,null,null,null,null,0,null,null,null,null,null,0,null,null,null,null,null,null,null,null,null,null,0,null,null,null,null,null,null,null,null,null,null,0,null,null,null,null,null,null,null,null,null,null,0,null,null,null,null,":",null,0,null,null,null,null,0,null,null,null,null,0]
[null,null,"---",null,null,"---",null,"Spieler 7",null,null,null,null,null,null,null,null,null,null,null,0,null,null,null,null,null,0,null,null,null,null,null,null,null,null,null,null,0,null,null,null,null,null,null,null,null,null,null,0,null,null,null,null,null,null,null,null,null,null,0,null,null,null,null,":",null,0,null,null,null,null,0,null,null,null,null,0]
[]
[]
[]
[null,null,"Tabelle (nach Alphabet)"]
[]
[null,null,"Rang",null,null,null,null,"Spieler",null,null,null,null,null,null,null,null,null,null,null,"Spiele",null,null,null,null,null,"Siege",null,null,null,null,null,null,null,null,null,null,"Unentschieden",null,null,null,null,null,null,null,null,null,null,"Niederlagen",null,null,null,null,null,null,null,null,null,null,"Tore",null,null,null,null,null,null,null,null,null,null,null,"+/-",null,null,null,null,"Punkte"]
[null,null,{"$f":"IF($H$78=\"Basti\",$F$78,IF($H$79=\"Basti\",$F$79,IF($H$80=\"Basti\",$F$80,IF($H$81=\"Basti\",$F$81,IF($H$82=\"Basti\",$F$82,IF($H$83=\"Basti\",$F$83,IF($H$84=\"Basti\",$F$84,0)))))))","v":0},null,null,null,null,"Basti",null,null,null,null,null,null,null,null,null,null,null,{"$f":"IF($H$78=\"Basti\",$T$78,IF($H$79=\"Basti\",$T$79,IF($H$80=\"Basti\",$T$80,IF($H$81=\"Basti\",$T$81,IF($H$82=\"Basti\",$T$82,IF($H$83=\"Basti\",$T$83,IF($H$84=\"Basti\",$T$84,0)))))))","v":0},null,null,null,null,null,{"$f":"IF($H$78=\"Basti\",$Z$78,IF($H$79=\"Basti\",$Z$79,IF($H$80=\"Basti\",$Z$80,IF($H$81=\"Basti\",$Z$81,IF($H$82=\"Basti\",$Z$82,IF($H$83=\"Basti\",$Z$83,IF($H$84=\"Basti\",$Z$84,0)))))))","v":0},null,null,null,null,null,null,null,null,null,null,{"$f":"IF($H$78=\"Basti\",$AK$78,IF($H$79=\"Basti\",$AK$79,IF($H$80=\"Basti\",$AK$80,IF($H$81=\"Basti\",$AK$81,IF($H$82=\"Basti\",$AK$82,IF($H$83=\"Basti\",$AK$83,IF($H$84=\"Basti\",$AK$84,0)))))))","v":0},null,null,null,null,null,null,null,null,null,null,{"$f":"IF($H$78=\"Basti\",$AV$78,IF($H$79=\"Basti\",$AV$79,IF($H$80=\"Basti\",$AV$80,IF($H$81=\"Basti\",$AV$81,IF($H$82=\"Basti\",$AV$82,IF($H$83=\"Basti\",$AV$83,IF($H$84=\"Basti\",$AV$84,0)))))))","v":0},null,null,null,null,null,null,null,null,null,null,{"$f":"IF($H$78=\"Basti\",$BG$78,IF($H$79=\"Basti\",$BG$79,IF($H$80=\"Basti\",$BG$80,IF($H$81=\"Basti\",$BG$81,IF($H$82=\"Basti\",$BG$82,IF($H$83=\"Basti\",$BG$83,IF($H$84=\"Basti\",$BG$84,0)))))))","v":0},null,null,null,null,":",null,{"$f":"IF($H$78=\"Basti\",$BN$78,IF($H$79=\"Basti\",$BN$79,IF($H$80=\"Basti\",$BN$80,IF($H$81=\"Basti\",$BN$81,IF($H$82=\"Basti\",$BN$82,IF($H$83=\"Basti\",$BN$83,IF($H$84=\"Basti\",$BN$84,0)))))))","v":0},null,null,null,null,{"$f":"IF($H$78=\"Basti\",$BS$78,IF($H$79=\"Basti\",$BS$79,IF($H$80=\"Basti\",$BS$80,IF($H$81=\"Basti\",$BS$81,IF($H$82=\"Basti\",$BS$82,IF($H$83=\"Basti\",$BS$83,IF($H$84=\"Basti\",$BS$84,0)))))))","v":0},null,null,null,null,{"$f":"IF($H$78=\"Basti\",$BX$78,IF($H$79=\"Basti\",$BX$79,IF($H$80=\"Basti\",$BX$80,IF($H$81=\"Basti\",$BX$81,IF($H$82=\"Basti\",$BX$82,IF($H$83=\"Basti\",$BX$83,IF($H$84=\"Basti\",$BX$84,0)))))))","v":0}]
[null,null,{"$f":"IF($H$78=\"Christoph\",$F$78,IF($H$79=\"Christoph\",$F$79,IF($H$80=\"Christoph\",$F$80,IF($H$81=\"Christoph\",$F$81,IF($H$82=\"Christoph\",$F$82,IF($H$83=\"Christoph\",$F$83,IF($H$84=\"Christoph\",$F$84,0)))))))","v":4},null,null,null,null,"Christoph",null,null,null,null,null,null,null,null,null,null,null,{"$f":"IF($H$78=\"Christoph\",$T$78,IF($H$79=\"Christoph\",$T$79,IF($H$80=\"Christoph\",$T$80,IF($H$81=\"Christoph\",$T$81,IF($H$82=\"Christoph\",$T$82,IF($H$83=\"Christoph\",$T$83,IF($H$84=\"Christoph\",$T$84,0)))))))","v":8},null,null,null,null,null,{"$f":"IF($H$78=\"Christoph\",$Z$78,IF($H$79=\"Christoph\",$Z$79,IF($H$80=\"Christoph\",$Z$80,IF($H$81=\"Christoph\",$Z$81,IF($H$82=\"Christoph\",$Z$82,IF($H$83=\"Christoph\",$Z$83,IF($H$84=\"Christoph\",$Z$84,0)))))))","v":1},null,null,null,null,null,null,null,null,null,null,{"$f":"IF($H$78=\"Christoph\",$AK$78,IF($H$79=\"Christoph\",$AK$79,IF($H$80=\"Christoph\",$AK$80,IF($H$81=\"Christoph\",$AK$81,IF($H$82=\"Christoph\",$AK$82,IF($H$83=\"Christoph\",$AK$83,IF($H$84=\"Christoph\",$AK$84,0)))))))","v":4},null,null,null,null,null,null,null,null,null,null,{"$f":"IF($H$78=\"Christoph\",$AV$78,IF($H$79=\"Christoph\",$AV$79,IF($H$80=\"Christoph\",$AV$80,IF($H$81=\"Christoph\",$AV$81,IF($H$82=\"Christoph\",$AV$82,IF($H$83=\"Christoph\",$AV$83,IF($H$84=\"Christoph\",$AV$84,0)))))))","v":3},null,null,null,null,null,null,null,null,null,null,{"$f":"IF($H$78=\"Christoph\",$BG$78,IF($H$79=\"Christoph\",$BG$79,IF($H$80=\"Christoph\",$BG$80,IF($H$81=\"Christoph\",$BG$81,IF($H$82=\"Christoph\",$BG$82,IF($H$83=\"Christoph\",$BG$83,IF($H$84=\"Christoph\",$BG$84,0)))))))","v":12},null,null,null,null,":",null,{"$f":"IF($H$78=\"Christoph\",$BN$78,IF($H$79=\"Christoph\",$BN$79,IF($H$80=\"Christoph\",$BN$80,IF($H$81=\"Christoph\",$BN$81,IF($H$82=\"Christoph\",$BN$82,IF($H$83=\"Christoph\",$BN$83,IF($H$84=\"Christoph\",$BN$84,0)))))))","v":15},null,null,null,null,{"$f":"IF($H$78=\"Christoph\",$BS$78,IF($H$79=\"Christoph\",$BS$79,IF($H$80=\"Christoph\",$BS$80,IF($H$81=\"Christoph\",$BS$81,IF($H$82=\"Christoph\",$BS$82,IF($H$83=\"Christoph\",$BS$83,IF($H$84=\"Christoph\",$BS$84,0)))))))","v":-3},null,null,null,null,{"$f":"IF($H$78=\"Christoph\",$BX$78,IF($H$79=\"Christoph\",$BX$79,IF($H$80=\"Christoph\",$BX$80,IF($H$81=\"Christoph\",$BX$81,IF($H$82=\"Christoph\",$BX$82,IF($H$83=\"Christoph\",$BX$83,IF($H$84=\"Christoph\",$BX$84,0)))))))","v":7}]
[null,null,{"$f":"IF($H$78=\"Jule\",$F$78,IF($H$79=\"Jule\",$F$79,IF($H$80=\"Jule\",$F$80,IF($H$81=\"Jule\",$F$81,IF($H$82=\"Jule\",$F$82,IF($H$83=\"Jule\",$F$83,IF($H$84=\"Jule\",$F$84,0)))))))","v":5},null,null,null,null,"Jule",null,null,null,null,null,null,null,null,null,null,null,{"$f":"IF($H$78=\"Jule\",$T$78,IF($H$79=\"Jule\",$T$79,IF($H$80=\"Jule\",$T$80,IF($H$81=\"Jule\",$T$81,IF($H$82=\"Jule\",$T$82,IF($H$83=\"Jule\",$T$83,IF($H$84=\"Jule\",$T$84,0)))))))","v":8},null,null,null,null,null,{"$f":"IF($H$78=\"Jule\",$Z$78,IF($H$79=\"Jule\",$Z$79,IF($H$80=\"Jule\",$Z$80,IF($H$81=\"Jule\",$Z$81,IF($H$82=\"Jule\",$Z$82,IF($H$83=\"Jule\",$Z$83,IF($H$84=\"Jule\",$Z$84,0)))))))","v":1},null,null,null,null,null,null,null,null,null,null,{"$f":"IF($H$78=\"Jule\",$AK$78,IF($H$79=\"Jule\",$AK$79,IF($H$80=\"Jule\",$AK$80,IF($H$81=\"Jule\",$AK$81,IF($H$82=\"Jule\",$AK$82,IF($H$83=\"Jule\",$AK$83,IF($H$84=\"Jule\",$AK$84,0)))))))","v":3},null,null,null,null,null,null,null,null,null,null,{"$f":"IF($H$78=\"Jule\",$AV$78,IF($H$79=\"Jule\",$AV$79,IF($H$80=\"Jule\",$AV$80,IF($H$81=\"Jule\",$AV$81,IF($H$82=\"Jule\",$AV$82,IF($H$83=\"Jule\",$AV$83,IF($H$84=\"Jule\",$AV$84,0)))))))","v":4},null,null,null,null,null,null,null,null,null,null,{"$f":"IF($H$78=\"Jule\",$BG$78,IF($H$79=\"Jule\",$BG$79,IF($H$80=\"Jule\",$BG$80,IF($H$81=\"Jule\",$BG$81,IF($H$82=\"Jule\",$BG$82,IF($H$83=\"Jule\",$BG$83,IF($H$84=\"Jule\",$BG$84,0)))))))","v":17},null,null,null,null,":",null,{"$f":"IF($H$78=\"Jule\",$BN$78,IF($H$79=\"Jule\",$BN$79,IF($H$80=\"Jule\",$BN$80,IF($H$81=\"Jule\",$BN$81,IF($H$82=\"Jule\",$BN$82,IF($H$83=\"Jule\",$BN$83,IF($H$84=\"Jule\",$BN$84,0)))))))","v":21},null,null,null,null,{"$f":"IF($H$78=\"Jule\",$BS$78,IF($H$79=\"Jule\",$BS$79,IF($H$80=\"Jule\",$BS$80,IF($H$81=\"Jule\",$BS$81,IF($H$82=\"Jule\",$BS$82,IF($H$83=\"Jule\",$BS$83,IF($H$84=\"Jule\",$BS$84,0)))))))","v":-4},null,null,null,null,{"$f":"IF($H$78=\"Jule\",$BX$78,IF($H$79=\"Jule\",$BX$79,IF($H$80=\"Jule\",$BX$80,IF($H$81=\"Jule\",$BX$81,IF($H$82=\"Jule\",$BX$82,IF($H$83=\"Jule\",$BX$83,IF($H$84=\"Jule\",$BX$84,0)))))))","v":6}]
[null,null,{"$f":"IF($H$78=\"Markus\",$F$78,IF($H$79=\"Markus\",$F$79,IF($H$80=\"Markus\",$F$80,IF($H$81=\"Markus\",$F$81,IF($H$82=\"Markus\",$F$82,IF($H$83=\"Markus\",$F$83,IF($H$84=\"Markus\",$F$84,0)))))))","v":3},null,null,null,null,"Markus",null,null,null,null,null,null,null,null,null,null,null,{"$f":"IF($H$78=\"Markus\",$T$78,IF($H$79=\"Markus\",$T$79,IF($H$80=\"Markus\",$T$80,IF($H$81=\"Markus\",$T$81,IF($H$82=\"Markus\",$T$82,IF($H$83=\"Markus\",$T$83,IF($H$84=\"Markus\",$T$84,0)))))))","v":8},null,null,null,null,null,{"$f":"IF($H$78=\"Markus\",$Z$78,IF($H$79=\"Markus\",$Z$79,IF($H$80=\"Markus\",$Z$80,IF($H$81=\"Markus\",$Z$81,IF($H$82=\"Markus\",$Z$82,IF($H$83=\"Markus\",$Z$83,IF($H$84=\"Markus\",$Z$84,0)))))))","v":2},null,null,null,null,null,null,null,null,null,null,{"$f":"IF($H$78=\"Markus\",$AK$78,IF($H$79=\"Markus\",$AK$79,IF($H$80=\"Markus\",$AK$80,IF($H$81=\"Markus\",$AK$81,IF($H$82=\"Markus\",$AK$82,IF($H$83=\"Markus\",$AK$83,IF($H$84=\"Markus\",$AK$84,0)))))))","v":3},null,null,null,null,null,null,null,null,null,null,{"$f":"IF($H$78=\"Markus\",$AV$78,IF($H$79=\"Markus\",$AV$79,IF($H$80=\"Markus\",$AV$80,IF($H$81=\"Markus\",$AV$81,IF($H$82=\"Markus\",$AV$82,IF($H$83=\"Markus\",$AV$83,IF($H$84=\"Markus\",$AV$84,0)))))))","v":3},null,null,null,null,null,null,null,null,null,null,{"$f":"IF($H$78=\"Markus\",$BG$78,IF($H$79=\"Markus\",$BG$79,IF($H$80=\"Markus\",$BG$80,IF($H$81=\"Markus\",$BG$81,IF($H$82=\"Markus\",$BG$82,IF($H$83=\"Markus\",$BG$83,IF($H$84=\"Markus\",$BG$84,0)))))))","v":17},null,null,null,null,":",null,{"$f":"IF($H$78=\"Markus\",$BN$78,IF($H$79=\"Markus\",$BN$79,IF($H$80=\"Markus\",$BN$80,IF($H$81=\"Markus\",$BN$81,IF($H$82=\"Markus\",$BN$82,IF($H$83=\"Markus\",$BN$83,IF($H$84=\"Markus\",$BN$84,0)))))))","v":20},null,null,null,null,{"$f":"IF($H$78=\"Markus\",$BS$78,IF($H$79=\"Markus\",$BS$79,IF($H$80=\"Markus\",$BS$80,IF($H$81=\"Markus\",$BS$81,IF($H$82=\"Markus\",$BS$82,IF($H$83=\"Markus\",$BS$83,IF($H$84=\"Markus\",$BS$84,0)))))))","v":-3},null,null,null,null,{"$f":"IF($H$78=\"Markus\",$BX$78,IF($H$79=\"Markus\",$BX$79,IF($H$80=\"Markus\",$BX$80,IF($H$81=\"Markus\",$BX$81,IF($H$82=\"Markus\",$BX$82,IF($H$83=\"Markus\",$BX$83,IF($H$84=\"Markus\",$BX$84,0)))))))","v":9}]
[null,null,{"$f":"IF($H$78=\"Patrick\",$F$78,IF($H$79=\"Patrick\",$F$79,IF($H$80=\"Patrick\",$F$80,IF($H$81=\"Patrick\",$F$81,IF($H$82=\"Patrick\",$F$82,IF($H$83=\"Patrick\",$F$83,IF($H$84=\"Patrick\",$F$84,0)))))))","v":2},null,null,null,null,"Patrick",null,null,null,null,null,null,null,null,null,null,null,{"$f":"IF($H$78=\"Patrick\",$T$78,IF($H$79=\"Patrick\",$T$79,IF($H$80=\"Patrick\",$T$80,IF($H$81=\"Patrick\",$T$81,IF($H$82=\"Patrick\",$T$82,IF($H$83=\"Patrick\",$T$83,IF($H$84=\"Patrick\",$T$84,0)))))))","v":8},null,null,null,null,null,{"$f":"IF($H$78=\"Patrick\",$Z$78,IF($H$79=\"Patrick\",$Z$79,IF($H$80=\"Patrick\",$Z$80,IF($H$81=\"Patrick\",$Z$81,IF($H$82=\"Patrick\",$Z$82,IF($H$83=\"Patrick\",$Z$83,IF($H$84=\"Patrick\",$Z$84,0)))))))","v":3},null,null,null,null,null,null,null,null,null,null,{"$f":"IF($H$78=\"Patrick\",$AK$78,IF($H$79=\"Patrick\",$AK$79,IF($H$80=\"Patrick\",$AK$80,IF($H$81=\"Patrick\",$AK$81,IF($H$82=\"Patrick\",$AK$82,IF($H$83=\"Patrick\",$AK$83,IF($H$84=\"Patrick\",$AK$84,0)))))))","v":4},null,null,null,null,null,null,null,null,null,null,{"$f":"IF($H$78=\"Patrick\",$AV$78,IF($H$79=\"Patrick\",$AV$79,IF($H$80=\"Patrick\",$AV$80,IF($H$81=\"Patrick\",$AV$81,IF($H$82=\"Patrick\",$AV$82,IF($H$83=\"Patrick\",$AV$83,IF($H$84=\"Patrick\",$AV$84,0)))))))","v":1},null,null,null,null,null,null,null,null,null,null,{"$f":"IF($H$78=\"Patrick\",$BG$78,IF($H$79=\"Patrick\",$BG$79,IF($H$80=\"Patrick\",$BG$80,IF($H$81=\"Patrick\",$BG$81,IF($H$82=\"Patrick\",$BG$82,IF($H$83=\"Patrick\",$BG$83,IF($H$84=\"Patrick\",$BG$84,0)))))))","v":19},null,null,null,null,":",null,{"$f":"IF($H$78=\"Patrick\",$BN$78,IF($H$79=\"Patrick\",$BN$79,IF($H$80=\"Patrick\",$BN$80,IF($H$81=\"Patrick\",$BN$81,IF($H$82=\"Patrick\",$BN$82,IF($H$83=\"Patrick\",$BN$83,IF($H$84=\"Patrick\",$BN$84,0)))))))","v":17},null,null,null,null,{"$f":"IF($H$78=\"Patrick\",$BS$78,IF($H$79=\"Patrick\",$BS$79,IF($H$80=\"Patrick\",$BS$80,IF($H$81=\"Patrick\",$BS$81,IF($H$82=\"Patrick\",$BS$82,IF($H$83=\"Patrick\",$BS$83,IF($H$84=\"Patrick\",$BS$84,0)))))))","v":2},null,null,null,null,{"$f":"IF($H$78=\"Patrick\",$BX$78,IF($H$79=\"Patrick\",$BX$79,IF($H$80=\"Patrick\",$BX$80,IF($H$81=\"Patrick\",$BX$81,IF($H$82=\"Patrick\",$BX$82,IF($H$83=\"Patrick\",$BX$83,IF($H$84=\"Patrick\",$BX$84,0)))))))","v":13}]
[null,null,{"$f":"IF($H$78=\"Ratze\",$F$78,IF($H$79=\"Ratze\",$F$79,IF($H$80=\"Ratze\",$F$80,IF($H$81=\"Ratze\",$F$81,IF($H$82=\"Ratze\",$F$82,IF($H$83=\"Ratze\",$F$83,IF($H$84=\"Ratze\",$F$84,0)))))))","v":1},null,null,null,null,"Ratze",null,null,null,null,null,null,null,null,null,null,null,{"$f":"IF($H$78=\"Ratze\",$T$78,IF($H$79=\"Ratze\",$T$79,IF($H$80=\"Ratze\",$T$80,IF($H$81=\"Ratze\",$T$81,IF($H$82=\"Ratze\",$T$82,IF($H$83=\"Ratze\",$T$83,IF($H$84=\"Ratze\",$T$84,0)))))))","v":8},null,null,null,null,null,{"$f":"IF($H$78=\"Ratze\",$Z$78,IF($H$79=\"Ratze\",$Z$79,IF($H$80=\"Ratze\",$Z$80,IF($H$81=\"Ratze\",$Z$81,IF($H$82=\"Ratze\",$Z$82,IF($H$83=\"Ratze\",$Z$83,IF($H$84=\"Ratze\",$Z$84,0)))))))","v":5},null,null,null,null,null,null,null,null,null,null,{"$f":"IF($H$78=\"Ratze\",$AK$78,IF($H$79=\"Ratze\",$AK$79,IF($H$80=\"Ratze\",$AK$80,IF($H$81=\"Ratze\",$AK$81,IF($H$82=\"Ratze\",$AK$82,IF($H$83=\"Ratze\",$AK$83,IF($H$84=\"Ratze\",$AK$84,0)))))))","v":2},null,null,null,null,null,null,null,null,null,null,{"$f":"IF($H$78=\"Ratze\",$AV$78,IF($H$79=\"Ratze\",$AV$79,IF($H$80=\"Ratze\",$AV$80,IF($H$81=\"Ratze\",$AV$81,IF($H$82=\"Ratze\",$AV$82,IF($H$83=\"Ratze\",$AV$83,IF($H$84=\"Ratze\",$AV$84,0)))))))","v":1},null,null,null,null,null,null,null,null,null,null,{"$f":"IF($H$78=\"Ratze\",$BG$78,IF($H$79=\"Ratze\",$BG$79,IF($H$80=\"Ratze\",$BG$80,IF($H$81=\"Ratze\",$BG$81,IF($H$82=\"Ratze\",$BG$82,IF($H$83=\"Ratze\",$BG$83,IF($H$84=\"Ratze\",$BG$84,0)))))))","v":20},null,null,null,null,":",null,{"$f":"IF($H$78=\"Ratze\",$BN$78,IF($H$79=\"Ratze\",$BN$79,IF($H$80=\"Ratze\",$BN$80,IF($H$81=\"Ratze\",$BN$81,IF($H$82=\"Ratze\",$BN$82,IF($H$83=\"Ratze\",$BN$83,IF($H$84=\"Ratze\",$BN$84,0)))))))","v":12},null,null,null,null,{"$f":"IF($H$78=\"Ratze\",$BS$78,IF($H$79=\"Ratze\",$BS$79,IF($H$80=\"Ratze\",$BS$80,IF($H$81=\"Ratze\",$BS$81,IF($H$82=\"Ratze\",$BS$82,IF($H$83=\"Ratze\",$BS$83,IF($H$84=\"Ratze\",$BS$84,0)))))))","v":8},null,null,null,null,{"$f":"IF($H$78=\"Ratze\",$BX$78,IF($H$79=\"Ratze\",$BX$79,IF($H$80=\"Ratze\",$BX$80,IF($H$81=\"Ratze\",$BX$81,IF($H$82=\"Ratze\",$BX$82,IF($H$83=\"Ratze\",$BX$83,IF($H$84=\"Ratze\",$BX$84,0)))))))","v":17}]
[null,null,{"$f":"IF($H$78=\"Schmiddi\",$F$78,IF($H$79=\"Schmiddi\",$F$79,IF($H$80=\"Schmiddi\",$F$80,IF($H$81=\"Schmiddi\",$F$81,IF($H$82=\"Schmiddi\",$F$82,IF($H$83=\"Schmiddi\",$F$83,IF($H$84=\"Schmiddi\",$F$84,0)))))))","v":0},null,null,null,null,"Schmiddi",null,null,null,null,null,null,null,null,null,null,null,{"$f":"IF($H$78=\"Schmiddi\",$T$78,IF($H$79=\"Schmiddi\",$T$79,IF($H$80=\"Schmiddi\",$T$80,IF($H$81=\"Schmiddi\",$T$81,IF($H$82=\"Schmiddi\",$T$82,IF($H$83=\"Schmiddi\",$T$83,IF($H$84=\"Schmiddi\",$T$84,0)))))))","v":0},null,null,null,null,null,{"$f":"IF($H$78=\"Schmiddi\",$Z$78,IF($H$79=\"Schmiddi\",$Z$79,IF($H$80=\"Schmiddi\",$Z$80,IF($H$81=\"Schmiddi\",$Z$81,IF($H$82=\"Schmiddi\",$Z$82,IF($H$83=\"Schmiddi\",$Z$83,IF($H$84=\"Schmiddi\",$Z$84,0)))))))","v":0},null,null,null,null,null,null,null,null,null,null,{"$f":"IF($H$78=\"Schmiddi\",$AK$78,IF($H$79=\"Schmiddi\",$AK$79,IF($H$80=\"Schmiddi\",$AK$80,IF($H$81=\"Schmiddi\",$AK$81,IF($H$82=\"Schmiddi\",$AK$82,IF($H$83=\"Schmiddi\",$AK$83,IF($H$84=\"Schmiddi\",$AK$84,0)))))))","v":0},null,null,null,null,null,null,null,null,null,null,{"$f":"IF($H$78=\"Schmiddi\",$AV$78,IF($H$79=\"Schmiddi\",$AV$79,IF($H$80=\"Schmiddi\",$AV$80,IF($H$81=\"Schmiddi\",$AV$81,IF($H$82=\"Schmiddi\",$AV$82,IF($H$83=\"Schmiddi\",$AV$83,IF($H$84=\"Schmiddi\",$AV$84,0)))))))","v":0},null,null,null,null,null,null,null,null,null,null,{"$f":"IF($H$78=\"Schmiddi\",$BG$78,IF($H$79=\"Schmiddi\",$BG$79,IF($H$80=\"Schmiddi\",$BG$80,IF($H$81=\"Schmiddi\",$BG$81,IF($H$82=\"Schmiddi\",$BG$82,IF($H$83=\"Schmiddi\",$BG$83,IF($H$84=\"Schmiddi\",$BG$84,0)))))))","v":0},null,null,null,null,":",null,{"$f":"IF($H$78=\"Schmiddi\",$BN$78,IF($H$79=\"Schmiddi\",$BN$79,IF($H$80=\"Schmiddi\",$BN$80,IF($H$81=\"Schmiddi\",$BN$81,IF($H$82=\"Schmiddi\",$BN$82,IF($H$83=\"Schmiddi\",$BN$83,IF($H$84=\"Schmiddi\",$BN$84,0)))))))","v":0},null,null,null,null,{"$f":"IF($H$78=\"Schmiddi\",$BS$78,IF($H$79=\"Schmiddi\",$BS$79,IF($H$80=\"Schmiddi\",$BS$80,IF($H$81=\"Schmiddi\",$BS$81,IF($H$82=\"Schmiddi\",$BS$82,IF($H$83=\"Schmiddi\",$BS$83,IF($H$84=\"Schmiddi\",$BS$84,0)))))))","v":0},null,null,null,null,{"$f":"IF($H$78=\"Schmiddi\",$BX$78,IF($H$79=\"Schmiddi\",$BX$79,IF($H$80=\"Schmiddi\",$BX$80,IF($H$81=\"Schmiddi\",$BX$81,IF($H$82=\"Schmiddi\",$BX$82,IF($H$83=\"Schmiddi\",$BX$83,IF($H$84=\"Schmiddi\",$BX$84,0)))))))","v":0}]

{"sheet":"15.4.","index":18,"n_rows":97,"n_cols":88,"rows_kept":97,"cut":false,"hidden":false,"merged":[[97,1,97,82],[98,0,98,83],[96,47,96,57],[96,58,96,62],[96,63,96,64],[96,65,96,69],[96,70,96,74],[96,75,96,81],[95,58,95,62],[95,63,95,64],[95,65,95,69],[95,70,95,74],[95,75,95,81],[96,2,96,6],[96,7,96,18],[96,19,96,24],[96,25,96,35],[96,36,96,46],[95,2,95,6],[95,7,95,18],[95,19,95,24],[95,25,95,35],[95,36,95,46],[95,47,95,57],[94,47,94,57],[94,58,94,62],[94,63,94,64],[94,65,94,69],[94,70,94,74],[94,75,94,81],[93,58,93,62],[93,63,93,64],[93,65,93,69],[93,70,93,74],[93,75,93,81],[93,47,93,57],[94,2,94,6],[94,7,94,18],[94,19,94,24],[94,25,94,35],[94,36,94,46],[93,2,93,6],[93,7,93,18],[93,19,93,24],[93,25,93,35],[93,36,93,46],[92,36,92,46],[90,63,90,64],[90,65,90,69],[90,70,90,74],[90,75,90,81],[91,2,91,6],[91,7,91,18],[91,19,91,24],[91,25,91,35],[91,36,91,46],[91,47,91,57],[92,47,92,57],[92,58,92,62],[92,63,92,64],[92,65,92,69],[92,70,92,74],[92,75,92,81],[91,58,91,62],[91,63,91,64],[91,65,91,69],[91,70,91,74],[91,75,91,81],[87,1,96,1],[87,2,87,81],[87,82,96,82],[88,2,88,81],[89,2,89,6],[89,7,89,18],[89,19,89,24],[89,25,89,35],[89,36,89,46],[89,47,89,57],[89,58,89,69],[89,70,89,74],[89,75,89,81],[90,2,90,6],[90,7,90,18],[90,19,90,24],[90,25,90,35],[90,36,90,46],[90,47,90,57],[90,58,90,62],[92,2,92,6],[92,7,92,18],[92,19,92,24],[92,25,92,35],[84,1,84,82],[85,1,85,82],[86,1,86,82],[82,75,82,81],[83,2,83,4],[83,5,83,6],[83,7,83,18],[83,19,83,24],[83,25,83,35],[83,36,83,46],[83,47,83,57],[83,58,83,62],[83,63,83,64],[82,36,82,46],[82,47,82,57],[82,58,82,62],[82,63,82,64],[82,65,82,69],[82,70,82,74],[81,65,81,69],[81,70,81,74],[81,75,81,81],[82,2,82,4],[82,5,82,6],[82,7,82,18],[82,19,82,24],[82,25,82,35],[83,65,83,69],[83,70,83,74],[83,75,83,81],[81,2,81,4],[81,5,81,6],[81,7,81,18],[81,19,81,24],[81,25,81,35],[81,36,81,46],[81,47,81,57],[81,58,81,62],[81,63,81,64],[79,2,79,4],[79,5,79,6],[79,7,79,18],[79,19,79,24],[79,25,79,35],[79,75,79,81],[80,2,80,4],[80,5,80,6],[80,7,80,18],[80,19,80,24],[80,25,80,35],[80,36,80,46],[80,47,80,57],[80,58,80,62],[80,63,80,64],[79,36,79,46],[79,47,79,57],[79,58,79,62],[79,63,79,64],[79,65,79,69],[79,70,79,74],[80,65,80,69],[80,70,80,74],[80,75,80,81],[76,70,76,74],[77,65,77,69],[77,70,77,74],[77,75,77,81],[78,2,78,4],[78,5,78,6],[78,7,78,18],[78,19,78,24],[78,25,78,35],[78,36,78,46],[78,47,78,57],[78,58,78,62],[78,63,78,64],[78,65,78,69],[78,70,78,74],[78,75,78,81],[71,1,71,82],[72,1,72,82],[73,1,73,82],[74,1,82,1],[74,2,74,81],[74,82,82,82],[75,2,75,81],[76,2,76,6],[76,7,76,18],[76,75,76,81],[77,2,77,4],[77,5,77,6],[77,7,77,18],[77,19,77,24],[77,25,77,35],[77,36,77,46],[77,47,77,57],[77,58,77,62],[77,63,77,64],[76,19,76,24],[76,25,76,35],[76,36,76,46],[76,47,76,57],[76,58,76,69],[69,70,69,74],[69,75,69,78],[69,79,69,81],[70,2,70,6],[70,7,70,18],[70,19,70,24],[70,25,70,35],[70,36,70,46],[70,79,70,81],[70,47,70,57],[70,58,70,62],[70,63,70,64],[70,65,70,69],[70,70,70,74],[70,75,70,78],[69,2,69,6],[69,7,69,18],[69,19,69,24],[69,25,69,35],[69,36,69,46],[69,47,69,57],[69,58,69,62],[69,63,69,64],[69,65,69,69],[67,2,67,6],[67,7,67,18],[67,19,67,24],[67,25,67,35],[67,36,67,46],[67,79,67,81],[68,2,68,6],[68,7,68,18],[68,19,68,24],[68,25,68,35],[68,36,68,46],[68,47,68,57],[68,58,68,62],[68,63,68,64],[68,65,68,69],[67,47,67,57],[67,58,67,62],[67,63,67,64],[67,65,67,69],[67,70,67,74],[67,75,67,78],[68,70,68,74],[68,75,68,78],[68,79,68,81],[66,70,66,74],[66,75,66,78],[66,79,66,81],[65,25,65,35],[65,36,65,46],[65,47,65,57],[65,58,65,62],[65,63,65,64],[65,65,65,69],[66,2,66,6],[66,7,66,18],[66,19,66,24],[66,25,66,35],[66,36,66,46],[66,47,66,57],[66,58,66,62],[66,63,66,64],[66,65,66,69],[64,2,64,6],[64,7,64,18],[64,19,64,24],[64,25,64,35],[64,36,64,46],[64,79,64,81],[64,70,64,74],[64,75,64,78],[65,70,65,74],[65,75,65,78],[65,79,65,81],[64,47,64,57],[65,2,65,6],[65,7,65,18],[65,19,65,24],[64,58,64,62],[64,63,64,64],[64,65,64,69],[63,7,63,18],[63,19,63,24],[63,25,63,35],[63,36,63,46],[63,47,63,57],[63,58,63,69],[63,70,63,74],[63,75,63,78],[63,79,63,81],[46,1,46,82],[59,1,59,82],[44,53,44,67],[44,69,44,73],[44,74,44,76],[44,77,44,81],[45,7,45,10],[45,12,45,16],[45,18,45,22],[45,24,45,33],[45,35,45,49],[45,50,45,52],[60,1,60,82],[61,1,69,1],[61,2,61,81],[61,82,69,82],[62,2,62,81],[63,2,63,6],[43,77,43,81],[44,7,44,10],[44,12,44,16],[44,18,44,22],[44,24,44,33],[44,35,44,49],[44,50,44,52],[45,53,45,67],[45,69,45,73],[45,74,45,76],[45,77,45,81],[43,7,43,10],[43,12,43,16],[43,18,43,22],[43,24,43,33],[43,35,43,49],[43,50,43,52],[43,53,43,67],[43,74,43,76],[41,77,41,81],[42,7,42,10],[42,12,42,16],[42,18,42,22],[42,24,42,33],[42,35,42,49],[42,50,42,52],[42,53,42,67],[42,69,42,73],[42,74,42,76],[42,77,42,81],[41,7,41,10],[41,12,41,16],[41,18,41,22],[41,24,41,33],[41,35,41,49],[41,50,41,52],[41,53,41,67],[41,69,41,73],[41,74,41,76],[39,77,39,81],[40,7,40,10],[40,12,40,16],[40,18,40,22],[40,24,40,33],[40,35,40,49],[40,50,40,52],[40,53,40,67],[40,69,40,73],[40,74,40,76],[40,77,40,81],[39,7,39,10],[39,12,39,16],[39,18,39,22],[39,24,39,33],[39,35,39,49],[39,50,39,52],[39,53,39,67],[39,69,39,73],[39,74,39,76],[37,77,37,81],[38,7,38,10],[38,12,38,16],[38,18,38,22],[38,24,38,33],[38,35,38,49],[38,50,38,52],[38,53,38,67],[38,69,38,73],[38,74,38,76],[38,77,38,81],[37,7,37,10],[37,12,37,16],[37,18,37,22],[37,24,37,33],[37,35,37,49],[37,50,37,52],[37,53,37,67],[37,69,37,73],[37,74,37,76],[35,77,35,81],[36,7,36,10],[36,12,36,16],[36,18,36,22],[36,24,36,33],[36,35,36,49],[36,50,36,52],[36,53,36,67],[36,69,36,73],[36,74,36,76],[36,77,36,81],[35,7,35,10],[35,12,35,16],[35,18,35,22],[35,24,35,33],[35,35,35,49],[35,50,35,52],[35,53,35,67],[35,69,35,73],[35,74,35,76],[33,74,33,76],[33,77,33,81],[34,7,34,10],[34,12,34,16],[34,18,34,22],[34,24,34,33],[34,35,34,49],[34,50,34,52],[33,7,33,10],[33,12,33,16],[33,18,33,22],[33,24,33,33],[33,35,33,49],[33,50,33,52],[34,53,34,67],[34,69,34,73],[34,74,34,76],[34,77,34,81],[32,18,32,22],[32,24,32,33],[32,35,32,49],[32,50,32,52],[31,50,31,52],[31,53,31,67],[31,68,45,68],[33,53,33,67],[33,69,33,73],[43,69,43,73],[29,77,29,81],[30,2,30,81],[31,2,45,5],[31,6,45,6],[31,7,31,10],[31,11,45,11],[31,12,31,16],[15,2,29,5],[15,6,29,6],[31,69,31,73],[31,74,31,76],[31,77,31,81],[32,53,32,67],[32,69,32,73],[32,74,32,76],[32,77,32,81],[31,17,45,17],[31,18,31,22],[31,23,45,23],[31,24,31,33],[31,34,45,34],[31,35,31,49],[32,7,32,10],[32,12,32,16],[29,7,29,10],[29,12,29,16],[29,18,29,22],[29,24,29,33],[29,35,29,49],[29,50,29,52],[29,53,29,67],[29,69,29,73],[29,74,29,76],[27,77,27,81],[28,7,28,10],[28,12,28,16],[28,18,28,22],[28,24,28,33],[28,35,28,49],[28,50,28,52],[28,53,28,67],[28,69,28,73],[28,74,28,76],[28,77,28,81],[27,7,27,10],[27,12,27,16],[27,18,27,22],[27,24,27,33],[27,35,27,49],[27,50,27,52],[27,53,27,67],[27,69,27,73],[27,74,27,76],[25,77,25,81],[26,7,26,10],[26,12,26,16],[26,18,26,22],[26,24,26,33],[26,35,26,49],[26,50,26,52],[26,53,26,67],[26,69,26,73],[26,74,26,76],[26,77,26,81],[25,7,25,10],[25,12,25,16],[25,18,25,22],[25,24,25,33],[25,35,25,49],[25,50,25,52],[25,53,25,67],[25,69,25,73],[25,74,25,76],[23,77,23,81],[24,7,24,10],[24,12,24,16],[24,18,24,22],[24,24,24,33],[24,35,24,49],[24,50,24,52],[24,53,24,67],[24,69,24,73],[24,74,24,76],[24,77,24,81],[23,7,23,10],[23,12,23,16],[23,18,23,22],[23,24,23,33],[23,35,23,49],[23,50,23,52],[23,53,23,67],[23,69,23,73],[23,74,23,76],[22,12,22,16],[22,18,22,22],[22,24,22,33],[22,35,22,49],[22,50,22,52],[22,53,22,67],[22,69,22,73],[22,74,22,76],[22,77,22,81],[20,53,20,67],[20,69,20,73],[20,74,20,76],[20,77,20,81],[21,7,21,10],[21,12,21,16],[21,18,21,22],[21,24,21,33],[21,35,21,49],[21,50,21,52],[21,53,21,67],[21,69,21,73],[21,74,21,76],[21,77,21,81],[18,53,18,67],[18,69,18,73],[18,74,18,76],[18,77,18,81],[19,7,19,10],[19,12,19,16],[19,18,19,22],[19,24,19,33],[19,35,19,49],[19,50,19,52],[19,53,19,67],[19,69,19,73],[19,74,19,76],[19,77,19,81],[16,53,16,67],[16,69,16,73],[16,74,16,76],[16,77,16,81],[17,7,17,10],[17,12,17,16],[17,18,17,22],[17,24,17,33],[17,35,17,49],[17,50,17,52],[17,53,17,67],[17,69,17,73],[17,74,17,76],[17,77,17,81],[15,18,15,22],[15,23,29,23],[15,24,15,33],[15,34,29,34],[15,35,15,49],[15,50,15,52],[16,50,16,52],[15,7,15,10],[15,11,29,11],[15,12,15,16],[15,17,29,17],[18,7,18,10],[18,12,18,16],[18,18,18,22],[18,24,18,33],[18,35,18,49],[18,50,18,52],[20,7,20,10],[20,12,20,16],[20,18,20,22],[20,24,20,33],[20,35,20,49],[20,50,20,52],[22,7,22,10],[9,1,9,82],[10,1,10,82],[11,1,45,1],[11,2,11,81],[11,82,45,82],[12,2,12,81],[13,2,13,5],[13,7,13,10],[7,2,7,15],[7,16,7,26],[7,27,7,37],[7,38,7,48],[7,49,7,59],[7,60,7,70],[15,53,15,67],[15,68,29,68],[15,69,15,73],[15,74,15,76],[15,77,15,81],[16,7,16,10],[16,12,16,16],[16,18,16,22],[16,24,16,33],[16,35,16,49],[6,16,6,26],[6,27,6,37],[6,38,6,48],[6,49,6,59],[6,60,6,70],[6,71,6,81],[0,0,0,83],[1,1,1,82],[1,83,84,83],[2,1,2,82],[3,1,3,82],[4,1,7,1],[4,2,4,81],[4,82,7,82],[5,2,5,81],[6,2,6,15],[13,12,13,16],[13,18,13,22],[13,24,13,33],[13,35,13,67],[13,69,13,81],[14,2,14,81],[7,71,7,81],[8,1,8,82]]}
[]
[null,{"$f":"\"Turnier am \" & MID(CELL(\"dateiname\",A1),SEARCH(\"]\",CELL(\"dateiname\",A1))+1,31)","v":"Turnier am 15.4."}]
[]
[]
[null,null,"Spielerliste"]
[]
[null,null,{"$f":"\" Spieler\"","v":" Spieler"},null,null,null,null,null,null,null,null,null,null,null,null,null,"Spieler 1",null,null,null,null,null,null,null,null,null,null,"Spieler 2",null,null,null,null,null,null,null,null,null,null,"Spieler 3",null,null,null,null,null,null,null,null,null,null,"Spieler 4",null,null,null,null,null,null,null,null,null,null,"Spieler 5",null,null,null,null,null,null,null,null,null,null,"Spieler 6"]
[null,null,{"$f":"\" Name\"","v":" Name"},null,null,null,null,null,null,null,null,null,null,null,null,null,"Ratze",null,null,null,null,null,null,null,null,null,null,"Christoph",null,null,null,null,null,null,null,null,null,null,"Jule",null,null,null,null,null,null,null,null,null,null,"Markus",null,null,null,null,null,null,null,null,null,null,"Patrick",null,null,null,null,null,null,null,null,null,null,"Schmiddi"]
[]
[]
[]
[null,null,"Spielplan"]
[]
[null,null,"00:12:00",null,null,null,null,"Spiel",null,null,null,null,"Datum",null,null,null,null,null,"Uhrzeit",null,null,null,null,null,"Austragungsort",null,null,null,null,null,null,null,null,null,null,"Paarung",null,null,null,null,null,null,null,null,null,null,null,null,null,null,null,null,null,null,null,null,null,null,null,null,null,null,null,null,null,null,null,null,null,"Ergebnis",null,null,null,null,null,null,null,null,null,null,null,null,null,null,"Spiele","SiegHeim","Unentschieden","SiegGast"]
[]
[null,null,"Hinrunde",null,null,null,null,1,null,null,null,null,{"$f":"MID(CELL(\"dateiname\",A1),SEARCH(\"]\",CELL(\"dateiname\",A1))+1,31)","v":"15.4."},null,null,null,null,null,"21:00:00",null,null,null,null,null,"Fernseher",null,null,null,null,null,null,null,null,null,null,{"$f":"$Q$8","v":"Ratze"},null,null,null,null,null,null,null,null,null,null,null,null,null,null,":",null,null,{"$f":"$AB$8","v":"Christoph"},null,null,null,null,null,null,null,null,null,null,null,null,null,null,null,3,null,null,null,null,":",null,null,1,null,null,null,null,null,null,{"$f":"IF(AND(ISNUMBER(BR16),ISNUMBER(BZ16)),1,0)","v":1},{"$f":"IF(OR(ISBLANK(BR16),ISBLANK(BZ16)),0,IF(BR16>BZ16,1,0))","v":1},{"$f":"IF(OR(ISBLANK(BR16),ISBLANK(BZ16)),0,IF(BR16=BZ16,1,0))","v":0},{"$f":"IF(OR(ISBLANK(BR16),ISBLANK(BZ16)),0,IF(BR16<BZ16,1,0))","v":0}]
[null,null,null,null,null,null,null,{"$f":"H16+1","v":2},null,null,null,null,{"$f":"$M$16","v":"15.4."},null,null,null,null,null,{"$f":"S16","v":"21:00:00"},null,null,null,null,null,{"$f":"$Y$16","v":"Fernseher"},null,null,null,null,null,null,null,null,null,null,{"$f":"$AM$8","v":"Jule"},null,null,null,null,null,null,null,null,null,null,null,null,null,null,":",null,null,{"$f":"$AX$8","v":"Markus"},null,null,null,null,null,null,null,null,null,null,null,null,null,null,null,2,null,null,null,null,":",null,null,2,null,null,null,null,null,null,{"$f":"IF(AND(ISNUMBER(BR17),ISNUMBER(BZ17)),1,0)","v":1},{"$f":"IF(OR(ISBLANK(BR17),ISBLANK(BZ17)),0,IF(BR17>BZ17,1,0))","v":0},{"$f":"IF(OR(ISBLANK(BR17),ISBLANK(BZ17)),0,IF(BR17=BZ17,1,0))","v":1},{"$f":"IF(OR(ISBLANK(BR17),ISBLANK(BZ17)),0,IF(BR17<BZ17,1,0))","v":0}]
[null,null,null,null,null,null,null,{"$f":"H17+1","v":3},null,null,null,null,{"$f":"$M$16","v":"15.4."},null,null,null,null,null,{"$f":"S16","v":"21:00:00"},null,null,null,null,null,{"$f":"$Y$16","v":"Fernseher"},null,null,null,null,null,null,null,null,null,null,{"$f":"$BI$8","v":"Patrick"},null,null,null,null,null,null,null,null,null,null,null,null,null,null,":",null,null,{"$f":"$BT$8","v":"Schmiddi"},null,null,null,null,null,null,null,null,null,null,null,null,null,null,null,1,null,null,null,null,":",null,null,1,null,null,null,null,null,null,1,0,1,0]
[null,null,null,null,null,null,null,{"$f":"H18+1","v":4},null,null,null,null,"15.4.",null,null,null,null,null,{"$f":"S16+$C$14","v":"21:12:00"},null,null,null,null,null,"Fernseher",null,null,null,null,null,null,null,null,null,null,{"$f":"$Q$8","v":"Ratze"},null,null,null,null,null,null,null,null,null,null,null,null,null,null,":",null,null,{"$f":"$AM$8","v":"Jule"},null,null,null,null,null,null,null,null,null,null,null,null,null,null,null,2,null,null,null,null,":",null,null,0,null,null,null,null,null,null,1,1,0,0]
[null,null,null,null,null,null,null,5,null,null,null,null,"15.4.",null,null,null,null,null,{"$f":"S17+$C$14","v":"21:12:00"},null,null,null,null,null,"Fernseher",null,null,null,null,null,null,null,null,null,null,{"$f":"$AB$8","v":"Christoph"},null,null,null,null,null,null,null,null,null,null,null,null,null,null,":",null,null,{"$f":"$BI$8","v":"Patrick"},null,null,null,null,null,null,null,null,null,null,null,null,null,null,null,2,null,null,null,null,":",null,null,2,null,null,null,null,null,null,1,0,1,0]
[null,null,null,null,null,null,null,6,null,null,null,null,"15.4.",null,null,null,null,null,{"$f":"S18+$C$14","v":"21:12:00"},null,null,null,null,null,"Fernseher",null,null,null,null,null,null,null,null,null,null,{"$f":"$AX$8","v":"Markus"},null,null,null,null,null,null,null,null,null,null,null,null,null,null,":",null,null,{"$f":"$BT$8","v":"Schmiddi"},null,null,null,null,null,null,null,null,null,null,null,null,null,null,null,2,null,null,null,null,":",null,null,0,null,null,null,null,null,null,1,1,0,0]
[null,null,null,null,null,null,null,{"$f":"H21+1","v":7},null,null,null,null,"15.4.",null,null,null,null,null,{"$f":"S19+$C$14","v":"21:24:00"},null,null,null,null,null,"Fernseher",null,null,null,null,null,null,null,null,null,null,{"$f":"$BI$8","v":"Patrick"},null,null,null,null,null,null,null,null,null,null,null,null,null,null,":",null,null,{"$f":"$Q$8","v":"Ratze"},null,null,null,null,null,null,null,null,null,null,null,null,null,null,null,0,null,null,null,null,":",null,null,6,null,null,null,null,null,null,1,0,0,1]
[null,null,null,null,null,null,null,8,null,null,null,null,"15.4.",null,null,null,null,null,{"$f":"S20+$C$14","v":"21:24:00"},null,null,null,null,null,"Fernseher",null,null,null,null,null,null,null,null,null,null,{"$f":"$AB$8","v":"Christoph"},null,null,null,null,null,null,null,null,null,null,null,null,null,null,":",null,null,{"$f":"$AX$8","v":"Markus"},null,null,null,null,null,null,null,null,null,null,null,null,null,null,null,0,null,null,null,null,":",null,null,5,null,null,null,null,null,null,1,0,0,1]
[null,null,null,null,null,null,null,9,null,null,null,null,"15.4.",null,null,null,null,null,"21:24:00",null,null,null,null,null,"Fernseher",null,null,null,null,null,null,null,null,null,null,{"$f":"$BT$8","v":"Schmiddi"},null,null,null,null,null,null,null,null,null,null,null,null,null,null,":",null,null,{"$f":"$AM$8","v":"Jule"},null,null,null,null,null,null,null,null,null,null,null,null,null,null,null,1,null,null,null,null,":",null,null,4,null,null,null,null,null,null,1,0,0,1]
[null,null,null,null,null,null,null,{"$f":"H24+1","v":10},null,null,null,null,"15.4.",null,null,null,null,null,{"$f":"S22+$C$14","v":"21:36:00"},null,null,null,null,null,"Fernseher",null,null,null,null,null,null,null,null,null,null,{"$f":"$Q$8","v":"Ratze"},null,null,null,null,null,null,null,null,null,null,null,null,null,null,":",null,null,{"$f":"$AX$8","v":"Markus"},null,null,null,null,null,null,null,null,null,null,null,null,null,null,null,2,null,null,null,null,":",null,null,2,null,null,null,null,null,null,1,0,1,0]
[null,null,null,null,null,null,null,11,null,null,null,null,"15.4.",null,null,null,null,null,"21:36:00",null,null,null,null,null,"Fernseher",null,null,null,null,null,null,null,null,null,null,{"$f":"$BT$8","v":"Schmiddi"},null,null,null,null,null,null,null,null,null,null,null,null,null,null,":",null,null,{"$f":"$AB$8","v":"Christoph"},null,null,null,null,null,null,null,null,null,null,null,null,null,null,null,2,null,null,null,null,":",null,null,1,null,null,null,null,null,null,1,1,0,0]
[null,null,null,null,null,null,null,{"$f":"H26+1","v":12},null,null,null,null,"15.4.",null,null,null,null,null,{"$f":"S24+$C$14","v":"21:36:00"},null,null,null,null,null,"Fernseher",null,null,null,null,null,null,null,null,null,null,{"$f":"$AM$8","v":"Jule"},null,null,null,null,null,null,null,null,null,null,null,null,null,null,":",null,null,{"$f":"$BI$8","v":"Patrick"},null,null,null,null,null,null,null,null,null,null,null,null,null,null,null,2,null,null,null,null,":",null,null,2,null,null,null,null,null,null,1,0,1,0]
[null,null,null,null,null,null,null,13,null,null,null,null,"15.4.",null,null,null,null,null,"21:48:00",null,null,null,null,null,"Fernseher",null,null,null,null,null,null,null,null,null,null,{"$f":"$BT$8","v":"Schmiddi"},null,null,null,null,null,null,null,null,null,null,null,null,null,null,":",null,null,{"$f":"$Q$8","v":"Ratze"},null,null,null,null,null,null,null,null,null,null,null,null,null,null,null,2,null,null,null,null,":",null,null,3,null,null,null,null,null,null,1,0,0,1]
[null,null,null,null,null,null,null,{"$f":"H28+1","v":14},null,null,null,null,"15.4.",null,null,null,null,null,{"$f":"S26+$C$14","v":"21:48:00"},null,null,null,null,null,"Fernseher",null,null,null,null,null,null,null,null,null,null,{"$f":"$AB$8","v":"Christoph"},null,null,null,null,null,null,null,null,null,null,null,null,null,null,":",null,null,{"$f":"$AM$8","v":"Jule"},null,null,null,null,null,null,null,null,null,null,null,null,null,null,null,1,null,null,null,null,":",null,null,2,null,null,null,null,null,null,1,0,0,1]
[null,null,null,null,null,null,null,15,null,null,null,null,"15.4.",null,null,null,null,null,{"$f":"S27+$C$14","v":"21:48:00"},null,null,null,null,null,"Fernseher",null,null,null,null,null,null,null,null,null,null,{"$f":"$AX$8","v":"Markus"},null,null,null,null,null,null,null,null,null,null,null,null,null,null,":",null,null,{"$f":"$BI$8","v":"Patrick"},null,null,null,null,null,null,null,null,null,null,null,null,null,null,null,1,null,null,null,null,":",null,null,2,null,null,null,null,null,null,1,0,0,1]
[]
[null,null,"Rückrunde",null,null,null,null,{"$f":"H30+1","v":16},null,null,null,null,{"$f":"$M$16","v":"15.4."},null,null,null,null,null,{"$f":"S30+$C$14","v":"22:00:00"},null,null,null,null,null,{"$f":"$Y$16","v":"Fernseher"},null,null,null,null,null,null,null,null,null,null,{"$f":"$AB$8","v":"Christoph"},null,null,null,null,null,null,null,null,null,null,null,null,null,null,":",null,null,{"$f":"$Q$8","v":"Ratze"},null,null,null,null,null,null,null,null,null,null,null,null,null,null,null,1,null,null,null,null,":",null,null,1,null,null,null,null,null,null,{"$f":"IF(AND(ISNUMBER(BR32),ISNUMBER(BZ32)),1,0)","v":1},{"$f":"IF(OR(ISBLANK(BR32),ISBLANK(BZ32)),0,IF(BR32>BZ32,1,0))","v":0},{"$f":"IF(OR(ISBLANK(BR32),ISBLANK(BZ32)),0,IF(BR32=BZ32,1,0))","v":1},{"$f":"IF(OR(ISBLANK(BR32),ISBLANK(BZ32)),0,IF(BR32<BZ32,1,0))","v":0}]
[null,null,null,null,null,null,null,{"$f":"H32+1","v":17},null,null,null,null,"15.4.",null,null,null,null,null,{"$f":"S30+$C$14","v":"22:00:00"},null,null,null,null,null,"Fernseher",null,null,null,null,null,null,null,null,null,null,{"$f":"$AX$8","v":"Markus"},null,null,null,null,null,null,null,null,null,null,null,null,null,null,":",null,null,{"$f":"$AM$8","v":"Jule"},null,null,null,null,null,null,null,null,null,null,null,null,null,null,null,5,null,null,null,null,":",null,null,5,null,null,null,null,null,null,1,0,1,0]
[null,null,null,null,null,null,null,{"$f":"H33+1","v":18},null,null,null,null,"15.4.",null,null,null,null,null,{"$f":"S30+$C$14","v":"22:00:00"},null,null,null,null,null,"Fernseher",null,null,null,null,null,null,null,null,null,null,{"$f":"$BT$8","v":"Schmiddi"},null,null,null,null,null,null,null,null,null,null,null,null,null,null,":",null,null,{"$f":"$BI$8","v":"Patrick"},null,null,null,null,null,null,null,null,null,null,null,null,null,null,null,2,null,null,null,null,":",null,null,3,null,null,null,null,null,null,1,0,0,1]
[null,null,null,null,null,null,null,{"$f":"H34+1","v":19},null,null,null,null,"15.4.",null,null,null,null,null,{"$f":"S32+$C$14","v":"22:12:00"},null,null,null,null,null,"Fernseher",null,null,null,null,null,null,null,null,null,null,{"$f":"$AM$8","v":"Jule"},null,null,null,null,null,null,null,null,null,null,null,null,null,null,":",null,null,{"$f":"$Q$8","v":"Ratze"},null,null,null,null,null,null,null,null,null,null,null,null,null,null,null,1,null,null,null,null,":",null,null,2,null,null,null,null,null,null,1,0,0,1]
[null,null,null,null,null,null,null,20,null,null,null,null,"15.4.",null,null,null,null,null,{"$f":"S33+$C$14","v":"22:12:00"},null,null,null,null,null,"Fernseher",null,null,null,null,null,null,null,null,null,null,{"$f":"$BI$8","v":"Patrick"},null,null,null,null,null,null,null,null,null,null,null,null,null,null,":",null,null,{"$f":"$AB$8","v":"Christoph"},null,null,null,null,null,null,null,null,null,null,null,null,null,null,null,1,null,null,null,null,":",null,null,3,null,null,null,null,null,null,1,0,0,1]
[null,null,null,null,null,null,null,21,null,null,null,null,"15.4.",null,null,null,null,null,{"$f":"S34+$C$14","v":"22:12:00"},null,null,null,null,null,"Fernseher",null,null,null,null,null,null,null,null,null,null,{"$f":"$BT$8","v":"Schmiddi"},null,null,null,null,null,null,null,null,null,null,null,null,null,null,":",null,null,{"$f":"$AX$8","v":"Markus"},null,null,null,null,null,null,null,null,null,null,null,null,null,null,null,2,null,null,null,null,":",null,null,3,null,null,null,null,null,null,1,0,0,1]
[null,null,null,null,null,null,null,{"$f":"H37+1","v":22},null,null,null,null,"15.4.",null,null,null,null,null,{"$f":"S35+$C$14","v":"22:24:00"},null,null,null,null,null,"Fernseher",null,null,null,null,null,null,null,null,null,null,{"$f":"$Q$8","v":"Ratze"},null,null,null,null,null,null,null,null,null,null,null,null,null,null,":",null,null,{"$f":"$BI$8","v":"Patrick"},null,null,null,null,null,null,null,null,null,null,null,null,null,null,null,3,null,null,null,null,":",null,null,1,null,null,null,null,null,null,1,1,0,0]
[null,null,null,null,null,null,null,23,null,null,null,null,"15.4.",null,null,null,null,null,{"$f":"S36+$C$14","v":"22:24:00"},null,null,null,null,null,"Fernseher",null,null,null,null,null,null,null,null,null,null,{"$f":"$AX$8","v":"Markus"},null,null,null,null,null,null,null,null,null,null,null,null,null,null,":",null,null,{"$f":"$AB$8","v":"Christoph"},null,null,null,null,null,null,null,null,null,null,null,null,null,null,null,1,null,null,null,null,":",null,null,3,null,null,null,null,null,null,1,0,0,1]
[null,null,null,null,null,null,null,24,null,null,null,null,"15.4.",null,null,null,null,null,"22:24:00",null,null,null,null,null,"Fernseher",null,null,null,null,null,null,null,null,null,null,{"$f":"$AM$8","v":"Jule"},null,null,null,null,null,null,null,null,null,null,null,null,null,null,":",null,null,{"$f":"$BT$8","v":"Schmiddi"},null,null,null,null,null,null,null,null,null,null,null,null,null,null,null,3,null,null,null,null,":",null,null,3,null,null,null,null,null,null,1,0,1,0]
[null,null,null,null,null,null,null,{"$f":"H40+1","v":25},null,null,null,null,"15.4.",null,null,null,null,null,{"$f":"S38+$C$14","v":"22:36:00"},null,null,null,null,null,"Fernseher",null,null,null,null,null,null,null,null,null,null,{"$f":"$AX$8","v":"Markus"},null,null,null,null,null,null,null,null,null,null,null,null,null,null,":",null,null,{"$f":"$Q$8","v":"Ratze"},null,null,null,null,null,null,null,null,null,null,null,null,null,null,null,2,null,null,null,null,":",null,null,3,null,null,null,null,null,null,1,0,0,1]
[null,null,null,null,null,null,null,26,null,null,null,null,"15.4.",null,null,null,null,null,"22:36:00",null,null,null,null,null,"Fernseher",null,null,null,null,null,null,null,null,null,null,{"$f":"$AB$8","v":"Christoph"},null,null,null,null,null,null,null,null,null,null,null,null,null,null,":",null,null,{"$f":"$BT$8","v":"Schmiddi"},null,null,null,null,null,null,null,null,null,null,null,null,null,null,null,7,null,null,null,null,":",null,null,3,null,null,null,null,null,null,1,1,0,0]
[null,null,null,null,null,null,null,{"$f":"H42+1","v":27},null,null,null,null,"15.4.",null,null,null,null,null,{"$f":"S40+$C$14","v":"22:36:00"},null,null,null,null,null,"Fernseher",null,null,null,null,null,null,null,null,null,null,{"$f":"$BI$8","v":"Patrick"},null,null,null,null,null,null,null,null,null,null,null,null,null,null,":",null,null,{"$f":"$AM$8","v":"Jule"},null,null,null,null,null,null,null,null,null,null,null,null,null,null,null,2,null,null,null,null,":",null,null,1,null,null,null,null,null,null,1,1,0,0]
[null,null,null,null,null,null,null,28,null,null,null,null,"15.4.",null,null,null,null,null,"22:48:00",null,null,null,null,null,"Fernseher",null,null,null,null,null,null,null,null,null,null,{"$f":"$Q$8","v":"Ratze"},null,null,null,null,null,null,null,null,null,null,null,null,null,null,":",null,null,{"$f":"$BT$8","v":"Schmiddi"},null,null,null,null,null,null,null,null,null,null,null,null,null,null,null,8,null,null,null,null,":",null,null,2,null,null,null,null,null,null,1,1,0,0]
[null,null,null,null,null,null,null,{"$f":"H44+1","v":29},null,null,null,null,"15.4.",null,null,null,null,null,{"$f":"S42+$C$14","v":"22:48:00"},null,null,null,null,null,"Fernseher",null,null,null,null,null,null,null,null,null,null,{"$f":"$AM$8","v":"Jule"},null,null,null,null,null,null,null,null,null,null,null,null,null,null,":",null,null,{"$f":"$AB$8","v":"Christoph"},null,null,null,null,null,null,null,null,null,null,null,null,null,null,null,3,null,null,null,null,":",null,null,2,null,null,null,null,null,null,1,1,0,0]
[null,null,null,null,null,null,null,30,null,null,null,null,"15.4.",null,null,null,null,null,{"$f":"S43+$C$14","v":"22:48:00"},null,null,null,null,null,"Fernseher",null,null,null,null,null,null,null,null,null,null,{"$f":"$BI$8","v":"Patrick"},null,null,null,null,null,null,null,null,null,null,null,null,null,null,":",null,null,{"$f":"$AX$8","v":"Markus"},null,null,null,null,null,null,null,null,null,null,null,null,null,null,null,0,null,null,null,null,":",null,null,1,null,null,null,null,null,null,1,0,0,1]
[]
[]
[]
[]
[]
[]
[]
[]
[]
[]
[]
[]
[]
[]
[]
[null,null,"Tabelle (unsortiert)"]
[]
[null,null,"Rang",null,null,null,null,"Spieler",null,null,null,null,null,null,null,null,null,null,null,"Spiele",null,null,null,null,null,"Siege",null,null,null,null,null,null,null,null,null,null,"Unentschieden",null,null,null,null,null,null,null,null,null,null,"Niederlagen",null,null,null,null,null,null,null,null,null,null,"Tore",null,null,null,null,null,null,null,null,null,null,null,"+/-",null,null,null,null,"Punkte",null,null,null,"HS"]
[null,null,{"$f":"IF(T65=0,0,RANK(BX65,$BX$65:$CA$70,0))","v":1},null,null,null,null,{"$f":"$Q$8","v":"Ratze"},null,null,null,null,null,null,null,null,null,null,null,{"$f":"CG16+CG19+CG22+CG25+CG28+CG32+CG35+CG38+CG41+CG44","v":10},null,null,null,null,null,{"$f":"CH16+CH19+CJ22+CH25+CJ28+CJ32+CJ35+CH38+CJ41+CH44","v":8},null,null,null,null,null,null,null,null,null,null,{"$f":"CI16+CI19+CI22+CI25+CI28+CI32+CI35+CI38+CI41+CI44","v":2},null,null,null,null,null,null,null,null,null,null,{"$f":"CJ16+CJ19+CH22+CJ25+CH28+CH32+CH35+CJ38+CH41+CJ44","v":0},null,null,null,null,null,null,null,null,null,null,{"$f":"BR16+BR19+BZ22+BR25+BZ28+BZ32+BZ35+BR38+BZ41+BR44","v":33},null,null,null,null,":",null,{"$f":"BZ16+BZ19+BR22+BZ25+BR28+BR32+BR35+BZ38+BR41+BZ44","v":12},null,null,null,null,{"$f":"BG65-BN65","v":21},null,null,null,null,{"$f":"(Z65*3)+AK65","v":26},null,null,null,{"$f":"BX65+ROW()/1000","v":26.065000000000001}]
[null,null,5,null,null,null,null,{"$f":"$AB$8","v":"Christoph"},null,null,null,null,null,null,null,null,null,null,null,{"$f":"CG16+CG20+CG23+CG26+CG29+CG32+CG36+CG39+CG42+CG45","v":10},null,null,null,null,null,{"$f":"CJ16+CH20+CH23+CJ26+CH29+CH32+CJ36+CJ39+CH42+CJ45","v":3},null,null,null,null,null,null,null,null,null,null,{"$f":"CI16+CI20+CI23+CI26+CI29+CI32+CI36+CI39+CI42+CI45","v":2},null,null,null,null,null,null,null,null,null,null,{"$f":"CH16+CJ20+CJ23+CH26+CJ29+CJ32+CH36+CH39+CJ42+CH45","v":5},null,null,null,null,null,null,null,null,null,null,{"$f":"BZ16+BR20+BR23+BZ26+BR29+BR32+BZ36+BZ39+BR42+BZ45","v":21},null,null,null,null,":",null,{"$f":"BR16+BZ20+BZ23+BR26+BZ29+BZ32+BR36+BR39+BZ42+BR45","v":23},null,null,null,null,-2,null,null,null,null,11,null,null,null,11.066000000000001]
[null,null,3,null,null,null,null,{"$f":"$AM$8","v":"Jule"},null,null,null,null,null,null,null,null,null,null,null,{"$f":"CG17+CG19+CG24+CG27+CG29+CG33+CG35+CG40+CG43+CG45","v":10},null,null,null,null,null,{"$f":"CH17+CJ19+CJ24+CH27+CJ29+CJ33+CH35+CH40+CJ43+CH45","v":3},null,null,null,null,null,null,null,null,null,null,{"$f":"CI17+CI19+CI24+CI27+CI29+CI33+CI35+CI40+CI43+CI45","v":4},null,null,null,null,null,null,null,null,null,null,{"$f":"CJ17+CH19+CH24+CJ27+CH29+CH33+CJ35+CJ40+CH43+CJ45","v":3},null,null,null,null,null,null,null,null,null,null,{"$f":"BR17+BZ19+BZ24+BR27+BZ29+BZ33+BR35+BR40+BZ43+BR45","v":23},null,null,null,null,":",null,{"$f":"BZ17+BR19+BR24+BZ27+BR29+BR33+BZ35+BZ40+BR43+BZ45","v":22},null,null,null,null,1,null,null,null,null,13,null,null,null,13.067]
[null,null,2,null,null,null,null,{"$f":"$AX$8","v":"Markus"},null,null,null,null,null,null,null,null,null,null,null,{"$f":"CG17+CG21+CG23+CG25+CG30+CG33+CG37+CG39+CG41+CG46","v":10},null,null,null,null,null,{"$f":"CJ17+CH21+CJ23+CJ25+CH30+CH33+CJ37+CH39+CH41+CJ46","v":4},null,null,null,null,null,null,null,null,null,null,{"$f":"CI17+CI21+CI23+CI25+CI30+CI33+CI37+CI39+CI41+CI46","v":3},null,null,null,null,null,null,null,null,null,null,{"$f":"CH17+CJ21+CH23+CH25+CJ30+CJ33+CH37+CJ39+CJ41+CH46","v":3},null,null,null,null,null,null,null,null,null,null,{"$f":"BZ17+BR21+BZ23+BZ25+BR30+BR33+BZ37+BR39+BR41+BZ46","v":24},null,null,null,null,":",null,{"$f":"BR17+BZ21+BR23+BR25+BZ30+BZ33+BR37+BZ39+BZ41+BR46","v":19},null,null,null,null,5,null,null,null,null,15,null,null,null,15.068]
[null,null,4,null,null,null,null,{"$f":"$BI$8","v":"Patrick"},null,null,null,null,null,null,null,null,null,null,null,{"$f":"CG18+CG20+CG22+CG27+CG30+CG34+CG36+CG38+CG43+CG46","v":10},null,null,null,null,null,{"$f":"CH18+CJ20+CH22+CJ27+CJ30+CJ34+CH36+CJ38+CH43+CH46","v":3},null,null,null,null,null,null,null,null,null,null,{"$f":"CI18+CI20+CI22+CI27+CI30+CI34+CI36+CI38+CI43+CI46","v":3},null,null,null,null,null,null,null,null,null,null,{"$f":"CJ18+CH20+CJ22+CH27+CH30+CH34+CJ36+CH38+CJ43+CJ46","v":4},null,null,null,null,null,null,null,null,null,null,{"$f":"BR18+BZ20+BR22+BZ27+BZ30+BZ34+BR36+BZ38+BR43+BR46","v":14},null,null,null,null,":",null,{"$f":"BZ18+BR20+BZ22+BR27+BR30+BR34+BZ36+BR38+BZ43+BZ46","v":22},null,null,null,null,-8,null,null,null,null,12,null,null,null,12.069000000000001]
[null,null,6,null,null,null,null,{"$f":"BT8","v":"Schmiddi"},null,null,null,null,null,null,null,null,null,null,null,{"$f":"CG18+CG21+CG24+CG26+CG28+CG34+CG37+CG40+CG42+CG44","v":10},null,null,null,null,null,{"$f":"CJ18+CJ21+CH24+CH26+CH28+CH34+CH37+CJ40+CJ42+CJ44","v":1},null,null,null,null,null,null,null,null,null,null,{"$f":"CI18+CI21+CI24+CI26+CI28+CI34+CI37+CI40+CI42+CI44","v":2},null,null,null,null,null,null,null,null,null,null,{"$f":"CH18+CH21+CJ24+CJ26+CJ28+CJ34+CJ37+CH40+CH42+CH44","v":7},null,null,null,null,null,null,null,null,null,null,{"$f":"BZ18+BZ21+BR24+BR26+BR28+BR34+BR37+BZ40+BZ42+BZ44","v":18},null,null,null,null,":",null,{"$f":"BR18+BR21+BZ24+BZ26+BZ28+BZ34+BZ37+BR40+BR42+BR44","v":35},null,null,null,null,-17,null,null,null,null,5,null,null,null,5.07]
[null,null,null,null,null,null,null,"Spieler 7",null,null,null,null,null,null,null,null,null,null,null,0,null,null,null,null,null,0,null,null,null,null,null,null,null,null,null,null,0,null,null,null,null,null,null,null,null,null,null,0,null,null,null,null,null,null,null,null,null,null,0,null,null,null,null,":",null,0,null,null,null,null,0,null,null,null,null,0,null,null,null,0]
[]
[]
[]
[null,null,"Tabelle"]
[]
[null,null,"Rang",null,null,null,null,"Spieler",null,null,null,null,null,null,null,null,null,null,null,"Spiele",null,null,null,null,null,"Siege",null,null,null,null,null,null,null,null,null,null,"Unentschieden",null,null,null,null,null,null,null,null,null,null,"Niederlagen",null,null,null,null,null,null,null,null,null,null,"Tore",null,null,null,null,null,null,null,null,null,null,null,"+/-",null,null,null,null,"Punkte"]
[null,null,{"$f":"INDEX($C$65:$C$70,MATCH(LARGE($CB$65:$CB$70,ROW(A1)),$CB$65:$CB$70,0),1)","v":1},null,null,1,null,{"$f":"INDEX($H$65:$H$70,MATCH(LARGE($CB$65:$CB$70,ROW(A1)),$CB$65:$CB$70,0),1)","v":"Ratze"},null,null,null,null,null,null,null,null,null,null,null,{"$f":"INDEX($T$65:$T$70,MATCH(LARGE($CB$65:$CB$70,ROW(A1)),$CB$65:$CB$70,0),1)","v":10},null,null,null,null,null,{"$f":"INDEX($Z$65:$Z$70,MATCH(LARGE($CB$65:$CB$70,ROW(A1)),$CB$65:$CB$70,0),1)","v":8},null,null,null,null,null,null,null,null,null,null,{"$f":"INDEX($AK$65:$AK$70,MATCH(LARGE($CB$65:$CB$70,ROW(A1)),$CB$65:$CB$70,0),1)","v":2},null,null,null,null,null,null,null,null,null,null,{"$f":"INDEX($AV$65:$AV$70,MATCH(LARGE($CB$65:$CB$70,ROW(A1)),$CB$65:$CB$70,0),1)","v":0},null,null,null,null,null,null,null,null,null,null,{"$f":"INDEX($BG$65:$BG$70,MATCH(LARGE($CB$65:$CB$70,ROW(A1)),$CB$65:$CB$70,0),1)","v":33},null,null,null,null,":",null,{"$f":"INDEX($BN$65:$BN$70,MATCH(LARGE($CB$65:$CB$70,ROW(A1)),$CB$65:$CB$70,0),1)","v":12},null,null,null,null,{"$f":"INDEX($BS$65:$BS$70,MATCH(LARGE($CB$65:$CB$70,ROW(A1)),$CB$65:$CB$70,0),1)","v":21},null,null,null,null,{"$f":"INDEX($BX$65:$BX$70,MATCH(LARGE($CB$65:$CB$70,ROW(A1)),$CB$65:$CB$70,0),1)","v":26}]
[null,null,2,null,null,2,null,"Markus",null,null,null,null,null,null,null,null,null,null,null,10,null,null,null,null,null,4,null,null,null,null,null,null,null,null,null,null,3,null,null,null,null,null,null,null,null,null,null,3,null,null,null,null,null,null,null,null,null,null,24,null,null,null,null,":",null,19,null,null,null,null,5,null,null,null,null,15]
[null,null,3,null,null,3,null,"Jule",null,null,null,null,null,null,null,null,null,null,null,10,null,null,null,null,null,3,null,null,null,null,null,null,null,null,null,null,4,null,null,null,null,null,null,null,null,null,null,3,null,null,null,null,null,null,null,null,null,null,23,null,null,null,null,":",null,22,null,null,null,null,1,null,null,null,null,13]
[null,null,4,null,null,4,null,"Patrick",null,null,null,null,null,null,null,null,null,null,null,10,null,null,null,null,null,3,null,null,null,null,null,null,null,null,null,null,3,null,null,null,null,null,null,null,null,null,null,4,null,null,null,null,null,null,null,null,null,null,14,null,null,null,null,":",null,22,null,null,null,null,-8,null,null,null,null,12]
[null,null,5,null,null,5,null,"Christoph",null,null,null,null,null,null,null,null,null,null,null,10,null,null,null,null,null,3,null,null,null,null,null,null,null,null,null,null,2,null,null,null,null,null,null,null,null,null,null,5,null,null,null,null,null,null,null,null,null,null,21,null,null,null,null,":",null,23,null,null,null,null,-2,null,null,null,null,11]
[null,null,6,null,null,6,null,"Schmiddi",null,null,null,null,null,null,null,null,null,null,null,10,null,null,null,null,null,1,null,null,null,null,null,null,null,null,null,null,2,null,null,null,null,null,null,null,null,null,null,7,null,null,null,null,null,null,null,null,null,null,18,null,null,null,null,":",null,35,null,null,null,null,-17,null,null,null,null,5]
[null,null,"---",null,null,"---",null,"Spieler 7",null,null,null,null,null,null,null,null,null,null,null,0,null,null,null,null,null,0,null,null,null,null,null,null,null,null,null,null,0,null,null,null,null,null,null,null,null,null,null,0,null,null,null,null,null,null,null,null,null,null,0,null,null,null,null,":",null,0,null,null,null,null,0,null,null,null,null,0]
[]
[]
[]
[null,null,"Tabelle (nach Alphabet)"]
[]
[null,null,"Rang",null,null,null,null,"Spieler",null,null,null,null,null,null,null,null,null,null,null,"Spiele",null,null,null,null,null,"Siege",null,null,null,null,null,null,null,null,null,null,"Unentschieden",null,null,null,null,null,null,null,null,null,null,"Niederlagen",null,null,null,null,null,null,null,null,null,null,"Tore",null,null,null,null,null,null,null,null,null,null,null,"+/-",null,null,null,null,"Punkte"]
[null,null,{"$f":"IF($H$78=\"Basti\",$F$78,IF($H$79=\"Basti\",$F$79,IF($H$80=\"Basti\",$F$80,IF($H$81=\"Basti\",$F$81,IF($H$82=\"Basti\",$F$82,IF($H$83=\"Basti\",$F$83,IF($H$84=\"Basti\",$F$84,0)))))))","v":0},null,null,null,null,"Basti",null,null,null,null,null,null,null,null,null,null,null,{"$f":"IF($H$78=\"Basti\",$T$78,IF($H$79=\"Basti\",$T$79,IF($H$80=\"Basti\",$T$80,IF($H$81=\"Basti\",$T$81,IF($H$82=\"Basti\",$T$82,IF($H$83=\"Basti\",$T$83,IF($H$84=\"Basti\",$T$84,0)))))))","v":0},null,null,null,null,null,{"$f":"IF($H$78=\"Basti\",$Z$78,IF($H$79=\"Basti\",$Z$79,IF($H$80=\"Basti\",$Z$80,IF($H$81=\"Basti\",$Z$81,IF($H$82=\"Basti\",$Z$82,IF($H$83=\"Basti\",$Z$83,IF($H$84=\"Basti\",$Z$84,0)))))))","v":0},null,null,null,null,null,null,null,null,null,null,{"$f":"IF($H$78=\"Basti\",$AK$78,IF($H$79=\"Basti\",$AK$79,IF($H$80=\"Basti\",$AK$80,IF($H$81=\"Basti\",$AK$81,IF($H$82=\"Basti\",$AK$82,IF($H$83=\"Basti\",$AK$83,IF($H$84=\"Basti\",$AK$84,0)))))))","v":0},null,null,null,null,null,null,null,null,null,null,{"$f":"IF($H$78=\"Basti\",$AV$78,IF($H$79=\"Basti\",$AV$79,IF($H$80=\"Basti\",$AV$80,IF($H$81=\"Basti\",$AV$81,IF($H$82=\"Basti\",$AV$82,IF($H$83=\"Basti\",$AV$83,IF($H$84=\"Basti\",$AV$84,0)))))))","v":0},null,null,null,null,null,null,null,null,null,null,{"$f":"IF($H$78=\"Basti\",$BG$78,IF($H$79=\"Basti\",$BG$79,IF($H$80=\"Basti\",$BG$80,IF($H$81=\"Basti\",$BG$81,IF($H$82=\"Basti\",$BG$82,IF($H$83=\"Basti\",$BG$83,IF($H$84=\"Basti\",$BG$84,0)))))))","v":0},null,null,null,null,":",null,{"$f":"IF($H$78=\"Basti\",$BN$78,IF($H$79=\"Basti\",$BN$79,IF($H$80=\"Basti\",$BN$80,IF($H$81=\"Basti\",$BN$81,IF($H$82=\"Basti\",$BN$82,IF($H$83=\"Basti\",$BN$83,IF($H$84=\"Basti\",$BN$84,0)))))))","v":0},null,null,null,null,{"$f":"IF($H$78=\"Basti\",$BS$78,IF($H$79=\"Basti\",$BS$79,IF($H$80=\"Basti\",$BS$80,IF($H$81=\"Basti\",$BS$81,IF($H$82=\"Basti\",$BS$82,IF($H$83=\"Basti\",$BS$83,IF($H$84=\"Basti\",$BS$84,0)))))))","v":0},null,null,null,null,{"$f":"IF($H$78=\"Basti\",$BX$78,IF($H$79=\"Basti\",$BX$79,IF($H$80=\"Basti\",$BX$80,IF($H$81=\"Basti\",$BX$81,IF($H$82=\"Basti\",$BX$82,IF($H$83=\"Basti\",$BX$83,IF($H$84=\"Basti\",$BX$84,0)))))))","v":0}]
[null,null,{"$f":"IF($H$78=\"Christoph\",$F$78,IF($H$79=\"Christoph\",$F$79,IF($H$80=\"Christoph\",$F$80,IF($H$81=\"Christoph\",$F$81,IF($H$82=\"Christoph\",$F$82,IF($H$83=\"Christoph\",$F$83,IF($H$84=\"Christoph\",$F$84,0)))))))","v":5},null,null,null,null,"Christoph",null,null,null,null,null,null,null,null,null,null,null,{"$f":"IF($H$78=\"Christoph\",$T$78,IF($H$79=\"Christoph\",$T$79,IF($H$80=\"Christoph\",$T$80,IF($H$81=\"Christoph\",$T$81,IF($H$82=\"Christoph\",$T$82,IF($H$83=\"Christoph\",$T$83,IF($H$84=\"Christoph\",$T$84,0)))))))","v":10},null,null,null,null,null,{"$f":"IF($H$78=\"Christoph\",$Z$78,IF($H$79=\"Christoph\",$Z$79,IF($H$80=\"Christoph\",$Z$80,IF($H$81=\"Christoph\",$Z$81,IF($H$82=\"Christoph\",$Z$82,IF($H$83=\"Christoph\",$Z$83,IF($H$84=\"Christoph\",$Z$84,0)))))))","v":3},null,null,null,null,null,null,null,null,null,null,{"$f":"IF($H$78=\"Christoph\",$AK$78,IF($H$79=\"Christoph\",$AK$79,IF($H$80=\"Christoph\",$AK$80,IF($H$81=\"Christoph\",$AK$81,IF($H$82=\"Christoph\",$AK$82,IF($H$83=\"Christoph\",$AK$83,IF($H$84=\"Christoph\",$AK$84,0)))))))","v":2},null,null,null,null,null,null,null,null,null,null,{"$f":"IF($H$78=\"Christoph\",$AV$78,IF($H$79=\"Christoph\",$AV$79,IF($H$80=\"Christoph\",$AV$80,IF($H$81=\"Christoph\",$AV$81,IF($H$82=\"Christoph\",$AV$82,IF($H$83=\"Christoph\",$AV$83,IF($H$84=\"Christoph\",$AV$84,0)))))))","v":5},null,null,null,null,null,null,null,null,null,null,{"$f":"IF($H$78=\"Christoph\",$BG$78,IF($H$79=\"Christoph\",$BG$79,IF($H$80=\"Christoph\",$BG$80,IF($H$81=\"Christoph\",$BG$81,IF($H$82=\"Christoph\",$BG$82,IF($H$83=\"Christoph\",$BG$83,IF($H$84=\"Christoph\",$BG$84,0)))))))","v":21},null,null,null,null,":",null,{"$f":"IF($H$78=\"Christoph\",$BN$78,IF($H$79=\"Christoph\",$BN$79,IF($H$80=\"Christoph\",$BN$80,IF($H$81=\"Christoph\",$BN$81,IF($H$82=\"Christoph\",$BN$82,IF($H$83=\"Christoph\",$BN$83,IF($H$84=\"Christoph\",$BN$84,0)))))))","v":23},null,null,null,null,{"$f":"IF($H$78=\"Christoph\",$BS$78,IF($H$79=\"Christoph\",$BS$79,IF($H$80=\"Christoph\",$BS$80,IF($H$81=\"Christoph\",$BS$81,IF($H$82=\"Christoph\",$BS$82,IF($H$83=\"Christoph\",$BS$83,IF($H$84=\"Christoph\",$BS$84,0)))))))","v":-2},null,null,null,null,{"$f":"IF($H$78=\"Christoph\",$BX$78,IF($H$79=\"Christoph\",$BX$79,IF($H$80=\"Christoph\",$BX$80,IF($H$81=\"Christoph\",$BX$81,IF($H$82=\"Christoph\",$BX$82,IF($H$83=\"Christoph\",$BX$83,IF($H$84=\"Christoph\",$BX$84,0)))))))","v":11}]
[null,null,{"$f":"IF($H$78=\"Jule\",$F$78,IF($H$79=\"Jule\",$F$79,IF($H$80=\"Jule\",$F$80,IF($H$81=\"Jule\",$F$81,IF($H$82=\"Jule\",$F$82,IF($H$83=\"Jule\",$F$83,IF($H$84=\"Jule\",$F$84,0)))))))","v":3},null,null,null,null,"Jule",null,null,null,null,null,null,null,null,null,null,null,{"$f":"IF($H$78=\"Jule\",$T$78,IF($H$79=\"Jule\",$T$79,IF($H$80=\"Jule\",$T$80,IF($H$81=\"Jule\",$T$81,IF($H$82=\"Jule\",$T$82,IF($H$83=\"Jule\",$T$83,IF($H$84=\"Jule\",$T$84,0)))))))","v":10},null,null,null,null,null,{"$f":"IF($H$78=\"Jule\",$Z$78,IF($H$79=\"Jule\",$Z$79,IF($H$80=\"Jule\",$Z$80,IF($H$81=\"Jule\",$Z$81,IF($H$82=\"Jule\",$Z$82,IF($H$83=\"Jule\",$Z$83,IF($H$84=\"Jule\",$Z$84,0)))))))","v":3},null,null,null,null,null,null,null,null,null,null,{"$f":"IF($H$78=\"Jule\",$AK$78,IF($H$79=\"Jule\",$AK$79,IF($H$80=\"Jule\",$AK$80,IF($H$81=\"Jule\",$AK$81,IF($H$82=\"Jule\",$AK$82,IF($H$83=\"Jule\",$AK$83,IF($H$84=\"Jule\",$AK$84,0)))))))","v":4},null,null,null,null,null,null,null,null,null,null,{"$f":"IF($H$78=\"Jule\",$AV$78,IF($H$79=\"Jule\",$AV$79,IF($H$80=\"Jule\",$AV$80,IF($H$81=\"Jule\",$AV$81,IF($H$82=\"Jule\",$AV$82,IF($H$83=\"Jule\",$AV$83,IF($H$84=\"Jule\",$AV$84,0)))))))","v":3},null,null,null,null,null,null,null,null,null,null,{"$f":"IF($H$78=\"Jule\",$BG$78,IF($H$79=\"Jule\",$BG$79,IF($H$80=\"Jule\",$BG$80,IF($H$81=\"Jule\",$BG$81,IF($H$82=\"Jule\",$BG$82,IF($H$83=\"Jule\",$BG$83,IF($H$84=\"Jule\",$BG$84,0)))))))","v":23},null,null,null,null,":",null,{"$f":"IF($H$78=\"Jule\",$BN$78,IF($H$79=\"Jule\",$BN$79,IF($H$80=\"Jule\",$BN$80,IF($H$81=\"Jule\",$BN$81,IF($H$82=\"Jule\",$BN$82,IF($H$83=\"Jule\",$BN$83,IF($H$84=\"Jule\",$BN$84,0)))))))","v":22},null,null,null,null,{"$f":"IF($H$78=\"Jule\",$BS$78,IF($H$79=\"Jule\",$BS$79,IF($H$80=\"Jule\",$BS$80,IF($H$81=\"Jule\",$BS$81,IF($H$82=\"Jule\",$BS$82,IF($H$83=\"Jule\",$BS$83,IF($H$84=\"Jule\",$BS$84,0)))))))","v":1},null,null,null,null,{"$f":"IF($H$78=\"Jule\",$BX$78,IF($H$79=\"Jule\",$BX$79,IF($H$80=\"Jule\",$BX$80,IF($H$81=\"Jule\",$BX$81,IF($H$82=\"Jule\",$BX$82,IF($H$83=\"Jule\",$BX$83,IF($H$84=\"Jule\",$BX$84,0)))))))","v":13}]
[null,null,{"$f":"IF($H$78=\"Markus\",$F$78,IF($H$79=\"Markus\",$F$79,IF($H$80=\"Markus\",$F$80,IF($H$81=\"Markus\",$F$81,IF($H$82=\"Markus\",$F$82,IF($H$83=\"Markus\",$F$83,IF($H$84=\"Markus\",$F$84,0)))))))","v":2},null,null,null,null,"Markus",null,null,null,null,null,null,null,null,null,null,null,{"$f":"IF($H$78=\"Markus\",$T$78,IF($H$79=\"Markus\",$T$79,IF($H$80=\"Markus\",$T$80,IF($H$81=\"Markus\",$T$81,IF($H$82=\"Markus\",$T$82,IF($H$83=\"Markus\",$T$83,IF($H$84=\"Markus\",$T$84,0)))))))","v":10},null,null,null,null,null,{"$f":"IF($H$78=\"Markus\",$Z$78,IF($H$79=\"Markus\",$Z$79,IF($H$80=\"Markus\",$Z$80,IF($H$81=\"Markus\",$Z$81,IF($H$82=\"Markus\",$Z$82,IF($H$83=\"Markus\",$Z$83,IF($H$84=\"Markus\",$Z$84,0)))))))","v":4},null,null,null,null,null,null,null,null,null,null,{"$f":"IF($H$78=\"Markus\",$AK$78,IF($H$79=\"Markus\",$AK$79,IF($H$80=\"Markus\",$AK$80,IF($H$81=\"Markus\",$AK$81,IF($H$82=\"Markus\",$AK$82,IF($H$83=\"Markus\",$AK$83,IF($H$84=\"Markus\",$AK$84,0)))))))","v":3},null,null,null,null,null,null,null,null,null,null,{"$f":"IF($H$78=\"Markus\",$AV$78,IF($H$79=\"Markus\",$AV$79,IF($H$80=\"Markus\",$AV$80,IF($H$81=\"Markus\",$AV$81,IF($H$82=\"Markus\",$AV$82,IF($H$83=\"Markus\",$AV$83,IF($H$84=\"Markus\",$AV$84,0)))))))","v":3},null,null,null,null,null,null,null,null,null,null,{"$f":"IF($H$78=\"Markus\",$BG$78,IF($H$79=\"Markus\",$BG$79,IF($H$80=\"Markus\",$BG$80,IF($H$81=\"Markus\",$BG$81,IF($H$82=\"Markus\",$BG$82,IF($H$83=\"Markus\",$BG$83,IF($H$84=\"Markus\",$BG$84,0)))))))","v":24},null,null,null,null,":",null,{"$f":"IF($H$78=\"Markus\",$BN$78,IF($H$79=\"Markus\",$BN$79,IF($H$80=\"Markus\",$BN$80,IF($H$81=\"Markus\",$BN$81,IF($H$82=\"Markus\",$BN$82,IF($H$83=\"Markus\",$BN$83,IF($H$84=\"Markus\",$BN$84,0)))))))","v":19},null,null,null,null,{"$f":"IF($H$78=\"Markus\",$BS$78,IF($H$79=\"Markus\",$BS$79,IF($H$80=\"Markus\",$BS$80,IF($H$81=\"Markus\",$BS$81,IF($H$82=\"Markus\",$BS$82,IF($H$83=\"Markus\",$BS$83,IF($H$84=\"Markus\",$BS$84,0)))))))","v":5},null,null,null,null,{"$f":"IF($H$78=\"Markus\",$BX$78,IF($H$79=\"Markus\",$BX$79,IF($H$80=\"Markus\",$BX$80,IF($H$81=\"Markus\",$BX$81,IF($H$82=\"Markus\",$BX$82,IF($H$83=\"Markus\",$BX$83,IF($H$84=\"Markus\",$BX$84,0)))))))","v":15}]
[null,null,{"$f":"IF($H$78=\"Patrick\",$F$78,IF($H$79=\"Patrick\",$F$79,IF($H$80=\"Patrick\",$F$80,IF($H$81=\"Patrick\",$F$81,IF($H$82=\"Patrick\",$F$82,IF($H$83=\"Patrick\",$F$83,IF($H$84=\"Patrick\",$F$84,0)))))))","v":4},null,null,null,null,"Patrick",null,null,null,null,null,null,null,null,null,null,null,{"$f":"IF($H$78=\"Patrick\",$T$78,IF($H$79=\"Patrick\",$T$79,IF($H$80=\"Patrick\",$T$80,IF($H$81=\"Patrick\",$T$81,IF($H$82=\"Patrick\",$T$82,IF($H$83=\"Patrick\",$T$83,IF($H$84=\"Patrick\",$T$84,0)))))))","v":10},null,null,null,null,null,{"$f":"IF($H$78=\"Patrick\",$Z$78,IF($H$79=\"Patrick\",$Z$79,IF($H$80=\"Patrick\",$Z$80,IF($H$81=\"Patrick\",$Z$81,IF($H$82=\"Patrick\",$Z$82,IF($H$83=\"Patrick\",$Z$83,IF($H$84=\"Patrick\",$Z$84,0)))))))","v":3},null,null,null,null,null,null,null,null,null,null,{"$f":"IF($H$78=\"Patrick\",$AK$78,IF($H$79=\"Patrick\",$AK$79,IF($H$80=\"Patrick\",$AK$80,IF($H$81=\"Patrick\",$AK$81,IF($H$82=\"Patrick\",$AK$82,IF($H$83=\"Patrick\",$AK$83,IF($H$84=\"Patrick\",$AK$84,0)))))))","v":3},null,null,null,null,null,null,null,null,null,null,{"$f":"IF($H$78=\"Patrick\",$AV$78,IF($H$79=\"Patrick\",$AV$79,IF($H$80=\"Patrick\",$AV$80,IF($H$81=\"Patrick\",$AV$81,IF($H$82=\"Patrick\",$AV$82,IF($H$83=\"Patrick\",$AV$83,IF($H$84=\"Patrick\",$AV$84,0)))))))","v":4},null,null,null,null,null,null,null,null,null,null,{"$f":"IF($H$78=\"Patrick\",$BG$78,IF($H$79=\"Patrick\",$BG$79,IF($H$80=\"Patrick\",$BG$80,IF($H$81=\"Patrick\",$BG$81,IF($H$82=\"Patrick\",$BG$82,IF($H$83=\"Patrick\",$BG$83,IF($H$84=\"Patrick\",$BG$84,0)))))))","v":14},null,null,null,null,":",null,{"$f":"IF($H$78=\"Patrick\",$BN$78,IF($H$79=\"Patrick\",$BN$79,IF($H$80=\"Patrick\",$BN$80,IF($H$81=\"Patrick\",$BN$81,IF($H$82=\"Patrick\",$BN$82,IF($H$83=\"Patrick\",$BN$83,IF($H$84=\"Patrick\",$BN$84,0)))))))","v":22},null,null,null,null,{"$f":"IF($H$78=\"Patrick\",$BS$78,IF($H$79=\"Patrick\",$BS$79,IF($H$80=\"Patrick\",$BS$80,IF($H$81=\"Patrick\",$BS$81,IF($H$82=\"Patrick\",$BS$82,IF($H$83=\"Patrick\",$BS$83,IF($H$84=\"Patrick\",$BS$84,0)))))))","v":-8},null,null,null,null,{"$f":"IF($H$78=\"Patrick\",$BX$78,IF($H$79=\"Patrick\",$BX$79,IF($H$80=\"Patrick\",$BX$80,IF($H$81=\"Patrick\",$BX$81,IF($H$82=\"Patrick\",$BX$82,IF($H$83=\"Patrick\",$BX$83,IF($H$84=\"Patrick\",$BX$84,0)))))))","v":12}]
[null,null,{"$f":"IF($H$78=\"Ratze\",$F$78,IF($H$79=\"Ratze\",$F$79,IF($H$80=\"Ratze\",$F$80,IF($H$81=\"Ratze\",$F$81,IF($H$82=\"Ratze\",$F$82,IF($H$83=\"Ratze\",$F$83,IF($H$84=\"Ratze\",$F$84,0)))))))","v":1},null,null,null,null,"Ratze",null,null,null,null,null,null,null,null,null,null,null,{"$f":"IF($H$78=\"Ratze\",$T$78,IF($H$79=\"Ratze\",$T$79,IF($H$80=\"Ratze\",$T$80,IF($H$81=\"Ratze\",$T$81,IF($H$82=\"Ratze\",$T$82,IF($H$83=\"Ratze\",$T$83,IF($H$84=\"Ratze\",$T$84,0)))))))","v":10},null,null,null,null,null,{"$f":"IF($H$78=\"Ratze\",$Z$78,IF($H$79=\"Ratze\",$Z$79,IF($H$80=\"Ratze\",$Z$80,IF($H$81=\"Ratze\",$Z$81,IF($H$82=\"Ratze\",$Z$82,IF($H$83=\"Ratze\",$Z$83,IF($H$84=\"Ratze\",$Z$84,0)))))))","v":8},null,null,null,null,null,null,null,null,null,null,{"$f":"IF($H$78=\"Ratze\",$AK$78,IF($H$79=\"Ratze\",$AK$79,IF($H$80=\"Ratze\",$AK$80,IF($H$81=\"Ratze\",$AK$81,IF($H$82=\"Ratze\",$AK$82,IF($H$83=\"Ratze\",$AK$83,IF($H$84=\"Ratze\",$AK$84,0)))))))","v":2},null,null,null,null,null,null,null,null,null,null,{"$f":"IF($H$78=\"Ratze\",$AV$78,IF($H$79=\"Ratze\",$AV$79,IF($H$80=\"Ratze\",$AV$80,IF($H$81=\"Ratze\",$AV$81,IF($H$82=\"Ratze\",$AV$82,IF($H$83=\"Ratze\",$AV$83,IF($H$84=\"Ratze\",$AV$84,0)))))))","v":0},null,null,null,null,null,null,null,null,null,null,{"$f":"IF($H$78=\"Ratze\",$BG$78,IF($H$79=\"Ratze\",$BG$79,IF($H$80=\"Ratze\",$BG$80,IF($H$81=\"Ratze\",$BG$81,IF($H$82=\"Ratze\",$BG$82,IF($H$83=\"Ratze\",$BG$83,IF($H$84=\"Ratze\",$BG$84,0)))))))","v":33},null,null,null,null,":",null,{"$f":"IF($H$78=\"Ratze\",$BN$78,IF($H$79=\"Ratze\",$BN$79,IF($H$80=\"Ratze\",$BN$80,IF($H$81=\"Ratze\",$BN$81,IF($H$82=\"Ratze\",$BN$82,IF($H$83=\"Ratze\",$BN$83,IF($H$84=\"Ratze\",$BN$84,0)))))))","v":12},null,null,null,null,{"$f":"IF($H$78=\"Ratze\",$BS$78,IF($H$79=\"Ratze\",$BS$79,IF($H$80=\"Ratze\",$BS$80,IF($H$81=\"Ratze\",$BS$81,IF($H$82=\"Ratze\",$BS$82,IF($H$83=\"Ratze\",$BS$83,IF($H$84=\"Ratze\",$BS$84,0)))))))","v":21},null,null,null,null,{"$f":"IF($H$78=\"Ratze\",$BX$78,IF($H$79=\"Ratze\",$BX$79,IF($H$80=\"Ratze\",$BX$80,IF($H$81=\"Ratze\",$BX$81,IF($H$82=\"Ratze\",$BX$82,IF($H$83=\"Ratze\",$BX$83,IF($H$84=\"Ratze\",$BX$84,0)))))))","v":26}]
[null,null,{"$f":"IF($H$78=\"Schmiddi\",$F$78,IF($H$79=\"Schmiddi\",$F$79,IF($H$80=\"Schmiddi\",$F$80,IF($H$81=\"Schmiddi\",$F$81,IF($H$82=\"Schmiddi\",$F$82,IF($H$83=\"Schmiddi\",$F$83,IF($H$84=\"Schmiddi\",$F$84,0)))))))","v":6},null,null,null,null,"Schmiddi",null,null,null,null,null,null,null,null,null,null,null,{"$f":"IF($H$78=\"Schmiddi\",$T$78,IF($H$79=\"Schmiddi\",$T$79,IF($H$80=\"Schmiddi\",$T$80,IF($H$81=\"Schmiddi\",$T$81,IF($H$82=\"Schmiddi\",$T$82,IF($H$83=\"Schmiddi\",$T$83,IF($H$84=\"Schmiddi\",$T$84,0)))))))","v":10},null,null,null,null,null,{"$f":"IF($H$78=\"Schmiddi\",$Z$78,IF($H$79=\"Schmiddi\",$Z$79,IF($H$80=\"Schmiddi\",$Z$80,IF($H$81=\"Schmiddi\",$Z$81,IF($H$82=\"Schmiddi\",$Z$82,IF($H$83=\"Schmiddi\",$Z$83,IF($H$84=\"Schmiddi\",$Z$84,0)))))))","v":1},null,null,null,null,null,null,null,null,null,null,{"$f":"IF($H$78=\"Schmiddi\",$AK$78,IF($H$79=\"Schmiddi\",$AK$79,IF($H$80=\"Schmiddi\",$AK$80,IF($H$81=\"Schmiddi\",$AK$81,IF($H$82=\"Schmiddi\",$AK$82,IF($H$83=\"Schmiddi\",$AK$83,IF($H$84=\"Schmiddi\",$AK$84,0)))))))","v":2},null,null,null,null,null,null,null,null,null,null,{"$f":"IF($H$78=\"Schmiddi\",$AV$78,IF($H$79=\"Schmiddi\",$AV$79,IF($H$80=\"Schmiddi\",$AV$80,IF($H$81=\"Schmiddi\",$AV$81,IF($H$82=\"Schmiddi\",$AV$82,IF($H$83=\"Schmiddi\",$AV$83,IF($H$84=\"Schmiddi\",$AV$84,0)))))))","v":7},null,null,null,null,null,null,null,null,null,null,{"$f":"IF($H$78=\"Schmiddi\",$BG$78,IF($H$79=\"Schmiddi\",$BG$79,IF($H$80=\"Schmiddi\",$BG$80,IF($H$81=\"Schmiddi\",$BG$81,IF($H$82=\"Schmiddi\",$BG$82,IF($H$83=\"Schmiddi\",$BG$83,IF($H$84=\"Schmiddi\",$BG$84,0)))))))","v":18},null,null,null,null,":",null,{"$f":"IF($H$78=\"Schmiddi\",$BN$78,IF($H$79=\"Schmiddi\",$BN$79,IF($H$80=\"Schmiddi\",$BN$80,IF($H$81=\"Schmiddi\",$BN$81,IF($H$82=\"Schmiddi\",$BN$82,IF($H$83=\"Schmiddi\",$BN$83,IF($H$84=\"Schmiddi\",$BN$84,0)))))))","v":35},null,null,null,null,{"$f":"IF($H$78=\"Schmiddi\",$BS$78,IF($H$79=\"Schmiddi\",$BS$79,IF($H$80=\"Schmiddi\",$BS$80,IF($H$81=\"Schmiddi\",$BS$81,IF($H$82=\"Schmiddi\",$BS$82,IF($H$83=\"Schmiddi\",$BS$83,IF($H$84=\"Schmiddi\",$BS$84,0)))))))","v":-17},null,null,null,null,{"$f":"IF($H$78=\"Schmiddi\",$BX$78,IF($H$79=\"Schmiddi\",$BX$79,IF($H$80=\"Schmiddi\",$BX$80,IF($H$81=\"Schmiddi\",$BX$81,IF($H$82=\"Schmiddi\",$BX$82,IF($H$83=\"Schmiddi\",$BX$83,IF($H$84=\"Schmiddi\",$BX$84,0)))))))","v":5}]

{"sheet":"22.4.","index":19,"n_rows":97,"n_cols":88,"rows_kept":97,"cut":false,"hidden":false,"merged":[[97,1,97,82],[98,0,98,83],[96,47,96,57],[96,58,96,62],[96,63,96,64],[96,65,96,69],[96,70,96,74],[96,75,96,81],[95,58,95,62],[95,63,95,64],[95,65,95,69],[95,70,95,74],[95,75,95,81],[96,2,96,6],[96,7,96,18],[96,19,96,24],[96,25,96,35],[96,36,96,46],[95,2,95,6],[95,7,95,18],[95,19,95,24],[95,25,95,35],[95,36,95,46],[95,47,95,57],[94,47,94,57],[94,58,94,62],[94,63,94,64],[94,65,94,69],[94,70,94,74],[94,75,94,81],[93,58,93,62],[93,63,93,64],[93,65,93,69],[93,70,93,74],[93,75,93,81],[93,47,93,57],[94,2,94,6],[94,7,94,18],[94,19,94,24],[94,25,94,35],[94,36,94,46],[93,2,93,6],[93,7,93,18],[93,19,93,24],[93,25,93,35],[93,36,93,46],[92,36,92,46],[90,63,90,64],[90,65,90,69],[90,70,90,74],[90,75,90,81],[91,2,91,6],[91,7,91,18],[91,19,91,24],[91,25,91,35],[91,36,91,46],[91,47,91,57],[92,47,92,57],[92,58,92,62],[92,63,92,64],[92,65,92,69],[92,70,92,74],[92,75,92,81],[91,58,91,62],[91,63,91,64],[91,65,91,69],[91,70,91,74],[91,75,91,81],[87,1,96,1],[87,2,87,81],[87,82,96,82],[88,2,88,81],[89,2,89,6],[89,7,89,18],[89,19,89,24],[89,25,89,35],[89,36,89,46],[89,47,89,57],[89,58,89,69],[89,70,89,74],[89,75,89,81],[90,2,90,6],[90,7,90,18],[90,19,90,24],[90,25,90,35],[90,36,90,46],[90,47,90,57],[90,58,90,62],[92,2,92,6],[92,7,92,18],[92,19,92,24],[92,25,92,35],[84,1,84,82],[85,1,85,82],[86,1,86,82],[82,75,82,81],[83,2,83,4],[83,5,83,6],[83,7,83,18],[83,19,83,24],[83,25,83,35],[83,36,83,46],[83,47,83,57],[83,58,83,62],[83,63,83,64],[82,36,82,46],[82,47,82,57],[82,58,82,62],[82,63,82,64],[82,65,82,69],[82,70,82,74],[81,65,81,69],[81,70,81,74],[81,75,81,81],[82,2,82,4],[82,5,82,6],[82,7,82,18],[82,19,82,24],[82,25,82,35],[83,65,83,69],[83,70,83,74],[83,75,83,81],[81,2,81,4],[81,5,81,6],[81,7,81,18],[81,19,81,24],[81,25,81,35],[81,36,81,46],[81,47,81,57],[81,58,81,62],[81,63,81,64],[79,2,79,4],[79,5,79,6],[79,7,79,18],[79,19,79,24],[79,25,79,35],[79,75,79,81],[80,2,80,4],[80,5,80,6],[80,7,80,18],[80,19,80,24],[80,25,80,35],[80,36,80,46],[80,47,80,57],[80,58,80,62],[80,63,80,64],[79,36,79,46],[79,47,79,57],[79,58,79,62],[79,63,79,64],[79,65,79,69],[79,70,79,74],[80,65,80,69],[80,70,80,74],[80,75,80,81],[76,70,76,74],[77,65,77,69],[77,70,77,74],[77,75,77,81],[78,2,78,4],[78,5,78,6],[78,7,78,18],[78,19,78,24],[78,25,78,35],[78,36,78,46],[78,47,78,57],[78,58,78,62],[78,63,78,64],[78,65,78,69],[78,70,78,74],[78,75,78,81],[71,1,71,82],[72,1,72,82],[73,1,73,82],[74,1,83,1],[74,2,74,81],[74,82,83,82],[75,2,75,81],[76,2,76,6],[76,7,76,18],[76,75,76,81],[77,2,77,4],[77,5,77,6],[77,7,77,18],[77,19,77,24],[77,25,77,35],[77,36,77,46],[77,47,77,57],[77,58,77,62],[77,63,77,64],[76,19,76,24],[76,25,76,35],[76,36,76,46],[76,47,76,57],[76,58,76,69],[69,70,69,74],[69,75,69,78],[69,79,69,81],[70,2,70,6],[70,7,70,18],[70,19,70,24],[70,25,70,35],[70,36,70,46],[70,79,70,81],[70,47,70,57],[70,58,70,62],[70,63,70,64],[70,65,70,69],[70,70,70,74],[70,75,70,78],[69,2,69,6],[69,7,69,18],[69,19,69,24],[69,25,69,35],[69,36,69,46],[69,47,69,57],[69,58,69,62],[69,63,69,64],[69,65,69,69],[67,2,67,6],[67,7,67,18],[67,19,67,24],[67,25,67,35],[67,36,67,46],[67,79,67,81],[68,2,68,6],[68,7,68,18],[68,19,68,24],[68,25,68,35],[68,36,68,46],[68,47,68,57],[68,58,68,62],[68,63,68,64],[68,65,68,69],[67,47,67,57],[67,58,67,62],[67,63,67,64],[67,65,67,69],[67,70,67,74],[67,75,67,78],[68,70,68,74],[68,75,68,78],[68,79,68,81],[64,70,64,74],[64,75,64,78],[65,70,65,74],[65,75,65,78],[65,79,65,81],[66,2,66,6],[66,7,66,18],[66,19,66,24],[66,25,66,35],[66,36,66,46],[66,47,66,57],[66,58,66,62],[66,63,66,64],[66,65,66,69],[66,70,66,74],[66,75,66,78],[66,79,66,81],[65,25,65,35],[65,36,65,46],[65,47,65,57],[65,58,65,62],[65,63,65,64],[65,65,65,69],[64,47,64,57],[64,58,64,62],[64,63,64,64],[64,65,64,69],[60,1,60,82],[61,1,68,1],[61,2,61,81],[61,82,68,82],[62,2,62,81],[63,2,63,6],[63,7,63,18],[63,19,63,24],[63,25,63,35],[63,36,63,46],[63,47,63,57],[63,58,63,69],[63,70,63,74],[63,75,63,78],[63,79,63,81],[64,2,64,6],[64,7,64,18],[64,19,64,24],[64,25,64,35],[64,36,64,46],[64,79,64,81],[65,2,65,6],[65,7,65,18],[65,19,65,24],[35,77,35,81],[36,1,36,82],[59,1,59,82],[34,53,34,67],[34,69,34,73],[34,74,34,76],[34,77,34,81],[35,7,35,10],[35,12,35,16],[35,18,35,22],[35,24,35,33],[35,35,35,49],[35,50,35,52],[34,7,34,10],[34,12,34,16],[34,18,34,22],[34,24,34,33],[34,35,34,49],[34,50,34,52],[35,53,35,67],[35,69,35,73],[35,74,35,76],[32,77,32,81],[33,7,33,10],[33,12,33,16],[33,18,33,22],[33,24,33,33],[33,35,33,49],[33,50,33,52],[33,53,33,67],[33,69,33,73],[33,74,33,76],[33,77,33,81],[32,7,32,10],[32,12,32,16],[32,18,32,22],[32,24,32,33],[32,35,32,49],[32,50,32,52],[32,53,32,67],[32,69,32,73],[32,74,32,76],[30,77,30,81],[31,7,31,10],[31,12,31,16],[31,18,31,22],[31,24,31,33],[31,35,31,49],[31,50,31,52],[31,53,31,67],[31,69,31,73],[31,74,31,76],[31,77,31,81],[30,7,30,10],[30,12,30,16],[30,18,30,22],[30,24,30,33],[30,35,30,49],[30,50,30,52],[30,53,30,67],[30,69,30,73],[30,74,30,76],[28,74,28,76],[28,77,28,81],[29,7,29,10],[29,12,29,16],[29,18,29,22],[29,24,29,33],[29,35,29,49],[29,50,29,52],[28,7,28,10],[28,12,28,16],[28,18,28,22],[28,24,28,33],[28,35,28,49],[28,50,28,52],[29,53,29,67],[29,69,29,73],[29,74,29,76],[29,77,29,81],[27,18,27,22],[27,24,27,33],[27,35,27,49],[27,50,27,52],[26,50,26,52],[26,53,26,67],[26,68,35,68],[28,53,28,67],[28,69,28,73],[24,77,24,81],[25,2,25,81],[26,2,35,5],[26,6,35,6],[26,7,26,10],[26,11,35,11],[26,12,26,16],[15,2,24,5],[15,6,24,6],[26,69,26,73],[26,74,26,76],[26,77,26,81],[27,53,27,67],[27,69,27,73],[27,74,27,76],[27,77,27,81],[26,17,35,17],[26,18,26,22],[26,23,35,23],[26,24,26,33],[26,34,35,34],[26,35,26,49],[27,7,27,10],[27,12,27,16],[24,7,24,10],[24,12,24,16],[24,18,24,22],[24,24,24,33],[24,35,24,49],[24,50,24,52],[24,53,24,67],[24,69,24,73],[24,74,24,76],[22,24,22,33],[22,35,22,49],[22,50,22,52],[22,53,22,67],[22,69,22,73],[22,74,22,76],[22,77,22,81],[23,7,23,10],[23,12,23,16],[23,18,23,22],[23,24,23,33],[23,35,23,49],[23,50,23,52],[23,53,23,67],[23,69,23,73],[23,74,23,76],[23,77,23,81],[20,53,20,67],[20,69,20,73],[20,74,20,76],[20,77,20,81],[21,7,21,10],[21,12,21,16],[21,18,21,22],[21,24,21,33],[21,35,21,49],[21,50,21,52],[21,53,21,67],[21,69,21,73],[21,74,21,76],[21,77,21,81],[18,53,18,67],[18,69,18,73],[18,74,18,76],[18,77,18,81],[19,7,19,10],[19,12,19,16],[19,18,19,22],[19,24,19,33],[19,35,19,49],[19,50,19,52],[19,53,19,67],[19,69,19,73],[19,74,19,76],[19,77,19,81],[16,53,16,67],[16,69,16,73],[16,74,16,76],[16,77,16,81],[17,7,17,10],[17,12,17,16],[17,18,17,22],[17,24,17,33],[17,35,17,49],[17,50,17,52],[17,53,17,67],[17,69,17,73],[17,74,17,76],[17,77,17,81],[15,24,15,33],[15,34,24,34],[15,35,15,49],[15,50,15,52],[16,50,16,52],[15,7,15,10],[15,11,24,11],[15,12,15,16],[15,17,24,17],[18,7,18,10],[18,12,18,16],[18,18,18,22],[18,24,18,33],[18,35,18,49],[18,50,18,52],[20,7,20,10],[20,12,20,16],[20,18,20,22],[20,24,20,33],[20,35,20,49],[20,50,20,52],[22,7,22,10],[22,12,22,16],[22,18,22,22],[13,69,13,81],[14,2,14,81],[7,68,7,81],[8,1,8,82],[9,1,9,82],[10,1,10,82],[11,1,35,1],[11,2,11,81],[11,82,35,82],[12,2,12,81],[13,2,13,5],[13,7,13,10],[15,53,15,67],[15,68,24,68],[15,69,15,73],[15,74,15,76],[15,77,15,81],[16,7,16,10],[16,12,16,16],[16,18,16,22],[16,24,16,33],[16,35,16,49],[15,18,15,22],[15,23,24,23],[0,0,0,83],[1,1,1,82],[1,83,97,83],[2,1,2,82],[3,1,3,82],[4,1,7,1],[4,2,4,81],[4,82,7,82],[5,2,5,81],[6,2,6,11],[6,12,6,25],[6,26,6,39],[6,40,6,53],[6,54,6,67],[6,68,6,81],[7,2,7,11],[7,12,7,25],[7,26,7,39],[7,40,7,53],[7,54,7,67],[13,12,13,16],[13,18,13,22],[13,24,13,33],[13,35,13,67]]}
[]
[null,{"$f":"\"Turnier am \" & MID(CELL(\"dateiname\",A1),SEARCH(\"]\",CELL(\"dateiname\",A1))+1,31)","v":"Turnier am 22.4."}]
[]
[]
[null,null,"Spielerliste"]
[]
[null,null,{"$f":"\" Spieler\"","v":" Spieler"},null,null,null,null,null,null,null,null,null,"Spieler 1",null,null,null,null,null,null,null,null,null,null,null,null,null,"Spieler 2",null,null,null,null,null,null,null,null,null,null,null,null,null,"Spieler 3",null,null,null,null,null,null,null,null,null,null,null,null,null,"Spieler 4",null,null,null,null,null,null,null,null,null,null,null,null,null,"Spieler 5"]
[null,null,{"$f":"\" Name\"","v":" Name"},null,null,null,null,null,null,null,null,null,"Jule",null,null,null,null,null,null,null,null,null,null,null,null,null,"Markus",null,null,null,null,null,null,null,null,null,null,null,null,null,"Ratze",null,null,null,null,null,null,null,null,null,null,null,null,null,"Patrick",null,null,null,null,null,null,null,null,null,null,null,null,null,"Christoph"]
[]
[]
[]
[null,null,"Spielplan"]
[]
[null,null,"00:12:00",null,null,null,null,"Spiel",null,null,null,null,"Datum",null,null,null,null,null,"Uhrzeit",null,null,null,null,null,"Austragungsort",null,null,null,null,null,null,null,null,null,null,"Paarung",null,null,null,null,null,null,null,null,null,null,null,null,null,null,null,null,null,null,null,null,null,null,null,null,null,null,null,null,null,null,null,null,null,"Ergebnis",null,null,null,null,null,null,null,null,null,null,null,null,null,null,"Spiele","SiegHeim","Unentschieden","SiegGast"]
[]
[null,null,"Hinrunde",null,null,null,null,1,null,null,null,null,{"$f":"MID(CELL(\"dateiname\",A1),SEARCH(\"]\",CELL(\"dateiname\",A1))+1,31)","v":"22.4."},null,null,null,null,null,"21:00:00",null,null,null,null,null,"Fernseher",null,null,null,null,null,null,null,null,null,null,{"$f":"$M$8","v":"Jule"},null,null,null,null,null,null,null,null,null,null,null,null,null,null,":",null,null,{"$f":"$AA$8","v":"Markus"},null,null,null,null,null,null,null,null,null,null,null,null,null,null,null,2,null,null,null,null,":",null,null,0,null,null,null,null,null,null,{"$f":"IF(AND(ISNUMBER(BR16),ISNUMBER(BZ16)),1,0)","v":1},{"$f":"IF(OR(ISBLANK(BR16),ISBLANK(BZ16)),0,IF(BR16>BZ16,1,0))","v":1},{"$f":"IF(OR(ISBLANK(BR16),ISBLANK(BZ16)),0,IF(BR16=BZ16,1,0))","v":0},{"$f":"IF(OR(ISBLANK(BR16),ISBLANK(BZ16)),0,IF(BR16<BZ16,1,0))","v":0}]
[null,null,null,null,null,null,null,{"$f":"H16+1","v":2},null,null,null,null,{"$f":"$M$16","v":"22.4."},null,null,null,null,null,{"$f":"S16","v":"21:00:00"},null,null,null,null,null,"Fernseher",null,null,null,null,null,null,null,null,null,null,{"$f":"$AO$8","v":"Ratze"},null,null,null,null,null,null,null,null,null,null,null,null,null,null,":",null,null,{"$f":"$BC$8","v":"Patrick"},null,null,null,null,null,null,null,null,null,null,null,null,null,null,null,3,null,null,null,null,":",null,null,1,null,null,null,null,null,null,{"$f":"IF(AND(ISNUMBER(BR17),ISNUMBER(BZ17)),1,0)","v":1},{"$f":"IF(OR(ISBLANK(BR17),ISBLANK(BZ17)),0,IF(BR17>BZ17,1,0))","v":1},{"$f":"IF(OR(ISBLANK(BR17),ISBLANK(BZ17)),0,IF(BR17=BZ17,1,0))","v":0},{"$f":"IF(OR(ISBLANK(BR17),ISBLANK(BZ17)),0,IF(BR17<BZ17,1,0))","v":0}]
[null,null,null,null,null,null,null,{"$f":"H17+1","v":3},null,null,null,null,{"$f":"$M$16","v":"22.4."},null,null,null,null,null,{"$f":"S16+$C$14","v":"21:12:00"},null,null,null,null,null,{"$f":"$Y$16","v":"Fernseher"},null,null,null,null,null,null,null,null,null,null,{"$f":"$BQ$8","v":"Christoph"},null,null,null,null,null,null,null,null,null,null,null,null,null,null,":",null,null,{"$f":"$M$8","v":"Jule"},null,null,null,null,null,null,null,null,null,null,null,null,null,null,null,1,null,null,null,null,":",null,null,0,null,null,null,null,null,null,1,1,0,0]
[null,null,null,null,null,null,null,{"$f":"H18+1","v":4},null,null,null,null,"22.4.",null,null,null,null,null,"21:12:00",null,null,null,null,null,{"$f":"$Y$17","v":"Fernseher"},null,null,null,null,null,null,null,null,null,null,{"$f":"$AA$8","v":"Markus"},null,null,null,null,null,null,null,null,null,null,null,null,null,null,":",null,null,{"$f":"$AO$8","v":"Ratze"},null,null,null,null,null,null,null,null,null,null,null,null,null,null,null,1,null,null,null,null,":",null,null,1,null,null,null,null,null,null,1,0,1,0]
[null,null,null,null,null,null,null,5,null,null,null,null,"22.4.",null,null,null,null,null,"21:24:00",null,null,null,null,null,{"$f":"$Y$16","v":"Fernseher"},null,null,null,null,null,null,null,null,null,null,{"$f":"$BC$8","v":"Patrick"},null,null,null,null,null,null,null,null,null,null,null,null,null,null,":",null,null,{"$f":"$BQ$8","v":"Christoph"},null,null,null,null,null,null,null,null,null,null,null,null,null,null,null,2,null,null,null,null,":",null,null,2,null,null,null,null,null,null,1,0,1,0]
[null,null,null,null,null,null,null,6,null,null,null,null,"22.4.",null,null,null,null,null,"21:24:00",null,null,null,null,null,{"$f":"$Y$17","v":"Fernseher"},null,null,null,null,null,null,null,null,null,null,{"$f":"$M$8","v":"Jule"},null,null,null,null,null,null,null,null,null,null,null,null,null,null,":",null,null,{"$f":"$AO$8","v":"Ratze"},null,null,null,null,null,null,null,null,null,null,null,null,null,null,null,1,null,null,null,null,":",null,null,4,null,null,null,null,null,null,1,0,0,1]
[null,null,null,null,null,null,null,7,null,null,null,null,"22.4.",null,null,null,null,null,"21:36:00",null,null,null,null,null,{"$f":"$Y$16","v":"Fernseher"},null,null,null,null,null,null,null,null,null,null,{"$f":"$AA$8","v":"Markus"},null,null,null,null,null,null,null,null,null,null,null,null,null,null,":",null,null,{"$f":"$BC$8","v":"Patrick"},null,null,null,null,null,null,null,null,null,null,null,null,null,null,null,2,null,null,null,null,":",null,null,1,null,null,null,null,null,null,1,1,0,0]
[null,null,null,null,null,null,null,8,null,null,null,null,"22.4.",null,null,null,null,null,"21:36:00",null,null,null,null,null,{"$f":"$Y$17","v":"Fernseher"},null,null,null,null,null,null,null,null,null,null,{"$f":"$AO$8","v":"Ratze"},null,null,null,null,null,null,null,null,null,null,null,null,null,null,":",null,null,{"$f":"$BQ$8","v":"Christoph"},null,null,null,null,null,null,null,null,null,null,null,null,null,null,null,0,null,null,null,null,":",null,null,1,null,null,null,null,null,null,1,0,0,1]
[null,null,null,null,null,null,null,9,null,null,null,null,"22.4.",null,null,null,null,null,"21:48:00",null,null,null,null,null,{"$f":"$Y$16","v":"Fernseher"},null,null,null,null,null,null,null,null,null,null,{"$f":"$BC$8","v":"Patrick"},null,null,null,null,null,null,null,null,null,null,null,null,null,null,":",null,null,{"$f":"$M$8","v":"Jule"},null,null,null,null,null,null,null,null,null,null,null,null,null,null,null,1,null,null,null,null,":",null,null,2,null,null,null,null,null,null,1,0,0,1]
[null,null,null,null,null,null,null,10,null,null,null,null,"22.4.",null,null,null,null,null,"21:48:00",null,null,null,null,null,{"$f":"$Y$17","v":"Fernseher"},null,null,null,null,null,null,null,null,null,null,{"$f":"$BQ$8","v":"Christoph"},null,null,null,null,null,null,null,null,null,null,null,null,null,null,":",null,null,{"$f":"$AA$8","v":"Markus"},null,null,null,null,null,null,null,null,null,null,null,null,null,null,null,2,null,null,null,null,":",null,null,1,null,null,null,null,null,null,1,1,0,0]
[]
[null,null,"Rückrunde",null,null,null,null,{"$f":"H25+1","v":11},null,null,null,null,{"$f":"$M$16","v":"22.4."},null,null,null,null,null,{"$f":"S24+$C$14","v":"22:00:00"},null,null,null,null,null,{"$f":"$Y$17","v":"Fernseher"},null,null,null,null,null,null,null,null,null,null,{"$f":"$AA$8","v":"Markus"},null,null,null,null,null,null,null,null,null,null,null,null,null,null,":",null,null,{"$f":"$M$8","v":"Jule"},null,null,null,null,null,null,null,null,null,null,null,null,null,null,null,2,null,null,null,null,":",null,null,1,null,null,null,null,null,null,{"$f":"IF(AND(ISNUMBER(BR27),ISNUMBER(BZ27)),1,0)","v":1},{"$f":"IF(OR(ISBLANK(BR27),ISBLANK(BZ27)),0,IF(BR27>BZ27,1,0))","v":1},{"$f":"IF(OR(ISBLANK(BR27),ISBLANK(BZ27)),0,IF(BR27=BZ27,1,0))","v":0},{"$f":"IF(OR(ISBLANK(BR27),ISBLANK(BZ27)),0,IF(BR27<BZ27,1,0))","v":0}]
[null,null,null,null,null,null,null,{"$f":"H27+1","v":12},null,null,null,null,"22.4.",null,null,null,null,null,{"$f":"S25+$C$14","v":"22:00:00"},null,null,null,null,null,{"$f":"$Y$16","v":"Fernseher"},null,null,null,null,null,null,null,null,null,null,{"$f":"$BC$8","v":"Patrick"},null,null,null,null,null,null,null,null,null,null,null,null,null,null,":",null,null,{"$f":"$AO$8","v":"Ratze"},null,null,null,null,null,null,null,null,null,null,null,null,null,null,null,2,null,null,null,null,":",null,null,2,null,null,null,null,null,null,1,0,1,0]
[null,null,null,null,null,null,null,{"$f":"H28+1","v":13},null,null,null,null,"22.4.",null,null,null,null,null,{"$f":"S27+$C$14","v":"22:12:00"},null,null,null,null,null,{"$f":"$Y$17","v":"Fernseher"},null,null,null,null,null,null,null,null,null,null,{"$f":"$M$8","v":"Jule"},null,null,null,null,null,null,null,null,null,null,null,null,null,null,":",null,null,{"$f":"$BQ$8","v":"Christoph"},null,null,null,null,null,null,null,null,null,null,null,null,null,null,null,1,null,null,null,null,":",null,null,1,null,null,null,null,null,null,1,0,1,0]
[null,null,null,null,null,null,null,14,null,null,null,null,"22.4.",null,null,null,null,null,"22:12:00",null,null,null,null,null,{"$f":"$Y$16","v":"Fernseher"},null,null,null,null,null,null,null,null,null,null,{"$f":"$AO$8","v":"Ratze"},null,null,null,null,null,null,null,null,null,null,null,null,null,null,":",null,null,{"$f":"$AA$8","v":"Markus"},null,null,null,null,null,null,null,null,null,null,null,null,null,null,null,3,null,null,null,null,":",null,null,0,null,null,null,null,null,null,1,1,0,0]
[null,null,null,null,null,null,null,15,null,null,null,null,"22.4.",null,null,null,null,null,"22:24:00",null,null,null,null,null,{"$f":"$Y$17","v":"Fernseher"},null,null,null,null,null,null,null,null,null,null,{"$f":"$BQ$8","v":"Christoph"},null,null,null,null,null,null,null,null,null,null,null,null,null,null,":",null,null,{"$f":"$BC$8","v":"Patrick"},null,null,null,null,null,null,null,null,null,null,null,null,null,null,null,1,null,null,null,null,":",null,null,3,null,null,null,null,null,null,1,0,0,1]
[null,null,null,null,null,null,null,16,null,null,null,null,"22.4.",null,null,null,null,null,"22:24:00",null,null,null,null,null,{"$f":"$Y$16","v":"Fernseher"},null,null,null,null,null,null,null,null,null,null,{"$f":"$AO$8","v":"Ratze"},null,null,null,null,null,null,null,null,null,null,null,null,null,null,":",null,null,{"$f":"$M$8","v":"Jule"},null,null,null,null,null,null,null,null,null,null,null,null,null,null,null,4,null,null,null,null,":",null,null,1,null,null,null,null,null,null,1,1,0,0]
[null,null,null,null,null,null,null,17,null,null,null,null,"22.4.",null,null,null,null,null,"22:36:00",null,null,null,null,null,{"$f":"$Y$17","v":"Fernseher"},null,null,null,null,null,null,null,null,null,null,{"$f":"$BC$8","v":"Patrick"},null,null,null,null,null,null,null,null,null,null,null,null,null,null,":",null,null,{"$f":"$AA$8","v":"Markus"},null,null,null,null,null,null,null,null,null,null,null,null,null,null,null,1,null,null,null,null,":",null,null,2,null,null,null,null,null,null,1,0,0,1]
[null,null,null,null,null,null,null,18,null,null,null,null,"22.4.",null,null,null,null,null,"22:36:00",null,null,null,null,null,{"$f":"$Y$16","v":"Fernseher"},null,null,null,null,null,null,null,null,null,null,{"$f":"$BQ$8","v":"Christoph"},null,null,null,null,null,null,null,null,null,null,null,null,null,null,":",null,null,{"$f":"$AO$8","v":"Ratze"},null,null,null,null,null,null,null,null,null,null,null,null,null,null,null,1,null,null,null,null,":",null,null,4,null,null,null,null,null,null,1,0,0,1]
[null,null,null,null,null,null,null,19,null,null,null,null,"22.4.",null,null,null,null,null,"22:48:00",null,null,null,null,null,{"$f":"$Y$17","v":"Fernseher"},null,null,null,null,null,null,null,null,null,null,{"$f":"$M$8","v":"Jule"},null,null,null,null,null,null,null,null,null,null,null,null,null,null,":",null,null,{"$f":"$BC$8","v":"Patrick"},null,null,null,null,null,null,null,null,null,null,null,null,null,null,null,2,null,null,null,null,":",null,null,2,null,null,null,null,null,null,1,0,1,0]
[null,null,null,null,null,null,null,20,null,null,null,null,"22.4.",null,null,null,null,null,"22:48:00",null,null,null,null,null,{"$f":"$Y$16","v":"Fernseher"},null,null,null,null,null,null,null,null,null,null,{"$f":"$AA$8","v":"Markus"},null,null,null,null,null,null,null,null,null,null,null,null,null,null,":",null,null,{"$f":"$BQ$8","v":"Christoph"},null,null,null,null,null,null,null,null,null,null,null,null,null,null,null,0,null,null,null,null,":",null,null,0,null,null,null,null,null,null,1,0,1,0]
[]
[]
[]
[]
[]
[]
[]
[]
[]
[]
[]
[]
[]
[]
[]
[]
[]
[]
[]
[]
[]
[]
[]
[]
[]
[null,null,"Tabelle (unsortiert)"]
[]
[null,null,"Rang",null,null,null,null,"Spieler",null,null,null,null,null,null,null,null,null,null,null,"Spiele",null,null,null,null,null,"Siege",null,null,null,null,null,null,null,null,null,null,"Unentschieden",null,null,null,null,null,null,null,null,null,null,"Niederlagen",null,null,null,null,null,null,null,null,null,null,"Tore",null,null,null,null,null,null,null,null,null,null,null,"+/-",null,null,null,null,"Punkte",null,null,null,"HS"]
[null,null,{"$f":"IF(T65=0,0,RANK(BX65,$BX$65:$CA$69,0))","v":4},null,null,null,null,{"$f":"$M$8","v":"Jule"},null,null,null,null,null,null,null,null,null,null,null,{"$f":"CG16+CG18+CG21+CG24+CG27+CG29+CG32+CG35","v":8},null,null,null,null,null,{"$f":"CH16+CJ18+CH21+CJ24+CJ27+CH29+CJ32+CH35","v":2},null,null,null,null,null,null,null,null,null,null,{"$f":"CI16+CI18+CI21+CI24+CI27+CI29+CI32+CI35","v":2},null,null,null,null,null,null,null,null,null,null,{"$f":"CJ16+CH18+CJ21+CH24+CH27+CJ29+CH32+CJ35","v":4},null,null,null,null,null,null,null,null,null,null,{"$f":"BR16+BZ18+BR21+BZ24+BZ27+BR29+BZ32+BR35","v":10},null,null,null,null,":",null,{"$f":"BZ16+BR18+BZ21+BR24+BR27+BZ29+BR32+BZ35","v":15},null,null,null,null,{"$f":"BG65-BN65","v":-5},null,null,null,null,{"$f":"(Z65*3)+AK65","v":8},null,null,null,{"$f":"BX65+ROW()/1000","v":8.0649999999999995}]
[null,null,{"$f":"IF(T66=0,0,RANK(BX66,$BX$65:$CA$69,0))","v":3},null,null,null,null,{"$f":"$AA$8","v":"Markus"},null,null,null,null,null,null,null,null,null,null,null,{"$f":"CG16+CG19+CG22+CG25+CG27+CG30+CG33+CG36","v":8},null,null,null,null,null,{"$f":"CJ16+CH19+CH22+CJ25+CH27+CJ30+CJ33+CH36","v":3},null,null,null,null,null,null,null,null,null,null,{"$f":"CI16+CI19+CI22+CI25+CI27+CI30+CI33+CI36","v":2},null,null,null,null,null,null,null,null,null,null,{"$f":"CH16+CJ19+CJ22+CH25+CJ27+CH30+CH33+CJ36","v":3},null,null,null,null,null,null,null,null,null,null,{"$f":"BZ16+BR19+BR22+BZ25+BR27+BZ30+BZ33+BR36","v":8},null,null,null,":",":",null,{"$f":"BR16+BZ19+BZ22+BR25+BZ27+BR30+BR33+BZ36","v":11},null,null,null,null,{"$f":"BG66-BN66","v":-3},null,null,null,null,{"$f":"(Z66*3)+AK66","v":11},null,null,null,{"$f":"BX66+ROW()/1000","v":11.066000000000001}]
[null,null,{"$f":"IF(T67=0,0,RANK(BX67,$BX$65:$CA$69,0))","v":1},null,null,null,null,{"$f":"$AO$8","v":"Ratze"},null,null,null,null,null,null,null,null,null,null,null,{"$f":"CG17+CG19+CG21+CG23+CG28+CG30+CG32+CG34","v":8},null,null,null,null,null,{"$f":"CH17+CJ19+CJ21+CH23+CJ28+CH30+CH32+CJ34","v":5},null,null,null,null,null,null,null,null,null,null,{"$f":"CI17+CI19+CI21+CI23+CI28+CI30+CI32+CI34","v":2},null,null,null,null,null,null,null,null,null,null,{"$f":"CJ17+CH19+CH21+CJ23+CH28+CJ30+CJ32+CH34","v":1},null,null,null,null,null,null,null,null,null,null,{"$f":"BR17+BZ19+BZ21+BR23+BZ28+BR30+BR32+BZ34","v":21},null,null,null,":",":",null,{"$f":"BZ17+BR19+BR21+BZ23+BR28+BZ30+BZ32+BR34","v":8},null,null,null,null,{"$f":"BG67-BN67","v":13},null,null,null,null,{"$f":"(Z67*3)+AK67","v":17},null,null,null,{"$f":"BX67+ROW()/1000","v":17.067}]
[null,null,{"$f":"IF(T68=0,0,RANK(BX68,$BX$65:$CA$69,0))","v":5},null,null,null,null,{"$f":"$BC$8","v":"Patrick"},null,null,null,null,null,null,null,null,null,null,null,{"$f":"CG17+CG20+CG22+CG24+CG28+CG31+CG33+CG35","v":8},null,null,null,null,null,{"$f":"CJ17+CH20+CJ22+CH24+CH28+CJ31+CH33+CJ35","v":1},null,null,null,null,null,null,null,null,null,null,{"$f":"CI17+CI20+CI22+CI24+CI28+CI31+CI33+CI35","v":3},null,null,null,null,null,null,null,null,null,null,{"$f":"CH17+CJ20+CH22+CJ24+CJ28+CH31+CJ33+CH35","v":4},null,null,null,null,null,null,null,null,null,null,{"$f":"BZ17+BR20+BZ22+BR24+BR28+BZ31+BR33+BZ35","v":13},null,null,null,":",":",null,{"$f":"BR17+BZ20+BR22+BZ24+BZ28+BR31+BZ33+BR35","v":16},null,null,null,null,{"$f":"BG68-BN68","v":-3},null,null,null,null,{"$f":"(Z68*3)+AK68","v":6},null,null,null,{"$f":"BX68+ROW()/1000","v":6.0679999999999996}]
[null,null,{"$f":"IF(T69=0,0,RANK(BX69,$BX$65:$CA$69,0))","v":2},null,null,null,null,{"$f":"$BQ$8","v":"Christoph"},null,null,null,null,null,null,null,null,null,null,null,{"$f":"CG18+CG20+CG23+CG25+CG29+CG31+CG34+CG36","v":8},null,null,null,null,null,{"$f":"CH18+CJ20+CJ23+CH25+CJ29+CH31+CH34+CJ36","v":3},null,null,null,null,null,null,null,null,null,null,{"$f":"CI18+CI20+CI23+CI25+CI29+CI31+CI34+CI36","v":3},null,null,null,null,null,null,null,null,null,null,{"$f":"CJ18+CH20+CH23+CJ25+CH29+CJ31+CJ34+CH36","v":2},null,null,null,null,null,null,null,null,null,null,{"$f":"BR18+BZ20+BZ23+BR25+BZ29+BR31+BR34+BZ36","v":9},null,null,null,":",":",null,{"$f":"BZ18+BR20+BR23+BZ25+BR29+BZ31+BZ34+BR36","v":11},null,null,null,null,{"$f":"BG69-BN69","v":-2},null,null,null,null,{"$f":"(Z69*3)+AK69","v":12},null,null,null,{"$f":"BX69+ROW()/1000","v":12.069000000000001}]
[null,null,null,null,null,null,null,"Spieler 6",null,null,null,null,null,null,null,null,null,null,null,0,null,null,null,null,null,0,null,null,null,null,null,null,null,null,null,null,0,null,null,null,null,null,null,null,null,null,null,0,null,null,null,null,null,null,null,null,null,null,0,null,null,null,null,":",null,0,null,null,null,null,0,null,null,null,null,0,null,null,null,0]
[null,null,null,null,null,null,null,"Spieler 7",null,null,null,null,null,null,null,null,null,null,null,0,null,null,null,null,null,0,null,null,null,null,null,null,null,null,null,null,0,null,null,null,null,null,null,null,null,null,null,0,null,null,null,null,null,null,null,null,null,null,0,null,null,null,null,":",null,0,null,null,null,null,0,null,null,null,null,0,null,null,null,0]
[]
[]
[]
[null,null,"Tabelle"]
[]
[null,null,"Rang",null,null,null,null,"Spieler",null,null,null,null,null,null,null,null,null,null,null,"Spiele",null,null,null,null,null,"Siege",null,null,null,null,null,null,null,null,null,null,"Unentschieden",null,null,null,null,null,null,null,null,null,null,"Niederlagen",null,null,null,null,null,null,null,null,null,null,"Tore",null,null,null,null,null,null,null,null,null,null,null,"+/-",null,null,null,null,"Punkte"]
[null,null,{"$f":"INDEX($C$65:$C$69,MATCH(LARGE($CB$65:$CB$69,ROW(A1)),$CB$65:$CB$69,0),1)","v":1},null,null,1,null,{"$f":"INDEX($H$65:$H$69,MATCH(LARGE($CB$65:$CB$69,ROW(A1)),$CB$65:$CB$69,0),1)","v":"Ratze"},null,null,null,null,null,null,null,null,null,null,null,{"$f":"INDEX($T$65:$T$69,MATCH(LARGE($CB$65:$CB$69,ROW(A1)),$CB$65:$CB$69,0),1)","v":8},null,null,null,null,null,{"$f":"INDEX($Z$65:$Z$69,MATCH(LARGE($CB$65:$CB$69,ROW(A1)),$CB$65:$CB$69,0),1)","v":5},null,null,null,null,null,null,null,null,null,null,{"$f":"INDEX($AK$65:$AK$69,MATCH(LARGE($CB$65:$CB$69,ROW(A1)),$CB$65:$CB$69,0),1)","v":2},null,null,null,null,null,null,null,null,null,null,{"$f":"INDEX($AV$65:$AV$69,MATCH(LARGE($CB$65:$CB$69,ROW(A1)),$CB$65:$CB$69,0),1)","v":1},null,null,null,null,null,null,null,null,null,null,{"$f":"INDEX($BG$65:$BG$69,MATCH(LARGE($CB$65:$CB$69,ROW(A1)),$CB$65:$CB$69,0),1)","v":21},null,null,null,null,":",null,{"$f":"INDEX($BN$65:$BN$69,MATCH(LARGE($CB$65:$CB$69,ROW(A1)),$CB$65:$CB$69,0),1)","v":8},null,null,null,null,{"$f":"INDEX($BS$65:$BS$69,MATCH(LARGE($CB$65:$CB$69,ROW(A1)),$CB$65:$CB$69,0),1)","v":13},null,null,null,null,{"$f":"INDEX($BX$65:$BX$69,MATCH(LARGE($CB$65:$CB$69,ROW(A1)),$CB$65:$CB$69,0),1)","v":17}]
[null,null,{"$f":"INDEX($C$65:$C$69,MATCH(LARGE($CB$65:$CB$69,ROW(A2)),$CB$65:$CB$69,0),1)","v":2},null,null,2,null,{"$f":"INDEX($H$65:$H$69,MATCH(LARGE($CB$65:$CB$69,ROW(A2)),$CB$65:$CB$69,0),1)","v":"Christoph"},null,null,null,null,null,null,null,null,null,null,null,{"$f":"INDEX($T$65:$T$69,MATCH(LARGE($CB$65:$CB$69,ROW(A2)),$CB$65:$CB$69,0),1)","v":8},null,null,null,null,null,{"$f":"INDEX($Z$65:$Z$69,MATCH(LARGE($CB$65:$CB$69,ROW(A2)),$CB$65:$CB$69,0),1)","v":3},null,null,null,null,null,null,null,null,null,null,{"$f":"INDEX($AK$65:$AK$69,MATCH(LARGE($CB$65:$CB$69,ROW(A2)),$CB$65:$CB$69,0),1)","v":3},null,null,null,null,null,null,null,null,null,null,{"$f":"INDEX($AV$65:$AV$69,MATCH(LARGE($CB$65:$CB$69,ROW(A2)),$CB$65:$CB$69,0),1)","v":2},null,null,null,null,null,null,null,null,null,null,{"$f":"INDEX($BG$65:$BG$69,MATCH(LARGE($CB$65:$CB$69,ROW(A2)),$CB$65:$CB$69,0),1)","v":9},null,null,null,null,":",null,{"$f":"INDEX($BN$65:$BN$69,MATCH(LARGE($CB$65:$CB$69,ROW(A2)),$CB$65:$CB$69,0),1)","v":11},null,null,null,null,{"$f":"INDEX($BS$65:$BS$69,MATCH(LARGE($CB$65:$CB$69,ROW(A2)),$CB$65:$CB$69,0),1)","v":-2},null,null,null,null,{"$f":"INDEX($BX$65:$BX$69,MATCH(LARGE($CB$65:$CB$69,ROW(A2)),$CB$65:$CB$69,0),1)","v":12}]
[null,null,{"$f":"INDEX($C$65:$C$69,MATCH(LARGE($CB$65:$CB$69,ROW(A3)),$CB$65:$CB$69,0),1)","v":3},null,null,3,null,{"$f":"INDEX($H$65:$H$69,MATCH(LARGE($CB$65:$CB$69,ROW(A3)),$CB$65:$CB$69,0),1)","v":"Markus"},null,null,null,null,null,null,null,null,null,null,null,{"$f":"INDEX($T$65:$T$69,MATCH(LARGE($CB$65:$CB$69,ROW(A3)),$CB$65:$CB$69,0),1)","v":8},null,null,null,null,null,{"$f":"INDEX($Z$65:$Z$69,MATCH(LARGE($CB$65:$CB$69,ROW(A3)),$CB$65:$CB$69,0),1)","v":3},null,null,null,null,null,null,null,null,null,null,{"$f":"INDEX($AK$65:$AK$69,MATCH(LARGE($CB$65:$CB$69,ROW(A3)),$CB$65:$CB$69,0),1)","v":2},null,null,null,null,null,null,null,null,null,null,{"$f":"INDEX($AV$65:$AV$69,MATCH(LARGE($CB$65:$CB$69,ROW(A3)),$CB$65:$CB$69,0),1)","v":3},null,null,null,null,null,null,null,null,null,null,{"$f":"INDEX($BG$65:$BG$69,MATCH(LARGE($CB$65:$CB$69,ROW(A3)),$CB$65:$CB$69,0),1)","v":8},null,null,null,null,":",null,{"$f":"INDEX($BN$65:$BN$69,MATCH(LARGE($CB$65:$CB$69,ROW(A3)),$CB$65:$CB$69,0),1)","v":11},null,null,null,null,{"$f":"INDEX($BS$65:$BS$69,MATCH(LARGE($CB$65:$CB$69,ROW(A3)),$CB$65:$CB$69,0),1)","v":-3},null,null,null,null,{"$f":"INDEX($BX$65:$BX$69,MATCH(LARGE($CB$65:$CB$69,ROW(A3)),$CB$65:$CB$69,0),1)","v":11}]
[null,null,{"$f":"INDEX($C$65:$C$69,MATCH(LARGE($CB$65:$CB$69,ROW(A4)),$CB$65:$CB$69,0),1)","v":4},null,null,4,null,{"$f":"INDEX($H$65:$H$69,MATCH(LARGE($CB$65:$CB$69,ROW(A4)),$CB$65:$CB$69,0),1)","v":"Jule"},null,null,null,null,null,null,null,null,null,null,null,{"$f":"INDEX($T$65:$T$69,MATCH(LARGE($CB$65:$CB$69,ROW(A4)),$CB$65:$CB$69,0),1)","v":8},null,null,null,null,null,{"$f":"INDEX($Z$65:$Z$69,MATCH(LARGE($CB$65:$CB$69,ROW(A4)),$CB$65:$CB$69,0),1)","v":2},null,null,null,null,null,null,null,null,null,null,{"$f":"INDEX($AK$65:$AK$69,MATCH(LARGE($CB$65:$CB$69,ROW(A4)),$CB$65:$CB$69,0),1)","v":2},null,null,null,null,null,null,null,null,null,null,{"$f":"INDEX($AV$65:$AV$69,MATCH(LARGE($CB$65:$CB$69,ROW(A4)),$CB$65:$CB$69,0),1)","v":4},null,null,null,null,null,null,null,null,null,null,{"$f":"INDEX($BG$65:$BG$69,MATCH(LARGE($CB$65:$CB$69,ROW(A4)),$CB$65:$CB$69,0),1)","v":10},null,null,null,null,":",null,{"$f":"INDEX($BN$65:$BN$69,MATCH(LARGE($CB$65:$CB$69,ROW(A4)),$CB$65:$CB$69,0),1)","v":15},null,null,null,null,{"$f":"INDEX($BS$65:$BS$69,MATCH(LARGE($CB$65:$CB$69,ROW(A4)),$CB$65:$CB$69,0),1)","v":-5},null,null,null,null,{"$f":"INDEX($BX$65:$BX$69,MATCH(LARGE($CB$65:$CB$69,ROW(A4)),$CB$65:$CB$69,0),1)","v":8}]
[null,null,{"$f":"INDEX($C$65:$C$69,MATCH(LARGE($CB$65:$CB$69,ROW(A5)),$CB$65:$CB$69,0),1)","v":5},null,null,5,null,{"$f":"INDEX($H$65:$H$69,MATCH(LARGE($CB$65:$CB$69,ROW(A5)),$CB$65:$CB$69,0),1)","v":"Patrick"},null,null,null,null,null,null,null,null,null,null,null,{"$f":"INDEX($T$65:$T$69,MATCH(LARGE($CB$65:$CB$69,ROW(A5)),$CB$65:$CB$69,0),1)","v":8},null,null,null,null,null,{"$f":"INDEX($Z$65:$Z$69,MATCH(LARGE($CB$65:$CB$69,ROW(A5)),$CB$65:$CB$69,0),1)","v":1},null,null,null,null,null,null,null,null,null,null,{"$f":"INDEX($AK$65:$AK$69,MATCH(LARGE($CB$65:$CB$69,ROW(A5)),$CB$65:$CB$69,0),1)","v":3},null,null,null,null,null,null,null,null,null,null,{"$f":"INDEX($AV$65:$AV$69,MATCH(LARGE($CB$65:$CB$69,ROW(A5)),$CB$65:$CB$69,0),1)","v":4},null,null,null,null,null,null,null,null,null,null,{"$f":"INDEX($BG$65:$BG$69,MATCH(LARGE($CB$65:$CB$69,ROW(A5)),$CB$65:$CB$69,0),1)","v":13},null,null,null,null,":",null,{"$f":"INDEX($BN$65:$BN$69,MATCH(LARGE($CB$65:$CB$69,ROW(A5)),$CB$65:$CB$69,0),1)","v":16},null,null,null,null,{"$f":"INDEX($BS$65:$BS$69,MATCH(LARGE($CB$65:$CB$69,ROW(A5)),$CB$65:$CB$69,0),1)","v":-3},null,null,null,null,{"$f":"INDEX($BX$65:$BX$69,MATCH(LARGE($CB$65:$CB$69,ROW(A5)),$CB$65:$CB$69,0),1)","v":6}]
[null,null,"---",null,null,"---",null,"Spieler 6",null,null,null,null,null,null,null,null,null,null,null,0,null,null,null,null,null,0,null,null,null,null,null,null,null,null,null,null,0,null,null,null,null,null,null,null,null,null,null,0,null,null,null,null,null,null,null,null,null,null,0,null,null,null,null,":",null,0,null,null,null,null,0,null,null,null,null,0]
[null,null,"---",null,null,"---",null,"Spieler 7",null,null,null,null,null,null,null,null,null,null,null,0,null,null,null,null,null,0,null,null,null,null,null,null,null,null,null,null,0,null,null,null,null,null,null,null,null,null,null,0,null,null,null,null,null,null,null,null,null,null,0,null,null,null,null,":",null,0,null,null,null,null,0,null,null,null,null,0]
[]
[]
[]
[null,null,"Tabelle (nach Alphabet)"]
[]
[null,null,"Rang",null,null,null,null,"Spieler",null,null,null,null,null,null,null,null,null,null,null,"Spiele",null,null,null,null,null,"Siege",null,null,null,null,null,null,null,null,null,null,"Unentschieden",null,null,null,null,null,null,null,null,null,null,"Niederlagen",null,null,null,null,null,null,null,null,null,null,"Tore",null,null,null,null,null,null,null,null,null,null,null,"+/-",null,null,null,null,"Punkte"]
[null,null,{"$f":"IF($H$78=\"Basti\",$F$78,IF($H$79=\"Basti\",$F$79,IF($H$80=\"Basti\",$F$80,IF($H$81=\"Basti\",$F$81,IF($H$82=\"Basti\",$F$82,IF($H$83=\"Basti\",$F$83,IF($H$84=\"Basti\",$F$84,0)))))))","v":0},null,null,null,null,"Basti",null,null,null,null,null,null,null,null,null,null,null,{"$f":"IF($H$78=\"Basti\",$T$78,IF($H$79=\"Basti\",$T$79,IF($H$80=\"Basti\",$T$80,IF($H$81=\"Basti\",$T$81,IF($H$82=\"Basti\",$T$82,IF($H$83=\"Basti\",$T$83,IF($H$84=\"Basti\",$T$84,0)))))))","v":0},null,null,null,null,null,{"$f":"IF($H$78=\"Basti\",$Z$78,IF($H$79=\"Basti\",$Z$79,IF($H$80=\"Basti\",$Z$80,IF($H$81=\"Basti\",$Z$81,IF($H$82=\"Basti\",$Z$82,IF($H$83=\"Basti\",$Z$83,IF($H$84=\"Basti\",$Z$84,0)))))))","v":0},null,null,null,null,null,null,null,null,null,null,{"$f":"IF($H$78=\"Basti\",$AK$78,IF($H$79=\"Basti\",$AK$79,IF($H$80=\"Basti\",$AK$80,IF($H$81=\"Basti\",$AK$81,IF($H$82=\"Basti\",$AK$82,IF($H$83=\"Basti\",$AK$83,IF($H$84=\"Basti\",$AK$84,0)))))))","v":0},null,null,null,null,null,null,null,null,null,null,{"$f":"IF($H$78=\"Basti\",$AV$78,IF($H$79=\"Basti\",$AV$79,IF($H$80=\"Basti\",$AV$80,IF($H$81=\"Basti\",$AV$81,IF($H$82=\"Basti\",$AV$82,IF($H$83=\"Basti\",$AV$83,IF($H$84=\"Basti\",$AV$84,0)))))))","v":0},null,null,null,null,null,null,null,null,null,null,{"$f":"IF($H$78=\"Basti\",$BG$78,IF($H$79=\"Basti\",$BG$79,IF($H$80=\"Basti\",$BG$80,IF($H$81=\"Basti\",$BG$81,IF($H$82=\"Basti\",$BG$82,IF($H$83=\"Basti\",$BG$83,IF($H$84=\"Basti\",$BG$84,0)))))))","v":0},null,null,null,null,":",null,{"$f":"IF($H$78=\"Basti\",$BN$78,IF($H$79=\"Basti\",$BN$79,IF($H$80=\"Basti\",$BN$80,IF($H$81=\"Basti\",$BN$81,IF($H$82=\"Basti\",$BN$82,IF($H$83=\"Basti\",$BN$83,IF($H$84=\"Basti\",$BN$84,0)))))))","v":0},null,null,null,null,{"$f":"IF($H$78=\"Basti\",$BS$78,IF($H$79=\"Basti\",$BS$79,IF($H$80=\"Basti\",$BS$80,IF($H$81=\"Basti\",$BS$81,IF($H$82=\"Basti\",$BS$82,IF($H$83=\"Basti\",$BS$83,IF($H$84=\"Basti\",$BS$84,0)))))))","v":0},null,null,null,null,{"$f":"IF($H$78=\"Basti\",$BX$78,IF($H$79=\"Basti\",$BX$79,IF($H$80=\"Basti\",$BX$80,IF($H$81=\"Basti\",$BX$81,IF($H$82=\"Basti\",$BX$82,IF($H$83=\"Basti\",$BX$83,IF($H$84=\"Basti\",$BX$84,0)))))))","v":0}]
[null,null,{"$f":"IF($H$78=\"Christoph\",$F$78,IF($H$79=\"Christoph\",$F$79,IF($H$80=\"Christoph\",$F$80,IF($H$81=\"Christoph\",$F$81,IF($H$82=\"Christoph\",$F$82,IF($H$83=\"Christoph\",$F$83,IF($H$84=\"Christoph\",$F$84,0)))))))","v":2},null,null,null,null,"Christoph",null,null,null,null,null,null,null,null,null,null,null,{"$f":"IF($H$78=\"Christoph\",$T$78,IF($H$79=\"Christoph\",$T$79,IF($H$80=\"Christoph\",$T$80,IF($H$81=\"Christoph\",$T$81,IF($H$82=\"Christoph\",$T$82,IF($H$83=\"Christoph\",$T$83,IF($H$84=\"Christoph\",$T$84,0)))))))","v":8},null,null,null,null,null,{"$f":"IF($H$78=\"Christoph\",$Z$78,IF($H$79=\"Christoph\",$Z$79,IF($H$80=\"Christoph\",$Z$80,IF($H$81=\"Christoph\",$Z$81,IF($H$82=\"Christoph\",$Z$82,IF($H$83=\"Christoph\",$Z$83,IF($H$84=\"Christoph\",$Z$84,0)))))))","v":3},null,null,null,null,null,null,null,null,null,null,{"$f":"IF($H$78=\"Christoph\",$AK$78,IF($H$79=\"Christoph\",$AK$79,IF($H$80=\"Christoph\",$AK$80,IF($H$81=\"Christoph\",$AK$81,IF($H$82=\"Christoph\",$AK$82,IF($H$83=\"Christoph\",$AK$83,IF($H$84=\"Christoph\",$AK$84,0)))))))","v":3},null,null,null,null,null,null,null,null,null,null,{"$f":"IF($H$78=\"Christoph\",$AV$78,IF($H$79=\"Christoph\",$AV$79,IF($H$80=\"Christoph\",$AV$80,IF($H$81=\"Christoph\",$AV$81,IF($H$82=\"Christoph\",$AV$82,IF($H$83=\"Christoph\",$AV$83,IF($H$84=\"Christoph\",$AV$84,0)))))))","v":2},null,null,null,null,null,null,null,null,null,null,{"$f":"IF($H$78=\"Christoph\",$BG$78,IF($H$79=\"Christoph\",$BG$79,IF($H$80=\"Christoph\",$BG$80,IF($H$81=\"Christoph\",$BG$81,IF($H$82=\"Christoph\",$BG$82,IF($H$83=\"Christoph\",$BG$83,IF($H$84=\"Christoph\",$BG$84,0)))))))","v":9},null,null,null,null,":",null,{"$f":"IF($H$78=\"Christoph\",$BN$78,IF($H$79=\"Christoph\",$BN$79,IF($H$80=\"Christoph\",$BN$80,IF($H$81=\"Christoph\",$BN$81,IF($H$82=\"Christoph\",$BN$82,IF($H$83=\"Christoph\",$BN$83,IF($H$84=\"Christoph\",$BN$84,0)))))))","v":11},null,null,null,null,{"$f":"IF($H$78=\"Christoph\",$BS$78,IF($H$79=\"Christoph\",$BS$79,IF($H$80=\"Christoph\",$BS$80,IF($H$81=\"Christoph\",$BS$81,IF($H$82=\"Christoph\",$BS$82,IF($H$83=\"Christoph\",$BS$83,IF($H$84=\"Christoph\",$BS$84,0)))))))","v":-2},null,null,null,null,{"$f":"IF($H$78=\"Christoph\",$BX$78,IF($H$79=\"Christoph\",$BX$79,IF($H$80=\"Christoph\",$BX$80,IF($H$81=\"Christoph\",$BX$81,IF($H$82=\"Christoph\",$BX$82,IF($H$83=\"Christoph\",$BX$83,IF($H$84=\"Christoph\",$BX$84,0)))))))","v":12}]
[null,null,{"$f":"IF($H$78=\"Jule\",$F$78,IF($H$79=\"Jule\",$F$79,IF($H$80=\"Jule\",$F$80,IF($H$81=\"Jule\",$F$81,IF($H$82=\"Jule\",$F$82,IF($H$83=\"Jule\",$F$83,IF($H$84=\"Jule\",$F$84,0)))))))","v":4},null,null,null,null,"Jule",null,null,null,null,null,null,null,null,null,null,null,{"$f":"IF($H$78=\"Jule\",$T$78,IF($H$79=\"Jule\",$T$79,IF($H$80=\"Jule\",$T$80,IF($H$81=\"Jule\",$T$81,IF($H$82=\"Jule\",$T$82,IF($H$83=\"Jule\",$T$83,IF($H$84=\"Jule\",$T$84,0)))))))","v":8},null,null,null,null,null,{"$f":"IF($H$78=\"Jule\",$Z$78,IF($H$79=\"Jule\",$Z$79,IF($H$80=\"Jule\",$Z$80,IF($H$81=\"Jule\",$Z$81,IF($H$82=\"Jule\",$Z$82,IF($H$83=\"Jule\",$Z$83,IF($H$84=\"Jule\",$Z$84,0)))))))","v":2},null,null,null,null,null,null,null,null,null,null,{"$f":"IF($H$78=\"Jule\",$AK$78,IF($H$79=\"Jule\",$AK$79,IF($H$80=\"Jule\",$AK$80,IF($H$81=\"Jule\",$AK$81,IF($H$82=\"Jule\",$AK$82,IF($H$83=\"Jule\",$AK$83,IF($H$84=\"Jule\",$AK$84,0)))))))","v":2},null,null,null,null,null,null,null,null,null,null,{"$f":"IF($H$78=\"Jule\",$AV$78,IF($H$79=\"Jule\",$AV$79,IF($H$80=\"Jule\",$AV$80,IF($H$81=\"Jule\",$AV$81,IF($H$82=\"Jule\",$AV$82,IF($H$83=\"Jule\",$AV$83,IF($H$84=\"Jule\",$AV$84,0)))))))","v":4},null,null,null,null,null,null,null,null,null,null,{"$f":"IF($H$78=\"Jule\",$BG$78,IF($H$79=\"Jule\",$BG$79,IF($H$80=\"Jule\",$BG$80,IF($H$81=\"Jule\",$BG$81,IF($H$82=\"Jule\",$BG$82,IF($H$83=\"Jule\",$BG$83,IF($H$84=\"Jule\",$BG$84,0)))))))","v":10},null,null,null,null,":",null,{"$f":"IF($H$78=\"Jule\",$BN$78,IF($H$79=\"Jule\",$BN$79,IF($H$80=\"Jule\",$BN$80,IF($H$81=\"Jule\",$BN$81,IF($H$82=\"Jule\",$BN$82,IF($H$83=\"Jule\",$BN$83,IF($H$84=\"Jule\",$BN$84,0)))))))","v":15},null,null,null,null,{"$f":"IF($H$78=\"Jule\",$BS$78,IF($H$79=\"Jule\",$BS$79,IF($H$80=\"Jule\",$BS$80,IF($H$81=\"Jule\",$BS$81,IF($H$82=\"Jule\",$BS$82,IF($H$83=\"Jule\",$BS$83,IF($H$84=\"Jule\",$BS$84,0)))))))","v":-5},null,null,null,null,{"$f":"IF($H$78=\"Jule\",$BX$78,IF($H$79=\"Jule\",$BX$79,IF($H$80=\"Jule\",$BX$80,IF($H$81=\"Jule\",$BX$81,IF($H$82=\"Jule\",$BX$82,IF($H$83=\"Jule\",$BX$83,IF($H$84=\"Jule\",$BX$84,0)))))))","v":8}]
[null,null,{"$f":"IF($H$78=\"Markus\",$F$78,IF($H$79=\"Markus\",$F$79,IF($H$80=\"Markus\",$F$80,IF($H$81=\"Markus\",$F$81,IF($H$82=\"Markus\",$F$82,IF($H$83=\"Markus\",$F$83,IF($H$84=\"Markus\",$F$84,0)))))))","v":3},null,null,null,null,"Markus",null,null,null,null,null,null,null,null,null,null,null,{"$f":"IF($H$78=\"Markus\",$T$78,IF($H$79=\"Markus\",$T$79,IF($H$80=\"Markus\",$T$80,IF($H$81=\"Markus\",$T$81,IF($H$82=\"Markus\",$T$82,IF($H$83=\"Markus\",$T$83,IF($H$84=\"Markus\",$T$84,0)))))))","v":8},null,null,null,null,null,{"$f":"IF($H$78=\"Markus\",$Z$78,IF($H$79=\"Markus\",$Z$79,IF($H$80=\"Markus\",$Z$80,IF($H$81=\"Markus\",$Z$81,IF($H$82=\"Markus\",$Z$82,IF($H$83=\"Markus\",$Z$83,IF($H$84=\"Markus\",$Z$84,0)))))))","v":3},null,null,null,null,null,null,null,null,null,null,{"$f":"IF($H$78=\"Markus\",$AK$78,IF($H$79=\"Markus\",$AK$79,IF($H$80=\"Markus\",$AK$80,IF($H$81=\"Markus\",$AK$81,IF($H$82=\"Markus\",$AK$82,IF($H$83=\"Markus\",$AK$83,IF($H$84=\"Markus\",$AK$84,0)))))))","v":2},null,null,null,null,null,null,null,null,null,null,{"$f":"IF($H$78=\"Markus\",$AV$78,IF($H$79=\"Markus\",$AV$79,IF($H$80=\"Markus\",$AV$80,IF($H$81=\"Markus\",$AV$81,IF($H$82=\"Markus\",$AV$82,IF($H$83=\"Markus\",$AV$83,IF($H$84=\"Markus\",$AV$84,0)))))))","v":3},null,null,null,null,null,null,null,null,null,null,{"$f":"IF($H$78=\"Markus\",$BG$78,IF($H$79=\"Markus\",$BG$79,IF($H$80=\"Markus\",$BG$80,IF($H$81=\"Markus\",$BG$81,IF($H$82=\"Markus\",$BG$82,IF($H$83=\"Markus\",$BG$83,IF($H$84=\"Markus\",$BG$84,0)))))))","v":8},null,null,null,null,":",null,{"$f":"IF($H$78=\"Markus\",$BN$78,IF($H$79=\"Markus\",$BN$79,IF($H$80=\"Markus\",$BN$80,IF($H$81=\"Markus\",$BN$81,IF($H$82=\"Markus\",$BN$82,IF($H$83=\"Markus\",$BN$83,IF($H$84=\"Markus\",$BN$84,0)))))))","v":11},null,null,null,null,{"$f":"IF($H$78=\"Markus\",$BS$78,IF($H$79=\"Markus\",$BS$79,IF($H$80=\"Markus\",$BS$80,IF($H$81=\"Markus\",$BS$81,IF($H$82=\"Markus\",$BS$82,IF($H$83=\"Markus\",$BS$83,IF($H$84=\"Markus\",$BS$84,0)))))))","v":-3},null,null,null,null,{"$f":"IF($H$78=\"Markus\",$BX$78,IF($H$79=\"Markus\",$BX$79,IF($H$80=\"Markus\",$BX$80,IF($H$81=\"Markus\",$BX$81,IF($H$82=\"Markus\",$BX$82,IF($H$83=\"Markus\",$BX$83,IF($H$84=\"Markus\",$BX$84,0)))))))","v":11}]
[null,null,{"$f":"IF($H$78=\"Patrick\",$F$78,IF($H$79=\"Patrick\",$F$79,IF($H$80=\"Patrick\",$F$80,IF($H$81=\"Patrick\",$F$81,IF($H$82=\"Patrick\",$F$82,IF($H$83=\"Patrick\",$F$83,IF($H$84=\"Patrick\",$F$84,0)))))))","v":5},null,null,null,null,"Patrick",null,null,null,null,null,null,null,null,null,null,null,{"$f":"IF($H$78=\"Patrick\",$T$78,IF($H$79=\"Patrick\",$T$79,IF($H$80=\"Patrick\",$T$80,IF($H$81=\"Patrick\",$T$81,IF($H$82=\"Patrick\",$T$82,IF($H$83=\"Patrick\",$T$83,IF($H$84=\"Patrick\",$T$84,0)))))))","v":8},null,null,null,null,null,{"$f":"IF($H$78=\"Patrick\",$Z$78,IF($H$79=\"Patrick\",$Z$79,IF($H$80=\"Patrick\",$Z$80,IF($H$81=\"Patrick\",$Z$81,IF($H$82=\"Patrick\",$Z$82,IF($H$83=\"Patrick\",$Z$83,IF($H$84=\"Patrick\",$Z$84,0)))))))","v":1},null,null,null,null,null,null,null,null,null,null,{"$f":"IF($H$78=\"Patrick\",$AK$78,IF($H$79=\"Patrick\",$AK$79,IF($H$80=\"Patrick\",$AK$80,IF($H$81=\"Patrick\",$AK$81,IF($H$82=\"Patrick\",$AK$82,IF($H$83=\"Patrick\",$AK$83,IF($H$84=\"Patrick\",$AK$84,0)))))))","v":3},null,null,null,null,null,null,null,null,null,null,{"$f":"IF($H$78=\"Patrick\",$AV$78,IF($H$79=\"Patrick\",$AV$79,IF($H$80=\"Patrick\",$AV$80,IF($H$81=\"Patrick\",$AV$81,IF($H$82=\"Patrick\",$AV$82,IF($H$83=\"Patrick\",$AV$83,IF($H$84=\"Patrick\",$AV$84,0)))))))","v":4},null,null,null,null,null,null,null,null,null,null,{"$f":"IF($H$78=\"Patrick\",$BG$78,IF($H$79=\"Patrick\",$BG$79,IF($H$80=\"Patrick\",$BG$80,IF($H$81=\"Patrick\",$BG$81,IF($H$82=\"Patrick\",$BG$82,IF($H$83=\"Patrick\",$BG$83,IF($H$84=\"Patrick\",$BG$84,0)))))))","v":13},null,null,null,null,":",null,{"$f":"IF($H$78=\"Patrick\",$BN$78,IF($H$79=\"Patrick\",$BN$79,IF($H$80=\"Patrick\",$BN$80,IF($H$81=\"Patrick\",$BN$81,IF($H$82=\"Patrick\",$BN$82,IF($H$83=\"Patrick\",$BN$83,IF($H$84=\"Patrick\",$BN$84,0)))))))","v":16},null,null,null,null,{"$f":"IF($H$78=\"Patrick\",$BS$78,IF($H$79=\"Patrick\",$BS$79,IF($H$80=\"Patrick\",$BS$80,IF($H$81=\"Patrick\",$BS$81,IF($H$82=\"Patrick\",$BS$82,IF($H$83=\"Patrick\",$BS$83,IF($H$84=\"Patrick\",$BS$84,0)))))))","v":-3},null,null,null,null,{"$f":"IF($H$78=\"Patrick\",$BX$78,IF($H$79=\"Patrick\",$BX$79,IF($H$80=\"Patrick\",$BX$80,IF($H$81=\"Patrick\",$BX$81,IF($H$82=\"Patrick\",$BX$82,IF($H$83=\"Patrick\",$BX$83,IF($H$84=\"Patrick\",$BX$84,0)))))))","v":6}]
[null,null,{"$f":"IF($H$78=\"Ratze\",$F$78,IF($H$79=\"Ratze\",$F$79,IF($H$80=\"Ratze\",$F$80,IF($H$81=\"Ratze\",$F$81,IF($H$82=\"Ratze\",$F$82,IF($H$83=\"Ratze\",$F$83,IF($H$84=\"Ratze\",$F$84,0)))))))","v":1},null,null,null,null,"Ratze",null,null,null,null,null,null,null,null,null,null,null,{"$f":"IF($H$78=\"Ratze\",$T$78,IF($H$79=\"Ratze\",$T$79,IF($H$80=\"Ratze\",$T$80,IF($H$81=\"Ratze\",$T$81,IF($H$82=\"Ratze\",$T$82,IF($H$83=\"Ratze\",$T$83,IF($H$84=\"Ratze\",$T$84,0)))))))","v":8},null,null,null,null,null,{"$f":"IF($H$78=\"Ratze\",$Z$78,IF($H$79=\"Ratze\",$Z$79,IF($H$80=\"Ratze\",$Z$80,IF($H$81=\"Ratze\",$Z$81,IF($H$82=\"Ratze\",$Z$82,IF($H$83=\"Ratze\",$Z$83,IF($H$84=\"Ratze\",$Z$84,0)))))))","v":5},null,null,null,null,null,null,null,null,null,null,{"$f":"IF($H$78=\"Ratze\",$AK$78,IF($H$79=\"Ratze\",$AK$79,IF($H$80=\"Ratze\",$AK$80,IF($H$81=\"Ratze\",$AK$81,IF($H$82=\"Ratze\",$AK$82,IF($H$83=\"Ratze\",$AK$83,IF($H$84=\"Ratze\",$AK$84,0)))))))","v":2},null,null,null,null,null,null,null,null,null,null,{"$f":"IF($H$78=\"Ratze\",$AV$78,IF($H$79=\"Ratze\",$AV$79,IF($H$80=\"Ratze\",$AV$80,IF($H$81=\"Ratze\",$AV$81,IF($H$82=\"Ratze\",$AV$82,IF($H$83=\"Ratze\",$AV$83,IF($H$84=\"Ratze\",$AV$84,0)))))))","v":1},null,null,null,null,null,null,null,null,null,null,{"$f":"IF($H$78=\"Ratze\",$BG$78,IF($H$79=\"Ratze\",$BG$79,IF($H$80=\"Ratze\",$BG$80,IF($H$81=\"Ratze\",$BG$81,IF($H$82=\"Ratze\",$BG$82,IF($H$83=\"Ratze\",$BG$83,IF($H$84=\"Ratze\",$BG$84,0)))))))","v":21},null,null,null,null,":",null,{"$f":"IF($H$78=\"Ratze\",$BN$78,IF($H$79=\"Ratze\",$BN$79,IF($H$80=\"Ratze\",$BN$80,IF($H$81=\"Ratze\",$BN$81,IF($H$82=\"Ratze\",$BN$82,IF($H$83=\"Ratze\",$BN$83,IF($H$84=\"Ratze\",$BN$84,0)))))))","v":8},null,null,null,null,{"$f":"IF($H$78=\"Ratze\",$BS$78,IF($H$79=\"Ratze\",$BS$79,IF($H$80=\"Ratze\",$BS$80,IF($H$81=\"Ratze\",$BS$81,IF($H$82=\"Ratze\",$BS$82,IF($H$83=\"Ratze\",$BS$83,IF($H$84=\"Ratze\",$BS$84,0)))))))","v":13},null,null,null,null,{"$f":"IF($H$78=\"Ratze\",$BX$78,IF($H$79=\"Ratze\",$BX$79,IF($H$80=\"Ratze\",$BX$80,IF($H$81=\"Ratze\",$BX$81,IF($H$82=\"Ratze\",$BX$82,IF($H$83=\"Ratze\",$BX$83,IF($H$84=\"Ratze\",$BX$84,0)))))))","v":17}]
[null,null,{"$f":"IF($H$78=\"Schmiddi\",$F$78,IF($H$79=\"Schmiddi\",$F$79,IF($H$80=\"Schmiddi\",$F$80,IF($H$81=\"Schmiddi\",$F$81,IF($H$82=\"Schmiddi\",$F$82,IF($H$83=\"Schmiddi\",$F$83,IF($H$84=\"Schmiddi\",$F$84,0)))))))","v":0},null,null,null,null,"Schmiddi",null,null,null,null,null,null,null,null,null,null,null,{"$f":"IF($H$78=\"Schmiddi\",$T$78,IF($H$79=\"Schmiddi\",$T$79,IF($H$80=\"Schmiddi\",$T$80,IF($H$81=\"Schmiddi\",$T$81,IF($H$82=\"Schmiddi\",$T$82,IF($H$83=\"Schmiddi\",$T$83,IF($H$84=\"Schmiddi\",$T$84,0)))))))","v":0},null,null,null,null,null,{"$f":"IF($H$78=\"Schmiddi\",$Z$78,IF($H$79=\"Schmiddi\",$Z$79,IF($H$80=\"Schmiddi\",$Z$80,IF($H$81=\"Schmiddi\",$Z$81,IF($H$82=\"Schmiddi\",$Z$82,IF($H$83=\"Schmiddi\",$Z$83,IF($H$84=\"Schmiddi\",$Z$84,0)))))))","v":0},null,null,null,null,null,null,null,null,null,null,{"$f":"IF($H$78=\"Schmiddi\",$AK$78,IF($H$79=\"Schmiddi\",$AK$79,IF($H$80=\"Schmiddi\",$AK$80,IF($H$81=\"Schmiddi\",$AK$81,IF($H$82=\"Schmiddi\",$AK$82,IF($H$83=\"Schmiddi\",$AK$83,IF($H$84=\"Schmiddi\",$AK$84,0)))))))","v":0},null,null,null,null,null,null,null,null,null,null,{"$f":"IF($H$78=\"Schmiddi\",$AV$78,IF($H$79=\"Schmiddi\",$AV$79,IF($H$80=\"Schmiddi\",$AV$80,IF($H$81=\"Schmiddi\",$AV$81,IF($H$82=\"Schmiddi\",$AV$82,IF($H$83=\"Schmiddi\",$AV$83,IF($H$84=\"Schmiddi\",$AV$84,0)))))))","v":0},null,null,null,null,null,null,null,null,null,null,{"$f":"IF($H$78=\"Schmiddi\",$BG$78,IF($H$79=\"Schmiddi\",$BG$79,IF($H$80=\"Schmiddi\",$BG$80,IF($H$81=\"Schmiddi\",$BG$81,IF($H$82=\"Schmiddi\",$BG$82,IF($H$83=\"Schmiddi\",$BG$83,IF($H$84=\"Schmiddi\",$BG$84,0)))))))","v":0},null,null,null,null,":",null,{"$f":"IF($H$78=\"Schmiddi\",$BN$78,IF($H$79=\"Schmiddi\",$BN$79,IF($H$80=\"Schmiddi\",$BN$80,IF($H$81=\"Schmiddi\",$BN$81,IF($H$82=\"Schmiddi\",$BN$82,IF($H$83=\"Schmiddi\",$BN$83,IF($H$84=\"Schmiddi\",$BN$84,0)))))))","v":0},null,null,null,null,{"$f":"IF($H$78=\"Schmiddi\",$BS$78,IF($H$79=\"Schmiddi\",$BS$79,IF($H$80=\"Schmiddi\",$BS$80,IF($H$81=\"Schmiddi\",$BS$81,IF($H$82=\"Schmiddi\",$BS$82,IF($H$83=\"Schmiddi\",$BS$83,IF($H$84=\"Schmiddi\",$BS$84,0)))))))","v":0},null,null,null,null,{"$f":"IF($H$78=\"Schmiddi\",$BX$78,IF($H$79=\"Schmiddi\",$BX$79,IF($H$80=\"Schmiddi\",$BX$80,IF($H$81=\"Schmiddi\",$BX$81,IF($H$82=\"Schmiddi\",$BX$82,IF($H$83=\"Schmiddi\",$BX$83,IF($H$84=\"Schmiddi\",$BX$84,0)))))))","v":0}]

{"sheet":"29.4.","index":20,"n_rows":97,"n_cols":88,"rows_kept":97,"cut":false,"hidden":false,"merged":[[97,1,97,82],[98,0,98,83],[96,47,96,57],[96,58,96,62],[96,63,96,64],[96,65,96,69],[96,70,96,74],[96,75,96,81],[95,58,95,62],[95,63,95,64],[95,65,95,69],[95,70,95,74],[95,75,95,81],[96,2,96,6],[96,7,96,18],[96,19,96,24],[96,25,96,35],[96,36,96,46],[95,2,95,6],[95,7,95,18],[95,19,95,24],[95,25,95,35],[95,36,95,46],[95,47,95,57],[94,47,94,57],[94,58,94,62],[94,63,94,64],[94,65,94,69],[94,70,94,74],[94,75,94,81],[93,58,93,62],[93,63,93,64],[93,65,93,69],[93,70,93,74],[93,75,93,81],[93,47,93,57],[94,2,94,6],[94,7,94,18],[94,19,94,24],[94,25,94,35],[94,36,94,46],[93,2,93,6],[93,7,93,18],[93,19,93,24],[93,25,93,35],[93,36,93,46],[92,36,92,46],[90,63,90,64],[90,65,90,69],[90,70,90,74],[90,75,90,81],[91,2,91,6],[91,7,91,18],[91,19,91,24],[91,25,91,35],[91,36,91,46],[91,47,91,57],[92,47,92,57],[92,58,92,62],[92,63,92,64],[92,65,92,69],[92,70,92,74],[92,75,92,81],[91,58,91,62],[91,63,91,64],[91,65,91,69],[91,70,91,74],[91,75,91,81],[87,1,96,1],[87,2,87,81],[87,82,96,82],[88,2,88,81],[89,2,89,6],[89,7,89,18],[89,19,89,24],[89,25,89,35],[89,36,89,46],[89,47,89,57],[89,58,89,69],[89,70,89,74],[89,75,89,81],[90,2,90,6],[90,7,90,18],[90,19,90,24],[90,25,90,35],[90,36,90,46],[90,47,90,57],[90,58,90,62],[92,2,92,6],[92,7,92,18],[92,19,92,24],[92,25,92,35],[84,1,84,82],[85,1,85,82],[86,1,86,82],[82,75,82,81],[83,2,83,4],[83,5,83,6],[83,7,83,18],[83,19,83,24],[83,25,83,35],[83,36,83,46],[83,47,83,57],[83,58,83,62],[83,63,83,64],[82,36,82,46],[82,47,82,57],[82,58,82,62],[82,63,82,64],[82,65,82,69],[82,70,82,74],[81,65,81,69],[81,70,81,74],[81,75,81,81],[82,2,82,4],[82,5,82,6],[82,7,82,18],[82,19,82,24],[82,25,82,35],[83,65,83,69],[83,70,83,74],[83,75,83,81],[81,2,81,4],[81,5,81,6],[81,7,81,18],[81,19,81,24],[81,25,81,35],[81,36,81,46],[81,47,81,57],[81,58,81,62],[81,63,81,64],[79,2,79,4],[79,5,79,6],[79,7,79,18],[79,19,79,24],[79,25,79,35],[79,75,79,81],[80,2,80,4],[80,5,80,6],[80,7,80,18],[80,19,80,24],[80,25,80,35],[80,36,80,46],[80,47,80,57],[80,58,80,62],[80,63,80,64],[79,36,79,46],[79,47,79,57],[79,58,79,62],[79,63,79,64],[79,65,79,69],[79,70,79,74],[80,65,80,69],[80,70,80,74],[80,75,80,81],[76,70,76,74],[77,65,77,69],[77,70,77,74],[77,75,77,81],[78,2,78,4],[78,5,78,6],[78,7,78,18],[78,19,78,24],[78,25,78,35],[78,36,78,46],[78,47,78,57],[78,58,78,62],[78,63,78,64],[78,65,78,69],[78,70,78,74],[78,75,78,81],[71,1,71,82],[72,1,72,82],[73,1,73,82],[74,1,80,1],[74,2,74,81],[74,82,80,82],[75,2,75,81],[76,2,76,6],[76,7,76,18],[76,75,76,81],[77,2,77,4],[77,5,77,6],[77,7,77,18],[77,19,77,24],[77,25,77,35],[77,36,77,46],[77,47,77,57],[77,58,77,62],[77,63,77,64],[76,19,76,24],[76,25,76,35],[76,36,76,46],[76,47,76,57],[76,58,76,69],[69,70,69,74],[69,75,69,78],[69,79,69,81],[70,2,70,6],[70,7,70,18],[70,19,70,24],[70,25,70,35],[70,36,70,46],[70,79,70,81],[70,47,70,57],[70,58,70,62],[70,63,70,64],[70,65,70,69],[70,70,70,74],[70,75,70,78],[69,2,69,6],[69,7,69,18],[69,19,69,24],[69,25,69,35],[69,36,69,46],[69,47,69,57],[69,58,69,62],[69,63,69,64],[69,65,69,69],[67,2,67,6],[67,7,67,18],[67,19,67,24],[67,25,67,35],[67,36,67,46],[67,79,67,81],[68,2,68,6],[68,7,68,18],[68,19,68,24],[68,25,68,35],[68,36,68,46],[68,47,68,57],[68,58,68,62],[68,63,68,64],[68,65,68,69],[67,47,67,57],[67,58,67,62],[67,63,67,64],[67,65,67,69],[67,70,67,74],[67,75,67,78],[68,70,68,74],[68,75,68,78],[68,79,68,81],[64,70,64,74],[64,75,64,78],[65,70,65,74],[65,75,65,78],[65,79,65,81],[66,2,66,6],[66,7,66,18],[66,19,66,24],[66,25,66,35],[66,36,66,46],[66,47,66,57],[66,58,66,62],[66,63,66,64],[66,65,66,69],[66,70,66,74],[66,75,66,78],[66,79,66,81],[65,25,65,35],[65,36,65,46],[65,47,65,57],[65,58,65,62],[65,63,65,64],[65,65,65,69],[64,47,64,57],[64,58,64,62],[64,63,64,64],[64,65,64,69],[60,1,60,82],[61,1,67,1],[61,2,61,81],[61,82,67,82],[62,2,62,81],[63,2,63,6],[63,7,63,18],[63,19,63,24],[63,25,63,35],[63,36,63,46],[63,47,63,57],[63,58,63,69],[63,70,63,74],[63,75,63,78],[63,79,63,81],[64,2,64,6],[64,7,64,18],[64,19,64,24],[64,25,64,35],[64,36,64,46],[64,79,64,81],[65,2,65,6],[65,7,65,18],[65,19,65,24],[27,77,27,81],[28,1,28,82],[59,1,59,82],[26,53,26,67],[26,69,26,73],[26,74,26,76],[26,77,26,81],[27,7,27,10],[27,12,27,16],[27,18,27,22],[27,24,27,33],[27,35,27,49],[27,50,27,52],[26,7,26,10],[26,12,26,16],[26,18,26,22],[26,24,26,33],[26,35,26,49],[26,50,26,52],[27,53,27,67],[27,69,27,73],[27,74,27,76],[23,50,23,52],[22,50,22,52],[22,53,22,67],[22,68,27,68],[24,53,24,67],[24,69,24,73],[24,74,24,76],[24,77,24,81],[25,53,25,67],[25,69,25,73],[25,74,25,76],[25,77,25,81],[25,7,25,10],[25,12,25,16],[25,18,25,22],[25,24,25,33],[25,35,25,49],[25,50,25,52],[24,7,24,10],[24,12,24,16],[24,18,24,22],[24,24,24,33],[24,35,24,49],[24,50,24,52],[21,2,21,81],[22,2,27,5],[22,6,27,6],[22,7,22,10],[22,11,27,11],[22,12,22,16],[22,69,22,73],[22,74,22,76],[22,77,22,81],[23,53,23,67],[23,69,23,73],[23,74,23,76],[23,77,23,81],[22,17,27,17],[22,18,22,22],[22,23,27,23],[22,24,22,33],[22,34,27,34],[22,35,22,49],[23,7,23,10],[23,12,23,16],[23,18,23,22],[23,24,23,33],[23,35,23,49],[20,7,20,10],[20,12,20,16],[20,18,20,22],[20,24,20,33],[20,35,20,49],[20,50,20,52],[20,53,20,67],[20,69,20,73],[20,74,20,76],[15,23,20,23],[15,24,15,33],[15,34,20,34],[15,35,15,49],[16,7,16,10],[16,12,16,16],[16,18,16,22],[16,24,16,33],[16,35,16,49],[18,7,18,10],[18,12,18,16],[18,18,18,22],[18,24,18,33],[18,35,18,49],[18,50,18,52],[17,7,17,10],[17,12,17,16],[17,18,17,22],[17,24,17,33],[17,35,17,49],[17,50,17,52],[15,12,15,16],[15,69,15,73],[15,74,15,76],[15,77,15,81],[16,53,16,67],[16,50,16,52],[15,50,15,52],[15,53,15,67],[15,68,20,68],[17,53,17,67],[17,69,17,73],[17,74,17,76],[17,77,17,81],[18,53,18,67],[18,69,18,73],[18,74,18,76],[18,77,18,81],[19,50,19,52],[19,53,19,67],[19,69,19,73],[19,74,19,76],[19,77,19,81],[20,77,20,81],[0,0,0,83],[1,1,1,82],[1,83,97,83],[2,1,2,82],[3,1,3,82],[4,1,7,1],[4,2,4,81],[4,82,7,82],[5,2,5,81],[6,2,6,13],[6,14,6,30],[6,31,6,47],[6,48,6,64],[6,65,6,81],[7,2,7,13],[7,14,7,30],[7,31,7,47],[7,48,7,64],[7,65,7,81],[19,7,19,10],[19,12,19,16],[19,18,19,22],[19,24,19,33],[19,35,19,49],[8,1,8,82],[9,1,9,82],[10,1,10,82],[11,1,27,1],[11,2,11,81],[16,69,16,73],[16,74,16,76],[16,77,16,81],[15,17,20,17],[15,18,15,22],[11,82,27,82],[12,2,12,81],[13,2,13,5],[13,7,13,10],[13,12,13,16],[13,18,13,22],[13,24,13,33],[13,35,13,67],[13,69,13,81],[14,2,14,81],[15,2,20,5],[15,6,20,6],[15,7,15,10],[15,11,20,11]]}
[]
[null,{"$f":"\"Turnier am \" & MID(CELL(\"dateiname\",A1),SEARCH(\"]\",CELL(\"dateiname\",A1))+1,31)","v":"Turnier am 29.4."}]
[]
[]
[null,null,"Spielerliste"]
[]
[null,null,{"$f":"\" Spieler\"","v":" Spieler"},null,null,null,null,null,null,null,null,null,null,null,"Spieler 1",null,null,null,null,null,null,null,null,null,null,null,null,null,null,null,null,"Spieler 2",null,null,null,null,null,null,null,null,null,null,null,null,null,null,null,null,"Spieler 3",null,null,null,null,null,null,null,null,null,null,null,null,null,null,null,null,"Spieler 4"]
[null,null,{"$f":"\" Name\"","v":" Name"},null,null,null,null,null,null,null,null,null,null,null,"Patrick",null,null,null,null,null,null,null,null,null,null,null,null,null,null,null,null,"Markus",null,null,null,null,null,null,null,null,null,null,null,null,null,null,null,null,"Ratze",null,null,null,null,null,null,null,null,null,null,null,null,null,null,null,null,"Christoph"]
[]
[]
[]
[null,null,"Spielplan"]
[]
[null,null,"00:12:00",null,null,null,null,"Spiel",null,null,null,null,"Datum",null,null,null,null,null,"Uhrzeit",null,null,null,null,null,"Austragungsort",null,null,null,null,null,null,null,null,null,null,"Paarung",null,null,null,null,null,null,null,null,null,null,null,null,null,null,null,null,null,null,null,null,null,null,null,null,null,null,null,null,null,null,null,null,null,"Ergebnis",null,null,null,null,null,null,null,null,null,null,null,null,null,null,"Spiele","SiegHeim","Unentschieden","SiegGast"]
[]
[null,null,"Hinrunde",null,null,null,null,1,null,null,null,null,{"$f":"MID(CELL(\"dateiname\",A1),SEARCH(\"]\",CELL(\"dateiname\",A1))+1,31)","v":"29.4."},null,null,null,null,null,"21:00:00",null,null,null,null,null,"Fernseher",null,null,null,null,null,null,null,null,null,null,{"$f":"$O$8","v":"Patrick"},null,null,null,null,null,null,null,null,null,null,null,null,null,null,":",null,null,{"$f":"$AF$8","v":"Markus"},null,null,null,null,null,null,null,null,null,null,null,null,null,null,null,0,null,null,null,null,":",null,null,1,null,null,null,null,null,null,{"$f":"IF(AND(ISNUMBER(BR16),ISNUMBER(BZ16)),1,0)","v":1},{"$f":"IF(OR(ISBLANK(BR16),ISBLANK(BZ16)),0,IF(BR16>BZ16,1,0))","v":0},{"$f":"IF(OR(ISBLANK(BR16),ISBLANK(BZ16)),0,IF(BR16=BZ16,1,0))","v":0},{"$f":"IF(OR(ISBLANK(BR16),ISBLANK(BZ16)),0,IF(BR16<BZ16,1,0))","v":1}]
[null,null,null,null,null,null,null,{"$f":"H16+1","v":2},null,null,null,null,{"$f":"$M$16","v":"29.4."},null,null,null,null,null,{"$f":"S16","v":"21:00:00"},null,null,null,null,null,"Fernseher",null,null,null,null,null,null,null,null,null,null,{"$f":"$AW$8","v":"Ratze"},null,null,null,null,null,null,null,null,null,null,null,null,null,null,":",null,null,{"$f":"$BN$8","v":"Christoph"},null,null,null,null,null,null,null,null,null,null,null,null,null,null,null,2,null,null,null,null,":",null,null,1,null,null,null,null,null,null,{"$f":"IF(AND(ISNUMBER(BR17),ISNUMBER(BZ17)),1,0)","v":1},{"$f":"IF(OR(ISBLANK(BR17),ISBLANK(BZ17)),0,IF(BR17>BZ17,1,0))","v":1},{"$f":"IF(OR(ISBLANK(BR17),ISBLANK(BZ17)),0,IF(BR17=BZ17,1,0))","v":0},{"$f":"IF(OR(ISBLANK(BR17),ISBLANK(BZ17)),0,IF(BR17<BZ17,1,0))","v":0}]
[null,null,null,null,null,null,null,{"$f":"H17+1","v":3},null,null,null,null,{"$f":"$M$16","v":"29.4."},null,null,null,null,null,{"$f":"S16+$C$14","v":"21:12:00"},null,null,null,null,null,{"$f":"$Y$16","v":"Fernseher"},null,null,null,null,null,null,null,null,null,null,{"$f":"$O$8","v":"Patrick"},null,null,null,null,null,null,null,null,null,null,null,null,null,null,":",null,null,{"$f":"$AW$8","v":"Ratze"},null,null,null,null,null,null,null,null,null,null,null,null,null,null,null,1,null,null,null,null,":",null,null,2,null,null,null,null,null,null,1,0,0,1]
[null,null,null,null,null,null,null,{"$f":"H18+1","v":4},null,null,null,null,"29.4.",null,null,null,null,null,{"$f":"S17+$C$14","v":"21:12:00"},null,null,null,null,null,{"$f":"$Y$17","v":"Fernseher"},null,null,null,null,null,null,null,null,null,null,{"$f":"$AF$8","v":"Markus"},null,null,null,null,null,null,null,null,null,null,null,null,null,null,":",null,null,{"$f":"$BN$8","v":"Christoph"},null,null,null,null,null,null,null,null,null,null,null,null,null,null,null,3,null,null,null,null,":",null,null,0,null,null,null,null,null,null,1,1,0,0]
[null,null,null,null,null,null,null,{"$f":"H19+1","v":5},null,null,null,null,"29.4.",null,null,null,null,null,{"$f":"S18+$C$14","v":"21:24:00"},null,null,null,null,null,{"$f":"$Y$16","v":"Fernseher"},null,null,null,null,null,null,null,null,null,null,{"$f":"$BN$8","v":"Christoph"},null,null,null,null,null,null,null,null,null,null,null,null,null,null,":",null,null,{"$f":"$O$8","v":"Patrick"},null,null,null,null,null,null,null,null,null,null,null,null,null,null,null,5,null,null,null,null,":",null,null,1,null,null,null,null,null,null,1,1,0,0]
[null,null,null,null,null,null,null,{"$f":"H20+1","v":6},null,null,null,null,"29.4.",null,null,null,null,null,{"$f":"S19+$C$14","v":"21:24:00"},null,null,null,null,null,{"$f":"$Y$17","v":"Fernseher"},null,null,null,null,null,null,null,null,null,null,{"$f":"$AF$8","v":"Markus"},null,null,null,null,null,null,null,null,null,null,null,null,null,null,":",null,null,{"$f":"$AW$8","v":"Ratze"},null,null,null,null,null,null,null,null,null,null,null,null,null,null,null,0,null,null,null,null,":",null,null,0,null,null,null,null,null,null,1,0,1,0]
[]
[null,null,"Rückrunde",null,null,null,null,{"$f":"H21+1","v":7},null,null,null,null,{"$f":"$M$16","v":"29.4."},null,null,null,null,null,{"$f":"S20+$C$14","v":"21:36:00"},null,null,null,null,null,{"$f":"$Y$17","v":"Fernseher"},null,null,null,null,null,null,null,null,null,null,{"$f":"$AF$8","v":"Markus"},null,null,null,null,null,null,null,null,null,null,null,null,null,null,":",null,null,{"$f":"$O$8","v":"Patrick"},null,null,null,null,null,null,null,null,null,null,null,null,null,null,null,3,null,null,null,null,":",null,null,2,null,null,null,null,null,null,{"$f":"IF(AND(ISNUMBER(BR23),ISNUMBER(BZ23)),1,0)","v":1},{"$f":"IF(OR(ISBLANK(BR23),ISBLANK(BZ23)),0,IF(BR23>BZ23,1,0))","v":1},{"$f":"IF(OR(ISBLANK(BR23),ISBLANK(BZ23)),0,IF(BR23=BZ23,1,0))","v":0},{"$f":"IF(OR(ISBLANK(BR23),ISBLANK(BZ23)),0,IF(BR23<BZ23,1,0))","v":0}]
[null,null,null,null,null,null,null,{"$f":"H23+1","v":8},null,null,null,null,"29.4.",null,null,null,null,null,{"$f":"S21+$C$14","v":"21:36:00"},null,null,null,null,null,{"$f":"$Y$16","v":"Fernseher"},null,null,null,null,null,null,null,null,null,null,{"$f":"$BN$8","v":"Christoph"},null,null,null,null,null,null,null,null,null,null,null,null,null,null,":",null,null,{"$f":"$AW$8","v":"Ratze"},null,null,null,null,null,null,null,null,null,null,null,null,null,null,null,1,null,null,null,null,":",null,null,3,null,null,null,null,null,null,1,0,0,1]
[null,null,null,null,null,null,null,{"$f":"H24+1","v":9},null,null,null,null,"29.4.",null,null,null,null,null,{"$f":"S23+$C$14","v":"21:48:00"},null,null,null,null,null,{"$f":"$Y$17","v":"Fernseher"},null,null,null,null,null,null,null,null,null,null,{"$f":"$AW$8","v":"Ratze"},null,null,null,null,null,null,null,null,null,null,null,null,null,null,":",null,null,{"$f":"$O$8","v":"Patrick"},null,null,null,null,null,null,null,null,null,null,null,null,null,null,null,4,null,null,null,null,":",null,null,3,null,null,null,null,null,null,1,1,0,0]
[null,null,null,null,null,null,null,{"$f":"H25+1","v":10},null,null,null,null,"29.4.",null,null,null,null,null,{"$f":"S24+$C$14","v":"21:48:00"},null,null,null,null,null,{"$f":"$Y$16","v":"Fernseher"},null,null,null,null,null,null,null,null,null,null,{"$f":"$BN$8","v":"Christoph"},null,null,null,null,null,null,null,null,null,null,null,null,null,null,":",null,null,{"$f":"$AF$8","v":"Markus"},null,null,null,null,null,null,null,null,null,null,null,null,null,null,null,2,null,null,null,null,":",null,null,2,null,null,null,null,null,null,1,0,1,0]
[null,null,null,null,null,null,null,{"$f":"H26+1","v":11},null,null,null,null,"29.4.",null,null,null,null,null,{"$f":"S25+$C$14","v":"22:00:00"},null,null,null,null,null,{"$f":"$Y$17","v":"Fernseher"},null,null,null,null,null,null,null,null,null,null,{"$f":"$O$8","v":"Patrick"},null,null,null,null,null,null,null,null,null,null,null,null,null,null,":",null,null,{"$f":"$BN$8","v":"Christoph"},null,null,null,null,null,null,null,null,null,null,null,null,null,null,null,5,null,null,null,null,":",null,null,2,null,null,null,null,null,null,1,1,0,0]
[null,null,null,null,null,null,null,{"$f":"H27+1","v":12},null,null,null,null,"29.4.",null,null,null,null,null,{"$f":"S26+$C$14","v":"22:00:00"},null,null,null,null,null,{"$f":"$Y$16","v":"Fernseher"},null,null,null,null,null,null,null,null,null,null,{"$f":"$AW$8","v":"Ratze"},null,null,null,null,null,null,null,null,null,null,null,null,null,null,":",null,null,{"$f":"$AF$8","v":"Markus"},null,null,null,null,null,null,null,null,null,null,null,null,null,null,null,2,null,null,null,null,":",null,null,3,null,null,null,null,null,null,1,0,0,1]
[]
[]
[]
[]
[]
[]
[]
[]
[]
[]
[]
[]
[]
[]
[]
[]
[]
[]
[]
[]
[]
[]
[]
[]
[]
[]
[]
[]
[]
[]
[]
[]
[]
[null,null,"Tabelle (unsortiert)"]
[]
[null,null,"Rang",null,null,null,null,"Spieler",null,null,null,null,null,null,null,null,null,null,null,"Spiele",null,null,null,null,null,"Siege",null,null,null,null,null,null,null,null,null,null,"Unentschieden",null,null,null,null,null,null,null,null,null,null,"Niederlagen",null,null,null,null,null,null,null,null,null,null,"Tore",null,null,null,null,null,null,null,null,null,null,null,"+/-",null,null,null,null,"Punkte",null,null,null,"HS"]
[null,null,{"$f":"IF(T65=0,0,RANK(BX65,$BX$65:$CA$68,0))","v":4},null,null,null,null,{"$f":"$O$8","v":"Patrick"},null,null,null,null,null,null,null,null,null,null,null,{"$f":"CG16+CG18+CG20+CG23+CG25+CG27","v":6},null,null,null,null,null,{"$f":"CH16+CH18+CJ20+CJ23+CJ25+CH27","v":1},null,null,null,null,null,null,null,null,null,null,{"$f":"CI16+CI18+CI20+CI23+CI25+CI27","v":0},null,null,null,null,null,null,null,null,null,null,{"$f":"CJ16+CJ18+CH20+CH23+CH25+CJ27","v":5},null,null,null,null,null,null,null,null,null,null,{"$f":"BR16+BR18+BZ20+BZ23+BZ25+BR27","v":12},null,null,null,null,":",null,{"$f":"BZ16+BZ18+BR20+BR23+BR25+BZ27","v":17},null,null,null,null,{"$f":"BG65-BN65","v":-5},null,null,null,null,{"$f":"(Z65*3)+AK65","v":3},null,null,null,{"$f":"BX65+ROW()/1000","v":3.0649999999999999}]
[null,null,{"$f":"IF(T66=0,0,RANK(BX66,$BX$65:$CA$68,0))","v":1},null,null,null,null,{"$f":"$AF$8","v":"Markus"},null,null,null,null,null,null,null,null,null,null,null,{"$f":"CG16+CG19+CG21+CG23+CG26+CG28","v":6},null,null,null,null,null,{"$f":"CJ16+CH19+CH21+CH23+CJ26+CJ28","v":4},null,null,null,null,null,null,null,null,null,null,{"$f":"CI16+CI19+CI21+CI23+CI26+CI28","v":2},null,null,null,null,null,null,null,null,null,null,{"$f":"CH16+CJ19+CJ21+CJ23+CH26+CH28","v":0},null,null,null,null,null,null,null,null,null,null,{"$f":"BZ16+BR19+BR21+BR23+BZ26+BZ28","v":12},null,null,null,null,":",null,{"$f":"BR16+BZ19+BZ21+BZ23+BR26+BR28","v":6},null,null,null,null,{"$f":"BG66-BN66","v":6},null,null,null,null,{"$f":"(Z66*3)+AK66","v":14},null,null,null,{"$f":"BX66+ROW()/1000","v":14.066000000000001}]
[null,null,{"$f":"IF(T67=0,0,RANK(BX67,$BX$65:$CA$68,0))","v":2},null,null,null,null,{"$f":"$AW$8","v":"Ratze"},null,null,null,null,null,null,null,null,null,null,null,{"$f":"CG17+CG18+CG21+CG24+CG25+CG28","v":6},null,null,null,null,null,{"$f":"CH17+CJ18+CJ21+CJ24+CH25+CH28","v":4},null,null,null,null,null,null,null,null,null,null,{"$f":"CI17+CI18+CI21+CI24+CI25+CI28","v":1},null,null,null,null,null,null,null,null,null,null,{"$f":"CJ17+CH18+CH21+CH24+CJ25+CJ28","v":1},null,null,null,null,null,null,null,null,null,null,{"$f":"BR17+BZ18+BZ21+BZ24+BR25+BR28","v":13},null,null,null,null,":",null,{"$f":"BZ17+BR18+BR21+BR24+BZ25+BZ28","v":9},null,null,null,null,{"$f":"BG67-BN67","v":4},null,null,null,null,{"$f":"(Z67*3)+AK67","v":13},null,null,null,{"$f":"BX67+ROW()/1000","v":13.067}]
[null,null,{"$f":"IF(T68=0,0,RANK(BX68,$BX$65:$CA$68,0))","v":3},null,null,null,null,{"$f":"$BN$8","v":"Christoph"},null,null,null,null,null,null,null,null,null,null,null,{"$f":"CG17+CG19+CG20+CG24+CG26+CG27","v":6},null,null,null,null,null,{"$f":"CJ17+CJ19+CH20+CH24+CH26+CJ27","v":1},null,null,null,null,null,null,null,null,null,null,{"$f":"CI17+CI19+CI20+CI24+CI26+CI27","v":1},null,null,null,null,null,null,null,null,null,null,{"$f":"CH17+CH19+CJ20+CJ24+CJ26+CH27","v":4},null,null,null,null,null,null,null,null,null,null,{"$f":"BZ17+BZ19+BR20+BR24+BR26+BZ27","v":11},null,null,null,null,":",null,{"$f":"BR17+BR19+BZ20+BZ24+BZ26+BR27","v":16},null,null,null,null,{"$f":"BG68-BN68","v":-5},null,null,null,null,{"$f":"(Z68*3)+AK68","v":4},null,null,null,{"$f":"BX68+ROW()/1000","v":4.0679999999999996}]
[null,null,null,null,null,null,null,"Spieler 5",null,null,null,null,null,null,null,null,null,null,null,0,null,null,null,null,null,0,null,null,null,null,null,null,null,null,null,null,0,null,null,null,null,null,null,null,null,null,null,0,null,null,null,null,null,null,null,null,null,null,0,null,null,null,null,":",null,0,null,null,null,null,0,null,null,null,null,0,null,null,null,0]
[null,null,null,null,null,null,null,"Spieler 6",null,null,null,null,null,null,null,null,null,null,null,0,null,null,null,null,null,0,null,null,null,null,null,null,null,null,null,null,0,null,null,null,null,null,null,null,null,null,null,0,null,null,null,null,null,null,null,null,null,null,0,null,null,null,null,":",null,0,null,null,null,null,0,null,null,null,null,0,null,null,null,0]
[null,null,null,null,null,null,null,"Spieler 7",null,null,null,null,null,null,null,null,null,null,null,0,null,null,null,null,null,0,null,null,null,null,null,null,null,null,null,null,0,null,null,null,null,null,null,null,null,null,null,0,null,null,null,null,null,null,null,null,null,null,0,null,null,null,null,":",null,0,null,null,null,null,0,null,null,null,null,0,null,null,null,0]
[]
[]
[]
[null,null,"Tabelle"]
[]
[null,null,"Rang",null,null,null,null,"Spieler",null,null,null,null,null,null,null,null,null,null,null,"Spiele",null,null,null,null,null,"Siege",null,null,null,null,null,null,null,null,null,null,"Unentschieden",null,null,null,null,null,null,null,null,null,null,"Niederlagen",null,null,null,null,null,null,null,null,null,null,"Tore",null,null,null,null,null,null,null,null,null,null,null,"+/-",null,null,null,null,"Punkte"]
[null,null,{"$f":"INDEX($C$65:$C$68,MATCH(LARGE($CB$65:$CB$68,ROW(A1)),$CB$65:$CB$68,0),1)","v":1},null,null,1,null,{"$f":"INDEX($H$65:$H$68,MATCH(LARGE($CB$65:$CB$68,ROW(A1)),$CB$65:$CB$68,0),1)","v":"Markus"},null,null,null,null,null,null,null,null,null,null,null,{"$f":"INDEX($T$65:$T$68,MATCH(LARGE($CB$65:$CB$68,ROW(A1)),$CB$65:$CB$68,0),1)","v":6},null,null,null,null,null,{"$f":"INDEX($Z$65:$Z$68,MATCH(LARGE($CB$65:$CB$68,ROW(A1)),$CB$65:$CB$68,0),1)","v":4},null,null,null,null,null,null,null,null,null,null,{"$f":"INDEX($AK$65:$AK$68,MATCH(LARGE($CB$65:$CB$68,ROW(A1)),$CB$65:$CB$68,0),1)","v":2},null,null,null,null,null,null,null,null,null,null,{"$f":"INDEX($AV$65:$AV$68,MATCH(LARGE($CB$65:$CB$68,ROW(A1)),$CB$65:$CB$68,0),1)","v":0},null,null,null,null,null,null,null,null,null,null,{"$f":"INDEX($BG$65:$BG$68,MATCH(LARGE($CB$65:$CB$68,ROW(A1)),$CB$65:$CB$68,0),1)","v":12},null,null,null,null,":",null,{"$f":"INDEX($BN$65:$BN$68,MATCH(LARGE($CB$65:$CB$68,ROW(A1)),$CB$65:$CB$68,0),1)","v":6},null,null,null,null,{"$f":"INDEX($BS$65:$BS$68,MATCH(LARGE($CB$65:$CB$68,ROW(A1)),$CB$65:$CB$68,0),1)","v":6},null,null,null,null,{"$f":"INDEX($BX$65:$BX$68,MATCH(LARGE($CB$65:$CB$68,ROW(A1)),$CB$65:$CB$68,0),1)","v":14}]
[null,null,{"$f":"INDEX($C$65:$C$68,MATCH(LARGE($CB$65:$CB$68,ROW(A2)),$CB$65:$CB$68,0),1)","v":2},null,null,2,null,{"$f":"INDEX($H$65:$H$68,MATCH(LARGE($CB$65:$CB$68,ROW(A2)),$CB$65:$CB$68,0),1)","v":"Ratze"},null,null,null,null,null,null,null,null,null,null,null,{"$f":"INDEX($T$65:$T$68,MATCH(LARGE($CB$65:$CB$68,ROW(A2)),$CB$65:$CB$68,0),1)","v":6},null,null,null,null,null,{"$f":"INDEX($Z$65:$Z$68,MATCH(LARGE($CB$65:$CB$68,ROW(A2)),$CB$65:$CB$68,0),1)","v":4},null,null,null,null,null,null,null,null,null,null,{"$f":"INDEX($AK$65:$AK$68,MATCH(LARGE($CB$65:$CB$68,ROW(A2)),$CB$65:$CB$68,0),1)","v":1},null,null,null,null,null,null,null,null,null,null,{"$f":"INDEX($AV$65:$AV$68,MATCH(LARGE($CB$65:$CB$68,ROW(A2)),$CB$65:$CB$68,0),1)","v":1},null,null,null,null,null,null,null,null,null,null,{"$f":"INDEX($BG$65:$BG$68,MATCH(LARGE($CB$65:$CB$68,ROW(A2)),$CB$65:$CB$68,0),1)","v":13},null,null,null,null,":",null,{"$f":"INDEX($BN$65:$BN$68,MATCH(LARGE($CB$65:$CB$68,ROW(A2)),$CB$65:$CB$68,0),1)","v":9},null,null,null,null,{"$f":"INDEX($BS$65:$BS$68,MATCH(LARGE($CB$65:$CB$68,ROW(A2)),$CB$65:$CB$68,0),1)","v":4},null,null,null,null,{"$f":"INDEX($BX$65:$BX$68,MATCH(LARGE($CB$65:$CB$68,ROW(A2)),$CB$65:$CB$68,0),1)","v":13}]
[null,null,{"$f":"INDEX($C$65:$C$68,MATCH(LARGE($CB$65:$CB$68,ROW(A3)),$CB$65:$CB$68,0),1)","v":3},null,null,3,null,{"$f":"INDEX($H$65:$H$68,MATCH(LARGE($CB$65:$CB$68,ROW(A3)),$CB$65:$CB$68,0),1)","v":"Christoph"},null,null,null,null,null,null,null,null,null,null,null,{"$f":"INDEX($T$65:$T$68,MATCH(LARGE($CB$65:$CB$68,ROW(A3)),$CB$65:$CB$68,0),1)","v":6},null,null,null,null,null,{"$f":"INDEX($Z$65:$Z$68,MATCH(LARGE($CB$65:$CB$68,ROW(A3)),$CB$65:$CB$68,0),1)","v":1},null,null,null,null,null,null,null,null,null,null,{"$f":"INDEX($AK$65:$AK$68,MATCH(LARGE($CB$65:$CB$68,ROW(A3)),$CB$65:$CB$68,0),1)","v":1},null,null,null,null,null,null,null,null,null,null,{"$f":"INDEX($AV$65:$AV$68,MATCH(LARGE($CB$65:$CB$68,ROW(A3)),$CB$65:$CB$68,0),1)","v":4},null,null,null,null,null,null,null,null,null,null,{"$f":"INDEX($BG$65:$BG$68,MATCH(LARGE($CB$65:$CB$68,ROW(A3)),$CB$65:$CB$68,0),1)","v":11},null,null,null,null,":",null,{"$f":"INDEX($BN$65:$BN$68,MATCH(LARGE($CB$65:$CB$68,ROW(A3)),$CB$65:$CB$68,0),1)","v":16},null,null,null,null,{"$f":"INDEX($BS$65:$BS$68,MATCH(LARGE($CB$65:$CB$68,ROW(A3)),$CB$65:$CB$68,0),1)","v":-5},null,null,null,null,{"$f":"INDEX($BX$65:$BX$68,MATCH(LARGE($CB$65:$CB$68,ROW(A3)),$CB$65:$CB$68,0),1)","v":4}]
[null,null,{"$f":"INDEX($C$65:$C$68,MATCH(LARGE($CB$65:$CB$68,ROW(A4)),$CB$65:$CB$68,0),1)","v":4},null,null,4,null,{"$f":"INDEX($H$65:$H$68,MATCH(LARGE($CB$65:$CB$68,ROW(A4)),$CB$65:$CB$68,0),1)","v":"Patrick"},null,null,null,null,null,null,null,null,null,null,null,{"$f":"INDEX($T$65:$T$68,MATCH(LARGE($CB$65:$CB$68,ROW(A4)),$CB$65:$CB$68,0),1)","v":6},null,null,null,null,null,{"$f":"INDEX($Z$65:$Z$68,MATCH(LARGE($CB$65:$CB$68,ROW(A4)),$CB$65:$CB$68,0),1)","v":1},null,null,null,null,null,null,null,null,null,null,{"$f":"INDEX($AK$65:$AK$68,MATCH(LARGE($CB$65:$CB$68,ROW(A4)),$CB$65:$CB$68,0),1)","v":0},null,null,null,null,null,null,null,null,null,null,{"$f":"INDEX($AV$65:$AV$68,MATCH(LARGE($CB$65:$CB$68,ROW(A4)),$CB$65:$CB$68,0),1)","v":5},null,null,null,null,null,null,null,null,null,null,{"$f":"INDEX($BG$65:$BG$68,MATCH(LARGE($CB$65:$CB$68,ROW(A4)),$CB$65:$CB$68,0),1)","v":12},null,null,null,null,":",null,{"$f":"INDEX($BN$65:$BN$68,MATCH(LARGE($CB$65:$CB$68,ROW(A4)),$CB$65:$CB$68,0),1)","v":17},null,null,null,null,{"$f":"INDEX($BS$65:$BS$68,MATCH(LARGE($CB$65:$CB$68,ROW(A4)),$CB$65:$CB$68,0),1)","v":-5},null,null,null,null,{"$f":"INDEX($BX$65:$BX$68,MATCH(LARGE($CB$65:$CB$68,ROW(A4)),$CB$65:$CB$68,0),1)","v":3}]
[null,null,"---",null,null,"---",null,"Spieler 5",null,null,null,null,null,null,null,null,null,null,null,0,null,null,null,null,null,0,null,null,null,null,null,null,null,null,null,null,0,null,null,null,null,null,null,null,null,null,null,0,null,null,null,null,null,null,null,null,null,null,0,null,null,null,null,":",null,0,null,null,null,null,0,null,null,null,null,0]
[null,null,"---",null,null,"---",null,"Spieler 6",null,null,null,null,null,null,null,null,null,null,null,0,null,null,null,null,null,0,null,null,null,null,null,null,null,null,null,null,0,null,null,null,null,null,null,null,null,null,null,0,null,null,null,null,null,null,null,null,null,null,0,null,null,null,null,":",null,0,null,null,null,null,0,null,null,null,null,0]
[null,null,"---",null,null,"---",null,"Spieler 7",null,null,null,null,null,null,null,null,null,null,null,0,null,null,null,null,null,0,null,null,null,null,null,null,null,null,null,null,0,null,null,null,null,null,null,null,null,null,null,0,null,null,null,null,null,null,null,null,null,null,0,null,null,null,null,":",null,0,null,null,null,null,0,null,null,null,null,0]
[]
[]
[]
[null,null,"Tabelle (nach Alphabet)"]
[]
[null,null,"Rang",null,null,null,null,"Spieler",null,null,null,null,null,null,null,null,null,null,null,"Spiele",null,null,null,null,null,"Siege",null,null,null,null,null,null,null,null,null,null,"Unentschieden",null,null,null,null,null,null,null,null,null,null,"Niederlagen",null,null,null,null,null,null,null,null,null,null,"Tore",null,null,null,null,null,null,null,null,null,null,null,"+/-",null,null,null,null,"Punkte"]
[null,null,{"$f":"IF($H$78=\"Basti\",$F$78,IF($H$79=\"Basti\",$F$79,IF($H$80=\"Basti\",$F$80,IF($H$81=\"Basti\",$F$81,IF($H$82=\"Basti\",$F$82,IF($H$83=\"Basti\",$F$83,IF($H$84=\"Basti\",$F$84,0)))))))","v":0},null,null,null,null,"Basti",null,null,null,null,null,null,null,null,null,null,null,{"$f":"IF($H$78=\"Basti\",$T$78,IF($H$79=\"Basti\",$T$79,IF($H$80=\"Basti\",$T$80,IF($H$81=\"Basti\",$T$81,IF($H$82=\"Basti\",$T$82,IF($H$83=\"Basti\",$T$83,IF($H$84=\"Basti\",$T$84,0)))))))","v":0},null,null,null,null,null,{"$f":"IF($H$78=\"Basti\",$Z$78,IF($H$79=\"Basti\",$Z$79,IF($H$80=\"Basti\",$Z$80,IF($H$81=\"Basti\",$Z$81,IF($H$82=\"Basti\",$Z$82,IF($H$83=\"Basti\",$Z$83,IF($H$84=\"Basti\",$Z$84,0)))))))","v":0},null,null,null,null,null,null,null,null,null,null,{"$f":"IF($H$78=\"Basti\",$AK$78,IF($H$79=\"Basti\",$AK$79,IF($H$80=\"Basti\",$AK$80,IF($H$81=\"Basti\",$AK$81,IF($H$82=\"Basti\",$AK$82,IF($H$83=\"Basti\",$AK$83,IF($H$84=\"Basti\",$AK$84,0)))))))","v":0},null,null,null,null,null,null,null,null,null,null,{"$f":"IF($H$78=\"Basti\",$AV$78,IF($H$79=\"Basti\",$AV$79,IF($H$80=\"Basti\",$AV$80,IF($H$81=\"Basti\",$AV$81,IF($H$82=\"Basti\",$AV$82,IF($H$83=\"Basti\",$AV$83,IF($H$84=\"Basti\",$AV$84,0)))))))","v":0},null,null,null,null,null,null,null,null,null,null,{"$f":"IF($H$78=\"Basti\",$BG$78,IF($H$79=\"Basti\",$BG$79,IF($H$80=\"Basti\",$BG$80,IF($H$81=\"Basti\",$BG$81,IF($H$82=\"Basti\",$BG$82,IF($H$83=\"Basti\",$BG$83,IF($H$84=\"Basti\",$BG$84,0)))))))","v":0},null,null,null,null,":",null,{"$f":"IF($H$78=\"Basti\",$BN$78,IF($H$79=\"Basti\",$BN$79,IF($H$80=\"Basti\",$BN$80,IF($H$81=\"Basti\",$BN$81,IF($H$82=\"Basti\",$BN$82,IF($H$83=\"Basti\",$BN$83,IF($H$84=\"Basti\",$BN$84,0)))))))","v":0},null,null,null,null,{"$f":"IF($H$78=\"Basti\",$BS$78,IF($H$79=\"Basti\",$BS$79,IF($H$80=\"Basti\",$BS$80,IF($H$81=\"Basti\",$BS$81,IF($H$82=\"Basti\",$BS$82,IF($H$83=\"Basti\",$BS$83,IF($H$84=\"Basti\",$BS$84,0)))))))","v":0},null,null,null,null,{"$f":"IF($H$78=\"Basti\",$BX$78,IF($H$79=\"Basti\",$BX$79,IF($H$80=\"Basti\",$BX$80,IF($H$81=\"Basti\",$BX$81,IF($H$82=\"Basti\",$BX$82,IF($H$83=\"Basti\",$BX$83,IF($H$84=\"Basti\",$BX$84,0)))))))","v":0}]
[null,null,{"$f":"IF($H$78=\"Christoph\",$F$78,IF($H$79=\"Christoph\",$F$79,IF($H$80=\"Christoph\",$F$80,IF($H$81=\"Christoph\",$F$81,IF($H$82=\"Christoph\",$F$82,IF($H$83=\"Christoph\",$F$83,IF($H$84=\"Christoph\",$F$84,0)))))))","v":3},null,null,null,null,"Christoph",null,null,null,null,null,null,null,null,null,null,null,{"$f":"IF($H$78=\"Christoph\",$T$78,IF($H$79=\"Christoph\",$T$79,IF($H$80=\"Christoph\",$T$80,IF($H$81=\"Christoph\",$T$81,IF($H$82=\"Christoph\",$T$82,IF($H$83=\"Christoph\",$T$83,IF($H$84=\"Christoph\",$T$84,0)))))))","v":6},null,null,null,null,null,{"$f":"IF($H$78=\"Christoph\",$Z$78,IF($H$79=\"Christoph\",$Z$79,IF($H$80=\"Christoph\",$Z$80,IF($H$81=\"Christoph\",$Z$81,IF($H$82=\"Christoph\",$Z$82,IF($H$83=\"Christoph\",$Z$83,IF($H$84=\"Christoph\",$Z$84,0)))))))","v":1},null,null,null,null,null,null,null,null,null,null,{"$f":"IF($H$78=\"Christoph\",$AK$78,IF($H$79=\"Christoph\",$AK$79,IF($H$80=\"Christoph\",$AK$80,IF($H$81=\"Christoph\",$AK$81,IF($H$82=\"Christoph\",$AK$82,IF($H$83=\"Christoph\",$AK$83,IF($H$84=\"Christoph\",$AK$84,0)))))))","v":1},null,null,null,null,null,null,null,null,null,null,{"$f":"IF($H$78=\"Christoph\",$AV$78,IF($H$79=\"Christoph\",$AV$79,IF($H$80=\"Christoph\",$AV$80,IF($H$81=\"Christoph\",$AV$81,IF($H$82=\"Christoph\",$AV$82,IF($H$83=\"Christoph\",$AV$83,IF($H$84=\"Christoph\",$AV$84,0)))))))","v":4},null,null,null,null,null,null,null,null,null,null,{"$f":"IF($H$78=\"Christoph\",$BG$78,IF($H$79=\"Christoph\",$BG$79,IF($H$80=\"Christoph\",$BG$80,IF($H$81=\"Christoph\",$BG$81,IF($H$82=\"Christoph\",$BG$82,IF($H$83=\"Christoph\",$BG$83,IF($H$84=\"Christoph\",$BG$84,0)))))))","v":11},null,null,null,null,":",null,{"$f":"IF($H$78=\"Christoph\",$BN$78,IF($H$79=\"Christoph\",$BN$79,IF($H$80=\"Christoph\",$BN$80,IF($H$81=\"Christoph\",$BN$81,IF($H$82=\"Christoph\",$BN$82,IF($H$83=\"Christoph\",$BN$83,IF($H$84=\"Christoph\",$BN$84,0)))))))","v":16},null,null,null,null,{"$f":"IF($H$78=\"Christoph\",$BS$78,IF($H$79=\"Christoph\",$BS$79,IF($H$80=\"Christoph\",$BS$80,IF($H$81=\"Christoph\",$BS$81,IF($H$82=\"Christoph\",$BS$82,IF($H$83=\"Christoph\",$BS$83,IF($H$84=\"Christoph\",$BS$84,0)))))))","v":-5},null,null,null,null,{"$f":"IF($H$78=\"Christoph\",$BX$78,IF($H$79=\"Christoph\",$BX$79,IF($H$80=\"Christoph\",$BX$80,IF($H$81=\"Christoph\",$BX$81,IF($H$82=\"Christoph\",$BX$82,IF($H$83=\"Christoph\",$BX$83,IF($H$84=\"Christoph\",$BX$84,0)))))))","v":4}]
[null,null,{"$f":"IF($H$78=\"Jule\",$F$78,IF($H$79=\"Jule\",$F$79,IF($H$80=\"Jule\",$F$80,IF($H$81=\"Jule\",$F$81,IF($H$82=\"Jule\",$F$82,IF($H$83=\"Jule\",$F$83,IF($H$84=\"Jule\",$F$84,0)))))))","v":0},null,null,null,null,"Jule",null,null,null,null,null,null,null,null,null,null,null,{"$f":"IF($H$78=\"Jule\",$T$78,IF($H$79=\"Jule\",$T$79,IF($H$80=\"Jule\",$T$80,IF($H$81=\"Jule\",$T$81,IF($H$82=\"Jule\",$T$82,IF($H$83=\"Jule\",$T$83,IF($H$84=\"Jule\",$T$84,0)))))))","v":0},null,null,null,null,null,{"$f":"IF($H$78=\"Jule\",$Z$78,IF($H$79=\"Jule\",$Z$79,IF($H$80=\"Jule\",$Z$80,IF($H$81=\"Jule\",$Z$81,IF($H$82=\"Jule\",$Z$82,IF($H$83=\"Jule\",$Z$83,IF($H$84=\"Jule\",$Z$84,0)))))))","v":0},null,null,null,null,null,null,null,null,null,null,{"$f":"IF($H$78=\"Jule\",$AK$78,IF($H$79=\"Jule\",$AK$79,IF($H$80=\"Jule\",$AK$80,IF($H$81=\"Jule\",$AK$81,IF($H$82=\"Jule\",$AK$82,IF($H$83=\"Jule\",$AK$83,IF($H$84=\"Jule\",$AK$84,0)))))))","v":0},null,null,null,null,null,null,null,null,null,null,{"$f":"IF($H$78=\"Jule\",$AV$78,IF($H$79=\"Jule\",$AV$79,IF($H$80=\"Jule\",$AV$80,IF($H$81=\"Jule\",$AV$81,IF($H$82=\"Jule\",$AV$82,IF($H$83=\"Jule\",$AV$83,IF($H$84=\"Jule\",$AV$84,0)))))))","v":0},null,null,null,null,null,null,null,null,null,null,{"$f":"IF($H$78=\"Jule\",$BG$78,IF($H$79=\"Jule\",$BG$79,IF($H$80=\"Jule\",$BG$80,IF($H$81=\"Jule\",$BG$81,IF($H$82=\"Jule\",$BG$82,IF($H$83=\"Jule\",$BG$83,IF($H$84=\"Jule\",$BG$84,0)))))))","v":0},null,null,null,null,":",null,{"$f":"IF($H$78=\"Jule\",$BN$78,IF($H$79=\"Jule\",$BN$79,IF($H$80=\"Jule\",$BN$80,IF($H$81=\"Jule\",$BN$81,IF($H$82=\"Jule\",$BN$82,IF($H$83=\"Jule\",$BN$83,IF($H$84=\"Jule\",$BN$84,0)))))))","v":0},null,null,null,null,{"$f":"IF($H$78=\"Jule\",$BS$78,IF($H$79=\"Jule\",$BS$79,IF($H$80=\"Jule\",$BS$80,IF($H$81=\"Jule\",$BS$81,IF($H$82=\"Jule\",$BS$82,IF($H$83=\"Jule\",$BS$83,IF($H$84=\"Jule\",$BS$84,0)))))))","v":0},null,null,null,null,{"$f":"IF($H$78=\"Jule\",$BX$78,IF($H$79=\"Jule\",$BX$79,IF($H$80=\"Jule\",$BX$80,IF($H$81=\"Jule\",$BX$81,IF($H$82=\"Jule\",$BX$82,IF($H$83=\"Jule\",$BX$83,IF($H$84=\"Jule\",$BX$84,0)))))))","v":0}]
[null,null,{"$f":"IF($H$78=\"Markus\",$F$78,IF($H$79=\"Markus\",$F$79,IF($H$80=\"Markus\",$F$80,IF($H$81=\"Markus\",$F$81,IF($H$82=\"Markus\",$F$82,IF($H$83=\"Markus\",$F$83,IF($H$84=\"Markus\",$F$84,0)))))))","v":1},null,null,null,null,"Markus",null,null,null,null,null,null,null,null,null,null,null,{"$f":"IF($H$78=\"Markus\",$T$78,IF($H$79=\"Markus\",$T$79,IF($H$80=\"Markus\",$T$80,IF($H$81=\"Markus\",$T$81,IF($H$82=\"Markus\",$T$82,IF($H$83=\"Markus\",$T$83,IF($H$84=\"Markus\",$T$84,0)))))))","v":6},null,null,null,null,null,{"$f":"IF($H$78=\"Markus\",$Z$78,IF($H$79=\"Markus\",$Z$79,IF($H$80=\"Markus\",$Z$80,IF($H$81=\"Markus\",$Z$81,IF($H$82=\"Markus\",$Z$82,IF($H$83=\"Markus\",$Z$83,IF($H$84=\"Markus\",$Z$84,0)))))))","v":4},null,null,null,null,null,null,null,null,null,null,{"$f":"IF($H$78=\"Markus\",$AK$78,IF($H$79=\"Markus\",$AK$79,IF($H$80=\"Markus\",$AK$80,IF($H$81=\"Markus\",$AK$81,IF($H$82=\"Markus\",$AK$82,IF($H$83=\"Markus\",$AK$83,IF($H$84=\"Markus\",$AK$84,0)))))))","v":2},null,null,null,null,null,null,null,null,null,null,{"$f":"IF($H$78=\"Markus\",$AV$78,IF($H$79=\"Markus\",$AV$79,IF($H$80=\"Markus\",$AV$80,IF($H$81=\"Markus\",$AV$81,IF($H$82=\"Markus\",$AV$82,IF($H$83=\"Markus\",$AV$83,IF($H$84=\"Markus\",$AV$84,0)))))))","v":0},null,null,null,null,null,null,null,null,null,null,{"$f":"IF($H$78=\"Markus\",$BG$78,IF($H$79=\"Markus\",$BG$79,IF($H$80=\"Markus\",$BG$80,IF($H$81=\"Markus\",$BG$81,IF($H$82=\"Markus\",$BG$82,IF($H$83=\"Markus\",$BG$83,IF($H$84=\"Markus\",$BG$84,0)))))))","v":12},null,null,null,null,":",null,{"$f":"IF($H$78=\"Markus\",$BN$78,IF($H$79=\"Markus\",$BN$79,IF($H$80=\"Markus\",$BN$80,IF($H$81=\"Markus\",$BN$81,IF($H$82=\"Markus\",$BN$82,IF($H$83=\"Markus\",$BN$83,IF($H$84=\"Markus\",$BN$84,0)))))))","v":6},null,null,null,null,{"$f":"IF($H$78=\"Markus\",$BS$78,IF($H$79=\"Markus\",$BS$79,IF($H$80=\"Markus\",$BS$80,IF($H$81=\"Markus\",$BS$81,IF($H$82=\"Markus\",$BS$82,IF($H$83=\"Markus\",$BS$83,IF($H$84=\"Markus\",$BS$84,0)))))))","v":6},null,null,null,null,{"$f":"IF($H$78=\"Markus\",$BX$78,IF($H$79=\"Markus\",$BX$79,IF($H$80=\"Markus\",$BX$80,IF($H$81=\"Markus\",$BX$81,IF($H$82=\"Markus\",$BX$82,IF($H$83=\"Markus\",$BX$83,IF($H$84=\"Markus\",$BX$84,0)))))))","v":14}]
[null,null,{"$f":"IF($H$78=\"Patrick\",$F$78,IF($H$79=\"Patrick\",$F$79,IF($H$80=\"Patrick\",$F$80,IF($H$81=\"Patrick\",$F$81,IF($H$82=\"Patrick\",$F$82,IF($H$83=\"Patrick\",$F$83,IF($H$84=\"Patrick\",$F$84,0)))))))","v":4},null,null,null,null,"Patrick",null,null,null,null,null,null,null,null,null,null,null,{"$f":"IF($H$78=\"Patrick\",$T$78,IF($H$79=\"Patrick\",$T$79,IF($H$80=\"Patrick\",$T$80,IF($H$81=\"Patrick\",$T$81,IF($H$82=\"Patrick\",$T$82,IF($H$83=\"Patrick\",$T$83,IF($H$84=\"Patrick\",$T$84,0)))))))","v":6},null,null,null,null,null,{"$f":"IF($H$78=\"Patrick\",$Z$78,IF($H$79=\"Patrick\",$Z$79,IF($H$80=\"Patrick\",$Z$80,IF($H$81=\"Patrick\",$Z$81,IF($H$82=\"Patrick\",$Z$82,IF($H$83=\"Patrick\",$Z$83,IF($H$84=\"Patrick\",$Z$84,0)))))))","v":1},null,null,null,null,null,null,null,null,null,null,{"$f":"IF($H$78=\"Patrick\",$AK$78,IF($H$79=\"Patrick\",$AK$79,IF($H$80=\"Patrick\",$AK$80,IF($H$81=\"Patrick\",$AK$81,IF($H$82=\"Patrick\",$AK$82,IF($H$83=\"Patrick\",$AK$83,IF($H$84=\"Patrick\",$AK$84,0)))))))","v":0},null,null,null,null,null,null,null,null,null,null,{"$f":"IF($H$78=\"Patrick\",$AV$78,IF($H$79=\"Patrick\",$AV$79,IF($H$80=\"Patrick\",$AV$80,IF($H$81=\"Patrick\",$AV$81,IF($H$82=\"Patrick\",$AV$82,IF($H$83=\"Patrick\",$AV$83,IF($H$84=\"Patrick\",$AV$84,0)))))))","v":5},null,null,null,null,null,null,null,null,null,null,{"$f":"IF($H$78=\"Patrick\",$BG$78,IF($H$79=\"Patrick\",$BG$79,IF($H$80=\"Patrick\",$BG$80,IF($H$81=\"Patrick\",$BG$81,IF($H$82=\"Patrick\",$BG$82,IF($H$83=\"Patrick\",$BG$83,IF($H$84=\"Patrick\",$BG$84,0)))))))","v":12},null,null,null,null,":",null,{"$f":"IF($H$78=\"Patrick\",$BN$78,IF($H$79=\"Patrick\",$BN$79,IF($H$80=\"Patrick\",$BN$80,IF($H$81=\"Patrick\",$BN$81,IF($H$82=\"Patrick\",$BN$82,IF($H$83=\"Patrick\",$BN$83,IF($H$84=\"Patrick\",$BN$84,0)))))))","v":17},null,null,null,null,{"$f":"IF($H$78=\"Patrick\",$BS$78,IF($H$79=\"Patrick\",$BS$79,IF($H$80=\"Patrick\",$BS$80,IF($H$81=\"Patrick\",$BS$81,IF($H$82=\"Patrick\",$BS$82,IF($H$83=\"Patrick\",$BS$83,IF($H$84=\"Patrick\",$BS$84,0)))))))","v":-5},null,null,null,null,{"$f":"IF($H$78=\"Patrick\",$BX$78,IF($H$79=\"Patrick\",$BX$79,IF($H$80=\"Patrick\",$BX$80,IF($H$81=\"Patrick\",$BX$81,IF($H$82=\"Patrick\",$BX$82,IF($H$83=\"Patrick\",$BX$83,IF($H$84=\"Patrick\",$BX$84,0)))))))","v":3}]
[null,null,{"$f":"IF($H$78=\"Ratze\",$F$78,IF($H$79=\"Ratze\",$F$79,IF($H$80=\"Ratze\",$F$80,IF($H$81=\"Ratze\",$F$81,IF($H$82=\"Ratze\",$F$82,IF($H$83=\"Ratze\",$F$83,IF($H$84=\"Ratze\",$F$84,0)))))))","v":2},null,null,null,null,"Ratze",null,null,null,null,null,null,null,null,null,null,null,{"$f":"IF($H$78=\"Ratze\",$T$78,IF($H$79=\"Ratze\",$T$79,IF($H$80=\"Ratze\",$T$80,IF($H$81=\"Ratze\",$T$81,IF($H$82=\"Ratze\",$T$82,IF($H$83=\"Ratze\",$T$83,IF($H$84=\"Ratze\",$T$84,0)))))))","v":6},null,null,null,null,null,{"$f":"IF($H$78=\"Ratze\",$Z$78,IF($H$79=\"Ratze\",$Z$79,IF($H$80=\"Ratze\",$Z$80,IF($H$81=\"Ratze\",$Z$81,IF($H$82=\"Ratze\",$Z$82,IF($H$83=\"Ratze\",$Z$83,IF($H$84=\"Ratze\",$Z$84,0)))))))","v":4},null,null,null,null,null,null,null,null,null,null,{"$f":"IF($H$78=\"Ratze\",$AK$78,IF($H$79=\"Ratze\",$AK$79,IF($H$80=\"Ratze\",$AK$80,IF($H$81=\"Ratze\",$AK$81,IF($H$82=\"Ratze\",$AK$82,IF($H$83=\"Ratze\",$AK$83,IF($H$84=\"Ratze\",$AK$84,0)))))))","v":1},null,null,null,null,null,null,null,null,null,null,{"$f":"IF($H$78=\"Ratze\",$AV$78,IF($H$79=\"Ratze\",$AV$79,IF($H$80=\"Ratze\",$AV$80,IF($H$81=\"Ratze\",$AV$81,IF($H$82=\"Ratze\",$AV$82,IF($H$83=\"Ratze\",$AV$83,IF($H$84=\"Ratze\",$AV$84,0)))))))","v":1},null,null,null,null,null,null,null,null,null,null,{"$f":"IF($H$78=\"Ratze\",$BG$78,IF($H$79=\"Ratze\",$BG$79,IF($H$80=\"Ratze\",$BG$80,IF($H$81=\"Ratze\",$BG$81,IF($H$82=\"Ratze\",$BG$82,IF($H$83=\"Ratze\",$BG$83,IF($H$84=\"Ratze\",$BG$84,0)))))))","v":13},null,null,null,null,":",null,{"$f":"IF($H$78=\"Ratze\",$BN$78,IF($H$79=\"Ratze\",$BN$79,IF($H$80=\"Ratze\",$BN$80,IF($H$81=\"Ratze\",$BN$81,IF($H$82=\"Ratze\",$BN$82,IF($H$83=\"Ratze\",$BN$83,IF($H$84=\"Ratze\",$BN$84,0)))))))","v":9},null,null,null,null,{"$f":"IF($H$78=\"Ratze\",$BS$78,IF($H$79=\"Ratze\",$BS$79,IF($H$80=\"Ratze\",$BS$80,IF($H$81=\"Ratze\",$BS$81,IF($H$82=\"Ratze\",$BS$82,IF($H$83=\"Ratze\",$BS$83,IF($H$84=\"Ratze\",$BS$84,0)))))))","v":4},null,null,null,null,{"$f":"IF($H$78=\"Ratze\",$BX$78,IF($H$79=\"Ratze\",$BX$79,IF($H$80=\"Ratze\",$BX$80,IF($H$81=\"Ratze\",$BX$81,IF($H$82=\"Ratze\",$BX$82,IF($H$83=\"Ratze\",$BX$83,IF($H$84=\"Ratze\",$BX$84,0)))))))","v":13}]
[null,null,{"$f":"IF($H$78=\"Schmiddi\",$F$78,IF($H$79=\"Schmiddi\",$F$79,IF($H$80=\"Schmiddi\",$F$80,IF($H$81=\"Schmiddi\",$F$81,IF($H$82=\"Schmiddi\",$F$82,IF($H$83=\"Schmiddi\",$F$83,IF($H$84=\"Schmiddi\",$F$84,0)))))))","v":0},null,null,null,null,"Schmiddi",null,null,null,null,null,null,null,null,null,null,null,{"$f":"IF($H$78=\"Schmiddi\",$T$78,IF($H$79=\"Schmiddi\",$T$79,IF($H$80=\"Schmiddi\",$T$80,IF($H$81=\"Schmiddi\",$T$81,IF($H$82=\"Schmiddi\",$T$82,IF($H$83=\"Schmiddi\",$T$83,IF($H$84=\"Schmiddi\",$T$84,0)))))))","v":0},null,null,null,null,null,{"$f":"IF($H$78=\"Schmiddi\",$Z$78,IF($H$79=\"Schmiddi\",$Z$79,IF($H$80=\"Schmiddi\",$Z$80,IF($H$81=\"Schmiddi\",$Z$81,IF($H$82=\"Schmiddi\",$Z$82,IF($H$83=\"Schmiddi\",$Z$83,IF($H$84=\"Schmiddi\",$Z$84,0)))))))","v":0},null,null,null,null,null,null,null,null,null,null,{"$f":"IF($H$78=\"Schmiddi\",$AK$78,IF($H$79=\"Schmiddi\",$AK$79,IF($H$80=\"Schmiddi\",$AK$80,IF($H$81=\"Schmiddi\",$AK$81,IF($H$82=\"Schmiddi\",$AK$82,IF($H$83=\"Schmiddi\",$AK$83,IF($H$84=\"Schmiddi\",$AK$84,0)))))))","v":0},null,null,null,null,null,null,null,null,null,null,{"$f":"IF($H$78=\"Schmiddi\",$AV$78,IF($H$79=\"Schmiddi\",$AV$79,IF($H$80=\"Schmiddi\",$AV$80,IF($H$81=\"Schmiddi\",$AV$81,IF($H$82=\"Schmiddi\",$AV$82,IF($H$83=\"Schmiddi\",$AV$83,IF($H$84=\"Schmiddi\",$AV$84,0)))))))","v":0},null,null,null,null,null,null,null,null,null,null,{"$f":"IF($H$78=\"Schmiddi\",$BG$78,IF($H$79=\"Schmiddi\",$BG$79,IF($H$80=\"Schmiddi\",$BG$80,IF($H$81=\"Schmiddi\",$BG$81,IF($H$82=\"Schmiddi\",$BG$82,IF($H$83=\"Schmiddi\",$BG$83,IF($H$84=\"Schmiddi\",$BG$84,0)))))))","v":0},null,null,null,null,":",null,{"$f":"IF($H$78=\"Schmiddi\",$BN$78,IF($H$79=\"Schmiddi\",$BN$79,IF($H$80=\"Schmiddi\",$BN$80,IF($H$81=\"Schmiddi\",$BN$81,IF($H$82=\"Schmiddi\",$BN$82,IF($H$83=\"Schmiddi\",$BN$83,IF($H$84=\"Schmiddi\",$BN$84,0)))))))","v":0},null,null,null,null,{"$f":"IF($H$78=\"Schmiddi\",$BS$78,IF($H$79=\"Schmiddi\",$BS$79,IF($H$80=\"Schmiddi\",$BS$80,IF($H$81=\"Schmiddi\",$BS$81,IF($H$82=\"Schmiddi\",$BS$82,IF($H$83=\"Schmiddi\",$BS$83,IF($H$84=\"Schmiddi\",$BS$84,0)))))))","v":0},null,null,null,null,{"$f":"IF($H$78=\"Schmiddi\",$BX$78,IF($H$79=\"Schmiddi\",$BX$79,IF($H$80=\"Schmiddi\",$BX$80,IF($H$81=\"Schmiddi\",$BX$81,IF($H$82=\"Schmiddi\",$BX$82,IF($H$83=\"Schmiddi\",$BX$83,IF($H$84=\"Schmiddi\",$BX$84,0)))))))","v":0}]

{"sheet":"6.5.","index":21,"n_rows":97,"n_cols":88,"rows_kept":97,"cut":false,"hidden":false,"merged":[[6,16,6,26],[6,27,6,37],[6,38,6,48],[6,49,6,59],[6,60,6,70],[6,71,6,81],[0,0,0,83],[1,1,1,82],[1,83,84,83],[2,1,2,82],[3,1,3,82],[4,1,7,1],[4,2,4,81],[4,82,7,82],[5,2,5,81],[6,2,6,15],[13,12,13,16],[13,18,13,22],[13,24,13,33],[13,35,13,67],[13,69,13,81],[14,2,14,81],[7,71,7,81],[8,1,8,82],[9,1,9,82],[10,1,10,82],[11,1,45,1],[11,2,11,81],[11,82,45,82],[12,2,12,81],[13,2,13,5],[13,7,13,10],[7,2,7,15],[7,16,7,26],[7,27,7,37],[7,38,7,48],[7,49,7,59],[7,60,7,70],[15,53,15,67],[15,68,29,68],[15,69,15,73],[15,74,15,76],[15,77,15,81],[16,7,16,10],[16,12,16,16],[16,18,16,22],[16,24,16,33],[16,35,16,49],[15,18,15,22],[15,23,29,23],[15,24,15,33],[15,34,29,34],[15,35,15,49],[15,50,15,52],[16,50,16,52],[15,7,15,10],[15,11,29,11],[15,12,15,16],[15,17,29,17],[18,7,18,10],[18,12,18,16],[18,18,18,22],[18,24,18,33],[18,35,18,49],[18,50,18,52],[20,7,20,10],[20,12,20,16],[20,18,20,22],[20,24,20,33],[20,35,20,49],[20,50,20,52],[22,7,22,10],[16,53,16,67],[16,69,16,73],[16,74,16,76],[16,77,16,81],[17,7,17,10],[17,12,17,16],[17,18,17,22],[17,24,17,33],[17,35,17,49],[17,50,17,52],[17,53,17,67],[17,69,17,73],[17,74,17,76],[17,77,17,81],[18,53,18,67],[18,69,18,73],[18,74,18,76],[18,77,18,81],[19,7,19,10],[19,12,19,16],[19,18,19,22],[19,24,19,33],[19,35,19,49],[19,50,19,52],[19,53,19,67],[19,69,19,73],[19,74,19,76],[19,77,19,81],[20,53,20,67],[20,69,20,73],[20,74,20,76],[20,77,20,81],[21,7,21,10],[21,12,21,16],[21,18,21,22],[21,24,21,33],[21,35,21,49],[21,50,21,52],[21,53,21,67],[21,69,21,73],[21,74,21,76],[21,77,21,81],[22,12,22,16],[22,18,22,22],[22,24,22,33],[22,35,22,49],[22,50,22,52],[22,53,22,67],[22,69,22,73],[22,74,22,76],[22,77,22,81],[23,77,23,81],[24,7,24,10],[24,12,24,16],[24,18,24,22],[24,24,24,33],[24,35,24,49],[24,50,24,52],[24,53,24,67],[24,69,24,73],[24,74,24,76],[24,77,24,81],[23,7,23,10],[23,12,23,16],[23,18,23,22],[23,24,23,33],[23,35,23,49],[23,50,23,52],[23,53,23,67],[23,69,23,73],[23,74,23,76],[25,77,25,81],[26,7,26,10],[26,12,26,16],[26,18,26,22],[26,24,26,33],[26,35,26,49],[26,50,26,52],[26,53,26,67],[26,69,26,73],[26,74,26,76],[26,77,26,81],[25,7,25,10],[25,12,25,16],[25,18,25,22],[25,24,25,33],[25,35,25,49],[25,50,25,52],[25,53,25,67],[25,69,25,73],[25,74,25,76],[27,77,27,81],[28,7,28,10],[28,12,28,16],[28,18,28,22],[28,24,28,33],[28,35,28,49],[28,50,28,52],[28,53,28,67],[28,69,28,73],[28,74,28,76],[28,77,28,81],[27,7,27,10],[27,12,27,16],[27,18,27,22],[27,24,27,33],[27,35,27,49],[27,50,27,52],[27,53,27,67],[27,69,27,73],[27,74,27,76],[29,7,29,10],[29,12,29,16],[29,18,29,22],[29,24,29,33],[29,35,29,49],[29,50,29,52],[29,53,29,67],[29,69,29,73],[29,74,29,76],[29,77,29,81],[30,2,30,81],[31,2,45,5],[31,6,45,6],[31,7,31,10],[31,11,45,11],[31,12,31,16],[15,2,29,5],[15,6,29,6],[31,69,31,73],[31,74,31,76],[31,77,31,81],[32,53,32,67],[32,69,32,73],[32,74,32,76],[32,77,32,81],[31,17,45,17],[31,18,31,22],[31,23,45,23],[31,24,31,33],[31,34,45,34],[31,35,31,49],[32,7,32,10],[32,12,32,16],[32,18,32,22],[32,24,32,33],[32,35,32,49],[32,50,32,52],[31,50,31,52],[31,53,31,67],[31,68,45,68],[33,53,33,67],[33,69,33,73],[43,69,43,73],[33,74,33,76],[33,77,33,81],[34,7,34,10],[34,12,34,16],[34,18,34,22],[34,24,34,33],[34,35,34,49],[34,50,34,52],[33,7,33,10],[33,12,33,16],[33,18,33,22],[33,24,33,33],[33,35,33,49],[33,50,33,52],[34,53,34,67],[34,69,34,73],[34,74,34,76],[34,77,34,81],[35,77,35,81],[36,7,36,10],[36,12,36,16],[36,18,36,22],[36,24,36,33],[36,35,36,49],[36,50,36,52],[36,53,36,67],[36,69,36,73],[36,74,36,76],[36,77,36,81],[35,7,35,10],[35,12,35,16],[35,18,35,22],[35,24,35,33],[35,35,35,49],[35,50,35,52],[35,53,35,67],[35,69,35,73],[35,74,35,76],[37,77,37,81],[38,7,38,10],[38,12,38,16],[38,18,38,22],[38,24,38,33],[38,35,38,49],[38,50,38,52],[38,53,38,67],[38,69,38,73],[38,74,38,76],[38,77,38,81],[37,7,37,10],[37,12,37,16],[37,18,37,22],[37,24,37,33],[37,35,37,49],[37,50,37,52],[37,53,37,67],[37,69,37,73],[37,74,37,76],[39,77,39,81],[40,7,40,10],[40,12,40,16],[40,18,40,22],[40,24,40,33],[40,35,40,49],[40,50,40,52],[40,53,40,67],[40,69,40,73],[40,74,40,76],[40,77,40,81],[39,7,39,10],[39,12,39,16],[39,18,39,22],[39,24,39,33],[39,35,39,49],[39,50,39,52],[39,53,39,67],[39,69,39,73],[39,74,39,76],[43,74,43,76],[41,77,41,81],[42,7,42,10],[42,12,42,16],[42,18,42,22],[42,24,42,33],[42,35,42,49],[42,50,42,52],[42,53,42,67],[42,69,42,73],[42,74,42,76],[42,77,42,81],[41,7,41,10],[41,12,41,16],[41,18,41,22],[41,24,41,33],[41,35,41,49],[41,50,41,52],[41,53,41,67],[41,69,41,73],[41,74,41,76],[60,1,60,82],[61,1,69,1],[61,2,61,81],[61,82,69,82],[62,2,62,81],[63,2,63,6],[43,77,43,81],[44,7,44,10],[44,12,44,16],[44,18,44,22],[44,24,44,33],[44,35,44,49],[44,50,44,52],[45,53,45,67],[45,69,45,73],[45,74,45,76],[45,77,45,81],[43,7,43,10],[43,12,43,16],[43,18,43,22],[43,24,43,33],[43,35,43,49],[43,50,43,52],[43,53,43,67],[46,1,46,82],[59,1,59,82],[44,53,44,67],[44,69,44,73],[44,74,44,76],[44,77,44,81],[45,7,45,10],[45,12,45,16],[45,18,45,22],[45,24,45,33],[45,35,45,49],[45,50,45,52],[63,7,63,18],[63,19,63,24],[63,25,63,35],[63,36,63,46],[63,47,63,57],[63,58,63,69],[63,70,63,74],[63,75,63,78],[63,79,63,81],[64,2,64,6],[64,7,64,18],[64,19,64,24],[64,25,64,35],[64,36,64,46],[64,79,64,81],[64,70,64,74],[64,75,64,78],[65,70,65,74],[65,75,65,78],[65,79,65,81],[64,47,64,57],[65,2,65,6],[65,7,65,18],[65,19,65,24],[64,58,64,62],[64,63,64,64],[64,65,64,69],[66,2,66,6],[66,7,66,18],[66,19,66,24],[66,25,66,35],[66,36,66,46],[66,47,66,57],[66,58,66,62],[66,63,66,64],[66,65,66,69],[66,70,66,74],[66,75,66,78],[66,79,66,81],[65,25,65,35],[65,36,65,46],[65,47,65,57],[65,58,65,62],[65,63,65,64],[65,65,65,69],[67,2,67,6],[67,7,67,18],[67,19,67,24],[67,25,67,35],[67,36,67,46],[67,79,67,81],[68,2,68,6],[68,7,68,18],[68,19,68,24],[68,25,68,35],[68,36,68,46],[68,47,68,57],[68,58,68,62],[68,63,68,64],[68,65,68,69],[67,47,67,57],[67,58,67,62],[67,63,67,64],[67,65,67,69],[67,70,67,74],[67,75,67,78],[68,70,68,74],[68,75,68,78],[68,79,68,81],[69,70,69,74],[69,75,69,78],[69,79,69,81],[70,2,70,6],[70,7,70,18],[70,19,70,24],[70,25,70,35],[70,36,70,46],[70,79,70,81],[70,47,70,57],[70,58,70,62],[70,63,70,64],[70,65,70,69],[70,70,70,74],[70,75,70,78],[69,2,69,6],[69,7,69,18],[69,19,69,24],[69,25,69,35],[69,36,69,46],[69,47,69,57],[69,58,69,62],[69,63,69,64],[69,65,69,69],[71,1,71,82],[72,1,72,82],[73,1,73,82],[74,1,82,1],[74,2,74,81],[74,82,82,82],[75,2,75,81],[76,2,76,6],[76,7,76,18],[76,75,76,81],[77,2,77,4],[77,5,77,6],[77,7,77,18],[77,19,77,24],[77,25,77,35],[77,36,77,46],[77,47,77,57],[77,58,77,62],[77,63,77,64],[76,19,76,24],[76,25,76,35],[76,36,76,46],[76,47,76,57],[76,58,76,69],[76,70,76,74],[77,65,77,69],[77,70,77,74],[77,75,77,81],[78,2,78,4],[78,5,78,6],[78,7,78,18],[78,19,78,24],[78,25,78,35],[78,36,78,46],[78,47,78,57],[78,58,78,62],[78,63,78,64],[78,65,78,69],[78,70,78,74],[78,75,78,81],[79,2,79,4],[79,5,79,6],[79,7,79,18],[79,19,79,24],[79,25,79,35],[79,75,79,81],[80,2,80,4],[80,5,80,6],[80,7,80,18],[80,19,80,24],[80,25,80,35],[80,36,80,46],[80,47,80,57],[80,58,80,62],[80,63,80,64],[79,36,79,46],[79,47,79,57],[79,58,79,62],[79,63,79,64],[79,65,79,69],[79,70,79,74],[80,65,80,69],[80,70,80,74],[80,75,80,81],[81,65,81,69],[81,70,81,74],[81,75,81,81],[82,2,82,4],[82,5,82,6],[82,7,82,18],[82,19,82,24],[82,25,82,35],[83,65,83,69],[83,70,83,74],[83,75,83,81],[81,2,81,4],[81,5,81,6],[81,7,81,18],[81,19,81,24],[81,25,81,35],[81,36,81,46],[81,47,81,57],[81,58,81,62],[81,63,81,64],[84,1,84,82],[85,1,85,82],[86,1,86,82],[82,75,82,81],[83,2,83,4],[83,5,83,6],[83,7,83,18],[83,19,83,24],[83,25,83,35],[83,36,83,46],[83,47,83,57],[83,58,83,62],[83,63,83,64],[82,36,82,46],[82,47,82,57],[82,58,82,62],[82,63,82,64],[82,65,82,69],[82,70,82,74],[87,1,96,1],[87,2,87,81],[87,82,96,82],[88,2,88,81],[89,2,89,6],[89,7,89,18],[89,19,89,24],[89,25,89,35],[89,36,89,46],[89,47,89,57],[89,58,89,69],[89,70,89,74],[89,75,89,81],[90,2,90,6],[90,7,90,18],[90,19,90,24],[90,25,90,35],[90,36,90,46],[90,47,90,57],[90,58,90,62],[92,2,92,6],[92,7,92,18],[92,19,92,24],[92,25,92,35],[92,36,92,46],[90,63,90,64],[90,65,90,69],[90,70,90,74],[90,75,90,81],[91,2,91,6],[91,7,91,18],[91,19,91,24],[91,25,91,35],[91,36,91,46],[91,47,91,57],[92,47,92,57],[92,58,92,62],[92,63,92,64],[92,65,92,69],[92,70,92,74],[92,75,92,81],[91,58,91,62],[91,63,91,64],[91,65,91,69],[91,70,91,74],[91,75,91,81],[94,2,94,6],[94,7,94,18],[94,19,94,24],[94,25,94,35],[94,36,94,46],[93,2,93,6],[93,7,93,18],[93,19,93,24],[93,25,93,35],[93,36,93,46],[94,47,94,57],[94,58,94,62],[94,63,94,64],[94,65,94,69],[94,70,94,74],[94,75,94,81],[93,58,93,62],[93,63,93,64],[93,65,93,69],[93,70,93,74],[93,75,93,81],[93,47,93,57],[97,1,97,82],[98,0,98,83],[96,47,96,57],[96,58,96,62],[96,63,96,64],[96,65,96,69],[96,70,96,74],[96,75,96,81],[95,58,95,62],[95,63,95,64],[95,65,95,69],[95,70,95,74],[95,75,95,81],[96,2,96,6],[96,7,96,18],[96,19,96,24],[96,25,96,35],[96,36,96,46],[95,2,95,6],[95,7,95,18],[95,19,95,24],[95,25,95,35],[95,36,95,46],[95,47,95,57]]}
[]
[null,{"$f":"\"Turnier am \" & MID(CELL(\"dateiname\",A1),SEARCH(\"]\",CELL(\"dateiname\",A1))+1,31)","v":"Turnier am 6.5."}]
[]
[]
[null,null,"Spielerliste"]
[]
[null,null,{"$f":"\" Spieler\"","v":" Spieler"},null,null,null,null,null,null,null,null,null,null,null,null,null,"Spieler 1",null,null,null,null,null,null,null,null,null,null,"Spieler 2",null,null,null,null,null,null,null,null,null,null,"Spieler 3",null,null,null,null,null,null,null,null,null,null,"Spieler 4",null,null,null,null,null,null,null,null,null,null,"Spieler 5",null,null,null,null,null,null,null,null,null,null,"Spieler 6"]
[null,null,{"$f":"\" Name\"","v":" Name"},null,null,null,null,null,null,null,null,null,null,null,null,null,"Patrick",null,null,null,null,null,null,null,null,null,null,"Ratze",null,null,null,null,null,null,null,null,null,null,"Markus",null,null,null,null,null,null,null,null,null,null,"Jule",null,null,null,null,null,null,null,null,null,null,"Schmiddi",null,null,null,null,null,null,null,null,null,null,"Christoph"]
[]
[]
[]
[null,null,"Spielplan"]
[]
[null,null,"00:12:00",null,null,null,null,"Spiel",null,null,null,null,"Datum",null,null,null,null,null,"Uhrzeit",null,null,null,null,null,"Austragungsort",null,null,null,null,null,null,null,null,null,null,"Paarung",null,null,null,null,null,null,null,null,null,null,null,null,null,null,null,null,null,null,null,null,null,null,null,null,null,null,null,null,null,null,null,null,null,"Ergebnis",null,null,null,null,null,null,null,null,null,null,null,null,null,null,"Spiele","SiegHeim","Unentschieden","SiegGast"]
[]
[null,null,"Hinrunde",null,null,null,null,1,null,null,null,null,{"$f":"MID(CELL(\"dateiname\",A1),SEARCH(\"]\",CELL(\"dateiname\",A1))+1,31)","v":"6.5."},null,null,null,null,null,"21:00:00",null,null,null,null,null,"Fernseher",null,null,null,null,null,null,null,null,null,null,{"$f":"$Q$8","v":"Patrick"},null,null,null,null,null,null,null,null,null,null,null,null,null,null,":",null,null,{"$f":"$AB$8","v":"Ratze"},null,null,null,null,null,null,null,null,null,null,null,null,null,null,null,1,null,null,null,null,":",null,null,2,null,null,null,null,null,null,{"$f":"IF(AND(ISNUMBER(BR16),ISNUMBER(BZ16)),1,0)","v":1},{"$f":"IF(OR(ISBLANK(BR16),ISBLANK(BZ16)),0,IF(BR16>BZ16,1,0))","v":0},{"$f":"IF(OR(ISBLANK(BR16),ISBLANK(BZ16)),0,IF(BR16=BZ16,1,0))","v":0},{"$f":"IF(OR(ISBLANK(BR16),ISBLANK(BZ16)),0,IF(BR16<BZ16,1,0))","v":1}]
[null,null,null,null,null,null,null,{"$f":"H16+1","v":2},null,null,null,null,{"$f":"$M$16","v":"6.5."},null,null,null,null,null,{"$f":"S16","v":"21:00:00"},null,null,null,null,null,{"$f":"$Y$16","v":"Fernseher"},null,null,null,null,null,null,null,null,null,null,{"$f":"$AM$8","v":"Markus"},null,null,null,null,null,null,null,null,null,null,null,null,null,null,":",null,null,{"$f":"$AX$8","v":"Jule"},null,null,null,null,null,null,null,null,null,null,null,null,null,null,null,2,null,null,null,null,":",null,null,1,null,null,null,null,null,null,{"$f":"IF(AND(ISNUMBER(BR17),ISNUMBER(BZ17)),1,0)","v":1},{"$f":"IF(OR(ISBLANK(BR17),ISBLANK(BZ17)),0,IF(BR17>BZ17,1,0))","v":1},{"$f":"IF(OR(ISBLANK(BR17),ISBLANK(BZ17)),0,IF(BR17=BZ17,1,0))","v":0},{"$f":"IF(OR(ISBLANK(BR17),ISBLANK(BZ17)),0,IF(BR17<BZ17,1,0))","v":0}]
[null,null,null,null,null,null,null,{"$f":"H17+1","v":3},null,null,null,null,{"$f":"$M$16","v":"6.5."},null,null,null,null,null,{"$f":"S16","v":"21:00:00"},null,null,null,null,null,{"$f":"$Y$16","v":"Fernseher"},null,null,null,null,null,null,null,null,null,null,{"$f":"$BI$8","v":"Schmiddi"},null,null,null,null,null,null,null,null,null,null,null,null,null,null,":",null,null,{"$f":"$BT$8","v":"Christoph"},null,null,null,null,null,null,null,null,null,null,null,null,null,null,null,1,null,null,null,null,":",null,null,3,null,null,null,null,null,null,1,0,0,1]
[null,null,null,null,null,null,null,{"$f":"H18+1","v":4},null,null,null,null,"6.5.",null,null,null,null,null,{"$f":"S16+$C$14","v":"21:12:00"},null,null,null,null,null,"Fernseher",null,null,null,null,null,null,null,null,null,null,{"$f":"$Q$8","v":"Patrick"},null,null,null,null,null,null,null,null,null,null,null,null,null,null,":",null,null,{"$f":"$AM$8","v":"Markus"},null,null,null,null,null,null,null,null,null,null,null,null,null,null,null,1,null,null,null,null,":",null,null,1,null,null,null,null,null,null,1,0,1,0]
[null,null,null,null,null,null,null,5,null,null,null,null,"6.5.",null,null,null,null,null,{"$f":"S17+$C$14","v":"21:12:00"},null,null,null,null,null,"Fernseher",null,null,null,null,null,null,null,null,null,null,{"$f":"$AB$8","v":"Ratze"},null,null,null,null,null,null,null,null,null,null,null,null,null,null,":",null,null,{"$f":"$BI$8","v":"Schmiddi"},null,null,null,null,null,null,null,null,null,null,null,null,null,null,null,3,null,null,null,null,":",null,null,3,null,null,null,null,null,null,1,0,1,0]
[null,null,null,null,null,null,null,6,null,null,null,null,"6.5.",null,null,null,null,null,{"$f":"S18+$C$14","v":"21:12:00"},null,null,null,null,null,"Fernseher",null,null,null,null,null,null,null,null,null,null,{"$f":"$AX$8","v":"Jule"},null,null,null,null,null,null,null,null,null,null,null,null,null,null,":",null,null,{"$f":"$BT$8","v":"Christoph"},null,null,null,null,null,null,null,null,null,null,null,null,null,null,null,0,null,null,null,null,":",null,null,2,null,null,null,null,null,null,1,0,0,1]
[null,null,null,null,null,null,null,{"$f":"H21+1","v":7},null,null,null,null,"6.5.",null,null,null,null,null,{"$f":"S19+$C$14","v":"21:24:00"},null,null,null,null,null,"Fernseher",null,null,null,null,null,null,null,null,null,null,{"$f":"$BI$8","v":"Schmiddi"},null,null,null,null,null,null,null,null,null,null,null,null,null,null,":",null,null,{"$f":"$Q$8","v":"Patrick"},null,null,null,null,null,null,null,null,null,null,null,null,null,null,null,0,null,null,null,null,":",null,null,4,null,null,null,null,null,null,1,0,0,1]
[null,null,null,null,null,null,null,8,null,null,null,null,"6.5.",null,null,null,null,null,{"$f":"S20+$C$14","v":"21:24:00"},null,null,null,null,null,"Fernseher",null,null,null,null,null,null,null,null,null,null,{"$f":"$AB$8","v":"Ratze"},null,null,null,null,null,null,null,null,null,null,null,null,null,null,":",null,null,{"$f":"$AX$8","v":"Jule"},null,null,null,null,null,null,null,null,null,null,null,null,null,null,null,0,null,null,null,null,":",null,null,2,null,null,null,null,null,null,1,0,0,1]
[null,null,null,null,null,null,null,9,null,null,null,null,"6.5.",null,null,null,null,null,"21:24:00",null,null,null,null,null,"Fernseher",null,null,null,null,null,null,null,null,null,null,{"$f":"$BT$8","v":"Christoph"},null,null,null,null,null,null,null,null,null,null,null,null,null,null,":",null,null,{"$f":"$AM$8","v":"Markus"},null,null,null,null,null,null,null,null,null,null,null,null,null,null,null,5,null,null,null,null,":",null,null,1,null,null,null,null,null,null,1,1,0,0]
[null,null,null,null,null,null,null,{"$f":"H24+1","v":10},null,null,null,null,"6.5.",null,null,null,null,null,{"$f":"S22+$C$14","v":"21:36:00"},null,null,null,null,null,"Fernseher",null,null,null,null,null,null,null,null,null,null,{"$f":"$Q$8","v":"Patrick"},null,null,null,null,null,null,null,null,null,null,null,null,null,null,":",null,null,{"$f":"$AX$8","v":"Jule"},null,null,null,null,null,null,null,null,null,null,null,null,null,null,null,5,null,null,null,null,":",null,null,3,null,null,null,null,null,null,1,1,0,0]
[null,null,null,null,null,null,null,11,null,null,null,null,"6.5.",null,null,null,null,null,"21:36:00",null,null,null,null,null,"Fernseher",null,null,null,null,null,null,null,null,null,null,{"$f":"$BT$8","v":"Christoph"},null,null,null,null,null,null,null,null,null,null,null,null,null,null,":",null,null,{"$f":"$AB$8","v":"Ratze"},null,null,null,null,null,null,null,null,null,null,null,null,null,null,null,1,null,null,null,null,":",null,null,2,null,null,null,null,null,null,1,0,0,1]
[null,null,null,null,null,null,null,{"$f":"H26+1","v":12},null,null,null,null,"6.5.",null,null,null,null,null,{"$f":"S24+$C$14","v":"21:36:00"},null,null,null,null,null,"Fernseher",null,null,null,null,null,null,null,null,null,null,{"$f":"$AM$8","v":"Markus"},null,null,null,null,null,null,null,null,null,null,null,null,null,null,":",null,null,{"$f":"$BI$8","v":"Schmiddi"},null,null,null,null,null,null,null,null,null,null,null,null,null,null,null,2,null,null,null,null,":",null,null,3,null,null,null,null,null,null,1,0,0,1]
[null,null,null,null,null,null,null,13,null,null,null,null,"6.5.",null,null,null,null,null,"21:48:00",null,null,null,null,null,"Fernseher",null,null,null,null,null,null,null,null,null,null,{"$f":"$BT$8","v":"Christoph"},null,null,null,null,null,null,null,null,null,null,null,null,null,null,":",null,null,{"$f":"$Q$8","v":"Patrick"},null,null,null,null,null,null,null,null,null,null,null,null,null,null,null,2,null,null,null,null,":",null,null,1,null,null,null,null,null,null,1,1,0,0]
[null,null,null,null,null,null,null,{"$f":"H28+1","v":14},null,null,null,null,"6.5.",null,null,null,null,null,{"$f":"S26+$C$14","v":"21:48:00"},null,null,null,null,null,"Fernseher",null,null,null,null,null,null,null,null,null,null,{"$f":"$AB$8","v":"Ratze"},null,null,null,null,null,null,null,null,null,null,null,null,null,null,":",null,null,{"$f":"$AM$8","v":"Markus"},null,null,null,null,null,null,null,null,null,null,null,null,null,null,null,1,null,null,null,null,":",null,null,0,null,null,null,null,null,null,1,1,0,0]
[null,null,null,null,null,null,null,15,null,null,null,null,"6.5.",null,null,null,null,null,{"$f":"S27+$C$14","v":"21:48:00"},null,null,null,null,null,"Fernseher",null,null,null,null,null,null,null,null,null,null,{"$f":"$AX$8","v":"Jule"},null,null,null,null,null,null,null,null,null,null,null,null,null,null,":",null,null,{"$f":"$BI$8","v":"Schmiddi"},null,null,null,null,null,null,null,null,null,null,null,null,null,null,null,3,null,null,null,null,":",null,null,3,null,null,null,null,null,null,1,0,1,0]
[]
[null,null,"Rückrunde",null,null,null,null,{"$f":"H30+1","v":16},null,null,null,null,{"$f":"$M$16","v":"6.5."},null,null,null,null,null,{"$f":"S30+$C$14","v":"22:00:00"},null,null,null,null,null,{"$f":"$Y$16","v":"Fernseher"},null,null,null,null,null,null,null,null,null,null,{"$f":"$AB$8","v":"Ratze"},null,null,null,null,null,null,null,null,null,null,null,null,null,null,":",null,null,{"$f":"$Q$8","v":"Patrick"},null,null,null,null,null,null,null,null,null,null,null,null,null,null,null,2,null,null,null,null,":",null,null,1,null,null,null,null,null,null,{"$f":"IF(AND(ISNUMBER(BR32),ISNUMBER(BZ32)),1,0)","v":1},{"$f":"IF(OR(ISBLANK(BR32),ISBLANK(BZ32)),0,IF(BR32>BZ32,1,0))","v":1},{"$f":"IF(OR(ISBLANK(BR32),ISBLANK(BZ32)),0,IF(BR32=BZ32,1,0))","v":0},{"$f":"IF(OR(ISBLANK(BR32),ISBLANK(BZ32)),0,IF(BR32<BZ32,1,0))","v":0}]
[null,null,null,null,null,null,null,{"$f":"H32+1","v":17},null,null,null,null,"6.5.",null,null,null,null,null,{"$f":"S30+$C$14","v":"22:00:00"},null,null,null,null,null,"Fernseher",null,null,null,null,null,null,null,null,null,null,{"$f":"$AX$8","v":"Jule"},null,null,null,null,null,null,null,null,null,null,null,null,null,null,":",null,null,{"$f":"$AM$8","v":"Markus"},null,null,null,null,null,null,null,null,null,null,null,null,null,null,null,4,null,null,null,null,":",null,null,4,null,null,null,null,null,null,1,0,1,0]
[null,null,null,null,null,null,null,{"$f":"H33+1","v":18},null,null,null,null,"6.5.",null,null,null,null,null,{"$f":"S30+$C$14","v":"22:00:00"},null,null,null,null,null,"Fernseher",null,null,null,null,null,null,null,null,null,null,{"$f":"$BT$8","v":"Christoph"},null,null,null,null,null,null,null,null,null,null,null,null,null,null,":",null,null,{"$f":"$BI$8","v":"Schmiddi"},null,null,null,null,null,null,null,null,null,null,null,null,null,null,null,7,null,null,null,null,":",null,null,2,null,null,null,null,null,null,1,1,0,0]
[null,null,null,null,null,null,null,{"$f":"H34+1","v":19},null,null,null,null,"6.5.",null,null,null,null,null,{"$f":"S32+$C$14","v":"22:12:00"},null,null,null,null,null,"Fernseher",null,null,null,null,null,null,null,null,null,null,{"$f":"$AM$8","v":"Markus"},null,null,null,null,null,null,null,null,null,null,null,null,null,null,":",null,null,{"$f":"$Q$8","v":"Patrick"},null,null,null,null,null,null,null,null,null,null,null,null,null,null,null,1,null,null,null,null,":",null,null,0,null,null,null,null,null,null,1,1,0,0]
[null,null,null,null,null,null,null,20,null,null,null,null,"6.5.",null,null,null,null,null,{"$f":"S33+$C$14","v":"22:12:00"},null,null,null,null,null,"Fernseher",null,null,null,null,null,null,null,null,null,null,{"$f":"$BI$8","v":"Schmiddi"},null,null,null,null,null,null,null,null,null,null,null,null,null,null,":",null,null,{"$f":"$AB$8","v":"Ratze"},null,null,null,null,null,null,null,null,null,null,null,null,null,null,null,0,null,null,null,null,":",null,null,8,null,null,null,null,null,null,1,0,0,1]
[null,null,null,null,null,null,null,21,null,null,null,null,"6.5.",null,null,null,null,null,{"$f":"S34+$C$14","v":"22:12:00"},null,null,null,null,null,"Fernseher",null,null,null,null,null,null,null,null,null,null,{"$f":"$BT$8","v":"Christoph"},null,null,null,null,null,null,null,null,null,null,null,null,null,null,":",null,null,{"$f":"$AX$8","v":"Jule"},null,null,null,null,null,null,null,null,null,null,null,null,null,null,null,1,null,null,null,null,":",null,null,2,null,null,null,null,null,null,1,0,0,1]
[null,null,null,null,null,null,null,{"$f":"H37+1","v":22},null,null,null,null,"6.5.",null,null,null,null,null,{"$f":"S35+$C$14","v":"22:24:00"},null,null,null,null,null,"Fernseher",null,null,null,null,null,null,null,null,null,null,{"$f":"$Q$8","v":"Patrick"},null,null,null,null,null,null,null,null,null,null,null,null,null,null,":",null,null,{"$f":"$BI$8","v":"Schmiddi"},null,null,null,null,null,null,null,null,null,null,null,null,null,null,null,3,null,null,null,null,":",null,null,2,null,null,null,null,null,null,1,1,0,0]
[null,null,null,null,null,null,null,23,null,null,null,null,"6.5.",null,null,null,null,null,{"$f":"S36+$C$14","v":"22:24:00"},null,null,null,null,null,"Fernseher",null,null,null,null,null,null,null,null,null,null,{"$f":"$AX$8","v":"Jule"},null,null,null,null,null,null,null,null,null,null,null,null,null,null,":",null,null,{"$f":"$AB$8","v":"Ratze"},null,null,null,null,null,null,null,null,null,null,null,null,null,null,null,3,null,null,null,null,":",null,null,6,null,null,null,null,null,null,1,0,0,1]
[null,null,null,null,null,null,null,24,null,null,null,null,"6.5.",null,null,null,null,null,"22:24:00",null,null,null,null,null,"Fernseher",null,null,null,null,null,null,null,null,null,null,{"$f":"$AM$8","v":"Markus"},null,null,null,null,null,null,null,null,null,null,null,null,null,null,":",null,null,{"$f":"$BT$8","v":"Christoph"},null,null,null,null,null,null,null,null,null,null,null,null,null,null,null,3,null,null,null,null,":",null,null,1,null,null,null,null,null,null,1,1,0,0]
[null,null,null,null,null,null,null,{"$f":"H40+1","v":25},null,null,null,null,"6.5.",null,null,null,null,null,{"$f":"S38+$C$14","v":"22:36:00"},null,null,null,null,null,"Fernseher",null,null,null,null,null,null,null,null,null,null,{"$f":"$AX$8","v":"Jule"},null,null,null,null,null,null,null,null,null,null,null,null,null,null,":",null,null,{"$f":"$Q$8","v":"Patrick"},null,null,null,null,null,null,null,null,null,null,null,null,null,null,null,3,null,null,null,null,":",null,null,2,null,null,null,null,null,null,1,1,0,0]
[null,null,null,null,null,null,null,26,null,null,null,null,"6.5.",null,null,null,null,null,"22:36:00",null,null,null,null,null,"Fernseher",null,null,null,null,null,null,null,null,null,null,{"$f":"$AB$8","v":"Ratze"},null,null,null,null,null,null,null,null,null,null,null,null,null,null,":",null,null,{"$f":"$BT$8","v":"Christoph"},null,null,null,null,null,null,null,null,null,null,null,null,null,null,null,1,null,null,null,null,":",null,null,3,null,null,null,null,null,null,1,0,0,1]
[null,null,null,null,null,null,null,{"$f":"H42+1","v":27},null,null,null,null,"6.5.",null,null,null,null,null,{"$f":"S40+$C$14","v":"22:36:00"},null,null,null,null,null,"Fernseher",null,null,null,null,null,null,null,null,null,null,{"$f":"$BI$8","v":"Schmiddi"},null,null,null,null,null,null,null,null,null,null,null,null,null,null,":",null,null,{"$f":"$AM$8","v":"Markus"},null,null,null,null,null,null,null,null,null,null,null,null,null,null,null,5,null,null,null,null,":",null,null,2,null,null,null,null,null,null,1,1,0,0]
[null,null,null,null,null,null,null,28,null,null,null,null,"6.5.",null,null,null,null,null,"22:48:00",null,null,null,null,null,"Fernseher",null,null,null,null,null,null,null,null,null,null,{"$f":"$Q$8","v":"Patrick"},null,null,null,null,null,null,null,null,null,null,null,null,null,null,":",null,null,{"$f":"$BT$8","v":"Christoph"},null,null,null,null,null,null,null,null,null,null,null,null,null,null,null,1,null,null,null,null,":",null,null,2,null,null,null,null,null,null,1,0,0,1]
[null,null,null,null,null,null,null,{"$f":"H44+1","v":29},null,null,null,null,"6.5.",null,null,null,null,null,{"$f":"S42+$C$14","v":"22:48:00"},null,null,null,null,null,"Fernseher",null,null,null,null,null,null,null,null,null,null,{"$f":"$AM$8","v":"Markus"},null,null,null,null,null,null,null,null,null,null,null,null,null,null,":",null,null,{"$f":"$AB$8","v":"Ratze"},null,null,null,null,null,null,null,null,null,null,null,null,null,null,null,0,null,null,null,null,":",null,null,5,null,null,null,null,null,null,1,0,0,1]
[null,null,null,null,null,null,null,30,null,null,null,null,"6.5.",null,null,null,null,null,{"$f":"S43+$C$14","v":"22:48:00"},null,null,null,null,null,"Fernseher",null,null,null,null,null,null,null,null,null,null,{"$f":"$BI$8","v":"Schmiddi"},null,null,null,null,null,null,null,null,null,null,null,null,null,null,":",null,null,{"$f":"$AX$8","v":"Jule"},null,null,null,null,null,null,null,null,null,null,null,null,null,null,null,1,null,null,null,null,":",null,null,6,null,null,null,null,null,null,1,0,0,1]
[]
[]
[]
[]
[]
[]
[]
[]
[]
[]
[]
[]
[]
[]
[]
[null,null,"Tabelle (unsortiert)"]
[]
[null,null,"Rang",null,null,null,null,"Spieler",null,null,null,null,null,null,null,null,null,null,null,"Spiele",null,null,null,null,null,"Siege",null,null,null,null,null,null,null,null,null,null,"Unentschieden",null,null,null,null,null,null,null,null,null,null,"Niederlagen",null,null,null,null,null,null,null,null,null,null,"Tore",null,null,null,null,null,null,null,null,null,null,null,"+/-",null,null,null,null,"Punkte",null,null,null,"HS"]
[null,null,{"$f":"IF(T65=0,0,RANK(BX65,$BX$65:$CA$70,0))","v":5},null,null,null,null,{"$f":"$Q$8","v":"Patrick"},null,null,null,null,null,null,null,null,null,null,null,{"$f":"CG16+CG19+CG22+CG25+CG28+CG32+CG35+CG38+CG41+CG44","v":10},null,null,null,null,null,{"$f":"CH16+CH19+CJ22+CH25+CJ28+CJ32+CJ35+CH38+CJ41+CH44","v":3},null,null,null,null,null,null,null,null,null,null,{"$f":"CI16+CI19+CI22+CI25+CI28+CI32+CI35+CI38+CI41+CI44","v":1},null,null,null,null,null,null,null,null,null,null,{"$f":"CJ16+CJ19+CH22+CJ25+CH28+CH32+CH35+CJ38+CH41+CJ44","v":6},null,null,null,null,null,null,null,null,null,null,{"$f":"BR16+BR19+BZ22+BR25+BZ28+BZ32+BZ35+BR38+BZ41+BR44","v":19},null,null,null,null,":",null,{"$f":"BZ16+BZ19+BR22+BZ25+BR28+BR32+BR35+BZ38+BR41+BZ44","v":18},null,null,null,null,{"$f":"BG65-BN65","v":1},null,null,null,null,{"$f":"(Z65*3)+AK65","v":10},null,null,null,{"$f":"BX65+ROW()/1000","v":10.065}]
[null,null,1,null,null,null,null,{"$f":"$AB$8","v":"Ratze"},null,null,null,null,null,null,null,null,null,null,null,{"$f":"CG16+CG20+CG23+CG26+CG29+CG32+CG36+CG39+CG42+CG45","v":10},null,null,null,null,null,{"$f":"CJ16+CH20+CH23+CJ26+CH29+CH32+CJ36+CJ39+CH42+CJ45","v":7},null,null,null,null,null,null,null,null,null,null,{"$f":"CI16+CI20+CI23+CI26+CI29+CI32+CI36+CI39+CI42+CI45","v":1},null,null,null,null,null,null,null,null,null,null,{"$f":"CH16+CJ20+CJ23+CH26+CJ29+CJ32+CH36+CH39+CJ42+CH45","v":2},null,null,null,null,null,null,null,null,null,null,{"$f":"BZ16+BR20+BR23+BZ26+BR29+BR32+BZ36+BZ39+BR42+BZ45","v":30},null,null,null,null,":",null,{"$f":"BR16+BZ20+BZ23+BR26+BZ29+BZ32+BR36+BR39+BZ42+BR45","v":14},null,null,null,null,16,null,null,null,null,22,null,null,null,22.065999999999999]
[null,null,4,null,null,null,null,{"$f":"$AM$8","v":"Markus"},null,null,null,null,null,null,null,null,null,null,null,{"$f":"CG17+CG19+CG24+CG27+CG29+CG33+CG35+CG40+CG43+CG45","v":10},null,null,null,null,null,{"$f":"CH17+CJ19+CJ24+CH27+CJ29+CJ33+CH35+CH40+CJ43+CH45","v":3},null,null,null,null,null,null,null,null,null,null,{"$f":"CI17+CI19+CI24+CI27+CI29+CI33+CI35+CI40+CI43+CI45","v":2},null,null,null,null,null,null,null,null,null,null,{"$f":"CJ17+CH19+CH24+CJ27+CH29+CH33+CJ35+CJ40+CH43+CJ45","v":5},null,null,null,null,null,null,null,null,null,null,{"$f":"BR17+BZ19+BZ24+BR27+BZ29+BZ33+BR35+BR40+BZ43+BR45","v":16},null,null,null,null,":",null,{"$f":"BZ17+BR19+BR24+BZ27+BR29+BR33+BZ35+BZ40+BR43+BZ45","v":26},null,null,null,null,-10,null,null,null,null,11,null,null,null,11.067]
[null,null,3,null,null,null,null,{"$f":"$AX$8","v":"Jule"},null,null,null,null,null,null,null,null,null,null,null,{"$f":"CG17+CG21+CG23+CG25+CG30+CG33+CG37+CG39+CG41+CG46","v":10},null,null,null,null,null,{"$f":"CJ17+CH21+CJ23+CJ25+CH30+CH33+CJ37+CH39+CH41+CJ46","v":4},null,null,null,null,null,null,null,null,null,null,{"$f":"CI17+CI21+CI23+CI25+CI30+CI33+CI37+CI39+CI41+CI46","v":2},null,null,null,null,null,null,null,null,null,null,{"$f":"CH17+CJ21+CH23+CH25+CJ30+CJ33+CH37+CJ39+CJ41+CH46","v":4},null,null,null,null,null,null,null,null,null,null,{"$f":"BZ17+BR21+BZ23+BZ25+BR30+BR33+BZ37+BR39+BR41+BZ46","v":27},null,null,null,null,":",null,{"$f":"BR17+BZ21+BR23+BR25+BZ30+BZ33+BR37+BZ39+BZ41+BR46","v":26},null,null,null,null,1,null,null,null,null,14,null,null,null,14.068]
[null,null,6,null,null,null,null,{"$f":"$BI$8","v":"Schmiddi"},null,null,null,null,null,null,null,null,null,null,null,{"$f":"CG18+CG20+CG22+CG27+CG30+CG34+CG36+CG38+CG43+CG46","v":10},null,null,null,null,null,{"$f":"CH18+CJ20+CH22+CJ27+CJ30+CJ34+CH36+CJ38+CH43+CH46","v":2},null,null,null,null,null,null,null,null,null,null,{"$f":"CI18+CI20+CI22+CI27+CI30+CI34+CI36+CI38+CI43+CI46","v":2},null,null,null,null,null,null,null,null,null,null,{"$f":"CJ18+CH20+CJ22+CH27+CH30+CH34+CJ36+CH38+CJ43+CJ46","v":6},null,null,null,null,null,null,null,null,null,null,{"$f":"BR18+BZ20+BR22+BZ27+BZ30+BZ34+BR36+BZ38+BR43+BR46","v":20},null,null,null,null,":",null,{"$f":"BZ18+BR20+BZ22+BR27+BR30+BR34+BZ36+BR38+BZ43+BZ46","v":41},null,null,null,null,-21,null,null,null,null,8,null,null,null,8.0690000000000008]
[null,null,2,null,null,null,null,{"$f":"BT8","v":"Christoph"},null,null,null,null,null,null,null,null,null,null,null,{"$f":"CG18+CG21+CG24+CG26+CG28+CG34+CG37+CG40+CG42+CG44","v":10},null,null,null,null,null,{"$f":"CJ18+CJ21+CH24+CH26+CH28+CH34+CH37+CJ40+CJ42+CJ44","v":7},null,null,null,null,null,null,null,null,null,null,{"$f":"CI18+CI21+CI24+CI26+CI28+CI34+CI37+CI40+CI42+CI44","v":0},null,null,null,null,null,null,null,null,null,null,{"$f":"CH18+CH21+CJ24+CJ26+CJ28+CJ34+CJ37+CH40+CH42+CH44","v":3},null,null,null,null,null,null,null,null,null,null,{"$f":"BZ18+BZ21+BR24+BR26+BR28+BR34+BR37+BZ40+BZ42+BZ44","v":27},null,null,null,null,":",null,{"$f":"BR18+BR21+BZ24+BZ26+BZ28+BZ34+BZ37+BR40+BR42+BR44","v":14},null,null,null,null,13,null,null,null,null,21,null,null,null,21.07]
[null,null,null,null,null,null,null,"Spieler 7",null,null,null,null,null,null,null,null,null,null,null,0,null,null,null,null,null,0,null,null,null,null,null,null,null,null,null,null,0,null,null,null,null,null,null,null,null,null,null,0,null,null,null,null,null,null,null,null,null,null,0,null,null,null,null,":",null,0,null,null,null,null,0,null,null,null,null,0,null,null,null,0]
[]
[]
[]
[null,null,"Tabelle"]
[]
[null,null,"Rang",null,null,null,null,"Spieler",null,null,null,null,null,null,null,null,null,null,null,"Spiele",null,null,null,null,null,"Siege",null,null,null,null,null,null,null,null,null,null,"Unentschieden",null,null,null,null,null,null,null,null,null,null,"Niederlagen",null,null,null,null,null,null,null,null,null,null,"Tore",null,null,null,null,null,null,null,null,null,null,null,"+/-",null,null,null,null,"Punkte"]
[null,null,{"$f":"INDEX($C$65:$C$70,MATCH(LARGE($CB$65:$CB$70,ROW(A1)),$CB$65:$CB$70,0),1)","v":1},null,null,1,null,{"$f":"INDEX($H$65:$H$70,MATCH(LARGE($CB$65:$CB$70,ROW(A1)),$CB$65:$CB$70,0),1)","v":"Ratze"},null,null,null,null,null,null,null,null,null,null,null,{"$f":"INDEX($T$65:$T$70,MATCH(LARGE($CB$65:$CB$70,ROW(A1)),$CB$65:$CB$70,0),1)","v":10},null,null,null,null,null,{"$f":"INDEX($Z$65:$Z$70,MATCH(LARGE($CB$65:$CB$70,ROW(A1)),$CB$65:$CB$70,0),1)","v":7},null,null,null,null,null,null,null,null,null,null,{"$f":"INDEX($AK$65:$AK$70,MATCH(LARGE($CB$65:$CB$70,ROW(A1)),$CB$65:$CB$70,0),1)","v":1},null,null,null,null,null,null,null,null,null,null,{"$f":"INDEX($AV$65:$AV$70,MATCH(LARGE($CB$65:$CB$70,ROW(A1)),$CB$65:$CB$70,0),1)","v":2},null,null,null,null,null,null,null,null,null,null,{"$f":"INDEX($BG$65:$BG$70,MATCH(LARGE($CB$65:$CB$70,ROW(A1)),$CB$65:$CB$70,0),1)","v":30},null,null,null,null,":",null,{"$f":"INDEX($BN$65:$BN$70,MATCH(LARGE($CB$65:$CB$70,ROW(A1)),$CB$65:$CB$70,0),1)","v":14},null,null,null,null,{"$f":"INDEX($BS$65:$BS$70,MATCH(LARGE($CB$65:$CB$70,ROW(A1)),$CB$65:$CB$70,0),1)","v":16},null,null,null,null,{"$f":"INDEX($BX$65:$BX$70,MATCH(LARGE($CB$65:$CB$70,ROW(A1)),$CB$65:$CB$70,0),1)","v":22}]
[null,null,2,null,null,2,null,"Christoph",null,null,null,null,null,null,null,null,null,null,null,10,null,null,null,null,null,7,null,null,null,null,null,null,null,null,null,null,0,null,null,null,null,null,null,null,null,null,null,3,null,null,null,null,null,null,null,null,null,null,27,null,null,null,null,":",null,14,null,null,null,null,13,null,null,null,null,21]
[null,null,3,null,null,3,null,"Jule",null,null,null,null,null,null,null,null,null,null,null,10,null,null,null,null,null,4,null,null,null,null,null,null,null,null,null,null,2,null,null,null,null,null,null,null,null,null,null,4,null,null,null,null,null,null,null,null,null,null,27,null,null,null,null,":",null,26,null,null,null,null,1,null,null,null,null,14]
[null,null,4,null,null,4,null,"Markus",null,null,null,null,null,null,null,null,null,null,null,10,null,null,null,null,null,3,null,null,null,null,null,null,null,null,null,null,2,null,null,null,null,null,null,null,null,null,null,5,null,null,null,null,null,null,null,null,null,null,16,null,null,null,null,":",null,26,null,null,null,null,-10,null,null,null,null,11]
[null,null,5,null,null,5,null,"Patrick",null,null,null,null,null,null,null,null,null,null,null,10,null,null,null,null,null,3,null,null,null,null,null,null,null,null,null,null,1,null,null,null,null,null,null,null,null,null,null,6,null,null,null,null,null,null,null,null,null,null,19,null,null,null,null,":",null,18,null,null,null,null,1,null,null,null,null,10]
[null,null,6,null,null,6,null,"Schmiddi",null,null,null,null,null,null,null,null,null,null,null,10,null,null,null,null,null,2,null,null,null,null,null,null,null,null,null,null,2,null,null,null,null,null,null,null,null,null,null,6,null,null,null,null,null,null,null,null,null,null,20,null,null,null,null,":",null,41,null,null,null,null,-21,null,null,null,null,8]
[null,null,"---",null,null,"---",null,"Spieler 7",null,null,null,null,null,null,null,null,null,null,null,0,null,null,null,null,null,0,null,null,null,null,null,null,null,null,null,null,0,null,null,null,null,null,null,null,null,null,null,0,null,null,null,null,null,null,null,null,null,null,0,null,null,null,null,":",null,0,null,null,null,null,0,null,null,null,null,0]
[]
[]
[]
[null,null,"Tabelle (nach Alphabet)"]
[]
[null,null,"Rang",null,null,null,null,"Spieler",null,null,null,null,null,null,null,null,null,null,null,"Spiele",null,null,null,null,null,"Siege",null,null,null,null,null,null,null,null,null,null,"Unentschieden",null,null,null,null,null,null,null,null,null,null,"Niederlagen",null,null,null,null,null,null,null,null,null,null,"Tore",null,null,null,null,null,null,null,null,null,null,null,"+/-",null,null,null,null,"Punkte"]
[null,null,{"$f":"IF($H$78=\"Basti\",$F$78,IF($H$79=\"Basti\",$F$79,IF($H$80=\"Basti\",$F$80,IF($H$81=\"Basti\",$F$81,IF($H$82=\"Basti\",$F$82,IF($H$83=\"Basti\",$F$83,IF($H$84=\"Basti\",$F$84,0)))))))","v":0},null,null,null,null,"Basti",null,null,null,null,null,null,null,null,null,null,null,{"$f":"IF($H$78=\"Basti\",$T$78,IF($H$79=\"Basti\",$T$79,IF($H$80=\"Basti\",$T$80,IF($H$81=\"Basti\",$T$81,IF($H$82=\"Basti\",$T$82,IF($H$83=\"Basti\",$T$83,IF($H$84=\"Basti\",$T$84,0)))))))","v":0},null,null,null,null,null,{"$f":"IF($H$78=\"Basti\",$Z$78,IF($H$79=\"Basti\",$Z$79,IF($H$80=\"Basti\",$Z$80,IF($H$81=\"Basti\",$Z$81,IF($H$82=\"Basti\",$Z$82,IF($H$83=\"Basti\",$Z$83,IF($H$84=\"Basti\",$Z$84,0)))))))","v":0},null,null,null,null,null,null,null,null,null,null,{"$f":"IF($H$78=\"Basti\",$AK$78,IF($H$79=\"Basti\",$AK$79,IF($H$80=\"Basti\",$AK$80,IF($H$81=\"Basti\",$AK$81,IF($H$82=\"Basti\",$AK$82,IF($H$83=\"Basti\",$AK$83,IF($H$84=\"Basti\",$AK$84,0)))))))","v":0},null,null,null,null,null,null,null,null,null,null,{"$f":"IF($H$78=\"Basti\",$AV$78,IF($H$79=\"Basti\",$AV$79,IF($H$80=\"Basti\",$AV$80,IF($H$81=\"Basti\",$AV$81,IF($H$82=\"Basti\",$AV$82,IF($H$83=\"Basti\",$AV$83,IF($H$84=\"Basti\",$AV$84,0)))))))","v":0},null,null,null,null,null,null,null,null,null,null,{"$f":"IF($H$78=\"Basti\",$BG$78,IF($H$79=\"Basti\",$BG$79,IF($H$80=\"Basti\",$BG$80,IF($H$81=\"Basti\",$BG$81,IF($H$82=\"Basti\",$BG$82,IF($H$83=\"Basti\",$BG$83,IF($H$84=\"Basti\",$BG$84,0)))))))","v":0},null,null,null,null,":",null,{"$f":"IF($H$78=\"Basti\",$BN$78,IF($H$79=\"Basti\",$BN$79,IF($H$80=\"Basti\",$BN$80,IF($H$81=\"Basti\",$BN$81,IF($H$82=\"Basti\",$BN$82,IF($H$83=\"Basti\",$BN$83,IF($H$84=\"Basti\",$BN$84,0)))))))","v":0},null,null,null,null,{"$f":"IF($H$78=\"Basti\",$BS$78,IF($H$79=\"Basti\",$BS$79,IF($H$80=\"Basti\",$BS$80,IF($H$81=\"Basti\",$BS$81,IF($H$82=\"Basti\",$BS$82,IF($H$83=\"Basti\",$BS$83,IF($H$84=\"Basti\",$BS$84,0)))))))","v":0},null,null,null,null,{"$f":"IF($H$78=\"Basti\",$BX$78,IF($H$79=\"Basti\",$BX$79,IF($H$80=\"Basti\",$BX$80,IF($H$81=\"Basti\",$BX$81,IF($H$82=\"Basti\",$BX$82,IF($H$83=\"Basti\",$BX$83,IF($H$84=\"Basti\",$BX$84,0)))))))","v":0}]
[null,null,{"$f":"IF($H$78=\"Christoph\",$F$78,IF($H$79=\"Christoph\",$F$79,IF($H$80=\"Christoph\",$F$80,IF($H$81=\"Christoph\",$F$81,IF($H$82=\"Christoph\",$F$82,IF($H$83=\"Christoph\",$F$83,IF($H$84=\"Christoph\",$F$84,0)))))))","v":2},null,null,null,null,"Christoph",null,null,null,null,null,null,null,null,null,null,null,{"$f":"IF($H$78=\"Christoph\",$T$78,IF($H$79=\"Christoph\",$T$79,IF($H$80=\"Christoph\",$T$80,IF($H$81=\"Christoph\",$T$81,IF($H$82=\"Christoph\",$T$82,IF($H$83=\"Christoph\",$T$83,IF($H$84=\"Christoph\",$T$84,0)))))))","v":10},null,null,null,null,null,{"$f":"IF($H$78=\"Christoph\",$Z$78,IF($H$79=\"Christoph\",$Z$79,IF($H$80=\"Christoph\",$Z$80,IF($H$81=\"Christoph\",$Z$81,IF($H$82=\"Christoph\",$Z$82,IF($H$83=\"Christoph\",$Z$83,IF($H$84=\"Christoph\",$Z$84,0)))))))","v":7},null,null,null,null,null,null,null,null,null,null,{"$f":"IF($H$78=\"Christoph\",$AK$78,IF($H$79=\"Christoph\",$AK$79,IF($H$80=\"Christoph\",$AK$80,IF($H$81=\"Christoph\",$AK$81,IF($H$82=\"Christoph\",$AK$82,IF($H$83=\"Christoph\",$AK$83,IF($H$84=\"Christoph\",$AK$84,0)))))))","v":0},null,null,null,null,null,null,null,null,null,null,{"$f":"IF($H$78=\"Christoph\",$AV$78,IF($H$79=\"Christoph\",$AV$79,IF($H$80=\"Christoph\",$AV$80,IF($H$81=\"Christoph\",$AV$81,IF($H$82=\"Christoph\",$AV$82,IF($H$83=\"Christoph\",$AV$83,IF($H$84=\"Christoph\",$AV$84,0)))))))","v":3},null,null,null,null,null,null,null,null,null,null,{"$f":"IF($H$78=\"Christoph\",$BG$78,IF($H$79=\"Christoph\",$BG$79,IF($H$80=\"Christoph\",$BG$80,IF($H$81=\"Christoph\",$BG$81,IF($H$82=\"Christoph\",$BG$82,IF($H$83=\"Christoph\",$BG$83,IF($H$84=\"Christoph\",$BG$84,0)))))))","v":27},null,null,null,null,":",null,{"$f":"IF($H$78=\"Christoph\",$BN$78,IF($H$79=\"Christoph\",$BN$79,IF($H$80=\"Christoph\",$BN$80,IF($H$81=\"Christoph\",$BN$81,IF($H$82=\"Christoph\",$BN$82,IF($H$83=\"Christoph\",$BN$83,IF($H$84=\"Christoph\",$BN$84,0)))))))","v":14},null,null,null,null,{"$f":"IF($H$78=\"Christoph\",$BS$78,IF($H$79=\"Christoph\",$BS$79,IF($H$80=\"Christoph\",$BS$80,IF($H$81=\"Christoph\",$BS$81,IF($H$82=\"Christoph\",$BS$82,IF($H$83=\"Christoph\",$BS$83,IF($H$84=\"Christoph\",$BS$84,0)))))))","v":13},null,null,null,null,{"$f":"IF($H$78=\"Christoph\",$BX$78,IF($H$79=\"Christoph\",$BX$79,IF($H$80=\"Christoph\",$BX$80,IF($H$81=\"Christoph\",$BX$81,IF($H$82=\"Christoph\",$BX$82,IF($H$83=\"Christoph\",$BX$83,IF($H$84=\"Christoph\",$BX$84,0)))))))","v":21}]
[null,null,{"$f":"IF($H$78=\"Jule\",$F$78,IF($H$79=\"Jule\",$F$79,IF($H$80=\"Jule\",$F$80,IF($H$81=\"Jule\",$F$81,IF($H$82=\"Jule\",$F$82,IF($H$83=\"Jule\",$F$83,IF($H$84=\"Jule\",$F$84,0)))))))","v":3},null,null,null,null,"Jule",null,null,null,null,null,null,null,null,null,null,null,{"$f":"IF($H$78=\"Jule\",$T$78,IF($H$79=\"Jule\",$T$79,IF($H$80=\"Jule\",$T$80,IF($H$81=\"Jule\",$T$81,IF($H$82=\"Jule\",$T$82,IF($H$83=\"Jule\",$T$83,IF($H$84=\"Jule\",$T$84,0)))))))","v":10},null,null,null,null,null,{"$f":"IF($H$78=\"Jule\",$Z$78,IF($H$79=\"Jule\",$Z$79,IF($H$80=\"Jule\",$Z$80,IF($H$81=\"Jule\",$Z$81,IF($H$82=\"Jule\",$Z$82,IF($H$83=\"Jule\",$Z$83,IF($H$84=\"Jule\",$Z$84,0)))))))","v":4},null,null,null,null,null,null,null,null,null,null,{"$f":"IF($H$78=\"Jule\",$AK$78,IF($H$79=\"Jule\",$AK$79,IF($H$80=\"Jule\",$AK$80,IF($H$81=\"Jule\",$AK$81,IF($H$82=\"Jule\",$AK$82,IF($H$83=\"Jule\",$AK$83,IF($H$84=\"Jule\",$AK$84,0)))))))","v":2},null,null,null,null,null,null,null,null,null,null,{"$f":"IF($H$78=\"Jule\",$AV$78,IF($H$79=\"Jule\",$AV$79,IF($H$80=\"Jule\",$AV$80,IF($H$81=\"Jule\",$AV$81,IF($H$82=\"Jule\",$AV$82,IF($H$83=\"Jule\",$AV$83,IF($H$84=\"Jule\",$AV$84,0)))))))","v":4},null,null,null,null,null,null,null,null,null,null,{"$f":"IF($H$78=\"Jule\",$BG$78,IF($H$79=\"Jule\",$BG$79,IF($H$80=\"Jule\",$BG$80,IF($H$81=\"Jule\",$BG$81,IF($H$82=\"Jule\",$BG$82,IF($H$83=\"Jule\",$BG$83,IF($H$84=\"Jule\",$BG$84,0)))))))","v":27},null,null,null,null,":",null,{"$f":"IF($H$78=\"Jule\",$BN$78,IF($H$79=\"Jule\",$BN$79,IF($H$80=\"Jule\",$BN$80,IF($H$81=\"Jule\",$BN$81,IF($H$82=\"Jule\",$BN$82,IF($H$83=\"Jule\",$BN$83,IF($H$84=\"Jule\",$BN$84,0)))))))","v":26},null,null,null,null,{"$f":"IF($H$78=\"Jule\",$BS$78,IF($H$79=\"Jule\",$BS$79,IF($H$80=\"Jule\",$BS$80,IF($H$81=\"Jule\",$BS$81,IF($H$82=\"Jule\",$BS$82,IF($H$83=\"Jule\",$BS$83,IF($H$84=\"Jule\",$BS$84,0)))))))","v":1},null,null,null,null,{"$f":"IF($H$78=\"Jule\",$BX$78,IF($H$79=\"Jule\",$BX$79,IF($H$80=\"Jule\",$BX$80,IF($H$81=\"Jule\",$BX$81,IF($H$82=\"Jule\",$BX$82,IF($H$83=\"Jule\",$BX$83,IF($H$84=\"Jule\",$BX$84,0)))))))","v":14}]
[null,null,{"$f":"IF($H$78=\"Markus\",$F$78,IF($H$79=\"Markus\",$F$79,IF($H$80=\"Markus\",$F$80,IF($H$81=\"Markus\",$F$81,IF($H$82=\"Markus\",$F$82,IF($H$83=\"Markus\",$F$83,IF($H$84=\"Markus\",$F$84,0)))))))","v":4},null,null,null,null,"Markus",null,null,null,null,null,null,null,null,null,null,null,{"$f":"IF($H$78=\"Markus\",$T$78,IF($H$79=\"Markus\",$T$79,IF($H$80=\"Markus\",$T$80,IF($H$81=\"Markus\",$T$81,IF($H$82=\"Markus\",$T$82,IF($H$83=\"Markus\",$T$83,IF($H$84=\"Markus\",$T$84,0)))))))","v":10},null,null,null,null,null,{"$f":"IF($H$78=\"Markus\",$Z$78,IF($H$79=\"Markus\",$Z$79,IF($H$80=\"Markus\",$Z$80,IF($H$81=\"Markus\",$Z$81,IF($H$82=\"Markus\",$Z$82,IF($H$83=\"Markus\",$Z$83,IF($H$84=\"Markus\",$Z$84,0)))))))","v":3},null,null,null,null,null,null,null,null,null,null,{"$f":"IF($H$78=\"Markus\",$AK$78,IF($H$79=\"Markus\",$AK$79,IF($H$80=\"Markus\",$AK$80,IF($H$81=\"Markus\",$AK$81,IF($H$82=\"Markus\",$AK$82,IF($H$83=\"Markus\",$AK$83,IF($H$84=\"Markus\",$AK$84,0)))))))","v":2},null,null,null,null,null,null,null,null,null,null,{"$f":"IF($H$78=\"Markus\",$AV$78,IF($H$79=\"Markus\",$AV$79,IF($H$80=\"Markus\",$AV$80,IF($H$81=\"Markus\",$AV$81,IF($H$82=\"Markus\",$AV$82,IF($H$83=\"Markus\",$AV$83,IF($H$84=\"Markus\",$AV$84,0)))))))","v":5},null,null,null,null,null,null,null,null,null,null,{"$f":"IF($H$78=\"Markus\",$BG$78,IF($H$79=\"Markus\",$BG$79,IF($H$80=\"Markus\",$BG$80,IF($H$81=\"Markus\",$BG$81,IF($H$82=\"Markus\",$BG$82,IF($H$83=\"Markus\",$BG$83,IF($H$84=\"Markus\",$BG$84,0)))))))","v":16},null,null,null,null,":",null,{"$f":"IF($H$78=\"Markus\",$BN$78,IF($H$79=\"Markus\",$BN$79,IF($H$80=\"Markus\",$BN$80,IF($H$81=\"Markus\",$BN$81,IF($H$82=\"Markus\",$BN$82,IF($H$83=\"Markus\",$BN$83,IF($H$84=\"Markus\",$BN$84,0)))))))","v":26},null,null,null,null,{"$f":"IF($H$78=\"Markus\",$BS$78,IF($H$79=\"Markus\",$BS$79,IF($H$80=\"Markus\",$BS$80,IF($H$81=\"Markus\",$BS$81,IF($H$82=\"Markus\",$BS$82,IF($H$83=\"Markus\",$BS$83,IF($H$84=\"Markus\",$BS$84,0)))))))","v":-10},null,null,null,null,{"$f":"IF($H$78=\"Markus\",$BX$78,IF($H$79=\"Markus\",$BX$79,IF($H$80=\"Markus\",$BX$80,IF($H$81=\"Markus\",$BX$81,IF($H$82=\"Markus\",$BX$82,IF($H$83=\"Markus\",$BX$83,IF($H$84=\"Markus\",$BX$84,0)))))))","v":11}]
[null,null,{"$f":"IF($H$78=\"Patrick\",$F$78,IF($H$79=\"Patrick\",$F$79,IF($H$80=\"Patrick\",$F$80,IF($H$81=\"Patrick\",$F$81,IF($H$82=\"Patrick\",$F$82,IF($H$83=\"Patrick\",$F$83,IF($H$84=\"Patrick\",$F$84,0)))))))","v":5},null,null,null,null,"Patrick",null,null,null,null,null,null,null,null,null,null,null,{"$f":"IF($H$78=\"Patrick\",$T$78,IF($H$79=\"Patrick\",$T$79,IF($H$80=\"Patrick\",$T$80,IF($H$81=\"Patrick\",$T$81,IF($H$82=\"Patrick\",$T$82,IF($H$83=\"Patrick\",$T$83,IF($H$84=\"Patrick\",$T$84,0)))))))","v":10},null,null,null,null,null,{"$f":"IF($H$78=\"Patrick\",$Z$78,IF($H$79=\"Patrick\",$Z$79,IF($H$80=\"Patrick\",$Z$80,IF($H$81=\"Patrick\",$Z$81,IF($H$82=\"Patrick\",$Z$82,IF($H$83=\"Patrick\",$Z$83,IF($H$84=\"Patrick\",$Z$84,0)))))))","v":3},null,null,null,null,null,null,null,null,null,null,{"$f":"IF($H$78=\"Patrick\",$AK$78,IF($H$79=\"Patrick\",$AK$79,IF($H$80=\"Patrick\",$AK$80,IF($H$81=\"Patrick\",$AK$81,IF($H$82=\"Patrick\",$AK$82,IF($H$83=\"Patrick\",$AK$83,IF($H$84=\"Patrick\",$AK$84,0)))))))","v":1},null,null,null,null,null,null,null,null,null,null,{"$f":"IF($H$78=\"Patrick\",$AV$78,IF($H$79=\"Patrick\",$AV$79,IF($H$80=\"Patrick\",$AV$80,IF($H$81=\"Patrick\",$AV$81,IF($H$82=\"Patrick\",$AV$82,IF($H$83=\"Patrick\",$AV$83,IF($H$84=\"Patrick\",$AV$84,0)))))))","v":6},null,null,null,null,null,null,null,null,null,null,{"$f":"IF($H$78=\"Patrick\",$BG$78,IF($H$79=\"Patrick\",$BG$79,IF($H$80=\"Patrick\",$BG$80,IF($H$81=\"Patrick\",$BG$81,IF($H$82=\"Patrick\",$BG$82,IF($H$83=\"Patrick\",$BG$83,IF($H$84=\"Patrick\",$BG$84,0)))))))","v":19},null,null,null,null,":",null,{"$f":"IF($H$78=\"Patrick\",$BN$78,IF($H$79=\"Patrick\",$BN$79,IF($H$80=\"Patrick\",$BN$80,IF($H$81=\"Patrick\",$BN$81,IF($H$82=\"Patrick\",$BN$82,IF($H$83=\"Patrick\",$BN$83,IF($H$84=\"Patrick\",$BN$84,0)))))))","v":18},null,null,null,null,{"$f":"IF($H$78=\"Patrick\",$BS$78,IF($H$79=\"Patrick\",$BS$79,IF($H$80=\"Patrick\",$BS$80,IF($H$81=\"Patrick\",$BS$81,IF($H$82=\"Patrick\",$BS$82,IF($H$83=\"Patrick\",$BS$83,IF($H$84=\"Patrick\",$BS$84,0)))))))","v":1},null,null,null,null,{"$f":"IF($H$78=\"Patrick\",$BX$78,IF($H$79=\"Patrick\",$BX$79,IF($H$80=\"Patrick\",$BX$80,IF($H$81=\"Patrick\",$BX$81,IF($H$82=\"Patrick\",$BX$82,IF($H$83=\"Patrick\",$BX$83,IF($H$84=\"Patrick\",$BX$84,0)))))))","v":10}]
[null,null,{"$f":"IF($H$78=\"Ratze\",$F$78,IF($H$79=\"Ratze\",$F$79,IF($H$80=\"Ratze\",$F$80,IF($H$81=\"Ratze\",$F$81,IF($H$82=\"Ratze\",$F$82,IF($H$83=\"Ratze\",$F$83,IF($H$84=\"Ratze\",$F$84,0)))))))","v":1},null,null,null,null,"Ratze",null,null,null,null,null,null,null,null,null,null,null,{"$f":"IF($H$78=\"Ratze\",$T$78,IF($H$79=\"Ratze\",$T$79,IF($H$80=\"Ratze\",$T$80,IF($H$81=\"Ratze\",$T$81,IF($H$82=\"Ratze\",$T$82,IF($H$83=\"Ratze\",$T$83,IF($H$84=\"Ratze\",$T$84,0)))))))","v":10},null,null,null,null,null,{"$f":"IF($H$78=\"Ratze\",$Z$78,IF($H$79=\"Ratze\",$Z$79,IF($H$80=\"Ratze\",$Z$80,IF($H$81=\"Ratze\",$Z$81,IF($H$82=\"Ratze\",$Z$82,IF($H$83=\"Ratze\",$Z$83,IF($H$84=\"Ratze\",$Z$84,0)))))))","v":7},null,null,null,null,null,null,null,null,null,null,{"$f":"IF($H$78=\"Ratze\",$AK$78,IF($H$79=\"Ratze\",$AK$79,IF($H$80=\"Ratze\",$AK$80,IF($H$81=\"Ratze\",$AK$81,IF($H$82=\"Ratze\",$AK$82,IF($H$83=\"Ratze\",$AK$83,IF($H$84=\"Ratze\",$AK$84,0)))))))","v":1},null,null,null,null,null,null,null,null,null,null,{"$f":"IF($H$78=\"Ratze\",$AV$78,IF($H$79=\"Ratze\",$AV$79,IF($H$80=\"Ratze\",$AV$80,IF($H$81=\"Ratze\",$AV$81,IF($H$82=\"Ratze\",$AV$82,IF($H$83=\"Ratze\",$AV$83,IF($H$84=\"Ratze\",$AV$84,0)))))))","v":2},null,null,null,null,null,null,null,null,null,null,{"$f":"IF($H$78=\"Ratze\",$BG$78,IF($H$79=\"Ratze\",$BG$79,IF($H$80=\"Ratze\",$BG$80,IF($H$81=\"Ratze\",$BG$81,IF($H$82=\"Ratze\",$BG$82,IF($H$83=\"Ratze\",$BG$83,IF($H$84=\"Ratze\",$BG$84,0)))))))","v":30},null,null,null,null,":",null,{"$f":"IF($H$78=\"Ratze\",$BN$78,IF($H$79=\"Ratze\",$BN$79,IF($H$80=\"Ratze\",$BN$80,IF($H$81=\"Ratze\",$BN$81,IF($H$82=\"Ratze\",$BN$82,IF($H$83=\"Ratze\",$BN$83,IF($H$84=\"Ratze\",$BN$84,0)))))))","v":14},null,null,null,null,{"$f":"IF($H$78=\"Ratze\",$BS$78,IF($H$79=\"Ratze\",$BS$79,IF($H$80=\"Ratze\",$BS$80,IF($H$81=\"Ratze\",$BS$81,IF($H$82=\"Ratze\",$BS$82,IF($H$83=\"Ratze\",$BS$83,IF($H$84=\"Ratze\",$BS$84,0)))))))","v":16},null,null,null,null,{"$f":"IF($H$78=\"Ratze\",$BX$78,IF($H$79=\"Ratze\",$BX$79,IF($H$80=\"Ratze\",$BX$80,IF($H$81=\"Ratze\",$BX$81,IF($H$82=\"Ratze\",$BX$82,IF($H$83=\"Ratze\",$BX$83,IF($H$84=\"Ratze\",$BX$84,0)))))))","v":22}]
[null,null,{"$f":"IF($H$78=\"Schmiddi\",$F$78,IF($H$79=\"Schmiddi\",$F$79,IF($H$80=\"Schmiddi\",$F$80,IF($H$81=\"Schmiddi\",$F$81,IF($H$82=\"Schmiddi\",$F$82,IF($H$83=\"Schmiddi\",$F$83,IF($H$84=\"Schmiddi\",$F$84,0)))))))","v":6},null,null,null,null,"Schmiddi",null,null,null,null,null,null,null,null,null,null,null,{"$f":"IF($H$78=\"Schmiddi\",$T$78,IF($H$79=\"Schmiddi\",$T$79,IF($H$80=\"Schmiddi\",$T$80,IF($H$81=\"Schmiddi\",$T$81,IF($H$82=\"Schmiddi\",$T$82,IF($H$83=\"Schmiddi\",$T$83,IF($H$84=\"Schmiddi\",$T$84,0)))))))","v":10},null,null,null,null,null,{"$f":"IF($H$78=\"Schmiddi\",$Z$78,IF($H$79=\"Schmiddi\",$Z$79,IF($H$80=\"Schmiddi\",$Z$80,IF($H$81=\"Schmiddi\",$Z$81,IF($H$82=\"Schmiddi\",$Z$82,IF($H$83=\"Schmiddi\",$Z$83,IF($H$84=\"Schmiddi\",$Z$84,0)))))))","v":2},null,null,null,null,null,null,null,null,null,null,{"$f":"IF($H$78=\"Schmiddi\",$AK$78,IF($H$79=\"Schmiddi\",$AK$79,IF($H$80=\"Schmiddi\",$AK$80,IF($H$81=\"Schmiddi\",$AK$81,IF($H$82=\"Schmiddi\",$AK$82,IF($H$83=\"Schmiddi\",$AK$83,IF($H$84=\"Schmiddi\",$AK$84,0)))))))","v":2},null,null,null,null,null,null,null,null,null,null,{"$f":"IF($H$78=\"Schmiddi\",$AV$78,IF($H$79=\"Schmiddi\",$AV$79,IF($H$80=\"Schmiddi\",$AV$80,IF($H$81=\"Schmiddi\",$AV$81,IF($H$82=\"Schmiddi\",$AV$82,IF($H$83=\"Schmiddi\",$AV$83,IF($H$84=\"Schmiddi\",$AV$84,0)))))))","v":6},null,null,null,null,null,null,null,null,null,null,{"$f":"IF($H$78=\"Schmiddi\",$BG$78,IF($H$79=\"Schmiddi\",$BG$79,IF($H$80=\"Schmiddi\",$BG$80,IF($H$81=\"Schmiddi\",$BG$81,IF($H$82=\"Schmiddi\",$BG$82,IF($H$83=\"Schmiddi\",$BG$83,IF($H$84=\"Schmiddi\",$BG$84,0)))))))","v":20},null,null,null,null,":",null,{"$f":"IF($H$78=\"Schmiddi\",$BN$78,IF($H$79=\"Schmiddi\",$BN$79,IF($H$80=\"Schmiddi\",$BN$80,IF($H$81=\"Schmiddi\",$BN$81,IF($H$82=\"Schmiddi\",$BN$82,IF($H$83=\"Schmiddi\",$BN$83,IF($H$84=\"Schmiddi\",$BN$84,0)))))))","v":41},null,null,null,null,{"$f":"IF($H$78=\"Schmiddi\",$BS$78,IF($H$79=\"Schmiddi\",$BS$79,IF($H$80=\"Schmiddi\",$BS$80,IF($H$81=\"Schmiddi\",$BS$81,IF($H$82=\"Schmiddi\",$BS$82,IF($H$83=\"Schmiddi\",$BS$83,IF($H$84=\"Schmiddi\",$BS$84,0)))))))","v":-21},null,null,null,null,{"$f":"IF($H$78=\"Schmiddi\",$BX$78,IF($H$79=\"Schmiddi\",$BX$79,IF($H$80=\"Schmiddi\",$BX$80,IF($H$81=\"Schmiddi\",$BX$81,IF($H$82=\"Schmiddi\",$BX$82,IF($H$83=\"Schmiddi\",$BX$83,IF($H$84=\"Schmiddi\",$BX$84,0)))))))","v":8}]

{"sheet":"9.6.","index":22,"n_rows":97,"n_cols":88,"rows_kept":97,"cut":false,"hidden":false,"merged":[[8,1,8,82],[9,1,9,82],[10,1,10,82],[11,1,27,1],[11,2,11,81],[16,69,16,73],[16,74,16,76],[16,77,16,81],[15,17,20,17],[15,18,15,22],[0,0,0,83],[1,1,1,82],[1,83,97,83],[2,1,2,82],[3,1,3,82],[4,1,7,1],[4,2,4,81],[4,82,7,82],[5,2,5,81],[6,2,6,13],[6,14,6,30],[6,31,6,47],[6,48,6,64],[6,65,6,81],[7,2,7,13],[7,14,7,30],[7,31,7,47],[7,48,7,64],[7,65,7,81],[19,7,19,10],[19,12,19,16],[19,18,19,22],[19,24,19,33],[19,35,19,49],[11,82,27,82],[12,2,12,81],[13,2,13,5],[13,7,13,10],[13,12,13,16],[13,18,13,22],[13,24,13,33],[13,35,13,67],[13,69,13,81],[14,2,14,81],[15,2,20,5],[15,6,20,6],[15,7,15,10],[15,11,20,11],[15,12,15,16],[15,69,15,73],[15,74,15,76],[15,77,15,81],[16,53,16,67],[16,50,16,52],[15,50,15,52],[15,53,15,67],[15,68,20,68],[17,53,17,67],[17,69,17,73],[17,74,17,76],[17,77,17,81],[18,7,18,10],[18,12,18,16],[18,18,18,22],[18,24,18,33],[18,35,18,49],[18,50,18,52],[17,7,17,10],[17,12,17,16],[17,18,17,22],[17,24,17,33],[17,35,17,49],[17,50,17,52],[18,53,18,67],[18,69,18,73],[18,74,18,76],[18,77,18,81],[19,50,19,52],[19,53,19,67],[19,69,19,73],[19,74,19,76],[19,77,19,81],[20,7,20,10],[20,12,20,16],[20,18,20,22],[20,24,20,33],[20,35,20,49],[20,50,20,52],[20,53,20,67],[20,69,20,73],[20,74,20,76],[20,77,20,81],[15,23,20,23],[15,24,15,33],[15,34,20,34],[15,35,15,49],[16,7,16,10],[16,12,16,16],[16,18,16,22],[16,24,16,33],[16,35,16,49],[21,2,21,81],[22,2,27,5],[22,6,27,6],[22,7,22,10],[22,11,27,11],[22,12,22,16],[22,69,22,73],[22,74,22,76],[22,77,22,81],[23,53,23,67],[23,69,23,73],[23,74,23,76],[23,77,23,81],[22,17,27,17],[22,18,22,22],[22,23,27,23],[22,24,22,33],[22,34,27,34],[22,35,22,49],[23,7,23,10],[23,12,23,16],[23,18,23,22],[23,24,23,33],[23,35,23,49],[25,7,25,10],[25,12,25,16],[25,18,25,22],[25,24,25,33],[25,35,25,49],[25,50,25,52],[24,7,24,10],[24,12,24,16],[24,18,24,22],[24,24,24,33],[24,35,24,49],[24,50,24,52],[27,74,27,76],[23,50,23,52],[22,50,22,52],[22,53,22,67],[22,68,27,68],[24,53,24,67],[24,69,24,73],[24,74,24,76],[24,77,24,81],[25,53,25,67],[25,69,25,73],[25,74,25,76],[25,77,25,81],[65,2,65,6],[65,7,65,18],[65,19,65,24],[27,77,27,81],[28,1,28,82],[59,1,59,82],[26,53,26,67],[26,69,26,73],[26,74,26,76],[26,77,26,81],[27,7,27,10],[27,12,27,16],[27,18,27,22],[27,24,27,33],[27,35,27,49],[27,50,27,52],[26,7,26,10],[26,12,26,16],[26,18,26,22],[26,24,26,33],[26,35,26,49],[26,50,26,52],[27,53,27,67],[27,69,27,73],[64,58,64,62],[64,63,64,64],[64,65,64,69],[60,1,60,82],[61,1,67,1],[61,2,61,81],[61,82,67,82],[62,2,62,81],[63,2,63,6],[63,7,63,18],[63,19,63,24],[63,25,63,35],[63,36,63,46],[63,47,63,57],[63,58,63,69],[63,70,63,74],[63,75,63,78],[63,79,63,81],[64,2,64,6],[64,7,64,18],[64,19,64,24],[64,25,64,35],[64,36,64,46],[64,79,64,81],[64,70,64,74],[64,75,64,78],[65,70,65,74],[65,75,65,78],[65,79,65,81],[66,2,66,6],[66,7,66,18],[66,19,66,24],[66,25,66,35],[66,36,66,46],[66,47,66,57],[66,58,66,62],[66,63,66,64],[66,65,66,69],[66,70,66,74],[66,75,66,78],[66,79,66,81],[65,25,65,35],[65,36,65,46],[65,47,65,57],[65,58,65,62],[65,63,65,64],[65,65,65,69],[64,47,64,57],[67,2,67,6],[67,7,67,18],[67,19,67,24],[67,25,67,35],[67,36,67,46],[67,79,67,81],[68,2,68,6],[68,7,68,18],[68,19,68,24],[68,25,68,35],[68,36,68,46],[68,47,68,57],[68,58,68,62],[68,63,68,64],[68,65,68,69],[67,47,67,57],[67,58,67,62],[67,63,67,64],[67,65,67,69],[67,70,67,74],[67,75,67,78],[68,70,68,74],[68,75,68,78],[68,79,68,81],[69,70,69,74],[69,75,69,78],[69,79,69,81],[70,2,70,6],[70,7,70,18],[70,19,70,24],[70,25,70,35],[70,36,70,46],[70,79,70,81],[70,47,70,57],[70,58,70,62],[70,63,70,64],[70,65,70,69],[70,70,70,74],[70,75,70,78],[69,2,69,6],[69,7,69,18],[69,19,69,24],[69,25,69,35],[69,36,69,46],[69,47,69,57],[69,58,69,62],[69,63,69,64],[69,65,69,69],[71,1,71,82],[72,1,72,82],[73,1,73,82],[74,1,80,1],[74,2,74,81],[74,82,80,82],[75,2,75,81],[76,2,76,6],[76,7,76,18],[76,75,76,81],[77,2,77,4],[77,5,77,6],[77,7,77,18],[77,19,77,24],[77,25,77,35],[77,36,77,46],[77,47,77,57],[77,58,77,62],[77,63,77,64],[76,19,76,24],[76,25,76,35],[76,36,76,46],[76,47,76,57],[76,58,76,69],[76,70,76,74],[77,65,77,69],[77,70,77,74],[77,75,77,81],[78,2,78,4],[78,5,78,6],[78,7,78,18],[78,19,78,24],[78,25,78,35],[78,36,78,46],[78,47,78,57],[78,58,78,62],[78,63,78,64],[78,65,78,69],[78,70,78,74],[78,75,78,81],[79,2,79,4],[79,5,79,6],[79,7,79,18],[79,19,79,24],[79,25,79,35],[79,75,79,81],[80,2,80,4],[80,5,80,6],[80,7,80,18],[80,19,80,24],[80,25,80,35],[80,36,80,46],[80,47,80,57],[80,58,80,62],[80,63,80,64],[79,36,79,46],[79,47,79,57],[79,58,79,62],[79,63,79,64],[79,65,79,69],[79,70,79,74],[80,65,80,69],[80,70,80,74],[80,75,80,81],[81,65,81,69],[81,70,81,74],[81,75,81,81],[82,2,82,4],[82,5,82,6],[82,7,82,18],[82,19,82,24],[82,25,82,35],[83,65,83,69],[83,70,83,74],[83,75,83,81],[81,2,81,4],[81,5,81,6],[81,7,81,18],[81,19,81,24],[81,25,81,35],[81,36,81,46],[81,47,81,57],[81,58,81,62],[81,63,81,64],[84,1,84,82],[85,1,85,82],[86,1,86,82],[82,75,82,81],[83,2,83,4],[83,5,83,6],[83,7,83,18],[83,19,83,24],[83,25,83,35],[83,36,83,46],[83,47,83,57],[83,58,83,62],[83,63,83,64],[82,36,82,46],[82,47,82,57],[82,58,82,62],[82,63,82,64],[82,65,82,69],[82,70,82,74],[87,1,96,1],[87,2,87,81],[87,82,96,82],[88,2,88,81],[89,2,89,6],[89,7,89,18],[89,19,89,24],[89,25,89,35],[89,36,89,46],[89,47,89,57],[89,58,89,69],[89,70,89,74],[89,75,89,81],[90,2,90,6],[90,7,90,18],[90,19,90,24],[90,25,90,35],[90,36,90,46],[90,47,90,57],[90,58,90,62],[92,2,92,6],[92,7,92,18],[92,19,92,24],[92,25,92,35],[92,36,92,46],[90,63,90,64],[90,65,90,69],[90,70,90,74],[90,75,90,81],[91,2,91,6],[91,7,91,18],[91,19,91,24],[91,25,91,35],[91,36,91,46],[91,47,91,57],[92,47,92,57],[92,58,92,62],[92,63,92,64],[92,65,92,69],[92,70,92,74],[92,75,92,81],[91,58,91,62],[91,63,91,64],[91,65,91,69],[91,70,91,74],[91,75,91,81],[94,2,94,6],[94,7,94,18],[94,19,94,24],[94,25,94,35],[94,36,94,46],[93,2,93,6],[93,7,93,18],[93,19,93,24],[93,25,93,35],[93,36,93,46],[94,47,94,57],[94,58,94,62],[94,63,94,64],[94,65,94,69],[94,70,94,74],[94,75,94,81],[93,58,93,62],[93,63,93,64],[93,65,93,69],[93,70,93,74],[93,75,93,81],[93,47,93,57],[97,1,97,82],[98,0,98,83],[96,47,96,57],[96,58,96,62],[96,63,96,64],[96,65,96,69],[96,70,96,74],[96,75,96,81],[95,58,95,62],[95,63,95,64],[95,65,95,69],[95,70,95,74],[95,75,95,81],[96,2,96,6],[96,7,96,18],[96,19,96,24],[96,25,96,35],[96,36,96,46],[95,2,95,6],[95,7,95,18],[95,19,95,24],[95,25,95,35],[95,36,95,46],[95,47,95,57]]}
[]
[null,{"$f":"\"Turnier am \" & MID(CELL(\"dateiname\",A1),SEARCH(\"]\",CELL(\"dateiname\",A1))+1,31)","v":"Turnier am 9.6."}]
[]
[]
[null,null,"Spielerliste"]
[]
[null,null,{"$f":"\" Spieler\"","v":" Spieler"},null,null,null,null,null,null,null,null,null,null,null,"Spieler 1",null,null,null,null,null,null,null,null,null,null,null,null,null,null,null,null,"Spieler 2",null,null,null,null,null,null,null,null,null,null,null,null,null,null,null,null,"Spieler 3",null,null,null,null,null,null,null,null,null,null,null,null,null,null,null,null,"Spieler 4"]
[null,null,{"$f":"\" Name\"","v":" Name"},null,null,null,null,null,null,null,null,null,null,null,"Ratze",null,null,null,null,null,null,null,null,null,null,null,null,null,null,null,null,"Schmiddi",null,null,null,null,null,null,null,null,null,null,null,null,null,null,null,null,"Patrick",null,null,null,null,null,null,null,null,null,null,null,null,null,null,null,null,"Christoph"]
[]
[]
[]
[null,null,"Spielplan"]
[]
[null,null,"00:12:00",null,null,null,null,"Spiel",null,null,null,null,"Datum",null,null,null,null,null,"Uhrzeit",null,null,null,null,null,"Austragungsort",null,null,null,null,null,null,null,null,null,null,"Paarung",null,null,null,null,null,null,null,null,null,null,null,null,null,null,null,null,null,null,null,null,null,null,null,null,null,null,null,null,null,null,null,null,null,"Ergebnis",null,null,null,null,null,null,null,null,null,null,null,null,null,null,"Spiele","SiegHeim","Unentschieden","SiegGast"]
[]
[null,null,"Hinrunde",null,null,null,null,1,null,null,null,null,{"$f":"MID(CELL(\"dateiname\",A1),SEARCH(\"]\",CELL(\"dateiname\",A1))+1,31)","v":"9.6."},null,null,null,null,null,"21:00:00",null,null,null,null,null,"Fernseher",null,null,null,null,null,null,null,null,null,null,{"$f":"$O$8","v":"Ratze"},null,null,null,null,null,null,null,null,null,null,null,null,null,null,":",null,null,{"$f":"$AF$8","v":"Schmiddi"},null,null,null,null,null,null,null,null,null,null,null,null,null,null,null,5,null,null,null,null,":",null,null,1,null,null,null,null,null,null,{"$f":"IF(AND(ISNUMBER(BR16),ISNUMBER(BZ16)),1,0)","v":1},{"$f":"IF(OR(ISBLANK(BR16),ISBLANK(BZ16)),0,IF(BR16>BZ16,1,0))","v":1},{"$f":"IF(OR(ISBLANK(BR16),ISBLANK(BZ16)),0,IF(BR16=BZ16,1,0))","v":0},{"$f":"IF(OR(ISBLANK(BR16),ISBLANK(BZ16)),0,IF(BR16<BZ16,1,0))","v":0}]
[null,null,null,null,null,null,null,{"$f":"H16+1","v":2},null,null,null,null,{"$f":"$M$16","v":"9.6."},null,null,null,null,null,{"$f":"S16","v":"21:00:00"},null,null,null,null,null,"Fernseher",null,null,null,null,null,null,null,null,null,null,{"$f":"$AW$8","v":"Patrick"},null,null,null,null,null,null,null,null,null,null,null,null,null,null,":",null,null,{"$f":"$BN$8","v":"Christoph"},null,null,null,null,null,null,null,null,null,null,null,null,null,null,null,4,null,null,null,null,":",null,null,1,null,null,null,null,null,null,{"$f":"IF(AND(ISNUMBER(BR17),ISNUMBER(BZ17)),1,0)","v":1},{"$f":"IF(OR(ISBLANK(BR17),ISBLANK(BZ17)),0,IF(BR17>BZ17,1,0))","v":1},{"$f":"IF(OR(ISBLANK(BR17),ISBLANK(BZ17)),0,IF(BR17=BZ17,1,0))","v":0},{"$f":"IF(OR(ISBLANK(BR17),ISBLANK(BZ17)),0,IF(BR17<BZ17,1,0))","v":0}]
[null,null,null,null,null,null,null,{"$f":"H17+1","v":3},null,null,null,null,{"$f":"$M$16","v":"9.6."},null,null,null,null,null,{"$f":"S16+$C$14","v":"21:12:00"},null,null,null,null,null,{"$f":"$Y$16","v":"Fernseher"},null,null,null,null,null,null,null,null,null,null,{"$f":"$O$8","v":"Ratze"},null,null,null,null,null,null,null,null,null,null,null,null,null,null,":",null,null,{"$f":"$AW$8","v":"Patrick"},null,null,null,null,null,null,null,null,null,null,null,null,null,null,null,2,null,null,null,null,":",null,null,0,null,null,null,null,null,null,1,1,0,0]
[null,null,null,null,null,null,null,{"$f":"H18+1","v":4},null,null,null,null,"9.6.",null,null,null,null,null,{"$f":"S17+$C$14","v":"21:12:00"},null,null,null,null,null,{"$f":"$Y$17","v":"Fernseher"},null,null,null,null,null,null,null,null,null,null,{"$f":"$AF$8","v":"Schmiddi"},null,null,null,null,null,null,null,null,null,null,null,null,null,null,":",null,null,{"$f":"$BN$8","v":"Christoph"},null,null,null,null,null,null,null,null,null,null,null,null,null,null,null,0,null,null,null,null,":",null,null,4,null,null,null,null,null,null,1,0,0,1]
[null,null,null,null,null,null,null,{"$f":"H19+1","v":5},null,null,null,null,"9.6.",null,null,null,null,null,{"$f":"S18+$C$14","v":"21:24:00"},null,null,null,null,null,{"$f":"$Y$16","v":"Fernseher"},null,null,null,null,null,null,null,null,null,null,{"$f":"$BN$8","v":"Christoph"},null,null,null,null,null,null,null,null,null,null,null,null,null,null,":",null,null,{"$f":"$O$8","v":"Ratze"},null,null,null,null,null,null,null,null,null,null,null,null,null,null,null,4,null,null,null,null,":",null,null,4,null,null,null,null,null,null,1,0,1,0]
[null,null,null,null,null,null,null,{"$f":"H20+1","v":6},null,null,null,null,"9.6.",null,null,null,null,null,{"$f":"S19+$C$14","v":"21:24:00"},null,null,null,null,null,{"$f":"$Y$17","v":"Fernseher"},null,null,null,null,null,null,null,null,null,null,{"$f":"$AF$8","v":"Schmiddi"},null,null,null,null,null,null,null,null,null,null,null,null,null,null,":",null,null,{"$f":"$AW$8","v":"Patrick"},null,null,null,null,null,null,null,null,null,null,null,null,null,null,null,1,null,null,null,null,":",null,null,4,null,null,null,null,null,null,1,0,0,1]
[]
[null,null,"Rückrunde",null,null,null,null,{"$f":"H21+1","v":7},null,null,null,null,{"$f":"$M$16","v":"9.6."},null,null,null,null,null,{"$f":"S20+$C$14","v":"21:36:00"},null,null,null,null,null,{"$f":"$Y$17","v":"Fernseher"},null,null,null,null,null,null,null,null,null,null,{"$f":"$AF$8","v":"Schmiddi"},null,null,null,null,null,null,null,null,null,null,null,null,null,null,":",null,null,{"$f":"$O$8","v":"Ratze"},null,null,null,null,null,null,null,null,null,null,null,null,null,null,null,4,null,null,null,null,":",null,null,6,null,null,null,null,null,null,{"$f":"IF(AND(ISNUMBER(BR23),ISNUMBER(BZ23)),1,0)","v":1},{"$f":"IF(OR(ISBLANK(BR23),ISBLANK(BZ23)),0,IF(BR23>BZ23,1,0))","v":0},{"$f":"IF(OR(ISBLANK(BR23),ISBLANK(BZ23)),0,IF(BR23=BZ23,1,0))","v":0},{"$f":"IF(OR(ISBLANK(BR23),ISBLANK(BZ23)),0,IF(BR23<BZ23,1,0))","v":1}]
[null,null,null,null,null,null,null,{"$f":"H23+1","v":8},null,null,null,null,"9.6.",null,null,null,null,null,{"$f":"S21+$C$14","v":"21:36:00"},null,null,null,null,null,{"$f":"$Y$16","v":"Fernseher"},null,null,null,null,null,null,null,null,null,null,{"$f":"$BN$8","v":"Christoph"},null,null,null,null,null,null,null,null,null,null,null,null,null,null,":",null,null,{"$f":"$AW$8","v":"Patrick"},null,null,null,null,null,null,null,null,null,null,null,null,null,null,null,0,null,null,null,null,":",null,null,1,null,null,null,null,null,null,1,0,0,1]
[null,null,null,null,null,null,null,{"$f":"H24+1","v":9},null,null,null,null,"9.6.",null,null,null,null,null,{"$f":"S23+$C$14","v":"21:48:00"},null,null,null,null,null,{"$f":"$Y$17","v":"Fernseher"},null,null,null,null,null,null,null,null,null,null,{"$f":"$AW$8","v":"Patrick"},null,null,null,null,null,null,null,null,null,null,null,null,null,null,":",null,null,{"$f":"$O$8","v":"Ratze"},null,null,null,null,null,null,null,null,null,null,null,null,null,null,null,1,null,null,null,null,":",null,null,2,null,null,null,null,null,null,1,0,0,1]
[null,null,null,null,null,null,null,{"$f":"H25+1","v":10},null,null,null,null,"9.6.",null,null,null,null,null,{"$f":"S24+$C$14","v":"21:48:00"},null,null,null,null,null,{"$f":"$Y$16","v":"Fernseher"},null,null,null,null,null,null,null,null,null,null,{"$f":"$BN$8","v":"Christoph"},null,null,null,null,null,null,null,null,null,null,null,null,null,null,":",null,null,{"$f":"$AF$8","v":"Schmiddi"},null,null,null,null,null,null,null,null,null,null,null,null,null,null,null,1,null,null,null,null,":",null,null,2,null,null,null,null,null,null,1,0,0,1]
[null,null,null,null,null,null,null,{"$f":"H26+1","v":11},null,null,null,null,"9.6.",null,null,null,null,null,{"$f":"S25+$C$14","v":"22:00:00"},null,null,null,null,null,{"$f":"$Y$17","v":"Fernseher"},null,null,null,null,null,null,null,null,null,null,{"$f":"$O$8","v":"Ratze"},null,null,null,null,null,null,null,null,null,null,null,null,null,null,":",null,null,{"$f":"$BN$8","v":"Christoph"},null,null,null,null,null,null,null,null,null,null,null,null,null,null,null,4,null,null,null,null,":",null,null,2,null,null,null,null,null,null,1,1,0,0]
[null,null,null,null,null,null,null,{"$f":"H27+1","v":12},null,null,null,null,"9.6.",null,null,null,null,null,{"$f":"S26+$C$14","v":"22:00:00"},null,null,null,null,null,{"$f":"$Y$16","v":"Fernseher"},null,null,null,null,null,null,null,null,null,null,{"$f":"$AW$8","v":"Patrick"},null,null,null,null,null,null,null,null,null,null,null,null,null,null,":",null,null,{"$f":"$AF$8","v":"Schmiddi"},null,null,null,null,null,null,null,null,null,null,null,null,null,null,null,3,null,null,null,null,":",null,null,0,null,null,null,null,null,null,1,1,0,0]
[]
[]
[]
[]
[]
[]
[]
[]
[]
[]
[]
[]
[]
[]
[]
[]
[]
[]
[]
[]
[]
[]
[]
[]
[]
[]
[]
[]
[]
[]
[]
[]
[]
[null,null,"Tabelle (unsortiert)"]
[]
[null,null,"Rang",null,null,null,null,"Spieler",null,null,null,null,null,null,null,null,null,null,null,"Spiele",null,null,null,null,null,"Siege",null,null,null,null,null,null,null,null,null,null,"Unentschieden",null,null,null,null,null,null,null,null,null,null,"Niederlagen",null,null,null,null,null,null,null,null,null,null,"Tore",null,null,null,null,null,null,null,null,null,null,null,"+/-",null,null,null,null,"Punkte",null,null,null,"HS"]
[null,null,{"$f":"IF(T65=0,0,RANK(BX65,$BX$65:$CA$68,0))","v":1},null,null,null,null,{"$f":"$O$8","v":"Ratze"},null,null,null,null,null,null,null,null,null,null,null,{"$f":"CG16+CG18+CG20+CG23+CG25+CG27","v":6},null,null,null,null,null,{"$f":"CH16+CH18+CJ20+CJ23+CJ25+CH27","v":5},null,null,null,null,null,null,null,null,null,null,{"$f":"CI16+CI18+CI20+CI23+CI25+CI27","v":1},null,null,null,null,null,null,null,null,null,null,{"$f":"CJ16+CJ18+CH20+CH23+CH25+CJ27","v":0},null,null,null,null,null,null,null,null,null,null,{"$f":"BR16+BR18+BZ20+BZ23+BZ25+BR27","v":23},null,null,null,null,":",null,{"$f":"BZ16+BZ18+BR20+BR23+BR25+BZ27","v":12},null,null,null,null,{"$f":"BG65-BN65","v":11},null,null,null,null,{"$f":"(Z65*3)+AK65","v":16},null,null,null,{"$f":"BX65+ROW()/1000","v":16.065000000000001}]
[null,null,{"$f":"IF(T66=0,0,RANK(BX66,$BX$65:$CA$68,0))","v":4},null,null,null,null,{"$f":"$AF$8","v":"Schmiddi"},null,null,null,null,null,null,null,null,null,null,null,{"$f":"CG16+CG19+CG21+CG23+CG26+CG28","v":6},null,null,null,null,null,{"$f":"CJ16+CH19+CH21+CH23+CJ26+CJ28","v":1},null,null,null,null,null,null,null,null,null,null,{"$f":"CI16+CI19+CI21+CI23+CI26+CI28","v":0},null,null,null,null,null,null,null,null,null,null,{"$f":"CH16+CJ19+CJ21+CJ23+CH26+CH28","v":5},null,null,null,null,null,null,null,null,null,null,{"$f":"BZ16+BR19+BR21+BR23+BZ26+BZ28","v":8},null,null,null,null,":",null,{"$f":"BR16+BZ19+BZ21+BZ23+BR26+BR28","v":23},null,null,null,null,{"$f":"BG66-BN66","v":-15},null,null,null,null,{"$f":"(Z66*3)+AK66","v":3},null,null,null,{"$f":"BX66+ROW()/1000","v":3.0659999999999998}]
[null,null,{"$f":"IF(T67=0,0,RANK(BX67,$BX$65:$CA$68,0))","v":2},null,null,null,null,{"$f":"$AW$8","v":"Patrick"},null,null,null,null,null,null,null,null,null,null,null,{"$f":"CG17+CG18+CG21+CG24+CG25+CG28","v":6},null,null,null,null,null,{"$f":"CH17+CJ18+CJ21+CJ24+CH25+CH28","v":4},null,null,null,null,null,null,null,null,null,null,{"$f":"CI17+CI18+CI21+CI24+CI25+CI28","v":0},null,null,null,null,null,null,null,null,null,null,{"$f":"CJ17+CH18+CH21+CH24+CJ25+CJ28","v":2},null,null,null,null,null,null,null,null,null,null,{"$f":"BR17+BZ18+BZ21+BZ24+BR25+BR28","v":13},null,null,null,null,":",null,{"$f":"BZ17+BR18+BR21+BR24+BZ25+BZ28","v":6},null,null,null,null,{"$f":"BG67-BN67","v":7},null,null,null,null,{"$f":"(Z67*3)+AK67","v":12},null,null,null,{"$f":"BX67+ROW()/1000","v":12.067}]
[null,null,{"$f":"IF(T68=0,0,RANK(BX68,$BX$65:$CA$68,0))","v":3},null,null,null,null,{"$f":"$BN$8","v":"Christoph"},null,null,null,null,null,null,null,null,null,null,null,{"$f":"CG17+CG19+CG20+CG24+CG26+CG27","v":6},null,null,null,null,null,{"$f":"CJ17+CJ19+CH20+CH24+CH26+CJ27","v":1},null,null,null,null,null,null,null,null,null,null,{"$f":"CI17+CI19+CI20+CI24+CI26+CI27","v":1},null,null,null,null,null,null,null,null,null,null,{"$f":"CH17+CH19+CJ20+CJ24+CJ26+CH27","v":4},null,null,null,null,null,null,null,null,null,null,{"$f":"BZ17+BZ19+BR20+BR24+BR26+BZ27","v":12},null,null,null,null,":",null,{"$f":"BR17+BR19+BZ20+BZ24+BZ26+BR27","v":15},null,null,null,null,{"$f":"BG68-BN68","v":-3},null,null,null,null,{"$f":"(Z68*3)+AK68","v":4},null,null,null,{"$f":"BX68+ROW()/1000","v":4.0679999999999996}]
[null,null,null,null,null,null,null,"Spieler 5",null,null,null,null,null,null,null,null,null,null,null,0,null,null,null,null,null,0,null,null,null,null,null,null,null,null,null,null,0,null,null,null,null,null,null,null,null,null,null,0,null,null,null,null,null,null,null,null,null,null,0,null,null,null,null,":",null,0,null,null,null,null,0,null,null,null,null,0,null,null,null,0]
[null,null,null,null,null,null,null,"Spieler 6",null,null,null,null,null,null,null,null,null,null,null,0,null,null,null,null,null,0,null,null,null,null,null,null,null,null,null,null,0,null,null,null,null,null,null,null,null,null,null,0,null,null,null,null,null,null,null,null,null,null,0,null,null,null,null,":",null,0,null,null,null,null,0,null,null,null,null,0,null,null,null,0]
[null,null,null,null,null,null,null,"Spieler 7",null,null,null,null,null,null,null,null,null,null,null,0,null,null,null,null,null,0,null,null,null,null,null,null,null,null,null,null,0,null,null,null,null,null,null,null,null,null,null,0,null,null,null,null,null,null,null,null,null,null,0,null,null,null,null,":",null,0,null,null,null,null,0,null,null,null,null,0,null,null,null,0]
[]
[]
[]
[null,null,"Tabelle"]
[]
[null,null,"Rang",null,null,null,null,"Spieler",null,null,null,null,null,null,null,null,null,null,null,"Spiele",null,null,null,null,null,"Siege",null,null,null,null,null,null,null,null,null,null,"Unentschieden",null,null,null,null,null,null,null,null,null,null,"Niederlagen",null,null,null,null,null,null,null,null,null,null,"Tore",null,null,null,null,null,null,null,null,null,null,null,"+/-",null,null,null,null,"Punkte"]
[null,null,{"$f":"INDEX($C$65:$C$68,MATCH(LARGE($CB$65:$CB$68,ROW(A1)),$CB$65:$CB$68,0),1)","v":1},null,null,1,null,{"$f":"INDEX($H$65:$H$68,MATCH(LARGE($CB$65:$CB$68,ROW(A1)),$CB$65:$CB$68,0),1)","v":"Ratze"},null,null,null,null,null,null,null,null,null,null,null,{"$f":"INDEX($T$65:$T$68,MATCH(LARGE($CB$65:$CB$68,ROW(A1)),$CB$65:$CB$68,0),1)","v":6},null,null,null,null,null,{"$f":"INDEX($Z$65:$Z$68,MATCH(LARGE($CB$65:$CB$68,ROW(A1)),$CB$65:$CB$68,0),1)","v":5},null,null,null,null,null,null,null,null,null,null,{"$f":"INDEX($AK$65:$AK$68,MATCH(LARGE($CB$65:$CB$68,ROW(A1)),$CB$65:$CB$68,0),1)","v":1},null,null,null,null,null,null,null,null,null,null,{"$f":"INDEX($AV$65:$AV$68,MATCH(LARGE($CB$65:$CB$68,ROW(A1)),$CB$65:$CB$68,0),1)","v":0},null,null,null,null,null,null,null,null,null,null,{"$f":"INDEX($BG$65:$BG$68,MATCH(LARGE($CB$65:$CB$68,ROW(A1)),$CB$65:$CB$68,0),1)","v":23},null,null,null,null,":",null,{"$f":"INDEX($BN$65:$BN$68,MATCH(LARGE($CB$65:$CB$68,ROW(A1)),$CB$65:$CB$68,0),1)","v":12},null,null,null,null,{"$f":"INDEX($BS$65:$BS$68,MATCH(LARGE($CB$65:$CB$68,ROW(A1)),$CB$65:$CB$68,0),1)","v":11},null,null,null,null,{"$f":"INDEX($BX$65:$BX$68,MATCH(LARGE($CB$65:$CB$68,ROW(A1)),$CB$65:$CB$68,0),1)","v":16}]
[null,null,{"$f":"INDEX($C$65:$C$68,MATCH(LARGE($CB$65:$CB$68,ROW(A2)),$CB$65:$CB$68,0),1)","v":2},null,null,2,null,{"$f":"INDEX($H$65:$H$68,MATCH(LARGE($CB$65:$CB$68,ROW(A2)),$CB$65:$CB$68,0),1)","v":"Patrick"},null,null,null,null,null,null,null,null,null,null,null,{"$f":"INDEX($T$65:$T$68,MATCH(LARGE($CB$65:$CB$68,ROW(A2)),$CB$65:$CB$68,0),1)","v":6},null,null,null,null,null,{"$f":"INDEX($Z$65:$Z$68,MATCH(LARGE($CB$65:$CB$68,ROW(A2)),$CB$65:$CB$68,0),1)","v":4},null,null,null,null,null,null,null,null,null,null,{"$f":"INDEX($AK$65:$AK$68,MATCH(LARGE($CB$65:$CB$68,ROW(A2)),$CB$65:$CB$68,0),1)","v":0},null,null,null,null,null,null,null,null,null,null,{"$f":"INDEX($AV$65:$AV$68,MATCH(LARGE($CB$65:$CB$68,ROW(A2)),$CB$65:$CB$68,0),1)","v":2},null,null,null,null,null,null,null,null,null,null,{"$f":"INDEX($BG$65:$BG$68,MATCH(LARGE($CB$65:$CB$68,ROW(A2)),$CB$65:$CB$68,0),1)","v":13},null,null,null,null,":",null,{"$f":"INDEX($BN$65:$BN$68,MATCH(LARGE($CB$65:$CB$68,ROW(A2)),$CB$65:$CB$68,0),1)","v":6},null,null,null,null,{"$f":"INDEX($BS$65:$BS$68,MATCH(LARGE($CB$65:$CB$68,ROW(A2)),$CB$65:$CB$68,0),1)","v":7},null,null,null,null,{"$f":"INDEX($BX$65:$BX$68,MATCH(LARGE($CB$65:$CB$68,ROW(A2)),$CB$65:$CB$68,0),1)","v":12}]
[null,null,{"$f":"INDEX($C$65:$C$68,MATCH(LARGE($CB$65:$CB$68,ROW(A3)),$CB$65:$CB$68,0),1)","v":3},null,null,3,null,{"$f":"INDEX($H$65:$H$68,MATCH(LARGE($CB$65:$CB$68,ROW(A3)),$CB$65:$CB$68,0),1)","v":"Christoph"},null,null,null,null,null,null,null,null,null,null,null,{"$f":"INDEX($T$65:$T$68,MATCH(LARGE($CB$65:$CB$68,ROW(A3)),$CB$65:$CB$68,0),1)","v":6},null,null,null,null,null,{"$f":"INDEX($Z$65:$Z$68,MATCH(LARGE($CB$65:$CB$68,ROW(A3)),$CB$65:$CB$68,0),1)","v":1},null,null,null,null,null,null,null,null,null,null,{"$f":"INDEX($AK$65:$AK$68,MATCH(LARGE($CB$65:$CB$68,ROW(A3)),$CB$65:$CB$68,0),1)","v":1},null,null,null,null,null,null,null,null,null,null,{"$f":"INDEX($AV$65:$AV$68,MATCH(LARGE($CB$65:$CB$68,ROW(A3)),$CB$65:$CB$68,0),1)","v":4},null,null,null,null,null,null,null,null,null,null,{"$f":"INDEX($BG$65:$BG$68,MATCH(LARGE($CB$65:$CB$68,ROW(A3)),$CB$65:$CB$68,0),1)","v":12},null,null,null,null,":",null,{"$f":"INDEX($BN$65:$BN$68,MATCH(LARGE($CB$65:$CB$68,ROW(A3)),$CB$65:$CB$68,0),1)","v":15},null,null,null,null,{"$f":"INDEX($BS$65:$BS$68,MATCH(LARGE($CB$65:$CB$68,ROW(A3)),$CB$65:$CB$68,0),1)","v":-3},null,null,null,null,{"$f":"INDEX($BX$65:$BX$68,MATCH(LARGE($CB$65:$CB$68,ROW(A3)),$CB$65:$CB$68,0),1)","v":4}]
[null,null,{"$f":"INDEX($C$65:$C$68,MATCH(LARGE($CB$65:$CB$68,ROW(A4)),$CB$65:$CB$68,0),1)","v":4},null,null,4,null,{"$f":"INDEX($H$65:$H$68,MATCH(LARGE($CB$65:$CB$68,ROW(A4)),$CB$65:$CB$68,0),1)","v":"Schmiddi"},null,null,null,null,null,null,null,null,null,null,null,{"$f":"INDEX($T$65:$T$68,MATCH(LARGE($CB$65:$CB$68,ROW(A4)),$CB$65:$CB$68,0),1)","v":6},null,null,null,null,null,{"$f":"INDEX($Z$65:$Z$68,MATCH(LARGE($CB$65:$CB$68,ROW(A4)),$CB$65:$CB$68,0),1)","v":1},null,null,null,null,null,null,null,null,null,null,{"$f":"INDEX($AK$65:$AK$68,MATCH(LARGE($CB$65:$CB$68,ROW(A4)),$CB$65:$CB$68,0),1)","v":0},null,null,null,null,null,null,null,null,null,null,{"$f":"INDEX($AV$65:$AV$68,MATCH(LARGE($CB$65:$CB$68,ROW(A4)),$CB$65:$CB$68,0),1)","v":5},null,null,null,null,null,null,null,null,null,null,{"$f":"INDEX($BG$65:$BG$68,MATCH(LARGE($CB$65:$CB$68,ROW(A4)),$CB$65:$CB$68,0),1)","v":8},null,null,null,null,":",null,{"$f":"INDEX($BN$65:$BN$68,MATCH(LARGE($CB$65:$CB$68,ROW(A4)),$CB$65:$CB$68,0),1)","v":23},null,null,null,null,{"$f":"INDEX($BS$65:$BS$68,MATCH(LARGE($CB$65:$CB$68,ROW(A4)),$CB$65:$CB$68,0),1)","v":-15},null,null,null,null,{"$f":"INDEX($BX$65:$BX$68,MATCH(LARGE($CB$65:$CB$68,ROW(A4)),$CB$65:$CB$68,0),1)","v":3}]
[null,null,"---",null,null,"---",null,"Spieler 5",null,null,null,null,null,null,null,null,null,null,null,0,null,null,null,null,null,0,null,null,null,null,null,null,null,null,null,null,0,null,null,null,null,null,null,null,null,null,null,0,null,null,null,null,null,null,null,null,null,null,0,null,null,null,null,":",null,0,null,null,null,null,0,null,null,null,null,0]
[null,null,"---",null,null,"---",null,"Spieler 6",null,null,null,null,null,null,null,null,null,null,null,0,null,null,null,null,null,0,null,null,null,null,null,null,null,null,null,null,0,null,null,null,null,null,null,null,null,null,null,0,null,null,null,null,null,null,null,null,null,null,0,null,null,null,null,":",null,0,null,null,null,null,0,null,null,null,null,0]
[null,null,"---",null,null,"---",null,"Spieler 7",null,null,null,null,null,null,null,null,null,null,null,0,null,null,null,null,null,0,null,null,null,null,null,null,null,null,null,null,0,null,null,null,null,null,null,null,null,null,null,0,null,null,null,null,null,null,null,null,null,null,0,null,null,null,null,":",null,0,null,null,null,null,0,null,null,null,null,0]
[]
[]
[]
[null,null,"Tabelle (nach Alphabet)"]
[]
[null,null,"Rang",null,null,null,null,"Spieler",null,null,null,null,null,null,null,null,null,null,null,"Spiele",null,null,null,null,null,"Siege",null,null,null,null,null,null,null,null,null,null,"Unentschieden",null,null,null,null,null,null,null,null,null,null,"Niederlagen",null,null,null,null,null,null,null,null,null,null,"Tore",null,null,null,null,null,null,null,null,null,null,null,"+/-",null,null,null,null,"Punkte"]
[null,null,{"$f":"IF($H$78=\"Basti\",$F$78,IF($H$79=\"Basti\",$F$79,IF($H$80=\"Basti\",$F$80,IF($H$81=\"Basti\",$F$81,IF($H$82=\"Basti\",$F$82,IF($H$83=\"Basti\",$F$83,IF($H$84=\"Basti\",$F$84,0)))))))","v":0},null,null,null,null,"Basti",null,null,null,null,null,null,null,null,null,null,null,{"$f":"IF($H$78=\"Basti\",$T$78,IF($H$79=\"Basti\",$T$79,IF($H$80=\"Basti\",$T$80,IF($H$81=\"Basti\",$T$81,IF($H$82=\"Basti\",$T$82,IF($H$83=\"Basti\",$T$83,IF($H$84=\"Basti\",$T$84,0)))))))","v":0},null,null,null,null,null,{"$f":"IF($H$78=\"Basti\",$Z$78,IF($H$79=\"Basti\",$Z$79,IF($H$80=\"Basti\",$Z$80,IF($H$81=\"Basti\",$Z$81,IF($H$82=\"Basti\",$Z$82,IF($H$83=\"Basti\",$Z$83,IF($H$84=\"Basti\",$Z$84,0)))))))","v":0},null,null,null,null,null,null,null,null,null,null,{"$f":"IF($H$78=\"Basti\",$AK$78,IF($H$79=\"Basti\",$AK$79,IF($H$80=\"Basti\",$AK$80,IF($H$81=\"Basti\",$AK$81,IF($H$82=\"Basti\",$AK$82,IF($H$83=\"Basti\",$AK$83,IF($H$84=\"Basti\",$AK$84,0)))))))","v":0},null,null,null,null,null,null,null,null,null,null,{"$f":"IF($H$78=\"Basti\",$AV$78,IF($H$79=\"Basti\",$AV$79,IF($H$80=\"Basti\",$AV$80,IF($H$81=\"Basti\",$AV$81,IF($H$82=\"Basti\",$AV$82,IF($H$83=\"Basti\",$AV$83,IF($H$84=\"Basti\",$AV$84,0)))))))","v":0},null,null,null,null,null,null,null,null,null,null,{"$f":"IF($H$78=\"Basti\",$BG$78,IF($H$79=\"Basti\",$BG$79,IF($H$80=\"Basti\",$BG$80,IF($H$81=\"Basti\",$BG$81,IF($H$82=\"Basti\",$BG$82,IF($H$83=\"Basti\",$BG$83,IF($H$84=\"Basti\",$BG$84,0)))))))","v":0},null,null,null,null,":",null,{"$f":"IF($H$78=\"Basti\",$BN$78,IF($H$79=\"Basti\",$BN$79,IF($H$80=\"Basti\",$BN$80,IF($H$81=\"Basti\",$BN$81,IF($H$82=\"Basti\",$BN$82,IF($H$83=\"Basti\",$BN$83,IF($H$84=\"Basti\",$BN$84,0)))))))","v":0},null,null,null,null,{"$f":"IF($H$78=\"Basti\",$BS$78,IF($H$79=\"Basti\",$BS$79,IF($H$80=\"Basti\",$BS$80,IF($H$81=\"Basti\",$BS$81,IF($H$82=\"Basti\",$BS$82,IF($H$83=\"Basti\",$BS$83,IF($H$84=\"Basti\",$BS$84,0)))))))","v":0},null,null,null,null,{"$f":"IF($H$78=\"Basti\",$BX$78,IF($H$79=\"Basti\",$BX$79,IF($H$80=\"Basti\",$BX$80,IF($H$81=\"Basti\",$BX$81,IF($H$82=\"Basti\",$BX$82,IF($H$83=\"Basti\",$BX$83,IF($H$84=\"Basti\",$BX$84,0)))))))","v":0}]
[null,null,{"$f":"IF($H$78=\"Christoph\",$F$78,IF($H$79=\"Christoph\",$F$79,IF($H$80=\"Christoph\",$F$80,IF($H$81=\"Christoph\",$F$81,IF($H$82=\"Christoph\",$F$82,IF($H$83=\"Christoph\",$F$83,IF($H$84=\"Christoph\",$F$84,0)))))))","v":3},null,null,null,null,"Christoph",null,null,null,null,null,null,null,null,null,null,null,{"$f":"IF($H$78=\"Christoph\",$T$78,IF($H$79=\"Christoph\",$T$79,IF($H$80=\"Christoph\",$T$80,IF($H$81=\"Christoph\",$T$81,IF($H$82=\"Christoph\",$T$82,IF($H$83=\"Christoph\",$T$83,IF($H$84=\"Christoph\",$T$84,0)))))))","v":6},null,null,null,null,null,{"$f":"IF($H$78=\"Christoph\",$Z$78,IF($H$79=\"Christoph\",$Z$79,IF($H$80=\"Christoph\",$Z$80,IF($H$81=\"Christoph\",$Z$81,IF($H$82=\"Christoph\",$Z$82,IF($H$83=\"Christoph\",$Z$83,IF($H$84=\"Christoph\",$Z$84,0)))))))","v":1},null,null,null,null,null,null,null,null,null,null,{"$f":"IF($H$78=\"Christoph\",$AK$78,IF($H$79=\"Christoph\",$AK$79,IF($H$80=\"Christoph\",$AK$80,IF($H$81=\"Christoph\",$AK$81,IF($H$82=\"Christoph\",$AK$82,IF($H$83=\"Christoph\",$AK$83,IF($H$84=\"Christoph\",$AK$84,0)))))))","v":1},null,null,null,null,null,null,null,null,null,null,{"$f":"IF($H$78=\"Christoph\",$AV$78,IF($H$79=\"Christoph\",$AV$79,IF($H$80=\"Christoph\",$AV$80,IF($H$81=\"Christoph\",$AV$81,IF($H$82=\"Christoph\",$AV$82,IF($H$83=\"Christoph\",$AV$83,IF($H$84=\"Christoph\",$AV$84,0)))))))","v":4},null,null,null,null,null,null,null,null,null,null,{"$f":"IF($H$78=\"Christoph\",$BG$78,IF($H$79=\"Christoph\",$BG$79,IF($H$80=\"Christoph\",$BG$80,IF($H$81=\"Christoph\",$BG$81,IF($H$82=\"Christoph\",$BG$82,IF($H$83=\"Christoph\",$BG$83,IF($H$84=\"Christoph\",$BG$84,0)))))))","v":12},null,null,null,null,":",null,{"$f":"IF($H$78=\"Christoph\",$BN$78,IF($H$79=\"Christoph\",$BN$79,IF($H$80=\"Christoph\",$BN$80,IF($H$81=\"Christoph\",$BN$81,IF($H$82=\"Christoph\",$BN$82,IF($H$83=\"Christoph\",$BN$83,IF($H$84=\"Christoph\",$BN$84,0)))))))","v":15},null,null,null,null,{"$f":"IF($H$78=\"Christoph\",$BS$78,IF($H$79=\"Christoph\",$BS$79,IF($H$80=\"Christoph\",$BS$80,IF($H$81=\"Christoph\",$BS$81,IF($H$82=\"Christoph\",$BS$82,IF($H$83=\"Christoph\",$BS$83,IF($H$84=\"Christoph\",$BS$84,0)))))))","v":-3},null,null,null,null,{"$f":"IF($H$78=\"Christoph\",$BX$78,IF($H$79=\"Christoph\",$BX$79,IF($H$80=\"Christoph\",$BX$80,IF($H$81=\"Christoph\",$BX$81,IF($H$82=\"Christoph\",$BX$82,IF($H$83=\"Christoph\",$BX$83,IF($H$84=\"Christoph\",$BX$84,0)))))))","v":4}]
[null,null,{"$f":"IF($H$78=\"Jule\",$F$78,IF($H$79=\"Jule\",$F$79,IF($H$80=\"Jule\",$F$80,IF($H$81=\"Jule\",$F$81,IF($H$82=\"Jule\",$F$82,IF($H$83=\"Jule\",$F$83,IF($H$84=\"Jule\",$F$84,0)))))))","v":0},null,null,null,null,"Jule",null,null,null,null,null,null,null,null,null,null,null,{"$f":"IF($H$78=\"Jule\",$T$78,IF($H$79=\"Jule\",$T$79,IF($H$80=\"Jule\",$T$80,IF($H$81=\"Jule\",$T$81,IF($H$82=\"Jule\",$T$82,IF($H$83=\"Jule\",$T$83,IF($H$84=\"Jule\",$T$84,0)))))))","v":0},null,null,null,null,null,{"$f":"IF($H$78=\"Jule\",$Z$78,IF($H$79=\"Jule\",$Z$79,IF($H$80=\"Jule\",$Z$80,IF($H$81=\"Jule\",$Z$81,IF($H$82=\"Jule\",$Z$82,IF($H$83=\"Jule\",$Z$83,IF($H$84=\"Jule\",$Z$84,0)))))))","v":0},null,null,null,null,null,null,null,null,null,null,{"$f":"IF($H$78=\"Jule\",$AK$78,IF($H$79=\"Jule\",$AK$79,IF($H$80=\"Jule\",$AK$80,IF($H$81=\"Jule\",$AK$81,IF($H$82=\"Jule\",$AK$82,IF($H$83=\"Jule\",$AK$83,IF($H$84=\"Jule\",$AK$84,0)))))))","v":0},null,null,null,null,null,null,null,null,null,null,{"$f":"IF($H$78=\"Jule\",$AV$78,IF($H$79=\"Jule\",$AV$79,IF($H$80=\"Jule\",$AV$80,IF($H$81=\"Jule\",$AV$81,IF($H$82=\"Jule\",$AV$82,IF($H$83=\"Jule\",$AV$83,IF($H$84=\"Jule\",$AV$84,0)))))))","v":0},null,null,null,null,null,null,null,null,null,null,{"$f":"IF($H$78=\"Jule\",$BG$78,IF($H$79=\"Jule\",$BG$79,IF($H$80=\"Jule\",$BG$80,IF($H$81=\"Jule\",$BG$81,IF($H$82=\"Jule\",$BG$82,IF($H$83=\"Jule\",$BG$83,IF($H$84=\"Jule\",$BG$84,0)))))))","v":0},null,null,null,null,":",null,{"$f":"IF($H$78=\"Jule\",$BN$78,IF($H$79=\"Jule\",$BN$79,IF($H$80=\"Jule\",$BN$80,IF($H$81=\"Jule\",$BN$81,IF($H$82=\"Jule\",$BN$82,IF($H$83=\"Jule\",$BN$83,IF($H$84=\"Jule\",$BN$84,0)))))))","v":0},null,null,null,null,{"$f":"IF($H$78=\"Jule\",$BS$78,IF($H$79=\"Jule\",$BS$79,IF($H$80=\"Jule\",$BS$80,IF($H$81=\"Jule\",$BS$81,IF($H$82=\"Jule\",$BS$82,IF($H$83=\"Jule\",$BS$83,IF($H$84=\"Jule\",$BS$84,0)))))))","v":0},null,null,null,null,{"$f":"IF($H$78=\"Jule\",$BX$78,IF($H$79=\"Jule\",$BX$79,IF($H$80=\"Jule\",$BX$80,IF($H$81=\"Jule\",$BX$81,IF($H$82=\"Jule\",$BX$82,IF($H$83=\"Jule\",$BX$83,IF($H$84=\"Jule\",$BX$84,0)))))))","v":0}]
[null,null,{"$f":"IF($H$78=\"Markus\",$F$78,IF($H$79=\"Markus\",$F$79,IF($H$80=\"Markus\",$F$80,IF($H$81=\"Markus\",$F$81,IF($H$82=\"Markus\",$F$82,IF($H$83=\"Markus\",$F$83,IF($H$84=\"Markus\",$F$84,0)))))))","v":0},null,null,null,null,"Markus",null,null,null,null,null,null,null,null,null,null,null,{"$f":"IF($H$78=\"Markus\",$T$78,IF($H$79=\"Markus\",$T$79,IF($H$80=\"Markus\",$T$80,IF($H$81=\"Markus\",$T$81,IF($H$82=\"Markus\",$T$82,IF($H$83=\"Markus\",$T$83,IF($H$84=\"Markus\",$T$84,0)))))))","v":0},null,null,null,null,null,{"$f":"IF($H$78=\"Markus\",$Z$78,IF($H$79=\"Markus\",$Z$79,IF($H$80=\"Markus\",$Z$80,IF($H$81=\"Markus\",$Z$81,IF($H$82=\"Markus\",$Z$82,IF($H$83=\"Markus\",$Z$83,IF($H$84=\"Markus\",$Z$84,0)))))))","v":0},null,null,null,null,null,null,null,null,null,null,{"$f":"IF($H$78=\"Markus\",$AK$78,IF($H$79=\"Markus\",$AK$79,IF($H$80=\"Markus\",$AK$80,IF($H$81=\"Markus\",$AK$81,IF($H$82=\"Markus\",$AK$82,IF($H$83=\"Markus\",$AK$83,IF($H$84=\"Markus\",$AK$84,0)))))))","v":0},null,null,null,null,null,null,null,null,null,null,{"$f":"IF($H$78=\"Markus\",$AV$78,IF($H$79=\"Markus\",$AV$79,IF($H$80=\"Markus\",$AV$80,IF($H$81=\"Markus\",$AV$81,IF($H$82=\"Markus\",$AV$82,IF($H$83=\"Markus\",$AV$83,IF($H$84=\"Markus\",$AV$84,0)))))))","v":0},null,null,null,null,null,null,null,null,null,null,{"$f":"IF($H$78=\"Markus\",$BG$78,IF($H$79=\"Markus\",$BG$79,IF($H$80=\"Markus\",$BG$80,IF($H$81=\"Markus\",$BG$81,IF($H$82=\"Markus\",$BG$82,IF($H$83=\"Markus\",$BG$83,IF($H$84=\"Markus\",$BG$84,0)))))))","v":0},null,null,null,null,":",null,{"$f":"IF($H$78=\"Markus\",$BN$78,IF($H$79=\"Markus\",$BN$79,IF($H$80=\"Markus\",$BN$80,IF($H$81=\"Markus\",$BN$81,IF($H$82=\"Markus\",$BN$82,IF($H$83=\"Markus\",$BN$83,IF($H$84=\"Markus\",$BN$84,0)))))))","v":0},null,null,null,null,{"$f":"IF($H$78=\"Markus\",$BS$78,IF($H$79=\"Markus\",$BS$79,IF($H$80=\"Markus\",$BS$80,IF($H$81=\"Markus\",$BS$81,IF($H$82=\"Markus\",$BS$82,IF($H$83=\"Markus\",$BS$83,IF($H$84=\"Markus\",$BS$84,0)))))))","v":0},null,null,null,null,{"$f":"IF($H$78=\"Markus\",$BX$78,IF($H$79=\"Markus\",$BX$79,IF($H$80=\"Markus\",$BX$80,IF($H$81=\"Markus\",$BX$81,IF($H$82=\"Markus\",$BX$82,IF($H$83=\"Markus\",$BX$83,IF($H$84=\"Markus\",$BX$84,0)))))))","v":0}]
[null,null,{"$f":"IF($H$78=\"Patrick\",$F$78,IF($H$79=\"Patrick\",$F$79,IF($H$80=\"Patrick\",$F$80,IF($H$81=\"Patrick\",$F$81,IF($H$82=\"Patrick\",$F$82,IF($H$83=\"Patrick\",$F$83,IF($H$84=\"Patrick\",$F$84,0)))))))","v":2},null,null,null,null,"Patrick",null,null,null,null,null,null,null,null,null,null,null,{"$f":"IF($H$78=\"Patrick\",$T$78,IF($H$79=\"Patrick\",$T$79,IF($H$80=\"Patrick\",$T$80,IF($H$81=\"Patrick\",$T$81,IF($H$82=\"Patrick\",$T$82,IF($H$83=\"Patrick\",$T$83,IF($H$84=\"Patrick\",$T$84,0)))))))","v":6},null,null,null,null,null,{"$f":"IF($H$78=\"Patrick\",$Z$78,IF($H$79=\"Patrick\",$Z$79,IF($H$80=\"Patrick\",$Z$80,IF($H$81=\"Patrick\",$Z$81,IF($H$82=\"Patrick\",$Z$82,IF($H$83=\"Patrick\",$Z$83,IF($H$84=\"Patrick\",$Z$84,0)))))))","v":4},null,null,null,null,null,null,null,null,null,null,{"$f":"IF($H$78=\"Patrick\",$AK$78,IF($H$79=\"Patrick\",$AK$79,IF($H$80=\"Patrick\",$AK$80,IF($H$81=\"Patrick\",$AK$81,IF($H$82=\"Patrick\",$AK$82,IF($H$83=\"Patrick\",$AK$83,IF($H$84=\"Patrick\",$AK$84,0)))))))","v":0},null,null,null,null,null,null,null,null,null,null,{"$f":"IF($H$78=\"Patrick\",$AV$78,IF($H$79=\"Patrick\",$AV$79,IF($H$80=\"Patrick\",$AV$80,IF($H$81=\"Patrick\",$AV$81,IF($H$82=\"Patrick\",$AV$82,IF($H$83=\"Patrick\",$AV$83,IF($H$84=\"Patrick\",$AV$84,0)))))))","v":2},null,null,null,null,null,null,null,null,null,null,{"$f":"IF($H$78=\"Patrick\",$BG$78,IF($H$79=\"Patrick\",$BG$79,IF($H$80=\"Patrick\",$BG$80,IF($H$81=\"Patrick\",$BG$81,IF($H$82=\"Patrick\",$BG$82,IF($H$83=\"Patrick\",$BG$83,IF($H$84=\"Patrick\",$BG$84,0)))))))","v":13},null,null,null,null,":",null,{"$f":"IF($H$78=\"Patrick\",$BN$78,IF($H$79=\"Patrick\",$BN$79,IF($H$80=\"Patrick\",$BN$80,IF($H$81=\"Patrick\",$BN$81,IF($H$82=\"Patrick\",$BN$82,IF($H$83=\"Patrick\",$BN$83,IF($H$84=\"Patrick\",$BN$84,0)))))))","v":6},null,null,null,null,{"$f":"IF($H$78=\"Patrick\",$BS$78,IF($H$79=\"Patrick\",$BS$79,IF($H$80=\"Patrick\",$BS$80,IF($H$81=\"Patrick\",$BS$81,IF($H$82=\"Patrick\",$BS$82,IF($H$83=\"Patrick\",$BS$83,IF($H$84=\"Patrick\",$BS$84,0)))))))","v":7},null,null,null,null,{"$f":"IF($H$78=\"Patrick\",$BX$78,IF($H$79=\"Patrick\",$BX$79,IF($H$80=\"Patrick\",$BX$80,IF($H$81=\"Patrick\",$BX$81,IF($H$82=\"Patrick\",$BX$82,IF($H$83=\"Patrick\",$BX$83,IF($H$84=\"Patrick\",$BX$84,0)))))))","v":12}]
[null,null,{"$f":"IF($H$78=\"Ratze\",$F$78,IF($H$79=\"Ratze\",$F$79,IF($H$80=\"Ratze\",$F$80,IF($H$81=\"Ratze\",$F$81,IF($H$82=\"Ratze\",$F$82,IF($H$83=\"Ratze\",$F$83,IF($H$84=\"Ratze\",$F$84,0)))))))","v":1},null,null,null,null,"Ratze",null,null,null,null,null,null,null,null,null,null,null,{"$f":"IF($H$78=\"Ratze\",$T$78,IF($H$79=\"Ratze\",$T$79,IF($H$80=\"Ratze\",$T$80,IF($H$81=\"Ratze\",$T$81,IF($H$82=\"Ratze\",$T$82,IF($H$83=\"Ratze\",$T$83,IF($H$84=\"Ratze\",$T$84,0)))))))","v":6},null,null,null,null,null,{"$f":"IF($H$78=\"Ratze\",$Z$78,IF($H$79=\"Ratze\",$Z$79,IF($H$80=\"Ratze\",$Z$80,IF($H$81=\"Ratze\",$Z$81,IF($H$82=\"Ratze\",$Z$82,IF($H$83=\"Ratze\",$Z$83,IF($H$84=\"Ratze\",$Z$84,0)))))))","v":5},null,null,null,null,null,null,null,null,null,null,{"$f":"IF($H$78=\"Ratze\",$AK$78,IF($H$79=\"Ratze\",$AK$79,IF($H$80=\"Ratze\",$AK$80,IF($H$81=\"Ratze\",$AK$81,IF($H$82=\"Ratze\",$AK$82,IF($H$83=\"Ratze\",$AK$83,IF($H$84=\"Ratze\",$AK$84,0)))))))","v":1},null,null,null,null,null,null,null,null,null,null,{"$f":"IF($H$78=\"Ratze\",$AV$78,IF($H$79=\"Ratze\",$AV$79,IF($H$80=\"Ratze\",$AV$80,IF($H$81=\"Ratze\",$AV$81,IF($H$82=\"Ratze\",$AV$82,IF($H$83=\"Ratze\",$AV$83,IF($H$84=\"Ratze\",$AV$84,0)))))))","v":0},null,null,null,null,null,null,null,null,null,null,{"$f":"IF($H$78=\"Ratze\",$BG$78,IF($H$79=\"Ratze\",$BG$79,IF($H$80=\"Ratze\",$BG$80,IF($H$81=\"Ratze\",$BG$81,IF($H$82=\"Ratze\",$BG$82,IF($H$83=\"Ratze\",$BG$83,IF($H$84=\"Ratze\",$BG$84,0)))))))","v":23},null,null,null,null,":",null,{"$f":"IF($H$78=\"Ratze\",$BN$78,IF($H$79=\"Ratze\",$BN$79,IF($H$80=\"Ratze\",$BN$80,IF($H$81=\"Ratze\",$BN$81,IF($H$82=\"Ratze\",$BN$82,IF($H$83=\"Ratze\",$BN$83,IF($H$84=\"Ratze\",$BN$84,0)))))))","v":12},null,null,null,null,{"$f":"IF($H$78=\"Ratze\",$BS$78,IF($H$79=\"Ratze\",$BS$79,IF($H$80=\"Ratze\",$BS$80,IF($H$81=\"Ratze\",$BS$81,IF($H$82=\"Ratze\",$BS$82,IF($H$83=\"Ratze\",$BS$83,IF($H$84=\"Ratze\",$BS$84,0)))))))","v":11},null,null,null,null,{"$f":"IF($H$78=\"Ratze\",$BX$78,IF($H$79=\"Ratze\",$BX$79,IF($H$80=\"Ratze\",$BX$80,IF($H$81=\"Ratze\",$BX$81,IF($H$82=\"Ratze\",$BX$82,IF($H$83=\"Ratze\",$BX$83,IF($H$84=\"Ratze\",$BX$84,0)))))))","v":16}]
[null,null,{"$f":"IF($H$78=\"Schmiddi\",$F$78,IF($H$79=\"Schmiddi\",$F$79,IF($H$80=\"Schmiddi\",$F$80,IF($H$81=\"Schmiddi\",$F$81,IF($H$82=\"Schmiddi\",$F$82,IF($H$83=\"Schmiddi\",$F$83,IF($H$84=\"Schmiddi\",$F$84,0)))))))","v":4},null,null,null,null,"Schmiddi",null,null,null,null,null,null,null,null,null,null,null,{"$f":"IF($H$78=\"Schmiddi\",$T$78,IF($H$79=\"Schmiddi\",$T$79,IF($H$80=\"Schmiddi\",$T$80,IF($H$81=\"Schmiddi\",$T$81,IF($H$82=\"Schmiddi\",$T$82,IF($H$83=\"Schmiddi\",$T$83,IF($H$84=\"Schmiddi\",$T$84,0)))))))","v":6},null,null,null,null,null,{"$f":"IF($H$78=\"Schmiddi\",$Z$78,IF($H$79=\"Schmiddi\",$Z$79,IF($H$80=\"Schmiddi\",$Z$80,IF($H$81=\"Schmiddi\",$Z$81,IF($H$82=\"Schmiddi\",$Z$82,IF($H$83=\"Schmiddi\",$Z$83,IF($H$84=\"Schmiddi\",$Z$84,0)))))))","v":1},null,null,null,null,null,null,null,null,null,null,{"$f":"IF($H$78=\"Schmiddi\",$AK$78,IF($H$79=\"Schmiddi\",$AK$79,IF($H$80=\"Schmiddi\",$AK$80,IF($H$81=\"Schmiddi\",$AK$81,IF($H$82=\"Schmiddi\",$AK$82,IF($H$83=\"Schmiddi\",$AK$83,IF($H$84=\"Schmiddi\",$AK$84,0)))))))","v":0},null,null,null,null,null,null,null,null,null,null,{"$f":"IF($H$78=\"Schmiddi\",$AV$78,IF($H$79=\"Schmiddi\",$AV$79,IF($H$80=\"Schmiddi\",$AV$80,IF($H$81=\"Schmiddi\",$AV$81,IF($H$82=\"Schmiddi\",$AV$82,IF($H$83=\"Schmiddi\",$AV$83,IF($H$84=\"Schmiddi\",$AV$84,0)))))))","v":5},null,null,null,null,null,null,null,null,null,null,{"$f":"IF($H$78=\"Schmiddi\",$BG$78,IF($H$79=\"Schmiddi\",$BG$79,IF($H$80=\"Schmiddi\",$BG$80,IF($H$81=\"Schmiddi\",$BG$81,IF($H$82=\"Schmiddi\",$BG$82,IF($H$83=\"Schmiddi\",$BG$83,IF($H$84=\"Schmiddi\",$BG$84,0)))))))","v":8},null,null,null,null,":",null,{"$f":"IF($H$78=\"Schmiddi\",$BN$78,IF($H$79=\"Schmiddi\",$BN$79,IF($H$80=\"Schmiddi\",$BN$80,IF($H$81=\"Schmiddi\",$BN$81,IF($H$82=\"Schmiddi\",$BN$82,IF($H$83=\"Schmiddi\",$BN$83,IF($H$84=\"Schmiddi\",$BN$84,0)))))))","v":23},null,null,null,null,{"$f":"IF($H$78=\"Schmiddi\",$BS$78,IF($H$79=\"Schmiddi\",$BS$79,IF($H$80=\"Schmiddi\",$BS$80,IF($H$81=\"Schmiddi\",$BS$81,IF($H$82=\"Schmiddi\",$BS$82,IF($H$83=\"Schmiddi\",$BS$83,IF($H$84=\"Schmiddi\",$BS$84,0)))))))","v":-15},null,null,null,null,{"$f":"IF($H$78=\"Schmiddi\",$BX$78,IF($H$79=\"Schmiddi\",$BX$79,IF($H$80=\"Schmiddi\",$BX$80,IF($H$81=\"Schmiddi\",$BX$81,IF($H$82=\"Schmiddi\",$BX$82,IF($H$83=\"Schmiddi\",$BX$83,IF($H$84=\"Schmiddi\",$BX$84,0)))))))","v":3}]

{"sheet":"Ende_Auswertung","index":23,"n_rows":0,"n_cols":0,"rows_kept":0,"cut":false,"hidden":true,"merged":[]}

{"sheet":"28.9.","index":24,"n_rows":97,"n_cols":88,"rows_kept":97,"cut":false,"hidden":false,"merged":[[97,1,97,82],[98,0,98,83],[96,47,96,57],[96,58,96,62],[96,63,96,64],[96,65,96,69],[96,70,96,74],[96,75,96,81],[95,58,95,62],[95,63,95,64],[95,65,95,69],[95,70,95,74],[95,75,95,81],[96,2,96,6],[96,7,96,18],[96,19,96,24],[96,25,96,35],[96,36,96,46],[95,2,95,6],[95,7,95,18],[95,19,95,24],[95,25,95,35],[95,36,95,46],[95,47,95,57],[94,47,94,57],[94,58,94,62],[94,63,94,64],[94,65,94,69],[94,70,94,74],[94,75,94,81],[93,58,93,62],[93,63,93,64],[93,65,93,69],[93,70,93,74],[93,75,93,81],[93,47,93,57],[94,2,94,6],[94,7,94,18],[94,19,94,24],[94,25,94,35],[94,36,94,46],[93,2,93,6],[93,7,93,18],[93,19,93,24],[93,25,93,35],[93,36,93,46],[92,36,92,46],[90,63,90,64],[90,65,90,69],[90,70,90,74],[90,75,90,81],[91,2,91,6],[91,7,91,18],[91,19,91,24],[91,25,91,35],[91,36,91,46],[91,47,91,57],[92,47,92,57],[92,58,92,62],[92,63,92,64],[92,65,92,69],[92,70,92,74],[92,75,92,81],[91,58,91,62],[91,63,91,64],[91,65,91,69],[91,70,91,74],[91,75,91,81],[87,1,96,1],[87,2,87,81],[87,82,96,82],[88,2,88,81],[89,2,89,6],[89,7,89,18],[89,19,89,24],[89,25,89,35],[89,36,89,46],[89,47,89,57],[89,58,89,69],[89,70,89,74],[89,75,89,81],[90,2,90,6],[90,7,90,18],[90,19,90,24],[90,25,90,35],[90,36,90,46],[90,47,90,57],[90,58,90,62],[92,2,92,6],[92,7,92,18],[92,19,92,24],[92,25,92,35],[84,1,84,82],[85,1,85,82],[86,1,86,82],[82,75,82,81],[83,2,83,4],[83,5,83,6],[83,7,83,18],[83,19,83,24],[83,25,83,35],[83,36,83,46],[83,47,83,57],[83,58,83,62],[83,63,83,64],[82,36,82,46],[82,47,82,57],[82,58,82,62],[82,63,82,64],[82,65,82,69],[82,70,82,74],[81,65,81,69],[81,70,81,74],[81,75,81,81],[82,2,82,4],[82,5,82,6],[82,7,82,18],[82,19,82,24],[82,25,82,35],[83,65,83,69],[83,70,83,74],[83,75,83,81],[81,2,81,4],[81,5,81,6],[81,7,81,18],[81,19,81,24],[81,25,81,35],[81,36,81,46],[81,47,81,57],[81,58,81,62],[81,63,81,64],[79,2,79,4],[79,5,79,6],[79,7,79,18],[79,19,79,24],[79,25,79,35],[79,75,79,81],[80,2,80,4],[80,5,80,6],[80,7,80,18],[80,19,80,24],[80,25,80,35],[80,36,80,46],[80,47,80,57],[80,58,80,62],[80,63,80,64],[79,36,79,46],[79,47,79,57],[79,58,79,62],[79,63,79,64],[79,65,79,69],[79,70,79,74],[80,65,80,69],[80,70,80,74],[80,75,80,81],[76,70,76,74],[77,65,77,69],[77,70,77,74],[77,75,77,81],[78,2,78,4],[78,5,78,6],[78,7,78,18],[78,19,78,24],[78,25,78,35],[78,36,78,46],[78,47,78,57],[78,58,78,62],[78,63,78,64],[78,65,78,69],[78,70,78,74],[78,75,78,81],[71,1,71,82],[72,1,72,82],[73,1,73,82],[74,1,83,1],[74,2,74,81],[74,82,83,82],[75,2,75,81],[76,2,76,6],[76,7,76,18],[76,75,76,81],[77,2,77,4],[77,5,77,6],[77,7,77,18],[77,19,77,24],[77,25,77,35],[77,36,77,46],[77,47,77,57],[77,58,77,62],[77,63,77,64],[76,19,76,24],[76,25,76,35],[76,36,76,46],[76,47,76,57],[76,58,76,69],[69,70,69,74],[69,75,69,78],[69,79,69,81],[70,2,70,6],[70,7,70,18],[70,19,70,24],[70,25,70,35],[70,36,70,46],[70,79,70,81],[70,47,70,57],[70,58,70,62],[70,63,70,64],[70,65,70,69],[70,70,70,74],[70,75,70,78],[69,2,69,6],[69,7,69,18],[69,19,69,24],[69,25,69,35],[69,36,69,46],[69,47,69,57],[69,58,69,62],[69,63,69,64],[69,65,69,69],[67,2,67,6],[67,7,67,18],[67,19,67,24],[67,25,67,35],[67,36,67,46],[67,79,67,81],[68,2,68,6],[68,7,68,18],[68,19,68,24],[68,25,68,35],[68,36,68,46],[68,47,68,57],[68,58,68,62],[68,63,68,64],[68,65,68,69],[67,47,67,57],[67,58,67,62],[67,63,67,64],[67,65,67,69],[67,70,67,74],[67,75,67,78],[68,70,68,74],[68,75,68,78],[68,79,68,81],[64,70,64,74],[64,75,64,78],[65,70,65,74],[65,75,65,78],[65,79,65,81],[66,2,66,6],[66,7,66,18],[66,19,66,24],[66,25,66,35],[66,36,66,46],[66,47,66,57],[66,58,66,62],[66,63,66,64],[66,65,66,69],[66,70,66,74],[66,75,66,78],[66,79,66,81],[65,25,65,35],[65,36,65,46],[65,47,65,57],[65,58,65,62],[65,63,65,64],[65,65,65,69],[64,47,64,57],[64,58,64,62],[64,63,64,64],[64,65,64,69],[60,1,60,82],[61,1,68,1],[61,2,61,81],[61,82,68,82],[62,2,62,81],[63,2,63,6],[63,7,63,18],[63,19,63,24],[63,25,63,35],[63,36,63,46],[63,47,63,57],[63,58,63,69],[63,70,63,74],[63,75,63,78],[63,79,63,81],[64,2,64,6],[64,7,64,18],[64,19,64,24],[64,25,64,35],[64,36,64,46],[64,79,64,81],[65,2,65,6],[65,7,65,18],[65,19,65,24],[35,77,35,81],[36,1,36,82],[59,1,59,82],[34,53,34,67],[34,69,34,73],[34,74,34,76],[34,77,34,81],[35,7,35,10],[35,12,35,16],[35,18,35,22],[35,24,35,33],[35,35,35,49],[35,50,35,52],[34,7,34,10],[34,12,34,16],[34,18,34,22],[34,24,34,33],[34,35,34,49],[34,50,34,52],[35,53,35,67],[35,69,35,73],[35,74,35,76],[32,77,32,81],[33,7,33,10],[33,12,33,16],[33,18,33,22],[33,24,33,33],[33,35,33,49],[33,50,33,52],[33,53,33,67],[33,69,33,73],[33,74,33,76],[33,77,33,81],[32,7,32,10],[32,12,32,16],[32,18,32,22],[32,24,32,33],[32,35,32,49],[32,50,32,52],[32,53,32,67],[32,69,32,73],[32,74,32,76],[30,77,30,81],[31,7,31,10],[31,12,31,16],[31,18,31,22],[31,24,31,33],[31,35,31,49],[31,50,31,52],[31,53,31,67],[31,69,31,73],[31,74,31,76],[31,77,31,81],[30,7,30,10],[30,12,30,16],[30,18,30,22],[30,24,30,33],[30,35,30,49],[30,50,30,52],[30,53,30,67],[30,69,30,73],[30,74,30,76],[28,74,28,76],[28,77,28,81],[29,7,29,10],[29,12,29,16],[29,18,29,22],[29,24,29,33],[29,35,29,49],[29,50,29,52],[28,7,28,10],[28,12,28,16],[28,18,28,22],[28,24,28,33],[28,35,28,49],[28,50,28,52],[29,53,29,67],[29,69,29,73],[29,74,29,76],[29,77,29,81],[27,18,27,22],[27,24,27,33],[27,35,27,49],[27,50,27,52],[26,50,26,52],[26,53,26,67],[26,68,35,68],[28,53,28,67],[28,69,28,73],[24,77,24,81],[25,2,25,81],[26,2,35,5],[26,6,35,6],[26,7,26,10],[26,11,35,11],[26,12,26,16],[15,2,24,5],[15,6,24,6],[26,69,26,73],[26,74,26,76],[26,77,26,81],[27,53,27,67],[27,69,27,73],[27,74,27,76],[27,77,27,81],[26,17,35,17],[26,18,26,22],[26,23,35,23],[26,24,26,33],[26,34,35,34],[26,35,26,49],[27,7,27,10],[27,12,27,16],[24,7,24,10],[24,12,24,16],[24,18,24,22],[24,24,24,33],[24,35,24,49],[24,50,24,52],[24,53,24,67],[24,69,24,73],[24,74,24,76],[22,24,22,33],[22,35,22,49],[22,50,22,52],[22,53,22,67],[22,69,22,73],[22,74,22,76],[22,77,22,81],[23,7,23,10],[23,12,23,16],[23,18,23,22],[23,24,23,33],[23,35,23,49],[23,50,23,52],[23,53,23,67],[23,69,23,73],[23,74,23,76],[23,77,23,81],[20,53,20,67],[20,69,20,73],[20,74,20,76],[20,77,20,81],[21,7,21,10],[21,12,21,16],[21,18,21,22],[21,24,21,33],[21,35,21,49],[21,50,21,52],[21,53,21,67],[21,69,21,73],[21,74,21,76],[21,77,21,81],[18,53,18,67],[18,69,18,73],[18,74,18,76],[18,77,18,81],[19,7,19,10],[19,12,19,16],[19,18,19,22],[19,24,19,33],[19,35,19,49],[19,50,19,52],[19,53,19,67],[19,69,19,73],[19,74,19,76],[19,77,19,81],[16,53,16,67],[16,69,16,73],[16,74,16,76],[16,77,16,81],[17,7,17,10],[17,12,17,16],[17,18,17,22],[17,24,17,33],[17,35,17,49],[17,50,17,52],[17,53,17,67],[17,69,17,73],[17,74,17,76],[17,77,17,81],[15,24,15,33],[15,34,24,34],[15,35,15,49],[15,50,15,52],[16,50,16,52],[15,7,15,10],[15,11,24,11],[15,12,15,16],[15,17,24,17],[18,7,18,10],[18,12,18,16],[18,18,18,22],[18,24,18,33],[18,35,18,49],[18,50,18,52],[20,7,20,10],[20,12,20,16],[20,18,20,22],[20,24,20,33],[20,35,20,49],[20,50,20,52],[22,7,22,10],[22,12,22,16],[22,18,22,22],[13,69,13,81],[14,2,14,81],[7,68,7,81],[8,1,8,82],[9,1,9,82],[10,1,10,82],[11,1,35,1],[11,2,11,81],[11,82,35,82],[12,2,12,81],[13,2,13,5],[13,7,13,10],[15,53,15,67],[15,68,24,68],[15,69,15,73],[15,74,15,76],[15,77,15,81],[16,7,16,10],[16,12,16,16],[16,18,16,22],[16,24,16,33],[16,35,16,49],[15,18,15,22],[15,23,24,23],[0,0,0,83],[1,1,1,82],[1,83,97,83],[2,1,2,82],[3,1,3,82],[4,1,7,1],[4,2,4,81],[4,82,7,82],[5,2,5,81],[6,2,6,11],[6,12,6,25],[6,26,6,39],[6,40,6,53],[6,54,6,67],[6,68,6,81],[7,2,7,11],[7,12,7,25],[7,26,7,39],[7,40,7,53],[7,54,7,67],[13,12,13,16],[13,18,13,22],[13,24,13,33],[13,35,13,67]]}
[]
[null,{"$f":"\"Turnier am \" & MID(CELL(\"dateiname\",A1),SEARCH(\"]\",CELL(\"dateiname\",A1))+1,31)","v":"Turnier am 28.9."}]
[]
[]
[null,null,"Spielerliste"]
[]
[null,null,{"$f":"\" Spieler\"","v":" Spieler"},null,null,null,null,null,null,null,null,null,"Spieler 1",null,null,null,null,null,null,null,null,null,null,null,null,null,"Spieler 2",null,null,null,null,null,null,null,null,null,null,null,null,null,"Spieler 3",null,null,null,null,null,null,null,null,null,null,null,null,null,"Spieler 4",null,null,null,null,null,null,null,null,null,null,null,null,null,"Spieler 5"]
[null,null,{"$f":"\" Name\"","v":" Name"},null,null,null,null,null,null,null,null,null,"Christoph",null,null,null,null,null,null,null,null,null,null,null,null,null,"Patrick",null,null,null,null,null,null,null,null,null,null,null,null,null,"Markus",null,null,null,null,null,null,null,null,null,null,null,null,null,"Ratze",null,null,null,null,null,null,null,null,null,null,null,null,null,"Schmiddi"]
[]
[]
[]
[null,null,"Spielplan"]
[]
[null,null,"00:12:00",null,null,null,null,"Spiel",null,null,null,null,"Datum",null,null,null,null,null,"Uhrzeit",null,null,null,null,null,"Austragungsort",null,null,null,null,null,null,null,null,null,null,"Paarung",null,null,null,null,null,null,null,null,null,null,null,null,null,null,null,null,null,null,null,null,null,null,null,null,null,null,null,null,null,null,null,null,null,"Ergebnis",null,null,null,null,null,null,null,null,null,null,null,null,null,null,"Spiele","SiegHeim","Unentschieden","SiegGast"]
[]
[null,null,"Hinrunde",null,null,null,null,1,null,null,null,null,{"$f":"MID(CELL(\"dateiname\",A1),SEARCH(\"]\",CELL(\"dateiname\",A1))+1,31)","v":"28.9."},null,null,null,null,null,"21:00:00",null,null,null,null,null,"Fernseher",null,null,null,null,null,null,null,null,null,null,{"$f":"$M$8","v":"Christoph"},null,null,null,null,null,null,null,null,null,null,null,null,null,null,":",null,null,{"$f":"$AA$8","v":"Patrick"},null,null,null,null,null,null,null,null,null,null,null,null,null,null,null,1,null,null,null,null,":",null,null,2,null,null,null,null,null,null,{"$f":"IF(AND(ISNUMBER(BR16),ISNUMBER(BZ16)),1,0)","v":1},{"$f":"IF(OR(ISBLANK(BR16),ISBLANK(BZ16)),0,IF(BR16>BZ16,1,0))","v":0},{"$f":"IF(OR(ISBLANK(BR16),ISBLANK(BZ16)),0,IF(BR16=BZ16,1,0))","v":0},{"$f":"IF(OR(ISBLANK(BR16),ISBLANK(BZ16)),0,IF(BR16<BZ16,1,0))","v":1}]
[null,null,null,null,null,null,null,{"$f":"H16+1","v":2},null,null,null,null,{"$f":"$M$16","v":"28.9."},null,null,null,null,null,{"$f":"S16","v":"21:00:00"},null,null,null,null,null,"Fernseher",null,null,null,null,null,null,null,null,null,null,{"$f":"$AO$8","v":"Markus"},null,null,null,null,null,null,null,null,null,null,null,null,null,null,":",null,null,{"$f":"$BC$8","v":"Ratze"},null,null,null,null,null,null,null,null,null,null,null,null,null,null,null,2,null,null,null,null,":",null,null,0,null,null,null,null,null,null,{"$f":"IF(AND(ISNUMBER(BR17),ISNUMBER(BZ17)),1,0)","v":1},{"$f":"IF(OR(ISBLANK(BR17),ISBLANK(BZ17)),0,IF(BR17>BZ17,1,0))","v":1},{"$f":"IF(OR(ISBLANK(BR17),ISBLANK(BZ17)),0,IF(BR17=BZ17,1,0))","v":0},{"$f":"IF(OR(ISBLANK(BR17),ISBLANK(BZ17)),0,IF(BR17<BZ17,1,0))","v":0}]
[null,null,null,null,null,null,null,{"$f":"H17+1","v":3},null,null,null,null,{"$f":"$M$16","v":"28.9."},null,null,null,null,null,{"$f":"S16+$C$14","v":"21:12:00"},null,null,null,null,null,{"$f":"$Y$16","v":"Fernseher"},null,null,null,null,null,null,null,null,null,null,{"$f":"$BQ$8","v":"Schmiddi"},null,null,null,null,null,null,null,null,null,null,null,null,null,null,":",null,null,{"$f":"$M$8","v":"Christoph"},null,null,null,null,null,null,null,null,null,null,null,null,null,null,null,1,null,null,null,null,":",null,null,6,null,null,null,null,null,null,1,0,0,1]
[null,null,null,null,null,null,null,{"$f":"H18+1","v":4},null,null,null,null,"28.9.",null,null,null,null,null,"21:12:00",null,null,null,null,null,{"$f":"$Y$17","v":"Fernseher"},null,null,null,null,null,null,null,null,null,null,{"$f":"$AA$8","v":"Patrick"},null,null,null,null,null,null,null,null,null,null,null,null,null,null,":",null,null,{"$f":"$AO$8","v":"Markus"},null,null,null,null,null,null,null,null,null,null,null,null,null,null,null,0,null,null,null,null,":",null,null,0,null,null,null,null,null,null,1,0,1,0]
[null,null,null,null,null,null,null,5,null,null,null,null,"28.9.",null,null,null,null,null,"21:24:00",null,null,null,null,null,{"$f":"$Y$16","v":"Fernseher"},null,null,null,null,null,null,null,null,null,null,{"$f":"$BC$8","v":"Ratze"},null,null,null,null,null,null,null,null,null,null,null,null,null,null,":",null,null,{"$f":"$BQ$8","v":"Schmiddi"},null,null,null,null,null,null,null,null,null,null,null,null,null,null,null,4,null,null,null,null,":",null,null,0,null,null,null,null,null,null,1,1,0,0]
[null,null,null,null,null,null,null,6,null,null,null,null,"28.9.",null,null,null,null,null,"21:24:00",null,null,null,null,null,{"$f":"$Y$17","v":"Fernseher"},null,null,null,null,null,null,null,null,null,null,{"$f":"$M$8","v":"Christoph"},null,null,null,null,null,null,null,null,null,null,null,null,null,null,":",null,null,{"$f":"$AO$8","v":"Markus"},null,null,null,null,null,null,null,null,null,null,null,null,null,null,null,0,null,null,null,null,":",null,null,0,null,null,null,null,null,null,1,0,1,0]
[null,null,null,null,null,null,null,7,null,null,null,null,"28.9.",null,null,null,null,null,"21:36:00",null,null,null,null,null,{"$f":"$Y$16","v":"Fernseher"},null,null,null,null,null,null,null,null,null,null,{"$f":"$AA$8","v":"Patrick"},null,null,null,null,null,null,null,null,null,null,null,null,null,null,":",null,null,{"$f":"$BC$8","v":"Ratze"},null,null,null,null,null,null,null,null,null,null,null,null,null,null,null,1,null,null,null,null,":",null,null,1,null,null,null,null,null,null,1,0,1,0]
[null,null,null,null,null,null,null,8,null,null,null,null,"28.9.",null,null,null,null,null,"21:36:00",null,null,null,null,null,{"$f":"$Y$17","v":"Fernseher"},null,null,null,null,null,null,null,null,null,null,{"$f":"$AO$8","v":"Markus"},null,null,null,null,null,null,null,null,null,null,null,null,null,null,":",null,null,{"$f":"$BQ$8","v":"Schmiddi"},null,null,null,null,null,null,null,null,null,null,null,null,null,null,null,2,null,null,null,null,":",null,null,3,null,null,null,null,null,null,1,0,0,1]
[null,null,null,null,null,null,null,9,null,null,null,null,"28.9.",null,null,null,null,null,"21:48:00",null,null,null,null,null,{"$f":"$Y$16","v":"Fernseher"},null,null,null,null,null,null,null,null,null,null,{"$f":"$BC$8","v":"Ratze"},null,null,null,null,null,null,null,null,null,null,null,null,null,null,":",null,null,{"$f":"$M$8","v":"Christoph"},null,null,null,null,null,null,null,null,null,null,null,null,null,null,null,3,null,null,null,null,":",null,null,2,null,null,null,null,null,null,1,1,0,0]
[null,null,null,null,null,null,null,10,null,null,null,null,"28.9.",null,null,null,null,null,"21:48:00",null,null,null,null,null,{"$f":"$Y$17","v":"Fernseher"},null,null,null,null,null,null,null,null,null,null,{"$f":"$BQ$8","v":"Schmiddi"},null,null,null,null,null,null,null,null,null,null,null,null,null,null,":",null,null,{"$f":"$AA$8","v":"Patrick"},null,null,null,null,null,null,null,null,null,null,null,null,null,null,null,1,null,null,null,null,":",null,null,4,null,null,null,null,null,null,1,0,0,1]
[]
[null,null,"Rückrunde",null,null,null,null,{"$f":"H25+1","v":11},null,null,null,null,{"$f":"$M$16","v":"28.9."},null,null,null,null,null,{"$f":"S24+$C$14","v":"22:00:00"},null,null,null,null,null,{"$f":"$Y$17","v":"Fernseher"},null,null,null,null,null,null,null,null,null,null,{"$f":"$AA$8","v":"Patrick"},null,null,null,null,null,null,null,null,null,null,null,null,null,null,":",null,null,{"$f":"$M$8","v":"Christoph"},null,null,null,null,null,null,null,null,null,null,null,null,null,null,null,1,null,null,null,null,":",null,null,1,null,null,null,null,null,null,{"$f":"IF(AND(ISNUMBER(BR27),ISNUMBER(BZ27)),1,0)","v":1},{"$f":"IF(OR(ISBLANK(BR27),ISBLANK(BZ27)),0,IF(BR27>BZ27,1,0))","v":0},{"$f":"IF(OR(ISBLANK(BR27),ISBLANK(BZ27)),0,IF(BR27=BZ27,1,0))","v":1},{"$f":"IF(OR(ISBLANK(BR27),ISBLANK(BZ27)),0,IF(BR27<BZ27,1,0))","v":0}]
[null,null,null,null,null,null,null,{"$f":"H27+1","v":12},null,null,null,null,"28.9.",null,null,null,null,null,{"$f":"S25+$C$14","v":"22:00:00"},null,null,null,null,null,{"$f":"$Y$16","v":"Fernseher"},null,null,null,null,null,null,null,null,null,null,{"$f":"$BC$8","v":"Ratze"},null,null,null,null,null,null,null,null,null,null,null,null,null,null,":",null,null,{"$f":"$AO$8","v":"Markus"},null,null,null,null,null,null,null,null,null,null,null,null,null,null,null,2,null,null,null,null,":",null,null,2,null,null,null,null,null,null,1,0,1,0]
[null,null,null,null,null,null,null,{"$f":"H28+1","v":13},null,null,null,null,"28.9.",null,null,null,null,null,{"$f":"S27+$C$14","v":"22:12:00"},null,null,null,null,null,{"$f":"$Y$17","v":"Fernseher"},null,null,null,null,null,null,null,null,null,null,{"$f":"$M$8","v":"Christoph"},null,null,null,null,null,null,null,null,null,null,null,null,null,null,":",null,null,{"$f":"$BQ$8","v":"Schmiddi"},null,null,null,null,null,null,null,null,null,null,null,null,null,null,null,2,null,null,null,null,":",null,null,0,null,null,null,null,null,null,1,1,0,0]
[null,null,null,null,null,null,null,14,null,null,null,null,"28.9.",null,null,null,null,null,"22:12:00",null,null,null,null,null,{"$f":"$Y$16","v":"Fernseher"},null,null,null,null,null,null,null,null,null,null,{"$f":"$AO$8","v":"Markus"},null,null,null,null,null,null,null,null,null,null,null,null,null,null,":",null,null,{"$f":"$AA$8","v":"Patrick"},null,null,null,null,null,null,null,null,null,null,null,null,null,null,null,2,null,null,null,null,":",null,null,1,null,null,null,null,null,null,1,1,0,0]
[null,null,null,null,null,null,null,15,null,null,null,null,"28.9.",null,null,null,null,null,"22:24:00",null,null,null,null,null,{"$f":"$Y$17","v":"Fernseher"},null,null,null,null,null,null,null,null,null,null,{"$f":"$BQ$8","v":"Schmiddi"},null,null,null,null,null,null,null,null,null,null,null,null,null,null,":",null,null,{"$f":"$BC$8","v":"Ratze"},null,null,null,null,null,null,null,null,null,null,null,null,null,null,null,1,null,null,null,null,":",null,null,4,null,null,null,null,null,null,1,0,0,1]
[null,null,null,null,null,null,null,16,null,null,null,null,"28.9.",null,null,null,null,null,"22:24:00",null,null,null,null,null,{"$f":"$Y$16","v":"Fernseher"},null,null,null,null,null,null,null,null,null,null,{"$f":"$AO$8","v":"Markus"},null,null,null,null,null,null,null,null,null,null,null,null,null,null,":",null,null,{"$f":"$M$8","v":"Christoph"},null,null,null,null,null,null,null,null,null,null,null,null,null,null,null,3,null,null,null,null,":",null,null,1,null,null,null,null,null,null,1,1,0,0]
[null,null,null,null,null,null,null,17,null,null,null,null,"28.9.",null,null,null,null,null,"22:36:00",null,null,null,null,null,{"$f":"$Y$17","v":"Fernseher"},null,null,null,null,null,null,null,null,null,null,{"$f":"$BC$8","v":"Ratze"},null,null,null,null,null,null,null,null,null,null,null,null,null,null,":",null,null,{"$f":"$AA$8","v":"Patrick"},null,null,null,null,null,null,null,null,null,null,null,null,null,null,null,2,null,null,null,null,":",null,null,0,null,null,null,null,null,null,1,1,0,0]
[null,null,null,null,null,null,null,18,null,null,null,null,"28.9.",null,null,null,null,null,"22:36:00",null,null,null,null,null,{"$f":"$Y$16","v":"Fernseher"},null,null,null,null,null,null,null,null,null,null,{"$f":"$BQ$8","v":"Schmiddi"},null,null,null,null,null,null,null,null,null,null,null,null,null,null,":",null,null,{"$f":"$AO$8","v":"Markus"},null,null,null,null,null,null,null,null,null,null,null,null,null,null,null,3,null,null,null,null,":",null,null,3,null,null,null,null,null,null,1,0,1,0]
[null,null,null,null,null,null,null,19,null,null,null,null,"28.9.",null,null,null,null,null,"22:48:00",null,null,null,null,null,{"$f":"$Y$17","v":"Fernseher"},null,null,null,null,null,null,null,null,null,null,{"$f":"$M$8","v":"Christoph"},null,null,null,null,null,null,null,null,null,null,null,null,null,null,":",null,null,{"$f":"$BC$8","v":"Ratze"},null,null,null,null,null,null,null,null,null,null,null,null,null,null,null,1,null,null,null,null,":",null,null,3,null,null,null,null,null,null,1,0,0,1]
[null,null,null,null,null,null,null,20,null,null,null,null,"28.9.",null,null,null,null,null,"22:48:00",null,null,null,null,null,{"$f":"$Y$16","v":"Fernseher"},null,null,null,null,null,null,null,null,null,null,{"$f":"$AA$8","v":"Patrick"},null,null,null,null,null,null,null,null,null,null,null,null,null,null,":",null,null,{"$f":"$BQ$8","v":"Schmiddi"},null,null,null,null,null,null,null,null,null,null,null,null,null,null,null,4,null,null,null,null,":",null,null,2,null,null,null,null,null,null,1,1,0,0]
[]
[]
[]
[]
[]
[]
[]
[]
[]
[]
[]
[]
[]
[]
[]
[]
[]
[]
[]
[]
[]
[]
[]
[]
[]
[null,null,"Tabelle (unsortiert)"]
[]
[null,null,"Rang",null,null,null,null,"Spieler",null,null,null,null,null,null,null,null,null,null,null,"Spiele",null,null,null,null,null,"Siege",null,null,null,null,null,null,null,null,null,null,"Unentschieden",null,null,null,null,null,null,null,null,null,null,"Niederlagen",null,null,null,null,null,null,null,null,null,null,"Tore",null,null,null,null,null,null,null,null,null,null,null,"+/-",null,null,null,null,"Punkte",null,null,null,"HS"]
[null,null,{"$f":"IF(T65=0,0,RANK(BX65,$BX$65:$CA$69,0))","v":4},null,null,null,null,{"$f":"$M$8","v":"Christoph"},null,null,null,null,null,null,null,null,null,null,null,{"$f":"CG16+CG18+CG21+CG24+CG27+CG29+CG32+CG35","v":8},null,null,null,null,null,{"$f":"CH16+CJ18+CH21+CJ24+CJ27+CH29+CJ32+CH35","v":2},null,null,null,null,null,null,null,null,null,null,{"$f":"CI16+CI18+CI21+CI24+CI27+CI29+CI32+CI35","v":2},null,null,null,null,null,null,null,null,null,null,{"$f":"CJ16+CH18+CJ21+CH24+CH27+CJ29+CH32+CJ35","v":4},null,null,null,null,null,null,null,null,null,null,{"$f":"BR16+BZ18+BR21+BZ24+BZ27+BR29+BZ32+BR35","v":14},null,null,null,null,":",null,{"$f":"BZ16+BR18+BZ21+BR24+BR27+BZ29+BR32+BZ35","v":13},null,null,null,null,{"$f":"BG65-BN65","v":1},null,null,null,null,{"$f":"(Z65*3)+AK65","v":8},null,null,null,{"$f":"BX65+ROW()/1000","v":8.0649999999999995}]
[null,null,{"$f":"IF(T66=0,0,RANK(BX66,$BX$65:$CA$69,0))","v":3},null,null,null,null,{"$f":"$AA$8","v":"Patrick"},null,null,null,null,null,null,null,null,null,null,null,{"$f":"CG16+CG19+CG22+CG25+CG27+CG30+CG33+CG36","v":8},null,null,null,null,null,{"$f":"CJ16+CH19+CH22+CJ25+CH27+CJ30+CJ33+CH36","v":3},null,null,null,null,null,null,null,null,null,null,{"$f":"CI16+CI19+CI22+CI25+CI27+CI30+CI33+CI36","v":3},null,null,null,null,null,null,null,null,null,null,{"$f":"CH16+CJ19+CJ22+CH25+CJ27+CH30+CH33+CJ36","v":2},null,null,null,null,null,null,null,null,null,null,{"$f":"BZ16+BR19+BR22+BZ25+BR27+BZ30+BZ33+BR36","v":13},null,null,null,":",":",null,{"$f":"BR16+BZ19+BZ22+BR25+BZ27+BR30+BR33+BZ36","v":10},null,null,null,null,{"$f":"BG66-BN66","v":3},null,null,null,null,{"$f":"(Z66*3)+AK66","v":12},null,null,null,{"$f":"BX66+ROW()/1000","v":12.066000000000001}]
[null,null,{"$f":"IF(T67=0,0,RANK(BX67,$BX$65:$CA$69,0))","v":2},null,null,null,null,{"$f":"$AO$8","v":"Markus"},null,null,null,null,null,null,null,null,null,null,null,{"$f":"CG17+CG19+CG21+CG23+CG28+CG30+CG32+CG34","v":8},null,null,null,null,null,{"$f":"CH17+CJ19+CJ21+CH23+CJ28+CH30+CH32+CJ34","v":3},null,null,null,null,null,null,null,null,null,null,{"$f":"CI17+CI19+CI21+CI23+CI28+CI30+CI32+CI34","v":4},null,null,null,null,null,null,null,null,null,null,{"$f":"CJ17+CH19+CH21+CJ23+CH28+CJ30+CJ32+CH34","v":1},null,null,null,null,null,null,null,null,null,null,{"$f":"BR17+BZ19+BZ21+BR23+BZ28+BR30+BR32+BZ34","v":14},null,null,null,":",":",null,{"$f":"BZ17+BR19+BR21+BZ23+BR28+BZ30+BZ32+BR34","v":10},null,null,null,null,{"$f":"BG67-BN67","v":4},null,null,null,null,{"$f":"(Z67*3)+AK67","v":13},null,null,null,{"$f":"BX67+ROW()/1000","v":13.067}]
[null,null,{"$f":"IF(T68=0,0,RANK(BX68,$BX$65:$CA$69,0))","v":1},null,null,null,null,{"$f":"$BC$8","v":"Ratze"},null,null,null,null,null,null,null,null,null,null,null,{"$f":"CG17+CG20+CG22+CG24+CG28+CG31+CG33+CG35","v":8},null,null,null,null,null,{"$f":"CJ17+CH20+CJ22+CH24+CH28+CJ31+CH33+CJ35","v":5},null,null,null,null,null,null,null,null,null,null,{"$f":"CI17+CI20+CI22+CI24+CI28+CI31+CI33+CI35","v":2},null,null,null,null,null,null,null,null,null,null,{"$f":"CH17+CJ20+CH22+CJ24+CJ28+CH31+CJ33+CH35","v":1},null,null,null,null,null,null,null,null,null,null,{"$f":"BZ17+BR20+BZ22+BR24+BR28+BZ31+BR33+BZ35","v":19},null,null,null,":",":",null,{"$f":"BR17+BZ20+BR22+BZ24+BZ28+BR31+BZ33+BR35","v":9},null,null,null,null,{"$f":"BG68-BN68","v":10},null,null,null,null,{"$f":"(Z68*3)+AK68","v":17},null,null,null,{"$f":"BX68+ROW()/1000","v":17.068000000000001}]
[null,null,{"$f":"IF(T69=0,0,RANK(BX69,$BX$65:$CA$69,0))","v":5},null,null,null,null,{"$f":"$BQ$8","v":"Schmiddi"},null,null,null,null,null,null,null,null,null,null,null,{"$f":"CG18+CG20+CG23+CG25+CG29+CG31+CG34+CG36","v":8},null,null,null,null,null,{"$f":"CH18+CJ20+CJ23+CH25+CJ29+CH31+CH34+CJ36","v":1},null,null,null,null,null,null,null,null,null,null,{"$f":"CI18+CI20+CI23+CI25+CI29+CI31+CI34+CI36","v":1},null,null,null,null,null,null,null,null,null,null,{"$f":"CJ18+CH20+CH23+CJ25+CH29+CJ31+CJ34+CH36","v":6},null,null,null,null,null,null,null,null,null,null,{"$f":"BR18+BZ20+BZ23+BR25+BZ29+BR31+BR34+BZ36","v":11},null,null,null,":",":",null,{"$f":"BZ18+BR20+BR23+BZ25+BR29+BZ31+BZ34+BR36","v":29},null,null,null,null,{"$f":"BG69-BN69","v":-18},null,null,null,null,{"$f":"(Z69*3)+AK69","v":4},null,null,null,{"$f":"BX69+ROW()/1000","v":4.069}]
[null,null,null,null,null,null,null,"Spieler 6",null,null,null,null,null,null,null,null,null,null,null,0,null,null,null,null,null,0,null,null,null,null,null,null,null,null,null,null,0,null,null,null,null,null,null,null,null,null,null,0,null,null,null,null,null,null,null,null,null,null,0,null,null,null,null,":",null,0,null,null,null,null,0,null,null,null,null,0,null,null,null,0]
[null,null,null,null,null,null,null,"Spieler 7",null,null,null,null,null,null,null,null,null,null,null,0,null,null,null,null,null,0,null,null,null,null,null,null,null,null,null,null,0,null,null,null,null,null,null,null,null,null,null,0,null,null,null,null,null,null,null,null,null,null,0,null,null,null,null,":",null,0,null,null,null,null,0,null,null,null,null,0,null,null,null,0]
[]
[]
[]
[null,null,"Tabelle"]
[]
[null,null,"Rang",null,null,null,null,"Spieler",null,null,null,null,null,null,null,null,null,null,null,"Spiele",null,null,null,null,null,"Siege",null,null,null,null,null,null,null,null,null,null,"Unentschieden",null,null,null,null,null,null,null,null,null,null,"Niederlagen",null,null,null,null,null,null,null,null,null,null,"Tore",null,null,null,null,null,null,null,null,null,null,null,"+/-",null,null,null,null,"Punkte"]
[null,null,{"$f":"INDEX($C$65:$C$69,MATCH(LARGE($CB$65:$CB$69,ROW(A1)),$CB$65:$CB$69,0),1)","v":1},null,null,1,null,{"$f":"INDEX($H$65:$H$69,MATCH(LARGE($CB$65:$CB$69,ROW(A1)),$CB$65:$CB$69,0),1)","v":"Ratze"},null,null,null,null,null,null,null,null,null,null,null,{"$f":"INDEX($T$65:$T$69,MATCH(LARGE($CB$65:$CB$69,ROW(A1)),$CB$65:$CB$69,0),1)","v":8},null,null,null,null,null,{"$f":"INDEX($Z$65:$Z$69,MATCH(LARGE($CB$65:$CB$69,ROW(A1)),$CB$65:$CB$69,0),1)","v":5},null,null,null,null,null,null,null,null,null,null,{"$f":"INDEX($AK$65:$AK$69,MATCH(LARGE($CB$65:$CB$69,ROW(A1)),$CB$65:$CB$69,0),1)","v":2},null,null,null,null,null,null,null,null,null,null,{"$f":"INDEX($AV$65:$AV$69,MATCH(LARGE($CB$65:$CB$69,ROW(A1)),$CB$65:$CB$69,0),1)","v":1},null,null,null,null,null,null,null,null,null,null,{"$f":"INDEX($BG$65:$BG$69,MATCH(LARGE($CB$65:$CB$69,ROW(A1)),$CB$65:$CB$69,0),1)","v":19},null,null,null,null,":",null,{"$f":"INDEX($BN$65:$BN$69,MATCH(LARGE($CB$65:$CB$69,ROW(A1)),$CB$65:$CB$69,0),1)","v":9},null,null,null,null,{"$f":"INDEX($BS$65:$BS$69,MATCH(LARGE($CB$65:$CB$69,ROW(A1)),$CB$65:$CB$69,0),1)","v":10},null,null,null,null,{"$f":"INDEX($BX$65:$BX$69,MATCH(LARGE($CB$65:$CB$69,ROW(A1)),$CB$65:$CB$69,0),1)","v":17}]
[null,null,{"$f":"INDEX($C$65:$C$69,MATCH(LARGE($CB$65:$CB$69,ROW(A2)),$CB$65:$CB$69,0),1)","v":2},null,null,2,null,{"$f":"INDEX($H$65:$H$69,MATCH(LARGE($CB$65:$CB$69,ROW(A2)),$CB$65:$CB$69,0),1)","v":"Markus"},null,null,null,null,null,null,null,null,null,null,null,{"$f":"INDEX($T$65:$T$69,MATCH(LARGE($CB$65:$CB$69,ROW(A2)),$CB$65:$CB$69,0),1)","v":8},null,null,null,null,null,{"$f":"INDEX($Z$65:$Z$69,MATCH(LARGE($CB$65:$CB$69,ROW(A2)),$CB$65:$CB$69,0),1)","v":3},null,null,null,null,null,null,null,null,null,null,{"$f":"INDEX($AK$65:$AK$69,MATCH(LARGE($CB$65:$CB$69,ROW(A2)),$CB$65:$CB$69,0),1)","v":4},null,null,null,null,null,null,null,null,null,null,{"$f":"INDEX($AV$65:$AV$69,MATCH(LARGE($CB$65:$CB$69,ROW(A2)),$CB$65:$CB$69,0),1)","v":1},null,null,null,null,null,null,null,null,null,null,{"$f":"INDEX($BG$65:$BG$69,MATCH(LARGE($CB$65:$CB$69,ROW(A2)),$CB$65:$CB$69,0),1)","v":14},null,null,null,null,":",null,{"$f":"INDEX($BN$65:$BN$69,MATCH(LARGE($CB$65:$CB$69,ROW(A2)),$CB$65:$CB$69,0),1)","v":10},null,null,null,null,{"$f":"INDEX($BS$65:$BS$69,MATCH(LARGE($CB$65:$CB$69,ROW(A2)),$CB$65:$CB$69,0),1)","v":4},null,null,null,null,{"$f":"INDEX($BX$65:$BX$69,MATCH(LARGE($CB$65:$CB$69,ROW(A2)),$CB$65:$CB$69,0),1)","v":13}]
[null,null,{"$f":"INDEX($C$65:$C$69,MATCH(LARGE($CB$65:$CB$69,ROW(A3)),$CB$65:$CB$69,0),1)","v":3},null,null,3,null,{"$f":"INDEX($H$65:$H$69,MATCH(LARGE($CB$65:$CB$69,ROW(A3)),$CB$65:$CB$69,0),1)","v":"Patrick"},null,null,null,null,null,null,null,null,null,null,null,{"$f":"INDEX($T$65:$T$69,MATCH(LARGE($CB$65:$CB$69,ROW(A3)),$CB$65:$CB$69,0),1)","v":8},null,null,null,null,null,{"$f":"INDEX($Z$65:$Z$69,MATCH(LARGE($CB$65:$CB$69,ROW(A3)),$CB$65:$CB$69,0),1)","v":3},null,null,null,null,null,null,null,null,null,null,{"$f":"INDEX($AK$65:$AK$69,MATCH(LARGE($CB$65:$CB$69,ROW(A3)),$CB$65:$CB$69,0),1)","v":3},null,null,null,null,null,null,null,null,null,null,{"$f":"INDEX($AV$65:$AV$69,MATCH(LARGE($CB$65:$CB$69,ROW(A3)),$CB$65:$CB$69,0),1)","v":2},null,null,null,null,null,null,null,null,null,null,{"$f":"INDEX($BG$65:$BG$69,MATCH(LARGE($CB$65:$CB$69,ROW(A3)),$CB$65:$CB$69,0),1)","v":13},null,null,null,null,":",null,{"$f":"INDEX($BN$65:$BN$69,MATCH(LARGE($CB$65:$CB$69,ROW(A3)),$CB$65:$CB$69,0),1)","v":10},null,null,null,null,{"$f":"INDEX($BS$65:$BS$69,MATCH(LARGE($CB$65:$CB$69,ROW(A3)),$CB$65:$CB$69,0),1)","v":3},null,null,null,null,{"$f":"INDEX($BX$65:$BX$69,MATCH(LARGE($CB$65:$CB$69,ROW(A3)),$CB$65:$CB$69,0),1)","v":12}]
[null,null,{"$f":"INDEX($C$65:$C$69,MATCH(LARGE($CB$65:$CB$69,ROW(A4)),$CB$65:$CB$69,0),1)","v":4},null,null,4,null,{"$f":"INDEX($H$65:$H$69,MATCH(LARGE($CB$65:$CB$69,ROW(A4)),$CB$65:$CB$69,0),1)","v":"Christoph"},null,null,null,null,null,null,null,null,null,null,null,{"$f":"INDEX($T$65:$T$69,MATCH(LARGE($CB$65:$CB$69,ROW(A4)),$CB$65:$CB$69,0),1)","v":8},null,null,null,null,null,{"$f":"INDEX($Z$65:$Z$69,MATCH(LARGE($CB$65:$CB$69,ROW(A4)),$CB$65:$CB$69,0),1)","v":2},null,null,null,null,null,null,null,null,null,null,{"$f":"INDEX($AK$65:$AK$69,MATCH(LARGE($CB$65:$CB$69,ROW(A4)),$CB$65:$CB$69,0),1)","v":2},null,null,null,null,null,null,null,null,null,null,{"$f":"INDEX($AV$65:$AV$69,MATCH(LARGE($CB$65:$CB$69,ROW(A4)),$CB$65:$CB$69,0),1)","v":4},null,null,null,null,null,null,null,null,null,null,{"$f":"INDEX($BG$65:$BG$69,MATCH(LARGE($CB$65:$CB$69,ROW(A4)),$CB$65:$CB$69,0),1)","v":14},null,null,null,null,":",null,{"$f":"INDEX($BN$65:$BN$69,MATCH(LARGE($CB$65:$CB$69,ROW(A4)),$CB$65:$CB$69,0),1)","v":13},null,null,null,null,{"$f":"INDEX($BS$65:$BS$69,MATCH(LARGE($CB$65:$CB$69,ROW(A4)),$CB$65:$CB$69,0),1)","v":1},null,null,null,null,{"$f":"INDEX($BX$65:$BX$69,MATCH(LARGE($CB$65:$CB$69,ROW(A4)),$CB$65:$CB$69,0),1)","v":8}]
[null,null,{"$f":"INDEX($C$65:$C$69,MATCH(LARGE($CB$65:$CB$69,ROW(A5)),$CB$65:$CB$69,0),1)","v":5},null,null,5,null,{"$f":"INDEX($H$65:$H$69,MATCH(LARGE($CB$65:$CB$69,ROW(A5)),$CB$65:$CB$69,0),1)","v":"Schmiddi"},null,null,null,null,null,null,null,null,null,null,null,{"$f":"INDEX($T$65:$T$69,MATCH(LARGE($CB$65:$CB$69,ROW(A5)),$CB$65:$CB$69,0),1)","v":8},null,null,null,null,null,{"$f":"INDEX($Z$65:$Z$69,MATCH(LARGE($CB$65:$CB$69,ROW(A5)),$CB$65:$CB$69,0),1)","v":1},null,null,null,null,null,null,null,null,null,null,{"$f":"INDEX($AK$65:$AK$69,MATCH(LARGE($CB$65:$CB$69,ROW(A5)),$CB$65:$CB$69,0),1)","v":1},null,null,null,null,null,null,null,null,null,null,{"$f":"INDEX($AV$65:$AV$69,MATCH(LARGE($CB$65:$CB$69,ROW(A5)),$CB$65:$CB$69,0),1)","v":6},null,null,null,null,null,null,null,null,null,null,{"$f":"INDEX($BG$65:$BG$69,MATCH(LARGE($CB$65:$CB$69,ROW(A5)),$CB$65:$CB$69,0),1)","v":11},null,null,null,null,":",null,{"$f":"INDEX($BN$65:$BN$69,MATCH(LARGE($CB$65:$CB$69,ROW(A5)),$CB$65:$CB$69,0),1)","v":29},null,null,null,null,{"$f":"INDEX($BS$65:$BS$69,MATCH(LARGE($CB$65:$CB$69,ROW(A5)),$CB$65:$CB$69,0),1)","v":-18},null,null,null,null,{"$f":"INDEX($BX$65:$BX$69,MATCH(LARGE($CB$65:$CB$69,ROW(A5)),$CB$65:$CB$69,0),1)","v":4}]
[null,null,"---",null,null,"---",null,"Spieler 6",null,null,null,null,null,null,null,null,null,null,null,0,null,null,null,null,null,0,null,null,null,null,null,null,null,null,null,null,0,null,null,null,null,null,null,null,null,null,null,0,null,null,null,null,null,null,null,null,null,null,0,null,null,null,null,":",null,0,null,null,null,null,0,null,null,null,null,0]
[null,null,"---",null,null,"---",null,"Spieler 7",null,null,null,null,null,null,null,null,null,null,null,0,null,null,null,null,null,0,null,null,null,null,null,null,null,null,null,null,0,null,null,null,null,null,null,null,null,null,null,0,null,null,null,null,null,null,null,null,null,null,0,null,null,null,null,":",null,0,null,null,null,null,0,null,null,null,null,0]
[]
[]
[]
[null,null,"Tabelle (nach Alphabet)"]
[]
[null,null,"Rang",null,null,null,null,"Spieler",null,null,null,null,null,null,null,null,null,null,null,"Spiele",null,null,null,null,null,"Siege",null,null,null,null,null,null,null,null,null,null,"Unentschieden",null,null,null,null,null,null,null,null,null,null,"Niederlagen",null,null,null,null,null,null,null,null,null,null,"Tore",null,null,null,null,null,null,null,null,null,null,null,"+/-",null,null,null,null,"Punkte"]
[null,null,{"$f":"IF($H$78=\"Basti\",$F$78,IF($H$79=\"Basti\",$F$79,IF($H$80=\"Basti\",$F$80,IF($H$81=\"Basti\",$F$81,IF($H$82=\"Basti\",$F$82,IF($H$83=\"Basti\",$F$83,IF($H$84=\"Basti\",$F$84,0)))))))","v":0},null,null,null,null,"Basti",null,null,null,null,null,null,null,null,null,null,null,{"$f":"IF($H$78=\"Basti\",$T$78,IF($H$79=\"Basti\",$T$79,IF($H$80=\"Basti\",$T$80,IF($H$81=\"Basti\",$T$81,IF($H$82=\"Basti\",$T$82,IF($H$83=\"Basti\",$T$83,IF($H$84=\"Basti\",$T$84,0)))))))","v":0},null,null,null,null,null,{"$f":"IF($H$78=\"Basti\",$Z$78,IF($H$79=\"Basti\",$Z$79,IF($H$80=\"Basti\",$Z$80,IF($H$81=\"Basti\",$Z$81,IF($H$82=\"Basti\",$Z$82,IF($H$83=\"Basti\",$Z$83,IF($H$84=\"Basti\",$Z$84,0)))))))","v":0},null,null,null,null,null,null,null,null,null,null,{"$f":"IF($H$78=\"Basti\",$AK$78,IF($H$79=\"Basti\",$AK$79,IF($H$80=\"Basti\",$AK$80,IF($H$81=\"Basti\",$AK$81,IF($H$82=\"Basti\",$AK$82,IF($H$83=\"Basti\",$AK$83,IF($H$84=\"Basti\",$AK$84,0)))))))","v":0},null,null,null,null,null,null,null,null,null,null,{"$f":"IF($H$78=\"Basti\",$AV$78,IF($H$79=\"Basti\",$AV$79,IF($H$80=\"Basti\",$AV$80,IF($H$81=\"Basti\",$AV$81,IF($H$82=\"Basti\",$AV$82,IF($H$83=\"Basti\",$AV$83,IF($H$84=\"Basti\",$AV$84,0)))))))","v":0},null,null,null,null,null,null,null,null,null,null,{"$f":"IF($H$78=\"Basti\",$BG$78,IF($H$79=\"Basti\",$BG$79,IF($H$80=\"Basti\",$BG$80,IF($H$81=\"Basti\",$BG$81,IF($H$82=\"Basti\",$BG$82,IF($H$83=\"Basti\",$BG$83,IF($H$84=\"Basti\",$BG$84,0)))))))","v":0},null,null,null,null,":",null,{"$f":"IF($H$78=\"Basti\",$BN$78,IF($H$79=\"Basti\",$BN$79,IF($H$80=\"Basti\",$BN$80,IF($H$81=\"Basti\",$BN$81,IF($H$82=\"Basti\",$BN$82,IF($H$83=\"Basti\",$BN$83,IF($H$84=\"Basti\",$BN$84,0)))))))","v":0},null,null,null,null,{"$f":"IF($H$78=\"Basti\",$BS$78,IF($H$79=\"Basti\",$BS$79,IF($H$80=\"Basti\",$BS$80,IF($H$81=\"Basti\",$BS$81,IF($H$82=\"Basti\",$BS$82,IF($H$83=\"Basti\",$BS$83,IF($H$84=\"Basti\",$BS$84,0)))))))","v":0},null,null,null,null,{"$f":"IF($H$78=\"Basti\",$BX$78,IF($H$79=\"Basti\",$BX$79,IF($H$80=\"Basti\",$BX$80,IF($H$81=\"Basti\",$BX$81,IF($H$82=\"Basti\",$BX$82,IF($H$83=\"Basti\",$BX$83,IF($H$84=\"Basti\",$BX$84,0)))))))","v":0}]
[null,null,{"$f":"IF($H$78=\"Christoph\",$F$78,IF($H$79=\"Christoph\",$F$79,IF($H$80=\"Christoph\",$F$80,IF($H$81=\"Christoph\",$F$81,IF($H$82=\"Christoph\",$F$82,IF($H$83=\"Christoph\",$F$83,IF($H$84=\"Christoph\",$F$84,0)))))))","v":4},null,null,null,null,"Christoph",null,null,null,null,null,null,null,null,null,null,null,{"$f":"IF($H$78=\"Christoph\",$T$78,IF($H$79=\"Christoph\",$T$79,IF($H$80=\"Christoph\",$T$80,IF($H$81=\"Christoph\",$T$81,IF($H$82=\"Christoph\",$T$82,IF($H$83=\"Christoph\",$T$83,IF($H$84=\"Christoph\",$T$84,0)))))))","v":8},null,null,null,null,null,{"$f":"IF($H$78=\"Christoph\",$Z$78,IF($H$79=\"Christoph\",$Z$79,IF($H$80=\"Christoph\",$Z$80,IF($H$81=\"Christoph\",$Z$81,IF($H$82=\"Christoph\",$Z$82,IF($H$83=\"Christoph\",$Z$83,IF($H$84=\"Christoph\",$Z$84,0)))))))","v":2},null,null,null,null,null,null,null,null,null,null,{"$f":"IF($H$78=\"Christoph\",$AK$78,IF($H$79=\"Christoph\",$AK$79,IF($H$80=\"Christoph\",$AK$80,IF($H$81=\"Christoph\",$AK$81,IF($H$82=\"Christoph\",$AK$82,IF($H$83=\"Christoph\",$AK$83,IF($H$84=\"Christoph\",$AK$84,0)))))))","v":2},null,null,null,null,null,null,null,null,null,null,{"$f":"IF($H$78=\"Christoph\",$AV$78,IF($H$79=\"Christoph\",$AV$79,IF($H$80=\"Christoph\",$AV$80,IF($H$81=\"Christoph\",$AV$81,IF($H$82=\"Christoph\",$AV$82,IF($H$83=\"Christoph\",$AV$83,IF($H$84=\"Christoph\",$AV$84,0)))))))","v":4},null,null,null,null,null,null,null,null,null,null,{"$f":"IF($H$78=\"Christoph\",$BG$78,IF($H$79=\"Christoph\",$BG$79,IF($H$80=\"Christoph\",$BG$80,IF($H$81=\"Christoph\",$BG$81,IF($H$82=\"Christoph\",$BG$82,IF($H$83=\"Christoph\",$BG$83,IF($H$84=\"Christoph\",$BG$84,0)))))))","v":14},null,null,null,null,":",null,{"$f":"IF($H$78=\"Christoph\",$BN$78,IF($H$79=\"Christoph\",$BN$79,IF($H$80=\"Christoph\",$BN$80,IF($H$81=\"Christoph\",$BN$81,IF($H$82=\"Christoph\",$BN$82,IF($H$83=\"Christoph\",$BN$83,IF($H$84=\"Christoph\",$BN$84,0)))))))","v":13},null,null,null,null,{"$f":"IF($H$78=\"Christoph\",$BS$78,IF($H$79=\"Christoph\",$BS$79,IF($H$80=\"Christoph\",$BS$80,IF($H$81=\"Christoph\",$BS$81,IF($H$82=\"Christoph\",$BS$82,IF($H$83=\"Christoph\",$BS$83,IF($H$84=\"Christoph\",$BS$84,0)))))))","v":1},null,null,null,null,{"$f":"IF($H$78=\"Christoph\",$BX$78,IF($H$79=\"Christoph\",$BX$79,IF($H$80=\"Christoph\",$BX$80,IF($H$81=\"Christoph\",$BX$81,IF($H$82=\"Christoph\",$BX$82,IF($H$83=\"Christoph\",$BX$83,IF($H$84=\"Christoph\",$BX$84,0)))))))","v":8}]
[null,null,{"$f":"IF($H$78=\"Jule\",$F$78,IF($H$79=\"Jule\",$F$79,IF($H$80=\"Jule\",$F$80,IF($H$81=\"Jule\",$F$81,IF($H$82=\"Jule\",$F$82,IF($H$83=\"Jule\",$F$83,IF($H$84=\"Jule\",$F$84,0)))))))","v":0},null,null,null,null,"Jule",null,null,null,null,null,null,null,null,null,null,null,{"$f":"IF($H$78=\"Jule\",$T$78,IF($H$79=\"Jule\",$T$79,IF($H$80=\"Jule\",$T$80,IF($H$81=\"Jule\",$T$81,IF($H$82=\"Jule\",$T$82,IF($H$83=\"Jule\",$T$83,IF($H$84=\"Jule\",$T$84,0)))))))","v":0},null,null,null,null,null,{"$f":"IF($H$78=\"Jule\",$Z$78,IF($H$79=\"Jule\",$Z$79,IF($H$80=\"Jule\",$Z$80,IF($H$81=\"Jule\",$Z$81,IF($H$82=\"Jule\",$Z$82,IF($H$83=\"Jule\",$Z$83,IF($H$84=\"Jule\",$Z$84,0)))))))","v":0},null,null,null,null,null,null,null,null,null,null,{"$f":"IF($H$78=\"Jule\",$AK$78,IF($H$79=\"Jule\",$AK$79,IF($H$80=\"Jule\",$AK$80,IF($H$81=\"Jule\",$AK$81,IF($H$82=\"Jule\",$AK$82,IF($H$83=\"Jule\",$AK$83,IF($H$84=\"Jule\",$AK$84,0)))))))","v":0},null,null,null,null,null,null,null,null,null,null,{"$f":"IF($H$78=\"Jule\",$AV$78,IF($H$79=\"Jule\",$AV$79,IF($H$80=\"Jule\",$AV$80,IF($H$81=\"Jule\",$AV$81,IF($H$82=\"Jule\",$AV$82,IF($H$83=\"Jule\",$AV$83,IF($H$84=\"Jule\",$AV$84,0)))))))","v":0},null,null,null,null,null,null,null,null,null,null,{"$f":"IF($H$78=\"Jule\",$BG$78,IF($H$79=\"Jule\",$BG$79,IF($H$80=\"Jule\",$BG$80,IF($H$81=\"Jule\",$BG$81,IF($H$82=\"Jule\",$BG$82,IF($H$83=\"Jule\",$BG$83,IF($H$84=\"Jule\",$BG$84,0)))))))","v":0},null,null,null,null,":",null,{"$f":"IF($H$78=\"Jule\",$BN$78,IF($H$79=\"Jule\",$BN$79,IF($H$80=\"Jule\",$BN$80,IF($H$81=\"Jule\",$BN$81,IF($H$82=\"Jule\",$BN$82,IF($H$83=\"Jule\",$BN$83,IF($H$84=\"Jule\",$BN$84,0)))))))","v":0},null,null,null,null,{"$f":"IF($H$78=\"Jule\",$BS$78,IF($H$79=\"Jule\",$BS$79,IF($H$80=\"Jule\",$BS$80,IF($H$81=\"Jule\",$BS$81,IF($H$82=\"Jule\",$BS$82,IF($H$83=\"Jule\",$BS$83,IF($H$84=\"Jule\",$BS$84,0)))))))","v":0},null,null,null,null,{"$f":"IF($H$78=\"Jule\",$BX$78,IF($H$79=\"Jule\",$BX$79,IF($H$80=\"Jule\",$BX$80,IF($H$81=\"Jule\",$BX$81,IF($H$82=\"Jule\",$BX$82,IF($H$83=\"Jule\",$BX$83,IF($H$84=\"Jule\",$BX$84,0)))))))","v":0}]
[null,null,{"$f":"IF($H$78=\"Markus\",$F$78,IF($H$79=\"Markus\",$F$79,IF($H$80=\"Markus\",$F$80,IF($H$81=\"Markus\",$F$81,IF($H$82=\"Markus\",$F$82,IF($H$83=\"Markus\",$F$83,IF($H$84=\"Markus\",$F$84,0)))))))","v":2},null,null,null,null,"Markus",null,null,null,null,null,null,null,null,null,null,null,{"$f":"IF($H$78=\"Markus\",$T$78,IF($H$79=\"Markus\",$T$79,IF($H$80=\"Markus\",$T$80,IF($H$81=\"Markus\",$T$81,IF($H$82=\"Markus\",$T$82,IF($H$83=\"Markus\",$T$83,IF($H$84=\"Markus\",$T$84,0)))))))","v":8},null,null,null,null,null,{"$f":"IF($H$78=\"Markus\",$Z$78,IF($H$79=\"Markus\",$Z$79,IF($H$80=\"Markus\",$Z$80,IF($H$81=\"Markus\",$Z$81,IF($H$82=\"Markus\",$Z$82,IF($H$83=\"Markus\",$Z$83,IF($H$84=\"Markus\",$Z$84,0)))))))","v":3},null,null,null,null,null,null,null,null,null,null,{"$f":"IF($H$78=\"Markus\",$AK$78,IF($H$79=\"Markus\",$AK$79,IF($H$80=\"Markus\",$AK$80,IF($H$81=\"Markus\",$AK$81,IF($H$82=\"Markus\",$AK$82,IF($H$83=\"Markus\",$AK$83,IF($H$84=\"Markus\",$AK$84,0)))))))","v":4},null,null,null,null,null,null,null,null,null,null,{"$f":"IF($H$78=\"Markus\",$AV$78,IF($H$79=\"Markus\",$AV$79,IF($H$80=\"Markus\",$AV$80,IF($H$81=\"Markus\",$AV$81,IF($H$82=\"Markus\",$AV$82,IF($H$83=\"Markus\",$AV$83,IF($H$84=\"Markus\",$AV$84,0)))))))","v":1},null,null,null,null,null,null,null,null,null,null,{"$f":"IF($H$78=\"Markus\",$BG$78,IF($H$79=\"Markus\",$BG$79,IF($H$80=\"Markus\",$BG$80,IF($H$81=\"Markus\",$BG$81,IF($H$82=\"Markus\",$BG$82,IF($H$83=\"Markus\",$BG$83,IF($H$84=\"Markus\",$BG$84,0)))))))","v":14},null,null,null,null,":",null,{"$f":"IF($H$78=\"Markus\",$BN$78,IF($H$79=\"Markus\",$BN$79,IF($H$80=\"Markus\",$BN$80,IF($H$81=\"Markus\",$BN$81,IF($H$82=\"Markus\",$BN$82,IF($H$83=\"Markus\",$BN$83,IF($H$84=\"Markus\",$BN$84,0)))))))","v":10},null,null,null,null,{"$f":"IF($H$78=\"Markus\",$BS$78,IF($H$79=\"Markus\",$BS$79,IF($H$80=\"Markus\",$BS$80,IF($H$81=\"Markus\",$BS$81,IF($H$82=\"Markus\",$BS$82,IF($H$83=\"Markus\",$BS$83,IF($H$84=\"Markus\",$BS$84,0)))))))","v":4},null,null,null,null,{"$f":"IF($H$78=\"Markus\",$BX$78,IF($H$79=\"Markus\",$BX$79,IF($H$80=\"Markus\",$BX$80,IF($H$81=\"Markus\",$BX$81,IF($H$82=\"Markus\",$BX$82,IF($H$83=\"Markus\",$BX$83,IF($H$84=\"Markus\",$BX$84,0)))))))","v":13}]
[null,null,{"$f":"IF($H$78=\"Patrick\",$F$78,IF($H$79=\"Patrick\",$F$79,IF($H$80=\"Patrick\",$F$80,IF($H$81=\"Patrick\",$F$81,IF($H$82=\"Patrick\",$F$82,IF($H$83=\"Patrick\",$F$83,IF($H$84=\"Patrick\",$F$84,0)))))))","v":3},null,null,null,null,"Patrick",null,null,null,null,null,null,null,null,null,null,null,{"$f":"IF($H$78=\"Patrick\",$T$78,IF($H$79=\"Patrick\",$T$79,IF($H$80=\"Patrick\",$T$80,IF($H$81=\"Patrick\",$T$81,IF($H$82=\"Patrick\",$T$82,IF($H$83=\"Patrick\",$T$83,IF($H$84=\"Patrick\",$T$84,0)))))))","v":8},null,null,null,null,null,{"$f":"IF($H$78=\"Patrick\",$Z$78,IF($H$79=\"Patrick\",$Z$79,IF($H$80=\"Patrick\",$Z$80,IF($H$81=\"Patrick\",$Z$81,IF($H$82=\"Patrick\",$Z$82,IF($H$83=\"Patrick\",$Z$83,IF($H$84=\"Patrick\",$Z$84,0)))))))","v":3},null,null,null,null,null,null,null,null,null,null,{"$f":"IF($H$78=\"Patrick\",$AK$78,IF($H$79=\"Patrick\",$AK$79,IF($H$80=\"Patrick\",$AK$80,IF($H$81=\"Patrick\",$AK$81,IF($H$82=\"Patrick\",$AK$82,IF($H$83=\"Patrick\",$AK$83,IF($H$84=\"Patrick\",$AK$84,0)))))))","v":3},null,null,null,null,null,null,null,null,null,null,{"$f":"IF($H$78=\"Patrick\",$AV$78,IF($H$79=\"Patrick\",$AV$79,IF($H$80=\"Patrick\",$AV$80,IF($H$81=\"Patrick\",$AV$81,IF($H$82=\"Patrick\",$AV$82,IF($H$83=\"Patrick\",$AV$83,IF($H$84=\"Patrick\",$AV$84,0)))))))","v":2},null,null,null,null,null,null,null,null,null,null,{"$f":"IF($H$78=\"Patrick\",$BG$78,IF($H$79=\"Patrick\",$BG$79,IF($H$80=\"Patrick\",$BG$80,IF($H$81=\"Patrick\",$BG$81,IF($H$82=\"Patrick\",$BG$82,IF($H$83=\"Patrick\",$BG$83,IF($H$84=\"Patrick\",$BG$84,0)))))))","v":13},null,null,null,null,":",null,{"$f":"IF($H$78=\"Patrick\",$BN$78,IF($H$79=\"Patrick\",$BN$79,IF($H$80=\"Patrick\",$BN$80,IF($H$81=\"Patrick\",$BN$81,IF($H$82=\"Patrick\",$BN$82,IF($H$83=\"Patrick\",$BN$83,IF($H$84=\"Patrick\",$BN$84,0)))))))","v":10},null,null,null,null,{"$f":"IF($H$78=\"Patrick\",$BS$78,IF($H$79=\"Patrick\",$BS$79,IF($H$80=\"Patrick\",$BS$80,IF($H$81=\"Patrick\",$BS$81,IF($H$82=\"Patrick\",$BS$82,IF($H$83=\"Patrick\",$BS$83,IF($H$84=\"Patrick\",$BS$84,0)))))))","v":3},null,null,null,null,{"$f":"IF($H$78=\"Patrick\",$BX$78,IF($H$79=\"Patrick\",$BX$79,IF($H$80=\"Patrick\",$BX$80,IF($H$81=\"Patrick\",$BX$81,IF($H$82=\"Patrick\",$BX$82,IF($H$83=\"Patrick\",$BX$83,IF($H$84=\"Patrick\",$BX$84,0)))))))","v":12}]
[null,null,{"$f":"IF($H$78=\"Ratze\",$F$78,IF($H$79=\"Ratze\",$F$79,IF($H$80=\"Ratze\",$F$80,IF($H$81=\"Ratze\",$F$81,IF($H$82=\"Ratze\",$F$82,IF($H$83=\"Ratze\",$F$83,IF($H$84=\"Ratze\",$F$84,0)))))))","v":1},null,null,null,null,"Ratze",null,null,null,null,null,null,null,null,null,null,null,{"$f":"IF($H$78=\"Ratze\",$T$78,IF($H$79=\"Ratze\",$T$79,IF($H$80=\"Ratze\",$T$80,IF($H$81=\"Ratze\",$T$81,IF($H$82=\"Ratze\",$T$82,IF($H$83=\"Ratze\",$T$83,IF($H$84=\"Ratze\",$T$84,0)))))))","v":8},null,null,null,null,null,{"$f":"IF($H$78=\"Ratze\",$Z$78,IF($H$79=\"Ratze\",$Z$79,IF($H$80=\"Ratze\",$Z$80,IF($H$81=\"Ratze\",$Z$81,IF($H$82=\"Ratze\",$Z$82,IF($H$83=\"Ratze\",$Z$83,IF($H$84=\"Ratze\",$Z$84,0)))))))","v":5},null,null,null,null,null,null,null,null,null,null,{"$f":"IF($H$78=\"Ratze\",$AK$78,IF($H$79=\"Ratze\",$AK$79,IF($H$80=\"Ratze\",$AK$80,IF($H$81=\"Ratze\",$AK$81,IF($H$82=\"Ratze\",$AK$82,IF($H$83=\"Ratze\",$AK$83,IF($H$84=\"Ratze\",$AK$84,0)))))))","v":2},null,null,null,null,null,null,null,null,null,null,{"$f":"IF($H$78=\"Ratze\",$AV$78,IF($H$79=\"Ratze\",$AV$79,IF($H$80=\"Ratze\",$AV$80,IF($H$81=\"Ratze\",$AV$81,IF($H$82=\"Ratze\",$AV$82,IF($H$83=\"Ratze\",$AV$83,IF($H$84=\"Ratze\",$AV$84,0)))))))","v":1},null,null,null,null,null,null,null,null,null,null,{"$f":"IF($H$78=\"Ratze\",$BG$78,IF($H$79=\"Ratze\",$BG$79,IF($H$80=\"Ratze\",$BG$80,IF($H$81=\"Ratze\",$BG$81,IF($H$82=\"Ratze\",$BG$82,IF($H$83=\"Ratze\",$BG$83,IF($H$84=\"Ratze\",$BG$84,0)))))))","v":19},null,null,null,null,":",null,{"$f":"IF($H$78=\"Ratze\",$BN$78,IF($H$79=\"Ratze\",$BN$79,IF($H$80=\"Ratze\",$BN$80,IF($H$81=\"Ratze\",$BN$81,IF($H$82=\"Ratze\",$BN$82,IF($H$83=\"Ratze\",$BN$83,IF($H$84=\"Ratze\",$BN$84,0)))))))","v":9},null,null,null,null,{"$f":"IF($H$78=\"Ratze\",$BS$78,IF($H$79=\"Ratze\",$BS$79,IF($H$80=\"Ratze\",$BS$80,IF($H$81=\"Ratze\",$BS$81,IF($H$82=\"Ratze\",$BS$82,IF($H$83=\"Ratze\",$BS$83,IF($H$84=\"Ratze\",$BS$84,0)))))))","v":10},null,null,null,null,{"$f":"IF($H$78=\"Ratze\",$BX$78,IF($H$79=\"Ratze\",$BX$79,IF($H$80=\"Ratze\",$BX$80,IF($H$81=\"Ratze\",$BX$81,IF($H$82=\"Ratze\",$BX$82,IF($H$83=\"Ratze\",$BX$83,IF($H$84=\"Ratze\",$BX$84,0)))))))","v":17}]
[null,null,{"$f":"IF($H$78=\"Schmiddi\",$F$78,IF($H$79=\"Schmiddi\",$F$79,IF($H$80=\"Schmiddi\",$F$80,IF($H$81=\"Schmiddi\",$F$81,IF($H$82=\"Schmiddi\",$F$82,IF($H$83=\"Schmiddi\",$F$83,IF($H$84=\"Schmiddi\",$F$84,0)))))))","v":5},null,null,null,null,"Schmiddi",null,null,null,null,null,null,null,null,null,null,null,{"$f":"IF($H$78=\"Schmiddi\",$T$78,IF($H$79=\"Schmiddi\",$T$79,IF($H$80=\"Schmiddi\",$T$80,IF($H$81=\"Schmiddi\",$T$81,IF($H$82=\"Schmiddi\",$T$82,IF($H$83=\"Schmiddi\",$T$83,IF($H$84=\"Schmiddi\",$T$84,0)))))))","v":8},null,null,null,null,null,{"$f":"IF($H$78=\"Schmiddi\",$Z$78,IF($H$79=\"Schmiddi\",$Z$79,IF($H$80=\"Schmiddi\",$Z$80,IF($H$81=\"Schmiddi\",$Z$81,IF($H$82=\"Schmiddi\",$Z$82,IF($H$83=\"Schmiddi\",$Z$83,IF($H$84=\"Schmiddi\",$Z$84,0)))))))","v":1},null,null,null,null,null,null,null,null,null,null,{"$f":"IF($H$78=\"Schmiddi\",$AK$78,IF($H$79=\"Schmiddi\",$AK$79,IF($H$80=\"Schmiddi\",$AK$80,IF($H$81=\"Schmiddi\",$AK$81,IF($H$82=\"Schmiddi\",$AK$82,IF($H$83=\"Schmiddi\",$AK$83,IF($H$84=\"Schmiddi\",$AK$84,0)))))))","v":1},null,null,null,null,null,null,null,null,null,null,{"$f":"IF($H$78=\"Schmiddi\",$AV$78,IF($H$79=\"Schmiddi\",$AV$79,IF($H$80=\"Schmiddi\",$AV$80,IF($H$81=\"Schmiddi\",$AV$81,IF($H$82=\"Schmiddi\",$AV$82,IF($H$83=\"Schmiddi\",$AV$83,IF($H$84=\"Schmiddi\",$AV$84,0)))))))","v":6},null,null,null,null,null,null,null,null,null,null,{"$f":"IF($H$78=\"Schmiddi\",$BG$78,IF($H$79=\"Schmiddi\",$BG$79,IF($H$80=\"Schmiddi\",$BG$80,IF($H$81=\"Schmiddi\",$BG$81,IF($H$82=\"Schmiddi\",$BG$82,IF($H$83=\"Schmiddi\",$BG$83,IF($H$84=\"Schmiddi\",$BG$84,0)))))))","v":11},null,null,null,null,":",null,{"$f":"IF($H$78=\"Schmiddi\",$BN$78,IF($H$79=\"Schmiddi\",$BN$79,IF($H$80=\"Schmiddi\",$BN$80,IF($H$81=\"Schmiddi\",$BN$81,IF($H$82=\"Schmiddi\",$BN$82,IF($H$83=\"Schmiddi\",$BN$83,IF($H$84=\"Schmiddi\",$BN$84,0)))))))","v":29},null,null,null,null,{"$f":"IF($H$78=\"Schmiddi\",$BS$78,IF($H$79=\"Schmiddi\",$BS$79,IF($H$80=\"Schmiddi\",$BS$80,IF($H$81=\"Schmiddi\",$BS$81,IF($H$82=\"Schmiddi\",$BS$82,IF($H$83=\"Schmiddi\",$BS$83,IF($H$84=\"Schmiddi\",$BS$84,0)))))))","v":-18},null,null,null,null,{"$f":"IF($H$78=\"Schmiddi\",$BX$78,IF($H$79=\"Schmiddi\",$BX$79,IF($H$80=\"Schmiddi\",$BX$80,IF($H$81=\"Schmiddi\",$BX$81,IF($H$82=\"Schmiddi\",$BX$82,IF($H$83=\"Schmiddi\",$BX$83,IF($H$84=\"Schmiddi\",$BX$84,0)))))))","v":4}]

{"sheet":"Zuweisung der Spielernummern","index":25,"n_rows":29,"n_cols":73,"rows_kept":29,"cut":false,"hidden":false,"merged":[[29,1,29,82],[32,2,35,81],[27,48,27,64],[27,65,27,81],[28,2,28,13],[28,14,28,30],[28,31,28,47],[28,48,28,64],[28,65,28,81],[36,1,36,82],[0,0,0,83],[24,1,24,82],[25,1,28,1],[25,2,25,81],[25,82,28,82],[26,2,26,81],[27,2,27,13],[27,14,27,30],[27,31,27,47],[8,1,8,82],[31,1,31,82],[32,1,35,1],[32,82,35,82],[6,62,6,71],[6,72,6,81],[22,1,22,82],[4,82,7,82],[5,2,5,81],[6,2,6,11],[6,12,6,21],[6,22,6,31],[6,32,6,41],[6,42,6,51],[6,52,6,61],[7,52,7,61],[7,62,7,71],[7,72,7,81],[4,1,7,1],[4,2,4,81],[7,2,7,11],[7,12,7,21],[14,2,14,15],[14,16,14,26],[14,27,14,37],[21,26,21,39],[21,40,21,53],[15,1,15,82],[17,1,17,82],[18,1,21,1],[18,82,21,82],[19,2,19,81],[20,2,20,11],[20,12,20,25],[20,26,20,39],[20,40,20,53],[20,54,20,67],[20,68,20,81],[21,2,21,11],[21,12,21,25],[21,54,21,67],[21,68,21,81],[18,2,18,81],[3,1,3,82],[13,60,13,70],[13,71,13,81],[7,22,7,31],[7,32,7,41],[7,42,7,51],[1,1,1,82],[2,1,2,82],[14,38,14,48],[14,49,14,59],[14,60,14,70],[14,71,14,81],[10,1,10,82],[11,1,14,1],[11,2,11,81],[11,82,14,82],[12,2,12,81],[13,2,13,15],[13,16,13,26],[13,27,13,37],[13,38,13,48],[13,49,13,59]]}
[]
[null,"Zuweisung der Spielernummern"]
[]
[]
[null,null,"Zuordnung der Spielernummern bei 7 Spielern"]
[]
[null,null,{"$f":"\" Name\"","v":" Name"},null,null,null,null,null,null,null,null,null,"Spielername",null,null,null,null,null,null,null,null,null,"Spielername",null,null,null,null,null,null,null,null,null,"Spielername",null,null,null,null,null,null,null,null,null,"Spielername",null,null,null,null,null,null,null,null,null,"Spielername",null,null,null,null,null,null,null,null,null,"Spielername",null,null,null,null,null,null,null,null,null,"Spielername"]
[null,null,{"$f":"\" Spieler\"","v":" Spieler"},null,null,null,null,null,null,null,null,null,{"$f":"'Zuweisung (Formeln)'!D2","v":"Spieler 2"},null,null,null,null,null,null,null,null,null,{"$f":"'Zuweisung (Formeln)'!D3","v":"Spieler 1"},null,null,null,null,null,null,null,null,null,{"$f":"'Zuweisung (Formeln)'!D4","v":"Spieler 4"},null,null,null,null,null,null,null,null,null,{"$f":"'Zuweisung (Formeln)'!D5","v":"Spieler 7"},null,null,null,null,null,null,null,null,null,{"$f":"'Zuweisung (Formeln)'!D6","v":"Spieler 3"},null,null,null,null,null,null,null,null,null,{"$f":"'Zuweisung (Formeln)'!D7","v":"Spieler 6"},null,null,null,null,null,null,null,null,null,{"$f":"'Zuweisung (Formeln)'!D8","v":"Spieler 5"}]
[]
[]
[]
[null,null,"Zuordnung der Spielernummern bei 6 Spielern"]
[]
[null,null,{"$f":"\" Name\"","v":" Name"},null,null,null,null,null,null,null,null,null,null,null,null,null,"Spielername",null,null,null,null,null,null,null,null,null,null,"Spielername",null,null,null,null,null,null,null,null,null,null,"Spielername",null,null,null,null,null,null,null,null,null,null,"Spielername",null,null,null,null,null,null,null,null,null,null,"Spielername",null,null,null,null,null,null,null,null,null,null,"Spielername"]
[null,null,{"$f":"\" Spieler\"","v":" Spieler"},null,null,null,null,null,null,null,null,null,null,null,null,null,{"$f":"'Zuweisung (Formeln)'!D10","v":"Spieler 6"},null,null,null,null,null,null,null,null,null,null,{"$f":"'Zuweisung (Formeln)'!D11","v":"Spieler 1"},null,null,null,null,null,null,null,null,null,null,{"$f":"'Zuweisung (Formeln)'!D12","v":"Spieler 5"},null,null,null,null,null,null,null,null,null,null,{"$f":"'Zuweisung (Formeln)'!D13","v":"Spieler 2"},null,null,null,null,null,null,null,null,null,null,{"$f":"'Zuweisung (Formeln)'!D14","v":"Spieler 3"},null,null,null,null,null,null,null,null,null,null,{"$f":"'Zuweisung (Formeln)'!D15","v":"Spieler 4"}]
[]
[]
[]
[null,null,"Zuordnung der Spielernummern bei 5 Spielern"]
[]
[null,null,{"$f":"\" Name\"","v":" Name"},null,null,null,null,null,null,null,null,null,"Spielername",null,null,null,null,null,null,null,null,null,null,null,null,null,"Spielername",null,null,null,null,null,null,null,null,null,null,null,null,null,"Spielername",null,null,null,null,null,null,null,null,null,null,null,null,null,"Spielername",null,null,null,null,null,null,null,null,null,null,null,null,null,"Spielername"]
[null,null,{"$f":"\" Spieler\"","v":" Spieler"},null,null,null,null,null,null,null,null,null,{"$f":"'Zuweisung (Formeln)'!D17","v":"Spieler 2"},null,null,null,null,null,null,null,null,null,null,null,null,null,{"$f":"'Zuweisung (Formeln)'!D18","v":"Spieler 4"},null,null,null,null,null,null,null,null,null,null,null,null,null,{"$f":"'Zuweisung (Formeln)'!D19","v":"Spieler 1"},null,null,null,null,null,null,null,null,null,null,null,null,null,{"$f":"'Zuweisung (Formeln)'!D20","v":"Spieler 3"},null,null,null,null,null,null,null,null,null,null,null,null,null,{"$f":"'Zuweisung (Formeln)'!D21","v":"Spieler 5"}]
[]
[]
[]
[null,null,"Zuordnung der Spielernummern bei 4 Spielern"]
[]
[null,null,{"$f":"\" Name\"","v":" Name"},null,null,null,null,null,null,null,null,null,null,null,"Spielername",null,null,null,null,null,null,null,null,null,null,null,null,null,null,null,null,"Spielername",null,null,null,null,null,null,null,null,null,null,null,null,null,null,null,null,"Spielername",null,null,null,null,null,null,null,null,null,null,null,null,null,null,null,null,"Spielername"]
[null,null,{"$f":"\" Spieler\"","v":" Spieler"},null,null,null,null,null,null,null,null,null,null,null,{"$f":"'Zuweisung (Formeln)'!D23","v":"Spieler 1"},null,null,null,null,null,null,null,null,null,null,null,null,null,null,null,null,{"$f":"'Zuweisung (Formeln)'!D24","v":"Spieler 4"},null,null,null,null,null,null,null,null,null,null,null,null,null,null,null,null,{"$f":"'Zuweisung (Formeln)'!D25","v":"Spieler 3"},null,null,null,null,null,null,null,null,null,null,null,null,null,null,null,null,{"$f":"'Zuweisung (Formeln)'!D26","v":"Spieler 2"}]